{"text_format":"1","workbook":"xlsx","n_sheets":13,"sheets":["Vertilina","data","NL","EN","FR","DE","NR","SP","SW","TS","ExtraTaal1","ExtraTaal2","ExtraTaal3"],"not_rendered":{"charts":0,"images":7,"macros":1,"external_links":0,"defined_names":21,"comments":1,"pivot_tables":0},"unopened":[],"bounds":{"document_bytes":16777216,"sheet_cells":100000,"rows_first":2000,"rows_last":500,"rows_between":2000,"halvings":0,"cell_chars":16384,"cell_head_chars":4096},"cells_cut":0,"cells_raw":0,"read":"row_number_cap","date_system":"1900"}

{"sheet":"Vertilina","index":0,"n_rows":34,"n_cols":13,"rows_kept":34,"cut":false,"hidden":false,"merged":[[17,1,17,2],[11,6,11,8],[9,1,9,3],[11,1,11,3],[5,5,5,8],[12,6,12,8],[28,1,28,2],[6,7,7,9],[27,1,27,2],[22,1,22,2],[23,1,23,2],[24,1,24,2],[25,1,25,2],[26,1,26,2],[15,1,15,2],[19,1,19,2],[18,1,18,2],[20,1,20,2],[21,1,21,2],[9,6,9,8],[10,1,10,3],[10,6,10,8],[1,1,1,10],[16,1,16,12],[3,5,3,8],[3,9,3,10],[6,12,7,12],[6,11,7,11],[3,11,3,12],[4,5,4,8],[4,9,4,10],[4,1,4,2],[9,11,9,12],[10,11,13,12],[6,10,7,10]],"read":"row_number_cap"}
[]
[null,{"$f":"IF(data!$CC$17=7,\"Effektsimulering Hybridmodeller\",\"Selectiontool Vertilina Hybrid\")","v":"Selectiontool Vertilina Hybrid"}]
[]
[null,null,null,null,null,"Taal/Language/Sprache/Språk/Jazyk",null,null,null,"English"]
[null,null,null,null,null,{"$f":"IF(data!$CC$17=1,NL!F4,IF(data!$CC$17=2,EN!F4,IF(data!$CC$17=3,FR!F4,IF(data!$CC$17=4,DE!F4,IF(data!$CC$17=5,NR!F4,IF(data!$CC$17=6,SP!F4,IF(data!$CC$17=7,SW!F4,IF(data!$CC$17=8,TS!F4,IF(data!$CC$17=9,ExtraTaal1!F4,IF(data!$CC$17=10,ExtraTaal2!F4,IF(data!$CC$17=11,ExtraTaal3!F4,)))))))))))","v":"Hybrid device"},null,null,null,"Vertilina Hybrid"]
[null,null,null,null,null,{"$f":"IF(data!$CC$17=1,NL!E4,IF(data!$CC$17=2,EN!E4,IF(data!$CC$17=3,FR!E4,IF(data!$CC$17=4,DE!E4,IF(data!$CC$17=5,NR!E4,IF(data!$CC$17=6,SP!E4,IF(data!$CC$17=7,SW!E4,IF(data!$CC$17=8,TS!E4,IF(data!$CC$17=9,ExtraTaal1!E4,IF(data!$CC$17=10,ExtraTaal2!E4,IF(data!$CC$17=11,ExtraTaal38E4,)))))))))))&IF(data!$CC$17=8,\" [centimetr]\",\" [centimeter]\")","v":"Version [centimeter]"},null,null,null,"30dB(A)",41,11,{"$f":"data!H6","v":11.5}]
[null,null,null,null,null,null,{"$f":"IF($J$4=data!$CC$3,NL!B3,IF($J$4=data!$CC$4,EN!B3,IF($J$4=data!$CC$5,FR!B3,IF($J$4=data!$CC$6,DE!B3,IF($J$4=data!$CC$7,NR!B3,IF($J$4=data!$CC$8,SP!B3,IF($J$4=data!$CC$9,SW!B3,)))))))","v":"Length"},{"$f":"IF(data!$CC$17=1,NL!B16,IF(data!$CC$17=2,EN!B16,IF(data!$CC$17=3,FR!B16,IF(data!$CC$17=4,DE!B16,IF(data!$CC$17=5,NR!B16,IF(data!$CC$17=6,SP!B16,IF(data!$CC$17=7,SW!B16,IF(data!$CC$17=8,TS!B16,IF(data!$CC$17=9,ExtraTaal1!B16,IF(data!$CC$17=10,ExtraTaal2!B16,IF(data!$CC$17=11,ExtraTaal3!B16,)))))))))))","v":"Fan speed"},null,null,{"$f":"IF(data!$CC$17=1,NL!B3,IF(data!$CC$17=2,EN!B3,IF(data!$CC$17=3,FR!B3,IF(data!$CC$17=4,DE!B3,IF(data!$CC$17=5,NR!B3,IF(data!$CC$17=6,SP!B3,IF(data!$CC$17=7,SW!B3,IF(data!$CC$17=8,TS!B3,IF(data!$CC$17=9,ExtraTaal1!B3,IF(data!$CC$17=10,ExtraTaal2!B3,IF(data!$CC$17=11,ExtraTaal3!B3,)))))))))))&\" [cm]\"","v":"Length [cm]"},{"$f":"IF(data!$CC$17=1,NL!B5,IF(data!$CC$17=2,EN!B5,IF(data!$CC$17=3,FR!B5,IF(data!$CC$17=4,DE!B5,IF(data!$CC$17=5,NR!B5,IF(data!$CC$17=6,SP!B5,IF(data!$CC$17=7,SW!B5,IF(data!$CC$17=8,TS!B5,IF(data!$CC$17=9,ExtraTaal1!B5,IF(data!$CC$17=10,ExtraTaal2!B5,IF(data!$CC$17=11,ExtraTaal3!B5,)))))))))))","v":"Type"},{"$f":"IF(data!$CC$17=1,NL!B6,IF(data!$CC$17=2,EN!B6,IF(data!$CC$17=3,FR!B6,IF(data!$CC$17=4,DE!B6,IF(data!$CC$17=5,NR!B6,IF(data!$CC$17=6,SP!B6,IF(data!$CC$17=7,SW!B6,IF(data!$CC$17=8,TS!B6,IF(data!$CC$17=9,ExtraTaal1!B6,IF(data!$CC$17=10,ExtraTaal2!B6,IF(data!$CC$17=11,ExtraTaal3!B6,)))))))))))","v":"Depth"}]
[null,{"$f":"IF(data!$CC$17=1,NL!E5,IF(data!$CC$17=2,EN!E5,IF(data!$CC$17=3,FR!E5,IF(data!$CC$17=4,DE!E5,IF(data!$CC$17=5,NR!E5,IF(data!$CC$17=6,SP!E5,IF(data!$CC$17=7,SW!E5,IF(data!$CC$17=8,TS!E5,IF(data!$CC$17=9,ExtraTaal1!E5,IF(data!$CC$17=10,ExtraTaal2!E5,IF(data!$CC$17=11,ExtraTaal3!E5,)))))))))))","v":"Temperatures"}]
[null,{"$f":"IF(data!$CC$17=1,NL!B8,IF(data!$CC$17=2,EN!B8,IF(data!$CC$17=3,FR!B8,IF(data!$CC$17=4,DE!B8,IF(data!$CC$17=5,NR!B8,IF(data!$CC$17=6,SP!B8,IF(data!$CC$17=7,SW!B8,IF(data!$CC$17=8,TS!B8,IF(data!$CC$17=9,ExtraTaal1!B8,IF(data!$CC$17=10,ExtraTaal2!B8,IF(data!$CC$17=11,ExtraTaal3!B8,)))))))))))","v":"Heating:"},null,null,null,null,{"$f":"IF(data!$CC$17=1,NL!G8,IF(data!$CC$17=2,EN!G8,IF(data!$CC$17=3,FR!G8,IF(data!$CC$17=4,DE!G8,IF(data!$CC$17=5,NR!G8,IF(data!$CC$17=6,SP!G8,IF(data!$CC$17=7,SW!G8,IF(data!$CC$17=8,TS!G8,IF(data!$CC$17=9,ExtraTaal1!G8,IF(data!$CC$17=10,ExtraTaal2!G8,IF(data!$CC$17=11,ExtraTaal3!G8,)))))))))))","v":"Cooling:"}]
[null,{"$f":"IF(data!$CC$17=1,NL!B9,IF(data!$CC$17=2,EN!B9,IF(data!$CC$17=3,FR!B9,IF(data!$CC$17=4,DE!B9,IF(data!$CC$17=5,NR!B9,IF(data!$CC$17=6,SP!B9,IF(data!$CC$17=7,SW!B9,IF(data!$CC$17=8,TS!B9,IF(data!$CC$17=9,ExtraTaal1!B9,IF(data!$CC$17=10,ExtraTaal2!B9,IF(data!$CC$17=11,ExtraTaal3!B9,)))))))))))","v":"Supply water"},0,0,35,{"$f":"IF(data!$BZ$2=1,\"°C\",IF(data!$BZ$2=2,\"°F\",))","v":"°C"},{"$f":"B10","v":"Supply water"},0,0,16,{"$f":"F10","v":"°C"},{"$f":"IF(data!$CC$17=1,NL!G4,IF(data!$CC$17=2,EN!G4,IF(data!$CC$17=3,FR!G4,IF(data!$CC$17=4,DE!G4,IF(data!$CC$17=5,NR!G4,IF(data!$CC$17=6,SP!G4,IF(data!$CC$17=7,SW!G4,IF(data!$CC$17=8,TS!G4,IF(data!$CC$17=9,ExtraTaal1!G4,IF(data!$CC$17=10,ExtraTaal2!G4,IF(data!$CC$17=11,ExtraTaal3!G4,)))))))))))","v":"Unit conversion"}]
[null,{"$f":"IF(data!$CC$17=1,NL!B10,IF(data!$CC$17=2,EN!B10,IF(data!$CC$17=3,FR!B10,IF(data!$CC$17=4,DE!B10,IF(data!$CC$17=5,NR!B10,IF(data!$CC$17=6,SP!B10,IF(data!$CC$17=7,SW!B10,IF(data!$CC$17=8,TS!B10,IF(data!$CC$17=9,ExtraTaal1!B10,IF(data!$CC$17=10,ExtraTaal2!B10,IF(data!$CC$17=11,ExtraTaal3!B10,)))))))))))","v":"Return water"},0,0,30,{"$f":"F10","v":"°C"},{"$f":"B11","v":"Return water"},0,0,18,{"$f":"F10","v":"°C"}]
[null,{"$f":"IF(data!$CC$17=1,NL!B11,IF(data!$CC$17=2,EN!B11,IF(data!$CC$17=3,FR!B11,IF(data!$CC$17=4,DE!B11,IF(data!$CC$17=5,NR!B11,IF(data!$CC$17=6,SP!B11,IF(data!$CC$17=7,SW!B11,IF(data!$CC$17=8,TS!B11,IF(data!$CC$17=9,ExtraTaal1!B11,IF(data!$CC$17=10,ExtraTaal2!B11,IF(data!$CC$17=11,ExtraTaal3!B11,)))))))))))","v":"Entering air (dry bulb)"},0,0,20,{"$f":"F10","v":"°C"},{"$f":"B12","v":"Entering air (dry bulb)"},0,0,26.999999999999996,{"$f":"F10","v":"°C"}]
[null,null,null,null,null,null,{"$f":"IF(data!$CC$17=1,NL!$G$3,IF(data!$CC$17=2,EN!$G$3,IF(data!$CC$17=3,FR!$G$3,IF(data!$CC$17=4,DE!$G$3,IF(data!$CC$17=5,NR!$G$3,IF(data!$CC$17=6,SP!$G$3,IF(data!$CC$17=7,SW!$G$3,IF(data!$CC$17=8,TS!G3,IF(data!$CC$17=9,ExtraTaal1!G3,IF(data!$CC$17=10,ExtraTaal2!G3,IF(data!$CC$17=11,ExtraTaal3!G3,)))))))))))","v":"rel. humid."},null,null,0.5]
[]
[]
[null,{"$f":"IF(data!$CC$17=1,NL!B4,IF(data!$CC$17=2,EN!B4,IF(data!$CC$17=3,FR!B4,IF(data!$CC$17=4,DE!B4,IF(data!$CC$17=5,NR!B4,IF(data!$CC$17=6,SP!B4,IF(data!$CC$17=7,SW!B4,IF(data!$CC$17=8,TS!B4,IF(data!$CC$17=9,ExtraTaal1!B4,IF(data!$CC$17=10,ExtraTaal2!B4,IF(data!$CC$17=11,ExtraTaal3!B4,)))))))))))&\" [cm]\"","v":"Heigth [cm]"},null,{"$f":"IF(data!$CC$17=1,NL!C14,IF(data!$CC$17=2,EN!C14,IF(data!$CC$17=3,FR!C14,IF(data!$CC$17=4,DE!C14,IF(data!$CC$17=5,NR!C14,IF(data!$CC$17=6,SP!C14,IF(data!$CC$17=7,SW!C14,IF(data!$CC$17=8,TS!C14,IF(data!$CC$17=9,ExtraTaal1!C14,IF(data!$CC$17=10,ExtraTaal2!C14,IF(data!$CC$17=11,ExtraTaal3!C14,)))))))))))&IF(data!BZ2=1,\" [W]\",IF(data!BZ2=2,\" [Btu/h]\",))","v":"Heating capacity [W]"},{"$f":"IF(data!$CC$17=1,NL!D14,IF(data!$CC$17=2,EN!D14,IF(data!$CC$17=3,FR!D14,IF(data!$CC$17=4,DE!D14,IF(data!$CC$17=5,NR!D14,IF(data!$CC$17=6,SP!D14,IF(data!$CC$17=7,SW!D14,IF(data!$CC$17=8,TS!D14,IF(data!$CC$17=9,ExtraTaal1!D14,IF(data!$CC$17=10,ExtraTaal2!D14,IF(data!$CC$17=11,ExtraTaal3!D14,)))))))))))&IF(data!BZ2=1,\" [kg/h]\",IF(data!BZ2=2,\" [GPM]**\",))","v":"Water flow [kg/h]"},{"$f":"IF(data!$CC$17=1,NL!F6,IF(data!$CC$17=2,EN!F6,IF(data!$CC$17=3,FR!F6,IF(data!$CC$17=4,DE!F6,IF(data!$CC$17=5,NR!F6,IF(data!$CC$17=6,SP!F6,IF(data!$CC$17=7,SW!F6,IF(data!$CC$17=8,TS!F6,IF(data!$CC$17=9,ExtraTaal1!F6,IF(data!$CC$17=10,ExtraTaal2!F6,IF(data!$CC$17=11,ExtraTaal3!F6,)))))))))))&\" [\"&IF(data!BZ2=1,\"kPa\",IF(data!BZ2=2,\"ftH2O\"))&\"]\"","v":"Water side pressure loss  [kPa]"},{"$f":"IF(data!$CC$17=1,NL!E14,IF(data!$CC$17=2,EN!E14,IF(data!$CC$17=3,FR!E14,IF(data!$CC$17=4,DE!E14,IF(data!$CC$17=5,NR!E14,IF(data!$CC$17=6,SP!E14,IF(data!$CC$17=7,SW!E14,IF(data!$CC$17=8,TS!E14,IF(data!$CC$17=9,ExtraTaal1!E14,IF(data!$CC$17=10,ExtraTaal2!E14,IF(data!$CC$17=11,ExtraTaal3!E14,)))))))))))&IF(data!BZ2=1,\" [W]\",IF(data!BZ2=2,\" [Btu/h]*\",))","v":"Cooling capacity [W]"},{"$f":"E16","v":"Water flow [kg/h]"},{"$f":"F16","v":"Water side pressure loss  [kPa]"},{"$f":"IF(data!$CC$17=1,NL!I13,IF(data!$CC$17=2,EN!I13,IF(data!$CC$17=3,FR!I13,IF(data!$CC$17=4,DE!I13,IF(data!$CC$17=5,NR!I13,IF(data!$CC$17=6,SP!I13,IF(data!$CC$17=7,SW!I13,IF(data!$CC$17=8,TS!I13,IF(data!$CC$17=9,ExtraTaal1!I13,IF(data!$CC$17=10,ExtraTaal2!I13,IF(data!$CC$17=11,ExtraTaal3!I13,)))))))))))","v":"Sound pressure level [dB(A)]****"},{"$f":"IF(data!$CC$17=1,NL!J13,IF(data!$CC$17=2,EN!J13,IF(data!$CC$17=3,FR!J13,IF(data!$CC$17=4,DE!J13,IF(data!$CC$17=5,NR!J13,IF(data!$CC$17=6,SP!J13,IF(data!$CC$17=7,SW!J13,IF(data!$CC$17=8,TS!J13,IF(data!$CC$17=9,ExtraTaal1!J13,IF(data!$CC$17=10,ExtraTaal2!J13,IF(data!$CC$17=11,ExtraTaal3!J13,)))))))))))","v":"Sound power [dB(A)]****"},{"$f":"IF(data!$CC$17=1,NL!H13,IF(data!$CC$17=2,EN!H13,IF(data!$CC$17=3,FR!H13,IF(data!$CC$17=4,DE!H13,IF(data!$CC$17=5,NR!H13,IF(data!$CC$17=6,SP!H13,IF(data!$CC$17=7,SW!H13,IF(data!$CC$17=8,TS!H13,IF(data!$CC$17=9,ExtraTaal1!H13,IF(data!$CC$17=10,ExtraTaal2!H13,IF(data!$CC$17=11,ExtraTaal3!H13,)))))))))))","v":"Electrical consumption [W]"},{"$f":"IF(data!$CC$17=1,NL!G13,IF(data!$CC$17=2,EN!G13,IF(data!$CC$17=3,FR!G13,IF(data!$CC$17=4,DE!G13,IF(data!$CC$17=5,NR!G13,IF(data!$CC$17=6,SP!G13,IF(data!$CC$17=7,SW!G13,IF(data!$CC$17=8,TS!G13,IF(data!$CC$17=9,ExtraTaal1!G13,IF(data!$CC$17=10,ExtraTaal2!G13,IF(data!$CC$17=11,ExtraTaal3!G13,)))))))))))&IF(data!BZ2=1,\" [l]\",IF(data!BZ2=2,\" [Gal]**\",))","v":"Water volume [l]"}]
[null,{"$f":"CONCATENATE($J$5,\", \",$K$7, \" \",$K$6,\"cm, \",$L$7, \" \",$L$6)","v":"Vertilina Hybrid, Length [cm] 41cm, Type 11"},0,0,0,0,0,0,0,0,0,0,0]
[null,{"$f":"data!CK3","v":90},null,{"$f":"IF(L6=8,\"\",IF($J$6=\"OFF\",data!DH18,IF($J$6=\"26dB(A)\",data!DH19,IF($J$6=\"30dB(A)\",data!DH20,IF($J$6=\"MAX\",data!DH21)))))","v":438},{"$f":"IF(L6=8,\"\",IF($J$6=\"OFF\",data!DI18,IF($J$6=\"26dB(A)\",data!DI19,IF($J$6=\"30dB(A)\",data!DI20,IF($J$6=\"MAX\",data!DI21)))))","v":75},{"$f":"IF(L6=8,\"\",IF($J$6=\"OFF\",data!DJ18,IF($J$6=\"26dB(A)\",data!DJ19,IF($J$6=\"30dB(A)\",data!DJ20,IF($J$6=\"MAX\",data!DJ21)))))","v":5.2693968297033239E-2},{"$f":"IF(L6=8,\"\",IF($J$6=\"OFF\",data!DK18,IF($J$6=\"26dB(A)\",data!DK19,IF($J$6=\"30dB(A)\",data!DK20,IF($J$6=\"MAX\",data!DK21)))))","v":273},{"$f":"IF(L6=8,\"\",IF($J$6=\"OFF\",data!DL18,IF($J$6=\"26dB(A)\",data!DL19,IF($J$6=\"30dB(A)\",data!DL20,IF($J$6=\"MAX\",data!DL21)))))","v":117},{"$f":"IF(L6=8,\"\",IF($J$6=\"OFF\",data!DM18,IF($J$6=\"26dB(A)\",data!DM19,IF($J$6=\"30dB(A)\",data!DM20,IF($J$6=\"MAX\",data!DM21)))))","v":0.12253704973862133},{"$f":"IF(L6=8,\"\",IF($J$6=\"OFF\",data!DN18,IF($J$6=\"26dB(A)\",data!DN19,IF($J$6=\"30dB(A)\",data!DN20,IF($J$6=\"MAX\",data!DN21)))))","v":30},{"$f":"IF(L6=8,\"\",IF($J$6=\"OFF\",data!DO18,IF($J$6=\"26dB(A)\",data!DO19,IF($J$6=\"30dB(A)\",data!DO20,IF($J$6=\"MAX\",data!DO21)))))","v":34.845112497922791},{"$f":"IF(L6=8,\"\",IF($J$6=\"OFF\",data!DP18,IF($J$6=\"26dB(A)\",data!DP19,IF($J$6=\"30dB(A)\",data!DP20,IF($J$6=\"MAX\",data!DP21)))))","v":11.472097650788319},{"$f":"IF(L6=8,\"\",IF($J$6=\"OFF\",data!DQ18,IF($J$6=\"26dB(A)\",data!DQ19,IF($J$6=\"30dB(A)\",data!DQ20,IF($J$6=\"MAX\",data!DQ21)))))","v":1.2}]
[null,{"$f":"data!CK4","v":100},null,{"$f":"IF($J$6=\"OFF\",data!DH22,IF($J$6=\"26dB(A)\",data!DH23,IF($J$6=\"30dB(A)\",data!DH24,IF($J$6=\"MAX\",data!DH25))))","v":502},{"$f":"IF($J$6=\"OFF\",data!DI22,IF($J$6=\"26dB(A)\",data!DI23,IF($J$6=\"30dB(A)\",data!DI24,IF($J$6=\"MAX\",data!DI25))))","v":86},{"$f":"IF($J$6=\"OFF\",data!DJ22,IF($J$6=\"26dB(A)\",data!DJ23,IF($J$6=\"30dB(A)\",data!DJ24,IF($J$6=\"MAX\",data!DJ25))))","v":7.1825896841150788E-2},{"$f":"IF($J$6=\"OFF\",data!DK22,IF($J$6=\"26dB(A)\",data!DK23,IF($J$6=\"30dB(A)\",data!DK24,IF($J$6=\"MAX\",data!DK25))))","v":315},{"$f":"IF($J$6=\"OFF\",data!DL22,IF($J$6=\"26dB(A)\",data!DL23,IF($J$6=\"30dB(A)\",data!DL24,IF($J$6=\"MAX\",data!DL25))))","v":135},{"$f":"IF($J$6=\"OFF\",data!DM22,IF($J$6=\"26dB(A)\",data!DM23,IF($J$6=\"30dB(A)\",data!DM24,IF($J$6=\"MAX\",data!DM25))))","v":0.16859714880744567},{"$f":"IF($J$6=\"OFF\",data!DN22,IF($J$6=\"26dB(A)\",data!DN23,IF($J$6=\"30dB(A)\",data!DN24,IF($J$6=\"MAX\",data!DN25))))","v":30},{"$f":"IF($J$6=\"OFF\",data!DO22,IF($J$6=\"26dB(A)\",data!DO23,IF($J$6=\"30dB(A)\",data!DO24,IF($J$6=\"MAX\",data!DO25))))","v":38},{"$f":"IF($J$6=\"OFF\",data!DP22,IF($J$6=\"26dB(A)\",data!DP23,IF($J$6=\"30dB(A)\",data!DP24,IF($J$6=\"MAX\",data!DP25))))","v":12.740717734308612},{"$f":"IF($J$6=\"OFF\",data!DQ22,IF($J$6=\"26dB(A)\",data!DQ23,IF($J$6=\"30dB(A)\",data!DQ24,IF($J$6=\"MAX\",data!DQ25))))","v":1.3}]
[null,{"$f":"data!CK5","v":120},null,{"$f":"IF($J$6=\"OFF\",data!DH26,IF($J$6=\"26dB(A)\",data!DH27,IF($J$6=\"30dB(A)\",data!DH28,IF($J$6=\"MAX\",data!DH29))))","v":629},{"$f":"IF($J$6=\"OFF\",data!DI26,IF($J$6=\"26dB(A)\",data!DI27,IF($J$6=\"30dB(A)\",data!DI28,IF($J$6=\"MAX\",data!DI29))))","v":108},{"$f":"IF($J$6=\"OFF\",data!DJ26,IF($J$6=\"26dB(A)\",data!DJ27,IF($J$6=\"30dB(A)\",data!DJ28,IF($J$6=\"MAX\",data!DJ29))))","v":0.12095579733133843},{"$f":"IF($J$6=\"OFF\",data!DK26,IF($J$6=\"26dB(A)\",data!DK27,IF($J$6=\"30dB(A)\",data!DK28,IF($J$6=\"MAX\",data!DK29))))","v":397},{"$f":"IF($J$6=\"OFF\",data!DL26,IF($J$6=\"26dB(A)\",data!DL27,IF($J$6=\"30dB(A)\",data!DL28,IF($J$6=\"MAX\",data!DL29))))","v":171},{"$f":"IF($J$6=\"OFF\",data!DM26,IF($J$6=\"26dB(A)\",data!DM27,IF($J$6=\"30dB(A)\",data!DM28,IF($J$6=\"MAX\",data!DM29))))","v":0.28730900816008281},{"$f":"IF($J$6=\"OFF\",data!DN26,IF($J$6=\"26dB(A)\",data!DN27,IF($J$6=\"30dB(A)\",data!DN28,IF($J$6=\"MAX\",data!DN29))))","v":30},{"$f":"IF($J$6=\"OFF\",data!DO26,IF($J$6=\"26dB(A)\",data!DO27,IF($J$6=\"30dB(A)\",data!DO28,IF($J$6=\"MAX\",data!DO29))))","v":38},{"$f":"IF($J$6=\"OFF\",data!DP26,IF($J$6=\"26dB(A)\",data!DP27,IF($J$6=\"30dB(A)\",data!DP28,IF($J$6=\"MAX\",data!DP29))))","v":15.195275468368678},{"$f":"IF($J$6=\"OFF\",data!DQ26,IF($J$6=\"26dB(A)\",data!DQ27,IF($J$6=\"30dB(A)\",data!DQ28,IF($J$6=\"MAX\",data!DQ29))))","v":1.6}]
[null,{"$f":"data!CK6","v":150},null,{"$f":"IF($J$6=\"OFF\",data!DH30,IF($J$6=\"26dB(A)\",data!DH31,IF($J$6=\"30dB(A)\",data!DH32,IF($J$6=\"MAX\",data!DH33))))","v":814},{"$f":"IF($J$6=\"OFF\",data!DI30,IF($J$6=\"26dB(A)\",data!DI31,IF($J$6=\"30dB(A)\",data!DI32,IF($J$6=\"MAX\",data!DI33))))","v":140},{"$f":"IF($J$6=\"OFF\",data!DJ30,IF($J$6=\"26dB(A)\",data!DJ31,IF($J$6=\"30dB(A)\",data!DJ32,IF($J$6=\"MAX\",data!DJ33))))","v":0.22171317786876893},{"$f":"IF($J$6=\"OFF\",data!DK30,IF($J$6=\"26dB(A)\",data!DK31,IF($J$6=\"30dB(A)\",data!DK32,IF($J$6=\"MAX\",data!DK33))))","v":517},{"$f":"IF($J$6=\"OFF\",data!DL30,IF($J$6=\"26dB(A)\",data!DL31,IF($J$6=\"30dB(A)\",data!DL32,IF($J$6=\"MAX\",data!DL33))))","v":222},{"$f":"IF($J$6=\"OFF\",data!DM30,IF($J$6=\"26dB(A)\",data!DM31,IF($J$6=\"30dB(A)\",data!DM32,IF($J$6=\"MAX\",data!DM33))))","v":0.52523389841043688},{"$f":"IF($J$6=\"OFF\",data!DN30,IF($J$6=\"26dB(A)\",data!DN31,IF($J$6=\"30dB(A)\",data!DN32,IF($J$6=\"MAX\",data!DN33))))","v":30},{"$f":"IF($J$6=\"OFF\",data!DO30,IF($J$6=\"26dB(A)\",data!DO31,IF($J$6=\"30dB(A)\",data!DO32,IF($J$6=\"MAX\",data!DO33))))","v":38},{"$f":"IF($J$6=\"OFF\",data!DP30,IF($J$6=\"26dB(A)\",data!DP31,IF($J$6=\"30dB(A)\",data!DP32,IF($J$6=\"MAX\",data!DP33))))","v":18.743964042758314},{"$f":"IF($J$6=\"OFF\",data!DQ30,IF($J$6=\"26dB(A)\",data!DQ31,IF($J$6=\"30dB(A)\",data!DQ32,IF($J$6=\"MAX\",data!DQ33))))","v":2}]
[null,{"$f":"data!CK7","v":170},null,{"$f":"IF($J$6=\"OFF\",data!DH34,IF($J$6=\"26dB(A)\",data!DH35,IF($J$6=\"30dB(A)\",data!DH36,IF($J$6=\"MAX\",data!DH37))))","v":936},{"$f":"IF($J$6=\"OFF\",data!DI34,IF($J$6=\"26dB(A)\",data!DI35,IF($J$6=\"30dB(A)\",data!DI36,IF($J$6=\"MAX\",data!DI37))))","v":161},{"$f":"IF($J$6=\"OFF\",data!DJ34,IF($J$6=\"26dB(A)\",data!DJ35,IF($J$6=\"30dB(A)\",data!DJ36,IF($J$6=\"MAX\",data!DJ37))))","v":0.30878990974594944},{"$f":"IF($J$6=\"OFF\",data!DK34,IF($J$6=\"26dB(A)\",data!DK35,IF($J$6=\"30dB(A)\",data!DK36,IF($J$6=\"MAX\",data!DK37))))","v":596},{"$f":"IF($J$6=\"OFF\",data!DL34,IF($J$6=\"26dB(A)\",data!DL35,IF($J$6=\"30dB(A)\",data!DL36,IF($J$6=\"MAX\",data!DL37))))","v":256},{"$f":"IF($J$6=\"OFF\",data!DM34,IF($J$6=\"26dB(A)\",data!DM35,IF($J$6=\"30dB(A)\",data!DM36,IF($J$6=\"MAX\",data!DM37))))","v":0.73301280223306675},{"$f":"IF($J$6=\"OFF\",data!DN34,IF($J$6=\"26dB(A)\",data!DN35,IF($J$6=\"30dB(A)\",data!DN36,IF($J$6=\"MAX\",data!DN37))))","v":30},{"$f":"IF($J$6=\"OFF\",data!DO34,IF($J$6=\"26dB(A)\",data!DO35,IF($J$6=\"30dB(A)\",data!DO36,IF($J$6=\"MAX\",data!DO37))))","v":38},{"$f":"IF($J$6=\"OFF\",data!DP34,IF($J$6=\"26dB(A)\",data!DP35,IF($J$6=\"30dB(A)\",data!DP36,IF($J$6=\"MAX\",data!DP37))))","v":21.02882824621398},{"$f":"IF($J$6=\"OFF\",data!DQ34,IF($J$6=\"26dB(A)\",data!DQ35,IF($J$6=\"30dB(A)\",data!DQ36,IF($J$6=\"MAX\",data!DQ37))))","v":2.2999999999999998}]
[null,{"$f":"data!CK8","v":190},null,{"$f":"IF($J$6=\"OFF\",data!DH38,IF($J$6=\"26dB(A)\",data!DH39,IF($J$6=\"30dB(A)\",data!DH40,IF($J$6=\"MAX\",data!DH41))))","v":1056},{"$f":"IF($J$6=\"OFF\",data!DI38,IF($J$6=\"26dB(A)\",data!DI39,IF($J$6=\"30dB(A)\",data!DI40,IF($J$6=\"MAX\",data!DI41))))","v":182},{"$f":"IF($J$6=\"OFF\",data!DJ38,IF($J$6=\"26dB(A)\",data!DJ39,IF($J$6=\"30dB(A)\",data!DJ40,IF($J$6=\"MAX\",data!DJ41))))","v":0.4138336344854841},{"$f":"IF($J$6=\"OFF\",data!DK38,IF($J$6=\"26dB(A)\",data!DK39,IF($J$6=\"30dB(A)\",data!DK40,IF($J$6=\"MAX\",data!DK41))))","v":675},{"$f":"IF($J$6=\"OFF\",data!DL38,IF($J$6=\"26dB(A)\",data!DL39,IF($J$6=\"30dB(A)\",data!DL40,IF($J$6=\"MAX\",data!DL41))))","v":290},{"$f":"IF($J$6=\"OFF\",data!DM38,IF($J$6=\"26dB(A)\",data!DM39,IF($J$6=\"30dB(A)\",data!DM40,IF($J$6=\"MAX\",data!DM41))))","v":0.98354815758365455},{"$f":"IF($J$6=\"OFF\",data!DN38,IF($J$6=\"26dB(A)\",data!DN39,IF($J$6=\"30dB(A)\",data!DN40,IF($J$6=\"MAX\",data!DN41))))","v":30},{"$f":"IF($J$6=\"OFF\",data!DO38,IF($J$6=\"26dB(A)\",data!DO39,IF($J$6=\"30dB(A)\",data!DO40,IF($J$6=\"MAX\",data!DO41))))","v":38},{"$f":"IF($J$6=\"OFF\",data!DP38,IF($J$6=\"26dB(A)\",data!DP39,IF($J$6=\"30dB(A)\",data!DP40,IF($J$6=\"MAX\",data!DP41))))","v":23.241835253713635},{"$f":"IF($J$6=\"OFF\",data!DQ38,IF($J$6=\"26dB(A)\",data!DQ39,IF($J$6=\"30dB(A)\",data!DQ40,IF($J$6=\"MAX\",data!DQ41))))","v":2.5}]
[null,{"$f":"data!CK9","v":210},null,{"$f":"IF($J$6=\"OFF\",data!DH42,IF($J$6=\"26dB(A)\",data!DH43,IF($J$6=\"30dB(A)\",data!DH44,IF($J$6=\"MAX\",data!DH45))))","v":1172},{"$f":"IF($J$6=\"OFF\",data!DI42,IF($J$6=\"26dB(A)\",data!DI43,IF($J$6=\"30dB(A)\",data!DI44,IF($J$6=\"MAX\",data!DI45))))","v":202},{"$f":"IF($J$6=\"OFF\",data!DJ42,IF($J$6=\"26dB(A)\",data!DJ43,IF($J$6=\"30dB(A)\",data!DJ44,IF($J$6=\"MAX\",data!DJ45))))","v":0.5331736453801813},{"$f":"IF($J$6=\"OFF\",data!DK42,IF($J$6=\"26dB(A)\",data!DK43,IF($J$6=\"30dB(A)\",data!DK44,IF($J$6=\"MAX\",data!DK45))))","v":751},{"$f":"IF($J$6=\"OFF\",data!DL42,IF($J$6=\"26dB(A)\",data!DL43,IF($J$6=\"30dB(A)\",data!DL44,IF($J$6=\"MAX\",data!DL45))))","v":323},{"$f":"IF($J$6=\"OFF\",data!DM42,IF($J$6=\"26dB(A)\",data!DM43,IF($J$6=\"30dB(A)\",data!DM44,IF($J$6=\"MAX\",data!DM45))))","v":1.272336536463021},{"$f":"IF($J$6=\"OFF\",data!DN42,IF($J$6=\"26dB(A)\",data!DN43,IF($J$6=\"30dB(A)\",data!DN44,IF($J$6=\"MAX\",data!DN45))))","v":30},{"$f":"IF($J$6=\"OFF\",data!DO42,IF($J$6=\"26dB(A)\",data!DO43,IF($J$6=\"30dB(A)\",data!DO44,IF($J$6=\"MAX\",data!DO45))))","v":38},{"$f":"IF($J$6=\"OFF\",data!DP42,IF($J$6=\"26dB(A)\",data!DP43,IF($J$6=\"30dB(A)\",data!DP44,IF($J$6=\"MAX\",data!DP45))))","v":25.31535920549992},{"$f":"IF($J$6=\"OFF\",data!DQ42,IF($J$6=\"26dB(A)\",data!DQ43,IF($J$6=\"30dB(A)\",data!DQ44,IF($J$6=\"MAX\",data!DQ45))))","v":2.8}]
[null,{"$f":"data!CK10","v":230},null,{"$f":"IF($J$6=\"OFF\",data!DH46,IF($J$6=\"26dB(A)\",data!DH47,IF($J$6=\"30dB(A)\",data!DH48,IF($J$6=\"MAX\",data!DH49))))","v":1291},{"$f":"IF($J$6=\"OFF\",data!DI46,IF($J$6=\"26dB(A)\",data!DI47,IF($J$6=\"30dB(A)\",data!DI48,IF($J$6=\"MAX\",data!DI49))))","v":222},{"$f":"IF($J$6=\"OFF\",data!DJ46,IF($J$6=\"26dB(A)\",data!DJ47,IF($J$6=\"30dB(A)\",data!DJ48,IF($J$6=\"MAX\",data!DJ49))))","v":0.67146542787877728},{"$f":"IF($J$6=\"OFF\",data!DK46,IF($J$6=\"26dB(A)\",data!DK47,IF($J$6=\"30dB(A)\",data!DK48,IF($J$6=\"MAX\",data!DK49))))","v":828},{"$f":"IF($J$6=\"OFF\",data!DL46,IF($J$6=\"26dB(A)\",data!DL47,IF($J$6=\"30dB(A)\",data!DL48,IF($J$6=\"MAX\",data!DL49))))","v":356},{"$f":"IF($J$6=\"OFF\",data!DM46,IF($J$6=\"26dB(A)\",data!DM47,IF($J$6=\"30dB(A)\",data!DM48,IF($J$6=\"MAX\",data!DM49))))","v":1.6073215675769668},{"$f":"IF($J$6=\"OFF\",data!DN46,IF($J$6=\"26dB(A)\",data!DN47,IF($J$6=\"30dB(A)\",data!DN48,IF($J$6=\"MAX\",data!DN49))))","v":30},{"$f":"IF($J$6=\"OFF\",data!DO46,IF($J$6=\"26dB(A)\",data!DO47,IF($J$6=\"30dB(A)\",data!DO48,IF($J$6=\"MAX\",data!DO49))))","v":38},{"$f":"IF($J$6=\"OFF\",data!DP46,IF($J$6=\"26dB(A)\",data!DP47,IF($J$6=\"30dB(A)\",data!DP48,IF($J$6=\"MAX\",data!DP49))))","v":27.471445963687056},{"$f":"IF($J$6=\"OFF\",data!DQ46,IF($J$6=\"26dB(A)\",data!DQ47,IF($J$6=\"30dB(A)\",data!DQ48,IF($J$6=\"MAX\",data!DQ49))))","v":3.1}]
[null,{"$f":"data!CK11","v":250},null,{"$f":"IF($J$6=\"OFF\",data!DH50,IF($J$6=\"26dB(A)\",data!DH51,IF($J$6=\"30dB(A)\",data!DH52,IF($J$6=\"MAX\",data!DH53))))","v":1413},{"$f":"IF($J$6=\"OFF\",data!DI50,IF($J$6=\"26dB(A)\",data!DI51,IF($J$6=\"30dB(A)\",data!DI52,IF($J$6=\"MAX\",data!DI53))))","v":243},{"$f":"IF($J$6=\"OFF\",data!DJ50,IF($J$6=\"26dB(A)\",data!DJ51,IF($J$6=\"30dB(A)\",data!DJ52,IF($J$6=\"MAX\",data!DJ53))))","v":0.83607913538454415},{"$f":"IF($J$6=\"OFF\",data!DK50,IF($J$6=\"26dB(A)\",data!DK51,IF($J$6=\"30dB(A)\",data!DK52,IF($J$6=\"MAX\",data!DK53))))","v":907},{"$f":"IF($J$6=\"OFF\",data!DL50,IF($J$6=\"26dB(A)\",data!DL51,IF($J$6=\"30dB(A)\",data!DL52,IF($J$6=\"MAX\",data!DL53))))","v":390},{"$f":"IF($J$6=\"OFF\",data!DM50,IF($J$6=\"26dB(A)\",data!DM51,IF($J$6=\"30dB(A)\",data!DM52,IF($J$6=\"MAX\",data!DM53))))","v":2.00048879808688},{"$f":"IF($J$6=\"OFF\",data!DN50,IF($J$6=\"26dB(A)\",data!DN51,IF($J$6=\"30dB(A)\",data!DN52,IF($J$6=\"MAX\",data!DN53))))","v":30},{"$f":"IF($J$6=\"OFF\",data!DO50,IF($J$6=\"26dB(A)\",data!DO51,IF($J$6=\"30dB(A)\",data!DO52,IF($J$6=\"MAX\",data!DO53))))","v":38},{"$f":"IF($J$6=\"OFF\",data!DP50,IF($J$6=\"26dB(A)\",data!DP51,IF($J$6=\"30dB(A)\",data!DP52,IF($J$6=\"MAX\",data!DP53))))","v":28.489088071156846},{"$f":"IF($J$6=\"OFF\",data!DQ50,IF($J$6=\"26dB(A)\",data!DQ51,IF($J$6=\"30dB(A)\",data!DQ52,IF($J$6=\"MAX\",data!DQ53))))","v":3.3}]
[null,{"$f":"data!CK12","v":270},null,{"$f":"IF($J$6=\"OFF\",data!DH54,IF($J$6=\"26dB(A)\",data!DH55,IF($J$6=\"30dB(A)\",data!DH56,IF($J$6=\"MAX\",data!DH57))))","v":1521},{"$f":"IF($J$6=\"OFF\",data!DI54,IF($J$6=\"26dB(A)\",data!DI55,IF($J$6=\"30dB(A)\",data!DI56,IF($J$6=\"MAX\",data!DI57))))","v":262},{"$f":"IF($J$6=\"OFF\",data!DJ54,IF($J$6=\"26dB(A)\",data!DJ55,IF($J$6=\"30dB(A)\",data!DJ56,IF($J$6=\"MAX\",data!DJ57))))","v":1.0090795381958573},{"$f":"IF($J$6=\"OFF\",data!DK54,IF($J$6=\"26dB(A)\",data!DK55,IF($J$6=\"30dB(A)\",data!DK56,IF($J$6=\"MAX\",data!DK57))))","v":978},{"$f":"IF($J$6=\"OFF\",data!DL54,IF($J$6=\"26dB(A)\",data!DL55,IF($J$6=\"30dB(A)\",data!DL56,IF($J$6=\"MAX\",data!DL57))))","v":421},{"$f":"IF($J$6=\"OFF\",data!DM54,IF($J$6=\"26dB(A)\",data!DM55,IF($J$6=\"30dB(A)\",data!DM56,IF($J$6=\"MAX\",data!DM57))))","v":2.4152927049658022},{"$f":"IF($J$6=\"OFF\",data!DN54,IF($J$6=\"26dB(A)\",data!DN55,IF($J$6=\"30dB(A)\",data!DN56,IF($J$6=\"MAX\",data!DN57))))","v":30},{"$f":"IF($J$6=\"OFF\",data!DO54,IF($J$6=\"26dB(A)\",data!DO55,IF($J$6=\"30dB(A)\",data!DO56,IF($J$6=\"MAX\",data!DO57))))","v":38},{"$f":"IF($J$6=\"OFF\",data!DP54,IF($J$6=\"26dB(A)\",data!DP55,IF($J$6=\"30dB(A)\",data!DP56,IF($J$6=\"MAX\",data!DP57))))","v":31.439143963119381},{"$f":"IF($J$6=\"OFF\",data!DQ54,IF($J$6=\"26dB(A)\",data!DQ55,IF($J$6=\"30dB(A)\",data!DQ56,IF($J$6=\"MAX\",data!DQ57))))","v":3.6}]
[null,{"$f":"data!CK13","v":290},null,{"$f":"IF($J$6=\"OFF\",data!DH58,IF($J$6=\"26dB(A)\",data!DH59,IF($J$6=\"30dB(A)\",data!DH60,IF($J$6=\"MAX\",data!DH61))))","v":1647},{"$f":"IF($J$6=\"OFF\",data!DI58,IF($J$6=\"26dB(A)\",data!DI59,IF($J$6=\"30dB(A)\",data!DI60,IF($J$6=\"MAX\",data!DI61))))","v":283},{"$f":"IF($J$6=\"OFF\",data!DJ58,IF($J$6=\"26dB(A)\",data!DJ59,IF($J$6=\"30dB(A)\",data!DJ60,IF($J$6=\"MAX\",data!DJ61))))","v":1.2183076276551912},{"$f":"IF($J$6=\"OFF\",data!DK58,IF($J$6=\"26dB(A)\",data!DK59,IF($J$6=\"30dB(A)\",data!DK60,IF($J$6=\"MAX\",data!DK61))))","v":1060},{"$f":"IF($J$6=\"OFF\",data!DL58,IF($J$6=\"26dB(A)\",data!DL59,IF($J$6=\"30dB(A)\",data!DL60,IF($J$6=\"MAX\",data!DL61))))","v":456},{"$f":"IF($J$6=\"OFF\",data!DM58,IF($J$6=\"26dB(A)\",data!DM59,IF($J$6=\"30dB(A)\",data!DM60,IF($J$6=\"MAX\",data!DM61))))","v":2.9261159724999453},{"$f":"IF($J$6=\"OFF\",data!DN58,IF($J$6=\"26dB(A)\",data!DN59,IF($J$6=\"30dB(A)\",data!DN60,IF($J$6=\"MAX\",data!DN61))))","v":30},{"$f":"IF($J$6=\"OFF\",data!DO58,IF($J$6=\"26dB(A)\",data!DO59,IF($J$6=\"30dB(A)\",data!DO60,IF($J$6=\"MAX\",data!DO61))))","v":38},{"$f":"IF($J$6=\"OFF\",data!DP58,IF($J$6=\"26dB(A)\",data!DP59,IF($J$6=\"30dB(A)\",data!DP60,IF($J$6=\"MAX\",data!DP61))))","v":31.44},{"$f":"IF($J$6=\"OFF\",data!DQ58,IF($J$6=\"26dB(A)\",data!DQ59,IF($J$6=\"30dB(A)\",data!DQ60,IF($J$6=\"MAX\",data!DQ61))))","v":3.9}]
[null,{"$f":"IF($J$6=\"OFF\",data!DF82,IF($J$6=\"26dB(A)\",data!DF83,IF($J$6=\"30dB(A)\",data!DF84,IF($J$6=\"MAX\",data!DF85))))","v":300},null,{"$f":"IF($J$6=\"OFF\",data!DH82,IF($J$6=\"26dB(A)\",data!DH83,IF($J$6=\"30dB(A)\",data!DH84,IF($J$6=\"MAX\",data!DH85))))","v":{"$error":"#N/A"}},{"$f":"IF($J$6=\"OFF\",data!DI82,IF($J$6=\"26dB(A)\",data!DI83,IF($J$6=\"30dB(A)\",data!DI84,IF($J$6=\"MAX\",data!DI85))))","v":{"$error":"#N/A"}},{"$f":"IF($J$6=\"OFF\",data!DJ82,IF($J$6=\"26dB(A)\",data!DJ83,IF($J$6=\"30dB(A)\",data!DJ84,IF($J$6=\"MAX\",data!DJ85))))","v":{"$error":"#N/A"}},{"$f":"IF($J$6=\"OFF\",data!DK82,IF($J$6=\"26dB(A)\",data!DK83,IF($J$6=\"30dB(A)\",data!DK84,IF($J$6=\"MAX\",data!DK85))))","v":{"$error":"#N/A"}},{"$f":"IF($J$6=\"OFF\",data!DL82,IF($J$6=\"26dB(A)\",data!DL83,IF($J$6=\"30dB(A)\",data!DL84,IF($J$6=\"MAX\",data!DL85))))","v":{"$error":"#N/A"}},{"$f":"IF($J$6=\"OFF\",data!DM82,IF($J$6=\"26dB(A)\",data!DM83,IF($J$6=\"30dB(A)\",data!DM84,IF($J$6=\"MAX\",data!DM85))))","v":{"$error":"#N/A"}},{"$f":"IF($J$6=\"OFF\",data!DN82,IF($J$6=\"26dB(A)\",data!DN83,IF($J$6=\"30dB(A)\",data!DN84,IF($J$6=\"MAX\",data!DN85))))","v":{"$error":"#N/A"}},{"$f":"IF($J$6=\"OFF\",data!DO82,IF($J$6=\"26dB(A)\",data!DO83,IF($J$6=\"30dB(A)\",data!DO84,IF($J$6=\"MAX\",data!DO85))))","v":{"$error":"#N/A"}},{"$f":"IF($J$6=\"OFF\",data!DP82,IF($J$6=\"26dB(A)\",data!DP83,IF($J$6=\"30dB(A)\",data!DP84,IF($J$6=\"MAX\",data!DP85))))","v":{"$error":"#N/A"}},{"$f":"IF($J$6=\"OFF\",data!DQ82,IF($J$6=\"26dB(A)\",data!DQ83,IF($J$6=\"30dB(A)\",data!DQ84,IF($J$6=\"MAX\",data!DQ85))))","v":{"$error":"#N/A"}}]
[null,null,null,null,null,null,null,null,null,null,null,null,"v2025-03-07"]
[null,"*",{"$f":"IF(data!$CC$17=1,NL!E6,IF(data!$CC$17=2,EN!E6,IF(data!$CC$17=3,FR!E6,IF(data!$CC$17=4,DE!E6,IF(data!$CC$17=5,NR!E6,IF(data!$CC$17=6,SP!E6,IF(data!$CC$17=7,SW!E6,IF(data!$CC$17=8,TS!E6,IF(data!$CC$17=9,ExtraTaal1!E6,IF(data!$CC$17=10,ExtraTaal2!E6,IF(data!$CC$17=11,ExtraTaal3!E6,)))))))))))","v":"Output without fans is negligible"},null,null,null,null,null,null,null,null,null,"v2026-02-23"]
[null,"**",{"$f":"IF(data!$CC$17=1,NL!B20,IF(data!$CC$17=2,EN!B20,IF(data!$CC$17=3,FR!B20,IF(data!$CC$17=4,DE!B20,IF(data!$CC$17=5,NR!B20,IF(data!$CC$17=6,SP!B20,IF(data!$CC$17=7,SW!B20,IF(data!$CC$17=8,TS!B20,IF(data!$CC$17=9,ExtraTaal1!B20,IF(data!$CC$17=10,ExtraTaal2!B20,IF(data!$CC$17=11,ExtraTaal3!B20,)))))))))))","v":"Cooling power is calcullated according EN16430 with fans blowing up for all heights."}]
[null,"***",{"$f":"IF($J$4=data!$CC$3,NL!B21,IF($J$4=data!$CC$4,EN!B21,IF($J$4=data!$CC$5,FR!B21,IF($J$4=data!$CC$6,DE!B21,IF($J$4=data!$CC$7,NR!B21,IF($J$4=data!$CC$8,SP!B21,IF($J$4=data!$CC$9,SW!B21,)))))))","v":"When the water volume is given in gallons, the units are specifically imperial gallons."}]
[null,"****",{"$f":"IF(data!$CC$17=1,NL!B22,IF(data!$CC$17=2,EN!B22,IF(data!$CC$17=3,FR!B22,IF(data!$CC$17=4,DE!B22,IF(data!$CC$17=5,NR!B22,IF(data!$CC$17=6,SP!B22,IF(data!$CC$17=7,SW!B22,IF(data!$CC$17=8,TS!B22,IF(data!$CC$17=9,ExtraTaal1!B22,IF(data!$CC$17=10,ExtraTaal2!B22,IF(data!$CC$17=11,ExtraTaal3!B22,)))))))))))","v":"Soundpower according to ISO 3741:2010, sound pressure level with assumed room damping of 8 dB(A)."}]

{"sheet":"data","index":1,"n_rows":1393,"n_cols":121,"rows_kept":1125,"cut":true,"hidden":true,"merged":[[0,103,0,105],[2678,87,2681,87],[2678,86,2681,86],[2678,85,2681,85],[2678,84,2681,84],[0,100,0,102],[0,97,0,99],[0,85,0,87],[0,88,0,90],[0,91,0,93],[0,94,0,96],[16,109,16,120],[101,91,101,96],[105,91,105,96],[109,91,109,96],[113,91,113,96],[70,92,70,93],[70,102,70,103],[70,100,70,101],[70,98,70,99],[70,96,70,97],[70,94,70,95],[69,92,69,103],[21,94,21,96],[21,97,21,99],[9,109,9,111],[9,114,9,116],[9,119,9,120],[10,109,10,111],[10,114,10,116],[10,119,13,120],[11,109,11,111],[11,114,11,116],[12,114,12,116],[5,113,5,116],[6,116,7,117],[6,118,7,118],[6,119,7,119],[6,120,7,120],[1,109,1,118],[3,113,3,116],[3,117,3,118],[3,119,3,120],[4,109,4,110],[4,113,4,116],[4,117,4,118],[25,66,25,68],[25,69,25,71],[25,73,25,75],[25,76,25,77],[1,79,1,83]],"bounds":{"rows_first":500,"rows_last":125,"rows_between":500,"halvings":2}}
[{"$f":"+CONCATENATE($A$2,\"_L\")","v":"Vertilina_L"},null,null,null,null,null,null,null,null,null,null,null,"heating","Ti",{"$f":"IF($BZ$2=1,$P1,IF($BZ$2=2,(P1-32)/1.8,))","v":35},{"$f":"Vertilina!E10","v":35},null,null,null,null,null,null,null,null,null,null,null,null,null,null,null,null,null,null,null,null,"cooling","Ti",{"$f":"IF($BZ$2=1,$AN1,IF($BZ$2=2,($AN1-32)/1.8,))","v":16},{"$f":"Vertilina!J10","v":16},null,"RH",{"$f":"Vertilina!J13","v":0.5},null,null,null,"RH",null,null,null,null,null,null,null,null,null,null,null,null,null,null,null,null,null,null,null,null,null,null,null,null,"DBH rail",{"$f":"IF($CC$17=1,\"GEEN\",IF($CC$17=2,\"NONE\",IF($CC$17=3,\"NONE\",IF($CC$17=4,\"NONE\",IF($CC$17=5,\"NONE\",)))))","v":"NONE"},10,15,null,null,"Imperial/SI",null,"toestel","taal","lengte","hoogte","type",null,null,null,null,"Vertilina Hybrid"]
[{"$f":"IF(Vertilina!$J$5=data!$CH$1,data!$CA$6,IF(Vertilina!$J$5=data!$CK$1,data!$CA$3,IF(Vertilina!$J$5=data!$CN$1,data!$CA$4,IF(Vertilina!$J$5=data!$CQ$1,data!$CA$5,IF(Vertilina!$J$5=data!$CW$1,data!$CA$7,IF(Vertilina!$J$5=data!$CZ$1,data!$CA$8))))))","v":"Vertilina"},null,null,null,null,null,null,null,null,null,null,null,null,"Tr",{"$f":"IF($BZ$2=1,$P2,IF($BZ$2=2,(P2-32)/1.8,))","v":30},{"$f":"Vertilina!E11","v":30},null,null,null,null,null,null,null,null,null,null,null,null,null,null,null,null,null,null,null,null,null,"Tr",{"$f":"IF($BZ$2=1,$AN2,IF($BZ$2=2,($AN2-32)/1.8,))","v":18},{"$f":"Vertilina!J11","v":18},null,null,null,null,null,null,null,null,null,null,null,null,null,null,null,null,null,null,null,null,null,null,null,null,null,null,null,null,null,null,null,1,null,null,null,null,null,1,null,"Geselecteerd",null,null,null,null,null,null,null,null,"hoogte","lengte","type","Type van letter tot cijfer voor zoek functie",null,null,null,null,null,null,null,null,null,null,null,null,null,null,null,null,null,{"$f":"IF(data!$CC$17=7,\"Effektsimulering Hybridmodeller\",\"Selectiontool LowH2O Hybrids\")","v":"Selectiontool LowH2O Hybrids"}]
[{"$f":"+CONCATENATE($A$2,\"_T\")","v":"Vertilina_T"},null,null,null,null,null,null,null,null,null,null,null,null,"Ta",{"$f":"IF($BZ$2=1,$P3,IF($BZ$2=2,(P3-32)/1.8,))","v":20},{"$f":"Vertilina!E12","v":20},null,null,null,null,null,null,null,null,null,null,null,null,null,null,null,null,null,null,null,null,null,"Ta",{"$f":"IF($BZ$2=1,$AN3,IF($BZ$2=2,($AN3-32)/1.8,))","v":26.999999999999996},{"$f":"Vertilina!J12","v":26.999999999999996},null,null,null,null,null,null,null,null,null,null,null,null,null,null,null,null,null,null,null,null,null,null,null,null,null,null,null,null,null,null,null,null,null,null,null,null,null,1,"Vertilina",{"$f":"CK1","v":"Vertilina Hybrid"},"Nederlands",90,41,8,null,null,null,null,90,41,8,{"$f":"IF(Vertilina!L6=8,8,IF(Vertilina!L6=11,11,IF(Vertilina!L6=16,16,\"\")))","v":11}]
["kolomindex",2,3,4,5,6,7,8,9,10,11,12,13,14,15,16,17,18,19,20,21,22,23,24,25,26,27,28,29,30,31,32,33,34,35,36,37,38,39,40,41,42,43,44,45,46,47,48,49,50,51,52,53,54,55,56,57,58,59,60,61,62,63,64,65,66,67,68,69,70,71,72,73,74,75,76,77,null,"Linea",{"$f":"CN1","v":0},"English",100,41,11,null,null,null,null,100,null,11,null,null,null,null,null,null,null,null,null,null,null,null,null,null,null,null,null,null,null,null,null,null,"Taal/Language/Sprache/Langue/Språk/Lengua",null,null,null,{"$f":"Vertilina!J4","v":"English"},{"$f":"Vertilina!K4","v":0}]
[{"$f":"CONCATENATE($CB$9,$CD3,$CN$3)","v":"19011"},null,null,{"$f":"VLOOKUP($A5,$A$28:$BY$1500,D$4,0)","v":1},{"$f":"VLOOKUP($A5,$A$28:$BY$1500,E$4,0)","v":90},{"$f":"VLOOKUP($A5,$A$28:$BY$1500,F$4,0)","v":40.5},11,{"$f":"VLOOKUP($A5,$A$28:$BY$1500,H$4,0)","v":11.5},0,26,30,34.845112497922791,{"$f":"VLOOKUP($A5,$A$28:$BY$1500,M$4,0)","v":565.76},{"$f":"VLOOKUP($A5,$A$28:$BY$1500,N$4,0)","v":720.34281553054336},796.40068831521091,891.49983051950005,"N/A",1,1,1,{"$f":"VLOOKUP($A5,$A$28:$BY$1500,U$4,0)*IF(Vertilina!$J$5=data!$CB$8,0.9,1)","v":{"$error":"#VALUE!"}},396,438,{"$f":"VLOOKUP($A5,$A$28:$BY$1500,X$4,0)","v":491},{"$error":"#VALUE!"},68,75,84,{"$error":"#VALUE!"},4.3772363867273588E-2,5.2693968297033239E-2,6.5317448094632705E-2,3.969E-4,{"$f":"VLOOKUP($A5,$A$28:$BY$1500,AH$4,0)","v":1.7345999999999999},4,5.7428799999999995E-4,224.84323265548929,242.80128303053795,260.50015315670004,1,1,1,253,{"$f":"VLOOKUP($A5,$A$28:$BY$1500,AR$4,0)","v":273},293,109,117,126,0.10710199356983116,0.12253704973862133,0.14108634794348476,1.2,9.8888355162670472,{"$f":"VLOOKUP($A5,$A$28:$BY$1500,BB$4,0)","v":11.472097650788319},12.349999999999907,0,832,0,0.68,0,0,0,13.6,{"$f":"VLOOKUP($A5,$A$28:$BY$1500,BL$4,0)","v":15.6},21.85,0,1,1,1,253,273,293,0,0,0,0,1,null,"Tempo",{"$f":"CQ1","v":0},"Français",120,41,16,null,null,null,null,120,null,16,null,null,null,null,null,null,null,null,null,null,null,null,null,null,null,null,null,null,null,null,null,null,{"$f":"IF($J$4=data!$CC$3,NL!DJ4,IF($J$4=data!$CC$4,EN!DJ4,IF($J$4=data!$CC$5,FR!DJ4,IF($J$4=data!$CC$6,DE!DJ4,IF($J$4=data!$CC$7,NR!DJ4,IF($J$4=data!$CC$8,SP!DJ4,IF($J$4=data!$CC$9,SW!DJ4,)))))))","v":0},null,null,null,{"$f":"Vertilina!J5","v":"Vertilina Hybrid"},{"$f":"Vertilina!K5","v":0}]
[{"$f":"CONCATENATE($CB$9,$CD4,$CN$3)","v":"110011"},null,null,1,100,40.5,11,11.5,0,26,30,35.51228976193724,629.68000000000006,827.74055414326142,912.93315124158187,1040.0833414481001,"N/A",1,1,1,{"$f":"VLOOKUP($A6,$A$28:$BY$1500,U$4,0)*IF(Vertilina!$J$5=data!$CB$8,0.9,1)","v":{"$error":"#VALUE!"}},456,502,572,{"$error":"#VALUE!"},78,86,98,{"$error":"#VALUE!"},5.973666390354776E-2,7.1825896841150788E-2,9.1932548614121673E-2,3.969E-4,1.7345999999999999,4,5.7428799999999995E-4,259.05619663992024,279.70754340832019,303.91663950750007,1,1,1,292,315,342,126,135,147,0.14792971623992457,0.16859714880744567,0.19815260898208006,1.3,11.094203079999206,12.740717734308612,14.408333333333225,0,926,0,0.68,0,0,0,13.6,15.6,21.85,0,1,1,1,292,315,342,0,0,0,0,1,null,"Built_in",{"$f":"CH1","v":0},"Deutsch",150,41,null,null,null,null,null,150,null,null,null,null,null,null,null,null,null,null,null,null,null,null,null,null,null,null,null,null,null,null,null,null,{"$f":"IF($J$4=data!$CC$3,NL!DI4,IF($J$4=data!$CC$4,EN!DI4,IF($J$4=data!$CC$5,FR!DI4,IF($J$4=data!$CC$6,DE!DI4,IF($J$4=data!$CC$7,NR!DI4,IF($J$4=data!$CC$8,SP!DI4,IF($J$4=data!$CC$9,SW!DI4,)))))))&\" [centimeter]\"","v":" [centimeter]"},null,null,null,{"$f":"Vertilina!J6","v":"30dB(A)"},{"$f":"Vertilina!K6","v":41},{"$f":"Vertilina!L6","v":11},{"$f":"data!DL6","v":0}]
[{"$f":"CONCATENATE($CB$9,$CD5,$CN$3)","v":"112011"},null,null,1,120,40.5,11,11.5,0,26,30,36.6,733.04000000000008,1038.2506842425073,1142.080305956021,1337.2499514184001,"N/A",1,1,1,{"$f":"VLOOKUP($A7,$A$28:$BY$1500,U$4,0)*IF(Vertilina!$J$5=data!$CB$8,0.9,1)","v":{"$error":"#VALUE!"}},571,629,736,{"$error":"#VALUE!"},98,108,127,{"$error":"#VALUE!"},0.10078325456844918,0.12095579733133843,0.1640381020786108,3.969E-4,1.7345999999999999,4,5.7428799999999995E-4,326.2128512917032,352.35728291623496,390.75002389310004,1,1,1,367,397,440,158,171,189,0.24750728668013899,0.28730900816008281,0.34704829521290631,1.6,13.395815719162472,15.195275468368678,18.52499999999986,0,1078,0,0.68,0,0,0,13.6,15.6,21.85,0,1,1,1,367,397,440,0,0,0,0,1,null,"MiniHybrid","Mini Hybrid","Norsk",170,41,null,null,null,null,null,170,null,null,null,null,null,null,null,null,null,null,null,null,null,null,null,null,null,null,null,null,null,null,null,null,null,{"$f":"IF($J$4=data!$CC$3,NL!DF3,IF($J$4=data!$CC$4,EN!DF3,IF($J$4=data!$CC$5,FR!DF3,IF($J$4=data!$CC$6,DE!DF3,IF($J$4=data!$CC$7,NR!DF3,IF($J$4=data!$CC$8,SP!DF3,IF($J$4=data!$CC$9,SW!DF3,)))))))","v":0},null,{"$f":"IF($J$4=data!$CC$3,NL!DF16,IF($J$4=data!$CC$4,EN!DF16,IF($J$4=data!$CC$5,FR!DF16,IF($J$4=data!$CC$6,DE!DF16,IF($J$4=data!$CC$7,NR!DF16,IF($J$4=data!$CC$8,SP!DF16,IF($J$4=data!$CC$9,SW!DF16,)))))))","v":0},null,{"$f":"IF($J$4=data!$CC$3,NL!DF4,IF($J$4=data!$CC$4,EN!DF4,IF($J$4=data!$CC$5,FR!DF4,IF($J$4=data!$CC$6,DE!DF4,IF($J$4=data!$CC$7,NR!DF4,IF($J$4=data!$CC$8,SP!DF4,IF($J$4=data!$CC$9,SW!DF4,)))))))","v":0},{"$f":"IF($J$4=data!$CC$3,NL!DF5,IF($J$4=data!$CC$4,EN!DF5,IF($J$4=data!$CC$5,FR!DF5,IF($J$4=data!$CC$6,DE!DF5,IF($J$4=data!$CC$7,NR!DF5,IF($J$4=data!$CC$8,SP!DF5,IF($J$4=data!$CC$9,SW!DF5,)))))))","v":0},{"$f":"IF($J$4=data!$CC$3,NL!DF6,IF($J$4=data!$CC$4,EN!DF6,IF($J$4=data!$CC$5,FR!DF6,IF($J$4=data!$CC$6,DE!DF6,IF($J$4=data!$CC$7,NR!DF6,IF($J$4=data!$CC$8,SP!DF6,IF($J$4=data!$CC$9,SW!DF6,)))))))","v":0}]
["115011",null,null,1,150,40.5,11,11.5,0,26,30,37.845112497945742,599.76,1342.8565496471372,1479.2041741051935,1783.0000725201999,"N/A",1,1,1,{"$f":"VLOOKUP($A8,$A$28:$BY$1500,U$4,0)*IF(Vertilina!$J$5=data!$CB$8,0.9,1)","v":{"$error":"#VALUE!"}},739,814,981,{"$error":"#VALUE!"},127,140,169,{"$error":"#VALUE!"},0.18485166139367065,0.22171317786876893,0.31516748940731842,3.969E-4,1.7345999999999999,4,5.7428799999999995E-4,423.65815696218516,459.33483713745414,520.99989462940005,1,1,1,477,517,587,205,222,252,0.45238903875710268,0.52523389841043688,0.66621540315277183,2,16.558116316654743,18.743964042758314,24.699999999999815,0,882,0,0.68,0,0,0,12.3,14.4,21.85,0,1,1,1,477,517,587,0,0,0,0,1,null,"StradaMM","Strada Hybrid MM","Español",190,41,null,null,null,null,null,190,null,null,null,null,null,null,null,null,null,null,null,null,null,null,null,null,null,null,null,null,{"$f":"IF($J$4=data!$CC$3,NL!DI5,IF($J$4=data!$CC$4,EN!DI5,IF($J$4=data!$CC$5,FR!DI5,IF($J$4=data!$CC$6,DE!DI5,IF($J$4=data!$CC$7,NR!DI5,IF($J$4=data!$CC$8,SP!DI5,IF($J$4=data!$CC$9,SW!DI5,)))))))","v":0}]
["117011",null,null,1,170,40.5,11,11.5,0,26,30,38.51228976196019,707.2,1538.8653851714307,1700.275062626509,2080.1666826933997,"N/A",1,1,1,{"$f":"VLOOKUP($A9,$A$28:$BY$1500,U$4,0)*IF(Vertilina!$J$5=data!$CB$8,0.9,1)","v":{"$error":"#VALUE!"}},847,936,1145,{"$error":"#VALUE!"},146,161,197,{"$error":"#VALUE!"},0.25745442774823707,0.30878990974594944,0.44960197495514326,3.969E-4,1.7345999999999999,4,5.7428799999999995E-4,486.50888457827659,529.56310449561568,607.83327901500013,1,1,1,548,596,685,236,256,295,0.62970788756979623,0.73301280223306675,0.9555041599386217,2.2999999999999998,18.489203998745236,21.02882824621398,28.81666666666645,0,1040,0,0.68,0,0,0,12.3,14.4,21.85,0,1,1,1,548,596,685,0,0,0,0,1,null,{"$f":"IF(#REF!=data!CA3,1,IF(#REF!=data!CA4,2,IF(#REF!=data!CA5,3,IF(#REF!=data!CA6,3))))","v":{"$error":"#REF!"}},{"$f":"IF(Vertilina!$J$5=data!CB3,1,IF(Vertilina!$J$5=data!CB4,2,IF(Vertilina!$J$5=data!CB5,3,IF(Vertilina!$J$5=data!CB6,3,IF(Vertilina!$J$5=data!CB7,5,IF(Vertilina!$J$5=data!CB8,1))))))","v":1},"Svenska",210,41,null,null,null,null,null,210,null,null,null,null,null,null,null,null,null,null,null,null,null,null,null,null,null,null,null,null,{"$f":"IF($J$4=data!$CC$3,NL!DF8,IF($J$4=data!$CC$4,EN!DF8,IF($J$4=data!$CC$5,FR!DF8,IF($J$4=data!$CC$6,DE!DF8,IF($J$4=data!$CC$7,NR!DF8,IF($J$4=data!$CC$8,SP!DF8,IF($J$4=data!$CC$9,SW!DF8,)))))))","v":0},null,null,null,null,{"$f":"IF($J$4=data!$CC$3,NL!DK8,IF($J$4=data!$CC$4,EN!DK8,IF($J$4=data!$CC$5,FR!DK8,IF($J$4=data!$CC$6,DE!DK8,IF($J$4=data!$CC$7,NR!DK8,IF($J$4=data!$CC$8,SP!DK8,IF($J$4=data!$CC$9,SW!DK8,)))))))","v":0}]
["119011",null,null,1,190,40.5,11,11.5,0,26,30,39.0902249957918,784.04000000000008,1729.7380188633683,1918.3503361118428,2377.3332928665,"N/A",1,1,1,{"$f":"VLOOKUP($A10,$A$28:$BY$1500,U$4,0)*IF(Vertilina!$J$5=data!$CB$8,0.9,1)","v":{"$error":"#VALUE!"}},952,1056,1308,{"$error":"#VALUE!"},164,182,225,{"$error":"#VALUE!"},0.34119909125237768,0.4138336344854841,0.61345804439765816,3.969E-4,1.7345999999999999,4,5.7428799999999995E-4,547.7922272805813,598.9271409346693,694.66666319770025,1,1,1,617,675,782,265,290,336,0.831596953463273,0.98354815758365455,1.2940692722839073,2.5,20.298048161335824,23.241835253713635,32.933333333333088,0,1153,0,0.68,0,0,0,12.3,14.4,21.85,0,1,1,1,617,675,782,0,0,0,0,1,null,"W/m,beript dyn heat","W/m,beript dyn cool","Čeština",230,41,null,null,null,null,null,230,null,null,null,null,null,null,null,null,null,null,null,null,null,null,null,null,null,null,null,null,{"$f":"IF($J$4=data!$CC$3,NL!DF9,IF($J$4=data!$CC$4,EN!DF9,IF($J$4=data!$CC$5,FR!DF9,IF($J$4=data!$CC$6,DE!DF9,IF($J$4=data!$CC$7,NR!DF9,IF($J$4=data!$CC$8,SP!DF9,IF($J$4=data!$CC$9,SW!DF9,)))))))","v":0},0,0,{"$f":"Vertilina!E10","v":35},{"$f":"IF(data!$BZ$2=1,\"°C\",IF(data!$BZ$2=2,\"°F\",))","v":"°C"},{"$f":"DF10","v":0},0,0,{"$f":"Vertilina!J10","v":16},{"$f":"DJ10","v":"°C"},{"$f":"IF($J$4=data!$CC$3,NL!DK4,IF($J$4=data!$CC$4,EN!DK4,IF($J$4=data!$CC$5,FR!DK4,IF($J$4=data!$CC$6,DE!DK4,IF($J$4=data!$CC$7,NR!DK4,IF($J$4=data!$CC$8,SP!DK4,IF($J$4=data!$CC$9,SW!DK4,)))))))","v":0}]
["121011",null,null,1,210,40.5,11,11.5,0,26,30,39.6,875.84,1918.3843985526,2129.7361509447001,2674.4999030397003,"N/A",1,1,1,{"$f":"VLOOKUP($A11,$A$28:$BY$1500,U$4,0)*IF(Vertilina!$J$5=data!$CB$8,0.9,1)","v":{"$error":"#VALUE!"}},1056,1172,1472,{"$error":"#VALUE!"},182,202,253,{"$error":"#VALUE!"},0.43973466187818161,0.5331736453801813,0.80877137600977977,3.969E-4,1.7345999999999999,4,5.7428799999999995E-4,608.33433999609997,666.47226489819991,781.50004758319994,1,1,1,685,751,880,295,323,378,1.0752279415783701,1.272336536463021,1.7041766986471032,2.8,21.914929272697012,25.31535920549992,37.04999999999972,0,1288,0,0.68,0,0,0,12.3,14.4,21.85,0,1,1,1,685,751,880,0,0,0,0,1,null,null,{"$f":"IF(Vertilina!$J$5=data!CB3,1,IF(Vertilina!$J$5=data!CB4,2,IF(Vertilina!$J$5=data!CB5,3,IF(Vertilina!$J$5=data!CB6,3,IF(Vertilina!$J$5=data!CB7,5,IF(Vertilina!$J$5=data!CB8,6))))))","v":1},"ExtraTaal1",250,41,null,null,null,null,null,250,null,null,null,null,null,null,null,null,null,null,null,null,null,null,null,null,null,null,null,null,{"$f":"IF($J$4=data!$CC$3,NL!DF10,IF($J$4=data!$CC$4,EN!DF10,IF($J$4=data!$CC$5,FR!DF10,IF($J$4=data!$CC$6,DE!DF10,IF($J$4=data!$CC$7,NR!DF10,IF($J$4=data!$CC$8,SP!DF10,IF($J$4=data!$CC$9,SW!DF10,)))))))","v":0},0,0,{"$f":"Vertilina!E11","v":30},{"$f":"DJ10","v":"°C"},{"$f":"DF11","v":0},0,0,{"$f":"Vertilina!J11","v":18},{"$f":"DJ10","v":"°C"}]
["123011",null,null,1,230,40.5,11,11.5,0,26,30,40.056009280461275,650.08000000000004,2098.7535249748012,2346.283578214222,2971.6665132128001,"N/A",1,1,1,{"$f":"VLOOKUP($A12,$A$28:$BY$1500,U$4,0)*IF(Vertilina!$J$5=data!$CB$8,0.9,1)","v":{"$error":"#VALUE!"}},1155,1291,1635,{"$error":"#VALUE!"},199,222,281,{"$error":"#VALUE!"},0.54886695955094833,0.67146542787877728,1.0375133702569364,3.969E-4,1.7345999999999999,4,5.7428799999999995E-4,666.37413296082809,735.27644638729532,868.33343196880026,1,1,1,750,828,978,323,356,421,1.3423948787425122,1.6073215675769668,2.1934184660350664,3.1,23.634238992326342,27.471445963687056,41.166666666666359,0,956,0,0.68,0,0,0,12.3,14.4,21.85,0,1,1,1,750,828,978,0,0,0,0,1,null,"OFF",null,"ExtraTaal2",270,41,null,null,null,null,null,270,null,null,null,null,null,null,null,null,null,null,null,null,null,null,null,null,null,null,null,null,{"$f":"IF($J$4=data!$CC$3,NL!DF11,IF($J$4=data!$CC$4,EN!DF11,IF($J$4=data!$CC$5,FR!DF11,IF($J$4=data!$CC$6,DE!DF11,IF($J$4=data!$CC$7,NR!DF11,IF($J$4=data!$CC$8,SP!DF11,IF($J$4=data!$CC$9,SW!DF11,)))))))","v":0},0,0,{"$f":"Vertilina!E12","v":20},{"$f":"DJ10","v":"°C"},{"$f":"DF12","v":0},0,0,{"$f":"Vertilina!J12","v":26.999999999999996},{"$f":"DJ10","v":"°C"}]
["125011",null,null,1,250,40.5,11,11.5,0,26,30,40.267177264137082,774.5200000000001,2292.9963754331725,2568.3450226310401,3268.8335350701,"N/A",1,1,1,{"$f":"VLOOKUP($A13,$A$28:$BY$1500,U$4,0)*IF(Vertilina!$J$5=data!$CB$8,0.9,1)","v":{"$error":"#VALUE!"}},1262,1413,1799,{"$error":"#VALUE!"},217,243,309,{"$error":"#VALUE!"},0.67898474120042573,0.83607913538454415,1.3015998199438761,3.969E-4,1.7345999999999999,4,5.7428799999999995E-4,728.41440486067631,805.49433173432965,955.16681635439988,1,1,1,820,907,1076,353,390,463,1.6640498684021283,2.00048879808688,2.7476743810272262,3.3,24.421799114084049,28.489088071156846,43.224999999999675,0,1139,0,0.68,0,0,0,12.3,14.4,21.85,0,1,1,1,820,907,1076,0,0,0,0,1,null,"26dB(A)",null,"ExtraTaal3",290,41,{"$f":"IF($CC$17=1,NL!$I3,IF($CC$17=2,EN!$I3,IF($CC$17=3,FR!$I3,IF($CC$17=4,DE!$I3,IF($CC$17=5,NR!$I3,IF($CC$17=6,SP!$I3,IF($CC$17=7,SW!$I3,IF($CC$17=8,TS!$I3,IF($CC$17=9,ExtraTaal1!$I3,IF($CC$17=10,ExtraTaal2!$I3,IF($CC$17=11,ExtraTaal3!$I3,)))))))))))","v":"Copy all data"},null,null,null,null,290,null,null,null,null,null,null,null,null,null,null,null,null,null,null,null,null,null,null,null,null,null,null,null,null,null,{"$f":"IF($J$4=data!$CC$3,NL!$G$3,IF($J$4=data!$CC$4,EN!$G$3,IF($J$4=data!$CC$5,FR!$G$3,IF($J$4=data!$CC$6,DE!$G$3,IF($J$4=data!$CC$7,NR!$G$3,IF($J$4=data!$CC$8,SP!$G$3,IF($J$4=data!$CC$9,SW!$G$3,)))))))","v":0},null,null,{"$f":"Vertilina!J13","v":0.5}]
["127011",null,null,1,270,40.5,11,11.5,0,26,30,40.845112497968692,886.72,2454.2122355286301,2763.2822622329413,3566.0001452432998,"N/A",1,1,1,{"$f":"VLOOKUP($A14,$A$28:$BY$1500,U$4,0)*IF(Vertilina!$J$5=data!$CB$8,0.9,1)","v":{"$error":"#VALUE!"}},1351,1521,1963,{"$error":"#VALUE!"},232,262,338,{"$error":"#VALUE!"},0.80723952203605231,1.0090795381958573,1.6116624913310726,3.969E-4,1.7345999999999999,4,5.7428799999999995E-4,780.60009551350561,868.4570063463691,1042.0002007400001,1,1,1,879,978,1173,378,421,504,1.98025717289419,2.4152927049658022,3.3667611860596756,3.6,26.694065383965011,31.439143963119381,49.399999999999629,0,1304,0,0.68,0,0,0,12.3,14.4,21.85,0,1,1,1,879,978,1173,0,0,0,0,1,null,"30dB(A)",null,null,null,null,{"$f":"IF($CC$17=1,NL!$I4,IF($CC$17=2,EN!$I4,IF($CC$17=3,FR!$I4,IF($CC$17=4,DE!$I4,IF($CC$17=5,NR!$I4,IF($CC$17=6,SP!$I4,IF($CC$17=7,SW!$I4,IF($CC$17=8,TS!$I4,IF($CC$17=9,ExtraTaal1!$I4,IF($CC$17=10,ExtraTaal2!$I4,IF($CC$17=11,ExtraTaal3!$I4,)))))))))))","v":"SI-units"}]
["129011",null,null,{"$f":"VLOOKUP($A15,$A$28:$BY$1500,D$4,0)","v":1},290,40.5,11,11.5,0,26,30,40.845112497968692,1092.0800000000002,{"$f":"VLOOKUP($A15,$A$28:$BY$1500,N$4,0)","v":2658.7298954551984},2993.5557487931087,3863.1667552135,"N/A",1,1,1,{"$f":"VLOOKUP($A15,$A$28:$BY$1500,U$4,0)*IF(Vertilina!$J$5=data!$CB$8,0.9,1)","v":{"$error":"#VALUE!"}},1463,1647,{"$f":"VLOOKUP($A15,$A$28:$BY$1500,X$4,0)","v":2126},{"$error":"#VALUE!"},252,283,366,{"$error":"#VALUE!"},0.98504936784926223,1.2183076276551912,1.9530219107940605,3.969E-4,{"$f":"VLOOKUP($A15,$A$28:$BY$1500,AH$4,0)","v":1.7345999999999999},4,5.7428799999999995E-4,845.64995909540062,940.82823017747751,1128.8331734415003,1,1,1,952,{"$f":"VLOOKUP($A15,$A$28:$BY$1500,AR$4,0)","v":1060},1271,409,456,547,2.3953849596663752,2.9261159724999453,4.0914155938597272,3.9,26.69,{"$f":"VLOOKUP($A15,$A$28:$BY$1500,BB$4,0)","v":31.44},49.4,0,1606,0,0.68,0,0,0,12.3,{"$f":"VLOOKUP($A15,$A$28:$BY$1500,BL$4,0)","v":14.4},21.85,0,1,1,1,952,1060,1271,0,0,0,0,1,null,"MAX",null,null,null,null,{"$f":"IF($CC$17=1,NL!$I5,IF($CC$17=2,EN!$I5,IF($CC$17=3,FR!$I5,IF($CC$17=4,DE!$I5,IF($CC$17=5,NR!$I5,IF($CC$17=6,SP!$I5,IF($CC$17=7,SW!$I5,IF($CC$17=8,TS!$I5,IF($CC$17=9,ExtraTaal1!$I5,IF($CC$17=10,ExtraTaal2!$I5,IF($CC$17=11,ExtraTaal3!$I5,)))))))))))","v":"Imperial-units"}]
["111",null,null,{"$error":"#N/A"},{"$error":"#N/A"},{"$error":"#N/A"},{"$error":"#N/A"},{"$error":"#N/A"},{"$error":"#N/A"},{"$error":"#N/A"},{"$error":"#N/A"},{"$error":"#N/A"},{"$error":"#N/A"},{"$error":"#N/A"},{"$error":"#N/A"},{"$error":"#N/A"},{"$error":"#N/A"},{"$error":"#N/A"},{"$error":"#N/A"},{"$error":"#N/A"},{"$f":"VLOOKUP($A16,$A$28:$BY$1500,U$4,0)*IF(Vertilina!$J$5=data!$CB$8,0.9,1)","v":{"$error":"#N/A"}},{"$error":"#N/A"},{"$error":"#N/A"},{"$error":"#N/A"},{"$error":"#N/A"},{"$error":"#N/A"},{"$error":"#N/A"},{"$error":"#N/A"},{"$error":"#N/A"},{"$error":"#N/A"},{"$error":"#N/A"},{"$error":"#N/A"},{"$error":"#N/A"},{"$error":"#N/A"},{"$error":"#N/A"},{"$error":"#N/A"},{"$error":"#N/A"},{"$error":"#N/A"},{"$error":"#N/A"},{"$error":"#N/A"},{"$error":"#N/A"},{"$error":"#N/A"},{"$error":"#N/A"},{"$error":"#N/A"},{"$error":"#N/A"},{"$error":"#N/A"},{"$error":"#N/A"},{"$error":"#N/A"},{"$error":"#N/A"},{"$error":"#N/A"},{"$error":"#N/A"},{"$error":"#N/A"},{"$error":"#N/A"},{"$error":"#N/A"},{"$error":"#N/A"},{"$error":"#N/A"},{"$error":"#N/A"},{"$error":"#N/A"},{"$error":"#N/A"},{"$error":"#N/A"},{"$error":"#N/A"},{"$error":"#N/A"},{"$error":"#N/A"},{"$error":"#N/A"},{"$error":"#N/A"},{"$error":"#N/A"},{"$error":"#N/A"},{"$error":"#N/A"},{"$error":"#N/A"},{"$error":"#N/A"},{"$error":"#N/A"},{"$error":"#N/A"},{"$error":"#N/A"},{"$error":"#N/A"},{"$error":"#N/A"},{"$error":"#N/A"},{"$error":"#N/A"},null,null,null,null,null,null,null,null,null,null,null,null,null,null,null,null,null,null,null,null,null,null,null,null,null,null,null,null,null,null,null,null,{"$f":"IF($J$4=data!$CC$3,NL!DF3,IF($J$4=data!$CC$4,EN!DF3,IF($J$4=data!$CC$5,FR!DF3,IF($J$4=data!$CC$6,DE!DF3,IF($J$4=data!$CC$7,NR!DF3,IF($J$4=data!$CC$8,SP!DF3,IF($J$4=data!$CC$9,SW!DF3,)))))))&\" [cm]\"","v":" [cm]"},{"$f":"IF($J$4=data!$CC$3,NL!DF19,IF($J$4=data!$CC$4,EN!DF19,IF($J$4=data!$CC$5,FR!DF19,IF($J$4=data!$CC$6,DE!DF19,IF($J$4=data!$CC$7,NR!DF19,IF($J$4=data!$CC$8,SP!DF19,IF($J$4=data!$CC$9,SW!DF19,)))))))","v":0},{"$f":"IF($J$4=data!$CC$3,NL!DG14,IF($J$4=data!$CC$4,EN!DG14,IF($J$4=data!$CC$5,FR!DG14,IF($J$4=data!$CC$6,DE!DG14,IF($J$4=data!$CC$7,NR!DG14,IF($J$4=data!$CC$8,SP!DG14,IF($J$4=data!$CC$9,SW!DG14,)))))))&IF(data!GD2=1,\" [W]\",IF(data!GD2=2,\" [Btu/h]\",))","v":""},{"$f":"IF($J$4=data!$CC$3,NL!DH14,IF($J$4=data!$CC$4,EN!DH14,IF($J$4=data!$CC$5,FR!DH14,IF($J$4=data!$CC$6,DE!DH14,IF($J$4=data!$CC$7,NR!DH14,IF($J$4=data!$CC$8,SP!DH14,IF($J$4=data!$CC$9,SW!DH14,)))))))&IF(data!GD2=1,\" [kg/h]\",IF(data!GD2=2,\" [GPM]**\",))","v":""},{"$f":"IF($J$4=data!$CC$3,NL!DJ6,IF($J$4=data!$CC$4,EN!DJ6,IF($J$4=data!$CC$5,FR!DJ6,IF($J$4=data!$CC$6,DE!DJ6,IF($J$4=data!$CC$7,NR!DJ6,IF($J$4=data!$CC$8,SP!DJ6,IF($J$4=data!$CC$9,SW!DJ6,)))))))&\" [\"&IF(data!GD2=1,\"kPa\",IF(data!GD2=2,\"ftH2O\"))&\"]\"","v":" [ONWAAR]"},{"$f":"IF($J$4=data!$CC$3,NL!DI14,IF($J$4=data!$CC$4,EN!DI14,IF($J$4=data!$CC$5,FR!DI14,IF($J$4=data!$CC$6,DE!DI14,IF($J$4=data!$CC$7,NR!DI14,IF($J$4=data!$CC$8,SP!DI14,IF($J$4=data!$CC$9,SW!DI14,)))))))&IF(data!GD2=1,\" [W]*\",IF(data!GD2=2,\" [Btu/h]*\",))","v":""},{"$f":"DI16","v":""},{"$f":"DJ16","v":" [ONWAAR]"},{"$f":"IF($J$4=data!$CC$3,NL!DM13,IF($J$4=data!$CC$4,EN!DM13,IF($J$4=data!$CC$5,FR!DM13,IF($J$4=data!$CC$6,DE!DM13,IF($J$4=data!$CC$7,NR!DM13,IF($J$4=data!$CC$8,SP!DM13,IF($J$4=data!$CC$9,SW!DM13,)))))))","v":0},{"$f":"IF($J$4=data!$CC$3,NL!DN13,IF($J$4=data!$CC$4,EN!DN13,IF($J$4=data!$CC$5,FR!DN13,IF($J$4=data!$CC$6,DE!DN13,IF($J$4=data!$CC$7,NR!DN13,IF($J$4=data!$CC$9,SW!DN13,))))))","v":0},{"$f":"IF($J$4=data!$CC$3,NL!DL13,IF($J$4=data!$CC$4,EN!DL13,IF($J$4=data!$CC$5,FR!DL13,IF($J$4=data!$CC$6,DE!DL13,IF($J$4=data!$CC$7,NR!DL13,IF($J$4=data!$CC$8,SP!DL13,IF($J$4=data!$CC$9,SW!DL13,)))))))","v":0},{"$f":"IF($J$4=data!$CC$3,NL!DK13,IF($J$4=data!$CC$4,EN!DK13,IF($J$4=data!$CC$5,FR!DK13,IF($J$4=data!$CC$6,DE!DK13,IF($J$4=data!$CC$7,NR!DK13,IF($J$4=data!$CC$8,SP!DK13,IF($J$4=data!$CC$9,SW!DK13,)))))))&IF(data!GD2=1,\" [l]\",IF(data!GD2=2,\" [Gal]**\",))","v":""}]
["111",null,null,{"$error":"#N/A"},{"$error":"#N/A"},{"$error":"#N/A"},{"$error":"#N/A"},{"$error":"#N/A"},{"$error":"#N/A"},{"$error":"#N/A"},{"$error":"#N/A"},{"$error":"#N/A"},{"$error":"#N/A"},{"$error":"#N/A"},{"$error":"#N/A"},{"$error":"#N/A"},{"$error":"#N/A"},{"$error":"#N/A"},{"$error":"#N/A"},{"$error":"#N/A"},{"$f":"VLOOKUP($A17,$A$28:$BY$1500,U$4,0)*IF(Vertilina!$J$5=data!$CB$8,0.9,1)","v":{"$error":"#N/A"}},{"$error":"#N/A"},{"$error":"#N/A"},{"$error":"#N/A"},{"$error":"#N/A"},{"$error":"#N/A"},{"$error":"#N/A"},{"$error":"#N/A"},{"$error":"#N/A"},{"$error":"#N/A"},{"$error":"#N/A"},{"$error":"#N/A"},{"$error":"#N/A"},{"$error":"#N/A"},{"$error":"#N/A"},{"$error":"#N/A"},{"$error":"#N/A"},{"$error":"#N/A"},{"$error":"#N/A"},{"$error":"#N/A"},{"$error":"#N/A"},{"$error":"#N/A"},{"$error":"#N/A"},{"$error":"#N/A"},{"$error":"#N/A"},{"$error":"#N/A"},{"$error":"#N/A"},{"$error":"#N/A"},{"$error":"#N/A"},{"$error":"#N/A"},{"$error":"#N/A"},{"$error":"#N/A"},{"$error":"#N/A"},{"$error":"#N/A"},{"$error":"#N/A"},{"$error":"#N/A"},{"$error":"#N/A"},{"$error":"#N/A"},{"$error":"#N/A"},{"$error":"#N/A"},{"$error":"#N/A"},{"$error":"#N/A"},{"$error":"#N/A"},{"$error":"#N/A"},{"$error":"#N/A"},{"$error":"#N/A"},{"$error":"#N/A"},{"$error":"#N/A"},{"$error":"#N/A"},{"$error":"#N/A"},{"$error":"#N/A"},{"$error":"#N/A"},{"$error":"#N/A"},{"$error":"#N/A"},{"$error":"#N/A"},{"$error":"#N/A"},{"$error":"#N/A"},null,null,null,{"$f":"IF(Vertilina!$J$4=data!CC3,1,IF(Vertilina!$J$4=data!CC4,2,IF(Vertilina!$J$4=data!CC5,3,IF(Vertilina!$J$4=data!CC6,4,IF(Vertilina!$J$4=data!CC7,5,IF(Vertilina!$J$4=data!CC8,6,IF(Vertilina!$J$4=data!CC9,7,IF(Vertilina!$J$4=data!CC10,8,IF(Vertilina!$J$4=data!CC11,9,IF(Vertilina!$J$4=data!CC12,10,IF(Vertilina!$J$4=data!CC13,11)))))))))))","v":2},null,null,null,null,null,null,null,null,null,null,null,null,null,null,null,null,null,null,null,null,null,null,null,null,null,null,null,null,{"$f":"CONCATENATE($J$5,\", \",$K$7, \" \",$K$6,\"cm, \",$L$7, \" \",$L$6)","v":"26, 30 30cm, 36,6 35,5122897619372"},0,0,0,0,0,0,0,0,0,0,0]
["111",null,null,{"$error":"#N/A"},{"$error":"#N/A"},{"$error":"#N/A"},{"$error":"#N/A"},{"$error":"#N/A"},{"$error":"#N/A"},{"$error":"#N/A"},{"$error":"#N/A"},{"$error":"#N/A"},{"$error":"#N/A"},{"$error":"#N/A"},{"$error":"#N/A"},{"$error":"#N/A"},{"$error":"#N/A"},{"$error":"#N/A"},{"$error":"#N/A"},{"$error":"#N/A"},{"$f":"VLOOKUP($A18,$A$28:$BY$1500,U$4,0)*IF(Vertilina!$J$5=data!$CB$8,0.9,1)","v":{"$error":"#N/A"}},{"$error":"#N/A"},{"$error":"#N/A"},{"$error":"#N/A"},{"$error":"#N/A"},{"$error":"#N/A"},{"$error":"#N/A"},{"$error":"#N/A"},{"$error":"#N/A"},{"$error":"#N/A"},{"$error":"#N/A"},{"$error":"#N/A"},{"$error":"#N/A"},{"$error":"#N/A"},{"$error":"#N/A"},{"$error":"#N/A"},{"$error":"#N/A"},{"$error":"#N/A"},{"$error":"#N/A"},{"$error":"#N/A"},{"$error":"#N/A"},{"$error":"#N/A"},{"$error":"#N/A"},{"$error":"#N/A"},{"$error":"#N/A"},{"$error":"#N/A"},{"$error":"#N/A"},{"$error":"#N/A"},{"$error":"#N/A"},{"$error":"#N/A"},{"$error":"#N/A"},{"$error":"#N/A"},{"$error":"#N/A"},{"$error":"#N/A"},{"$error":"#N/A"},{"$error":"#N/A"},{"$error":"#N/A"},{"$error":"#N/A"},{"$error":"#N/A"},{"$error":"#N/A"},{"$error":"#N/A"},{"$error":"#N/A"},{"$error":"#N/A"},{"$error":"#N/A"},{"$error":"#N/A"},{"$error":"#N/A"},{"$error":"#N/A"},{"$error":"#N/A"},{"$error":"#N/A"},{"$error":"#N/A"},{"$error":"#N/A"},{"$error":"#N/A"},{"$error":"#N/A"},{"$error":"#N/A"},{"$error":"#N/A"},{"$error":"#N/A"},{"$error":"#N/A"},null,null,null,null,null,null,null,null,null,null,null,null,null,null,null,null,null,null,null,null,null,null,null,null,null,null,null,null,null,null,null,null,{"$f":"IF(data!$CB$6=5,\"N.v.t.\",50)","v":50},{"$f":"BJ5","v":0},{"$f":"ROUND(IF($BZ$2=1,U5,IF($BZ$2=2,U5*3.412141633,)),0)","v":{"$error":"#VALUE!"}},{"$f":"IF($BZ$2=1,ROUND(Y5,0),IF($BZ$2=2,ROUND(Y5/272.7654,1),))","v":{"$error":"#VALUE!"}},{"$f":"IF($BZ$2=1,AC5,IF($BZ$2=2,AC5*0.3346,))","v":{"$error":"#VALUE!"}},null,null,null,0,0,0,{"$f":"IF($BZ$2=1,AZ5,IF($BZ$2=2,AZ5/4.54609,))","v":1.2}]
["111",null,null,{"$error":"#N/A"},{"$error":"#N/A"},{"$error":"#N/A"},{"$error":"#N/A"},{"$error":"#N/A"},{"$error":"#N/A"},{"$error":"#N/A"},{"$error":"#N/A"},{"$error":"#N/A"},{"$error":"#N/A"},{"$error":"#N/A"},{"$error":"#N/A"},{"$error":"#N/A"},{"$error":"#N/A"},{"$error":"#N/A"},{"$error":"#N/A"},{"$error":"#N/A"},{"$f":"VLOOKUP($A19,$A$28:$BY$1500,U$4,0)*IF(Vertilina!$J$5=data!$CB$8,0.9,1)","v":{"$error":"#N/A"}},{"$error":"#N/A"},{"$error":"#N/A"},{"$error":"#N/A"},{"$error":"#N/A"},{"$error":"#N/A"},{"$error":"#N/A"},{"$error":"#N/A"},{"$error":"#N/A"},{"$error":"#N/A"},{"$error":"#N/A"},{"$error":"#N/A"},{"$error":"#N/A"},{"$error":"#N/A"},{"$error":"#N/A"},{"$error":"#N/A"},{"$error":"#N/A"},{"$error":"#N/A"},{"$error":"#N/A"},{"$error":"#N/A"},{"$error":"#N/A"},{"$error":"#N/A"},{"$error":"#N/A"},{"$error":"#N/A"},{"$error":"#N/A"},{"$error":"#N/A"},{"$error":"#N/A"},{"$error":"#N/A"},{"$error":"#N/A"},{"$error":"#N/A"},{"$error":"#N/A"},{"$error":"#N/A"},{"$error":"#N/A"},{"$error":"#N/A"},{"$error":"#N/A"},{"$error":"#N/A"},{"$error":"#N/A"},{"$error":"#N/A"},{"$error":"#N/A"},{"$error":"#N/A"},{"$error":"#N/A"},{"$error":"#N/A"},{"$error":"#N/A"},{"$error":"#N/A"},{"$error":"#N/A"},{"$error":"#N/A"},{"$error":"#N/A"},{"$error":"#N/A"},{"$error":"#N/A"},{"$error":"#N/A"},{"$error":"#N/A"},{"$error":"#N/A"},{"$error":"#N/A"},{"$error":"#N/A"},{"$error":"#N/A"},{"$error":"#N/A"},{"$error":"#N/A"},null,null,null,null,null,null,null,null,null,null,null,null,null,null,null,null,null,null,null,null,null,null,null,null,null,null,null,null,null,null,null,null,{"$f":"IF(data!$CB$6=5,\"N.v.t.\",50)","v":50},{"$f":"BK5","v":13.6},{"$f":"ROUND(IF($BZ$2=1,V5,IF($BZ$2=2,V5*3.412141633,)),0)","v":396},{"$f":"IF($BZ$2=1,ROUND(Z5,0),IF($BZ$2=2,ROUND(Z5/272.7654,1),))","v":68},{"$f":"IF($BZ$2=1,AD5,IF($BZ$2=2,AD5*0.3346,))","v":4.3772363867273588E-2},{"$f":"IF(BY5=1,ROUND(IF($BZ$2=1,AQ5,IF($BZ$2=2,AQ5*3.412141633,)),0),\"\")","v":253},{"$f":"IF(BY5=1,IF($BZ$2=1,ROUND(AT5,0),IF($BZ$2=2,ROUND(AT5/272.7654,1),)),\"\")","v":109},{"$f":"IF(BY5=1,IF($BZ$2=1,AW5,IF($BZ$2=2,AW5*0.3346,)),\"\")","v":0.10710199356983116},{"$f":"J5","v":26},{"$f":"DN19+8","v":34},{"$f":"BA5","v":9.8888355162670472},{"$f":"DQ18","v":1.2}]
["111",null,null,{"$error":"#N/A"},{"$error":"#N/A"},{"$error":"#N/A"},{"$error":"#N/A"},{"$error":"#N/A"},{"$error":"#N/A"},{"$error":"#N/A"},{"$error":"#N/A"},{"$error":"#N/A"},{"$error":"#N/A"},{"$error":"#N/A"},{"$error":"#N/A"},{"$error":"#N/A"},{"$error":"#N/A"},{"$error":"#N/A"},{"$error":"#N/A"},{"$error":"#N/A"},{"$f":"VLOOKUP($A20,$A$28:$BY$1500,U$4,0)*IF(Vertilina!$J$5=data!$CB$8,0.9,1)","v":{"$error":"#N/A"}},{"$error":"#N/A"},{"$error":"#N/A"},{"$error":"#N/A"},{"$error":"#N/A"},{"$error":"#N/A"},{"$error":"#N/A"},{"$error":"#N/A"},{"$error":"#N/A"},{"$error":"#N/A"},{"$error":"#N/A"},{"$error":"#N/A"},{"$error":"#N/A"},{"$error":"#N/A"},{"$error":"#N/A"},{"$error":"#N/A"},{"$error":"#N/A"},{"$error":"#N/A"},{"$error":"#N/A"},{"$error":"#N/A"},{"$error":"#N/A"},{"$error":"#N/A"},{"$error":"#N/A"},{"$error":"#N/A"},{"$error":"#N/A"},{"$error":"#N/A"},{"$error":"#N/A"},{"$error":"#N/A"},{"$error":"#N/A"},{"$error":"#N/A"},{"$error":"#N/A"},{"$error":"#N/A"},{"$error":"#N/A"},{"$error":"#N/A"},{"$error":"#N/A"},{"$error":"#N/A"},{"$error":"#N/A"},{"$error":"#N/A"},{"$error":"#N/A"},{"$error":"#N/A"},{"$error":"#N/A"},{"$error":"#N/A"},{"$error":"#N/A"},{"$error":"#N/A"},{"$error":"#N/A"},{"$error":"#N/A"},{"$error":"#N/A"},{"$error":"#N/A"},{"$error":"#N/A"},{"$error":"#N/A"},{"$error":"#N/A"},{"$error":"#N/A"},{"$error":"#N/A"},{"$error":"#N/A"},{"$error":"#N/A"},{"$error":"#N/A"},{"$error":"#N/A"},null,null,null,null,null,null,null,null,null,null,null,null,null,null,1,2,3,4,5,6,7,8,9,null,null,null,null,null,null,null,null,null,{"$f":"IF(data!$CB$6=5,\"N.v.t.\",50)","v":50},{"$f":"BL5","v":15.6},{"$f":"ROUND(IF($BZ$2=1,W5,IF($BZ$2=2,W5*3.412141633,)),0)","v":438},{"$f":"IF($BZ$2=1,ROUND(AA5,0),IF($BZ$2=2,ROUND(AA5/272.7654,1),))","v":75},{"$f":"IF($BZ$2=1,AE5,IF($BZ$2=2,AE5*0.3346,))","v":5.2693968297033239E-2},{"$f":"IF(BY5=1,ROUND(IF($BZ$2=1,AR5,IF($BZ$2=2,AR5*3.412141633,)),0),\"\")","v":273},{"$f":"IF(BY5=1,IF($BZ$2=1,ROUND(AU5,0),IF($BZ$2=2,ROUND(AU5/272.7654,1),)),\"\")","v":117},{"$f":"IF(BY5=1,IF($BZ$2=1,AX5,IF($BZ$2=2,AX5*0.3346,)),\"\")","v":0.12253704973862133},{"$f":"K5","v":30},{"$f":"L5","v":34.845112497922791},{"$f":"BB5","v":11.472097650788319},{"$f":"DQ18","v":1.2}]
["111",null,null,{"$error":"#N/A"},{"$error":"#N/A"},{"$error":"#N/A"},{"$error":"#N/A"},{"$error":"#N/A"},{"$error":"#N/A"},{"$error":"#N/A"},{"$error":"#N/A"},{"$error":"#N/A"},{"$error":"#N/A"},{"$error":"#N/A"},{"$error":"#N/A"},{"$error":"#N/A"},{"$error":"#N/A"},{"$error":"#N/A"},{"$error":"#N/A"},{"$error":"#N/A"},{"$f":"VLOOKUP($A21,$A$28:$BY$1500,U$4,0)*IF(Vertilina!$J$5=data!$CB$8,0.9,1)","v":{"$error":"#N/A"}},{"$error":"#N/A"},{"$error":"#N/A"},{"$error":"#N/A"},{"$error":"#N/A"},{"$error":"#N/A"},{"$error":"#N/A"},{"$error":"#N/A"},{"$error":"#N/A"},{"$error":"#N/A"},{"$error":"#N/A"},{"$error":"#N/A"},{"$error":"#N/A"},{"$error":"#N/A"},{"$error":"#N/A"},{"$error":"#N/A"},{"$error":"#N/A"},{"$error":"#N/A"},{"$error":"#N/A"},{"$error":"#N/A"},{"$error":"#N/A"},{"$error":"#N/A"},{"$error":"#N/A"},{"$error":"#N/A"},{"$error":"#N/A"},{"$error":"#N/A"},{"$error":"#N/A"},{"$error":"#N/A"},{"$error":"#N/A"},{"$error":"#N/A"},{"$error":"#N/A"},{"$error":"#N/A"},{"$error":"#N/A"},{"$error":"#N/A"},{"$error":"#N/A"},{"$error":"#N/A"},{"$error":"#N/A"},{"$error":"#N/A"},{"$error":"#N/A"},{"$error":"#N/A"},{"$error":"#N/A"},{"$error":"#N/A"},{"$error":"#N/A"},{"$error":"#N/A"},{"$error":"#N/A"},{"$error":"#N/A"},{"$error":"#N/A"},{"$error":"#N/A"},{"$error":"#N/A"},{"$error":"#N/A"},{"$error":"#N/A"},{"$error":"#N/A"},{"$error":"#N/A"},{"$error":"#N/A"},{"$error":"#N/A"},{"$error":"#N/A"},{"$error":"#N/A"},null,null,null,null,null,null,null,null,null,null,null,null,null,null,null,null,null,{"$f":"VLOOKUP($A$24,$CN$23:$CV$56,CQ$20,0)","v":{"$error":"#N/A"}},{"$error":"#N/A"},{"$error":"#N/A"},{"$error":"#N/A"},{"$error":"#N/A"},{"$error":"#N/A"},null,null,null,null,null,null,null,null,null,{"$f":"IF(data!$CB$6=5,\"N.v.t.\",50)","v":50},{"$f":"BM5","v":21.85},{"$f":"ROUND(IF($BZ$2=1,X5,IF($BZ$2=2,X5*3.412141633,)),0)","v":491},{"$f":"IF($BZ$2=1,ROUND(AB5,0),IF($BZ$2=2,ROUND(AB5/272.7654,1),))","v":84},{"$f":"IF($BZ$2=1,AF5,IF($BZ$2=2,AF5*0.3346,))","v":6.5317448094632705E-2},{"$f":"IF(BY5=1,ROUND(IF($BZ$2=1,AS5,IF($BZ$2=2,AS5*3.412141633,)),0),\"\")","v":293},{"$f":"IF(BY5=1,IF($BZ$2=1,ROUND(AV5,0),IF($BZ$2=2,ROUND(AV5/272.7654,1),)),\"\")","v":126},{"$f":"IF(BY5=1,IF($BZ$2=1,AY5,IF($BZ$2=2,AY5*0.3346,)),\"\")","v":0.14108634794348476},{"$f":"L5","v":34.845112497922791},{"$f":"DN21+8","v":42.845112497922791},{"$f":"BC5","v":12.349999999999907},{"$f":"DQ18","v":1.2}]
[null,null,null,null,null,null,null,null,null,null,null,null,null,null,null,null,null,null,null,null,null,null,null,null,null,null,null,null,null,null,null,null,null,null,null,null,null,null,null,null,null,null,null,null,null,null,null,null,null,null,null,null,null,null,null,null,null,null,null,null,null,null,null,null,null,null,null,null,null,null,null,null,null,null,null,null,null,null,null,null,null,null,null,null,null,null,null,null,null,null,null,null,"Raillengte","Railtype","BMS-stuurspanningen",null,null,"Opgenomen elektrisch vermogen",null,null,null,null,null,null,null,null,null,null,null,{"$f":"IF(data!$CB$9=5,81,60)","v":60},{"$f":"BJ6","v":0},{"$f":"ROUND(IF($BZ$2=1,U6,IF($BZ$2=2,U6*3.412141633,)),0)","v":{"$error":"#VALUE!"}},{"$f":"IF($BZ$2=1,ROUND(Y6,0),IF($BZ$2=2,ROUND(Y6/272.7654,1),))","v":{"$error":"#VALUE!"}},{"$f":"IF($BZ$2=1,AC6,IF($BZ$2=2,AC6*0.3346,))","v":{"$error":"#VALUE!"}},null,null,null,0,0,0,{"$f":"IF($BZ$2=1,AZ6,IF($BZ$2=2,AZ6/4.54606,))","v":1.3}]
[null,null,null,null,null,null,null,null,null,null,null,null,null,null,null,null,null,null,null,null,null,null,null,null,null,null,null,null,null,null,null,null,null,null,null,null,null,null,null,null,null,null,null,null,null,null,null,null,null,null,null,null,null,null,null,null,null,null,null,null,null,null,null,null,null,null,null,null,null,null,null,null,null,null,null,null,null,null,null,null,null,null,null,null,null,null,null,null,null,null,null,{"$f":"CONCATENATE(CO23,CP23)","v":"5010"},50,10,14.2,16.2,21.85,3.6,4.0999999999999996,5.0999999999999996,null,null,null,null,null,null,null,null,null,{"$f":"DF22","v":60},{"$f":"BK6","v":13.6},{"$f":"ROUND(IF($BZ$2=1,V6,IF($BZ$2=2,V6*3.412141633,)),0)","v":456},{"$f":"IF($BZ$2=1,ROUND(Z6,0),IF($BZ$2=2,ROUND(Z6/272.7654,1),))","v":78},{"$f":"IF($BZ$2=1,AD6,IF($BZ$2=2,AD6*0.3346,))","v":5.973666390354776E-2},{"$f":"IF(BY6=1,ROUND(IF($BZ$2=1,AQ6,IF($BZ$2=2,AQ6*3.412141633,)),0),\"\")","v":292},{"$f":"IF(BY6=1,IF($BZ$2=1,ROUND(AT6,0),IF($BZ$2=2,ROUND(AT6/272.7654,1),)),\"\")","v":126},{"$f":"IF(BY6=1,IF($BZ$2=1,AW6,IF($BZ$2=2,AW6*0.3346,)),\"\")","v":0.14792971623992457},{"$f":"J6","v":26},{"$f":"DN23+8","v":34},{"$f":"BA6","v":11.094203079999206},{"$f":"DQ22","v":1.3}]
[null,null,null,null,null,null,null,null,null,null,null,null,null,null,null,null,null,null,null,null,null,null,null,null,null,null,null,null,null,null,null,null,null,null,null,null,null,null,null,null,null,null,null,null,null,null,null,null,null,null,null,null,null,null,null,null,null,null,null,null,null,null,null,null,null,null,null,null,null,null,null,null,null,null,null,null,null,null,null,null,null,null,null,null,null,null,null,null,null,null,null,{"$f":"CONCATENATE(CO24,CP24)","v":"5015"},50,15,0,0,0,0,0,0,null,null,null,null,null,null,null,null,null,{"$f":"DF22","v":60},{"$f":"BL6","v":15.6},{"$f":"ROUND(IF($BZ$2=1,W6,IF($BZ$2=2,W6*3.412141633,)),0)","v":502},{"$f":"IF($BZ$2=1,ROUND(AA6,0),IF($BZ$2=2,ROUND(AA6/272.7654,1),))","v":86},{"$f":"IF($BZ$2=1,AE6,IF($BZ$2=2,AE6*0.3346,))","v":7.1825896841150788E-2},{"$f":"IF(BY6=1,ROUND(IF($BZ$2=1,AR6,IF($BZ$2=2,AR6*3.412141633,)),0),\"\")","v":315},{"$f":"IF(BY6=1,IF($BZ$2=1,ROUND(AU6,0),IF($BZ$2=2,ROUND(AU6/272.7654,1),)),\"\")","v":135},{"$f":"IF(BY6=1,IF($BZ$2=1,AX6,IF($BZ$2=2,AX6*0.3346,)),\"\")","v":0.16859714880744567},{"$f":"K6","v":30},{"$f":"DN24+8","v":38},{"$f":"BB6","v":12.740717734308612},{"$f":"DQ22","v":1.3}]
[null,null,null,null,null,null,null,null,null,null,null,null,null,null,null,null,null,null,null,null,null,null,null,null,null,null,null,null,null,null,null,null,null,null,null,null,null,null,null,null,null,null,null,null,null,null,null,null,null,null,null,null,null,null,null,null,null,null,null,null,null,null,null,null,null,null,null,null,null,null,null,null,null,null,null,null,null,null,null,null,null,null,null,null,null,null,null,null,null,null,null,"6010",60,10,13.6,15.6,21.85,4.8,5.4,6.8,null,null,null,null,null,null,null,null,null,{"$f":"DF22","v":60},{"$f":"BM6","v":21.85},{"$f":"ROUND(IF($BZ$2=1,X6,IF($BZ$2=2,X6*3.412141633,)),0)","v":572},{"$f":"IF($BZ$2=1,ROUND(AB6,0),IF($BZ$2=2,ROUND(AB6/272.7654,1),))","v":98},{"$f":"IF($BZ$2=1,AF6,IF($BZ$2=2,AF6*0.3346,))","v":9.1932548614121673E-2},{"$f":"IF(BY6=1,ROUND(IF($BZ$2=1,AS6,IF($BZ$2=2,AS6*3.412141633,)),0),\"\")","v":342},{"$f":"IF(BY6=1,IF($BZ$2=1,ROUND(AV6,0),IF($BZ$2=2,ROUND(AV6/272.7654,1),)),\"\")","v":147},{"$f":"IF(BY6=1,IF($BZ$2=1,AY6,IF($BZ$2=2,AY6*0.3346,)),\"\")","v":0.19815260898208006},{"$f":"L6","v":35.51228976193724},{"$f":"DN25+8","v":43.51228976193724},{"$f":"BC6","v":14.408333333333225},{"$f":"DQ22","v":1.3}]
[null,null,null,null,null,null,null,null,"soundpressure level",null,null,null,"power","45/40/20",null,null,"n",null,null,null,"result","power",null,null,"result","flow",null,null,"static pressure loss",null,null,null,null,null,null,null,"power","16/20/27",null,"n",null,null,"result","power",null,"result","flow",null,"static pressure loss",null,null,null,"electrical power nominal",null,null,null,"oude cataloog",null,"Statisch met rail / statisch cataloog",null,null,null,null,"BMS-stuurspanning",null,null,"Sensible heat factor",null,null,"Total cooling capacity",null,null,null,"Diff. Total and sensible",null,null,"Show or not",null,null,null,null,null,null,null,null,null,null,null,null,null,null,"6015",60,15,12.3,14.4,21.85,4.8,5.5,7.2,null,null,null,null,null,null,null,null,null,{"$f":"IF(data!$CB$9=5,101,70)","v":70},{"$f":"BJ7","v":0},{"$f":"ROUND(IF($BZ$2=1,U7,IF($BZ$2=2,U7*3.412141633,)),0)","v":{"$error":"#VALUE!"}},{"$f":"IF($BZ$2=1,ROUND(Y7,0),IF($BZ$2=2,ROUND(Y7/272.7654,1),))","v":{"$error":"#VALUE!"}},{"$f":"IF($BZ$2=1,AC7,IF($BZ$2=2,AC7*0.3346,))","v":{"$error":"#VALUE!"}},null,null,null,0,0,0,{"$f":"IF($BZ$2=1,AZ7,IF($BZ$2=2,AZ7/4.54609,))","v":1.6}]
["lookup code","L,rail","T,rail","toestel","height","length","type","depth",0,1,2,3,0,1,2,3,0,1,2,3,0,1,2,3,0,1,2,3,0,1,2,3,"k1","n","t","k2",1,2,3,1,2,3,1,2,3,1,2,3,1,2,3,"watervolume",1,2,3,null,"Static,H","Static,C",null,null,null,0,1,2,3,null,"SHF 1","SHF 2","SHF 3","Q,t 1","Q,t 2","Q,t 3",null,"ΔQ,t,s 1","ΔQ,t,s 2","ΔQ,t,s 3","OK/NOTOK",null,null,null,null,null,null,null,null,null,null,null,null,null,null,"7010",70,10,13.2,15.1,21.85,5.5,5.9,7.9,null,null,null,null,null,null,null,null,null,{"$f":"DF26","v":70},{"$f":"BK7","v":13.6},{"$f":"ROUND(IF($BZ$2=1,V7,IF($BZ$2=2,V7*3.412141633,)),0)","v":571},{"$f":"IF($BZ$2=1,ROUND(Z7,0),IF($BZ$2=2,ROUND(Z7/272.7654,1),))","v":98},{"$f":"IF($BZ$2=1,AD7,IF($BZ$2=2,AD7*0.3346,))","v":0.10078325456844918},{"$f":"IF(BY7=1,ROUND(IF($BZ$2=1,AQ7,IF($BZ$2=2,AQ7*3.412141633,)),0),\"\")","v":367},{"$f":"IF(BY7=1,IF($BZ$2=1,ROUND(AT7,0),IF($BZ$2=2,ROUND(AT7/272.7654,1),)),\"\")","v":158},{"$f":"IF(BY7=1,IF($BZ$2=1,AW7,IF($BZ$2=2,AW7*0.3346,)),\"\")","v":0.24750728668013899},{"$f":"J7","v":26},{"$f":"DN27+8","v":34},{"$f":"BA7","v":13.395815719162472},{"$f":"DQ26","v":1.6}]
[{"$f":"CONCATENATE(D28,E28,G28)","v":"11008"},null,null,1,100,40.5,8,9.5,0,26,30,30.9,{"$f":"IF($N28-($BE28*$BG28)>100,$BE28*$BG28,$N28-95)","v":0},531.08388557633521,593.58512937132184,603.75006004579984,"N/A",1,1,1,{"$f":"ROUND(M28*POWER(CF_heat,Q28),0)","v":{"$error":"#VALUE!"}},{"$f":"ROUND(N28*POWER(CF_heat,R28),0)","v":292},{"$f":"ROUND(O28*POWER(CF_heat,S28),0)","v":327},{"$f":"ROUND(P28*POWER(CF_heat,T28),0)","v":332},{"$f":"ROUND(U28*3600/(4186*ABS($O$1-$O$2)),0)","v":{"$error":"#VALUE!"}},{"$f":"ROUND(V28*3600/(4186*ABS($O$1-$O$2)),0)","v":50},{"$f":"ROUND(W28*3600/(4186*ABS($O$1-$O$2)),0)","v":56},{"$f":"ROUND(X28*3600/(4186*ABS($O$1-$O$2)),0)","v":57},{"$f":"(($AG28*(Y28^$AH28)*((($F28-14.4)*$AI28)/100))+($AJ28*(Y28^2)))*0.0098","v":{"$error":"#VALUE!"}},{"$f":"(($AG28*(Z28^$AH28)*((($E28-14.4)*$AI28)/100))+($AJ28*(Z28^2)))*0.0098","v":6.8486564796105293E-2},{"$f":"(($AG28*(AA28^$AH28)*((($E28-14.4)*$AI28)/100))+($AJ28*(AA28^2)))*0.0098","v":8.4889000005026333E-2},{"$f":"(($AG28*(AB28^$AH28)*((($E28-14.4)*$AI28)/100))+($AJ28*(AB28^2)))*0.0098","v":8.7784958576583264E-2},{"$f":"IF($G28=$CO$103,CP$103,IF($G28=$CO$104,CP$104,IF($G28=$CO$105,CP$105,IF($G28=$CO$107,CP$107,IF($G28=$CO$108,CP$108,IF($G28=$CO$109,CP$109,IF($G28=$CO$111,CP$111,IF($G28=$CO$112,CP$112,IF($G28=$CO$113,CP$113,IF($G28=$CO$115,CP$115,IF($G28=$CO$116,CP$116,IF($G28=$CO$117,CP$117,IF($G28=$CO$119,CP$119,IF($G28=$CO$120,CP$120,))))))))))))))","v":9.3700000000000001E-4},{"$f":"IF($G28=$CO$103,CQ$103,IF($G28=$CO$104,CQ$104,IF($G28=$CO$105,CQ$105,IF($G28=$CO$107,CQ$107,IF($G28=$CO$108,CQ$108,IF($G28=$CO$109,CQ$109,IF($G28=$CO$111,CQ$111,IF($G28=$CO$112,CQ$112,IF($G28=$CO$113,CQ$113,IF($G28=$CO$115,CQ$115,IF($G28=$CO$116,CQ$116,IF($G28=$CO$117,CQ$117,IF($G28=$CO$119,CQ$119,IF($G28=$CO$120,CQ$120,))))))))))))))","v":1.7889999999999999},{"$f":"IF($G28=$CO$103,CR$103,IF($G28=$CO$104,CR$104,IF($G28=$CO$105,CR$105,IF($G28=$CO$107,CR$107,IF($G28=$CO$108,CR$108,IF($G28=$CO$109,CR$109,IF($G28=$CO$111,CR$111,IF($G28=$CO$112,CR$112,IF($G28=$CO$113,CR$113,IF($G28=$CO$115,CR$115,IF($G28=$CO$116,CR$116,IF($G28=$CO$117,CR$117,IF($G28=$CO$119,CR$119,IF($G28=$CO$120,CR$120,))))))))))))))","v":4},{"$f":"IF($G28=$CO$103,CS$103,IF($G28=$CO$104,CS$104,IF($G28=$CO$105,CS$105,IF($G28=$CO$107,CS$107,IF($G28=$CO$108,CS$108,IF($G28=$CO$109,CS$109,IF($G28=$CO$111,CS$111,IF($G28=$CO$112,CS$112,IF($G28=$CO$113,CS$113,IF($G28=$CO$115,CS$115,IF($G28=$CO$116,CS$116,IF($G28=$CO$117,CS$117,IF($G28=$CO$119,CS$119,IF($G28=$CO$120,CS$120,))))))))))))))","v":1.39E-3},165.20424789047323,176.57489050514062,177.91653591149998,1,1,1,{"$f":"ROUND(AK28*POWER(CF_cool,AN28),0)","v":186},{"$f":"ROUND(AL28*POWER(CF_cool,AO28),0)","v":199},{"$f":"ROUND(AM28*POWER(CF_cool,AP28),0)","v":200},{"$f":"ROUND(AQ28*3600/(4186*ABS($AM$1-$AM$2)),0)","v":80},{"$f":"ROUND(AR28*3600/(4186*ABS($AM$1-$AM$2)),0)","v":86},{"$f":"ROUND(AS28*3600/(4186*ABS($AM$1-$AM$2)),0)","v":86},{"$f":"(($AG28*(AT28^$AH28)*((($E28-14.4)*$AI28)/100))+($AJ28*(AT28^2)))*0.0098","v":0.16700368299410873},{"$f":"(($AG28*(AU28^$AH28)*((($E28-14.4)*$AI28)/100))+($AJ28*(AU28^2)))*0.0098","v":0.19159668456270063},{"$f":"(($AG28*(AV28^$AH28)*((($E28-14.4)*$AI28)/100))+($AJ28*(AV28^2)))*0.0098","v":0.19159668456270063},{"$f":"AZ40/2","v":0.65},3.9679986421707194,4.5178326885793867,4.5714285714165594,null,449,null,{"$f":"IF(G28=10,0.9,IF(G28=11,0.68,IF(G28=15,0.8,IF(G28=16,0.68,IF(G28=20,0.8,IF(G28=21,0.8))))))","v":false},null,null,0,14.2,16.2,21.85,null,{"$f":"IF((237.3*LN(($AQ$1*EXP(17.27*($AM$3/($AM$3+237.3))))))/(17.27-LN(($AQ$1*EXP(17.27*($AM$3/($AM$3+237.3))))))<(($AM$1+$AM$2)/2),1,IF(1/(1+((2258*((0.622/((101325/(1*611*EXP(17.27*((($AM$1+$AM$2)/2)/((($AM$1+$AM$2)/2)+237.3))))))-1)*1000-(0.622/((101325/($AQ$1*611*EXP(17.27*($AM$3/($AM$3+237.3))))))-1)*1000))/(1005*((($AM$1+$AM$2)/2)-$AM$3))))>1,1,1/(1+((2258*((0.622/((101325/(1*611*EXP(17.27*((($AM$1+$AM$2)/2)/((($AM$1+$AM$2)/2)+237.3))))))-1)*1000-(0.622/((101325/($AQ$1*611*EXP(17.27*($AM$3/($AM$3+237.3))))))-1)*1000))/(1005*((($AM$1+$AM$2)/2)-$AM$3))))))","v":1},{"$f":"IF((237.3*LN(($AQ$1*EXP(17.27*($AM$3/($AM$3+237.3))))))/(17.27-LN(($AQ$1*EXP(17.27*($AM$3/($AM$3+237.3))))))<(($AM$1+$AM$2)/2),1,IF(1/(1+((2258*((0.622/((101325/(1*611*EXP(17.27*((($AM$1+$AM$2)/2)/((($AM$1+$AM$2)/2)+237.3))))))-1)*1000-(0.622/((101325/($AQ$1*611*EXP(17.27*($AM$3/($AM$3+237.3))))))-1)*1000))/(1005*((($AM$1+$AM$2)/2)-$AM$3))))>1,1,1/(1+((2258*((0.622/((101325/(1*611*EXP(17.27*((($AM$1+$AM$2)/2)/((($AM$1+$AM$2)/2)+237.3))))))-1)*1000-(0.622/((101325/($AQ$1*611*EXP(17.27*($AM$3/($AM$3+237.3))))))-1)*1000))/(1005*((($AM$1+$AM$2)/2)-$AM$3))))))","v":1},1,{"$f":"AQ28/BO28","v":186},{"$f":"AR28/BP28","v":199},{"$f":"AS28/BQ28","v":200},null,{"$f":"BR28-AQ28","v":0},{"$f":"BS28-AR28","v":0},{"$f":"BT28-AS28","v":0},{"$f":"IF(SUM(BV28:BX28)=0,1,0)","v":1},null,null,null,null,null,null,null,null,null,null,null,null,null,null,"7015",70,15,12.3,14.4,21.85,5.0999999999999996,5.6,7.2,null,null,null,null,null,null,null,null,null,{"$f":"DF26","v":70},{"$f":"BL7","v":15.6},{"$f":"ROUND(IF($BZ$2=1,W7,IF($BZ$2=2,W7*3.412141633,)),0)","v":629},{"$f":"IF($BZ$2=1,ROUND(AA7,0),IF($BZ$2=2,ROUND(AA7/272.7654,1),))","v":108},{"$f":"IF($BZ$2=1,AE7,IF($BZ$2=2,AE7*0.3346,))","v":0.12095579733133843},{"$f":"IF(BY7=1,ROUND(IF($BZ$2=1,AR7,IF($BZ$2=2,AR7*3.412141633,)),0),\"\")","v":397},{"$f":"IF(BY7=1,IF($BZ$2=1,ROUND(AU7,0),IF($BZ$2=2,ROUND(AU7/272.7654,1),)),\"\")","v":171},{"$f":"IF(BY7=1,IF($BZ$2=1,AX7,IF($BZ$2=2,AX7*0.3346,)),\"\")","v":0.28730900816008281},{"$f":"K7","v":30},{"$f":"DN28+8","v":38},{"$f":"BB7","v":15.195275468368678},{"$f":"DQ26","v":1.6}]
[{"$f":"CONCATENATE(D29,E29,G29)","v":"11208"},null,null,1,120,40.5,8,9.5,0,26,30,31.5,0,660.91832413356303,754.07634233073395,776.24992413869995,"N/A",1,1,1,{"$error":"#VALUE!"},{"$f":"ROUND(N29*POWER(CF_heat,R29),0)","v":364},415,427,{"$error":"#VALUE!"},63,71,73,{"$f":"(($AG29*(Y29^$AH29)*((($F29-14.4)*$AI29)/100))+($AJ29*(Y29^2)))*0.0098","v":{"$error":"#VALUE!"}},{"$f":"(($AG29*(Z29^$AH29)*((($E29-14.4)*$AI29)/100))+($AJ29*(Z29^2)))*0.0098","v":0.11829156184967096},{"$f":"(($AG29*(AA29^$AH29)*((($E29-14.4)*$AI29)/100))+($AJ29*(AA29^2)))*0.0098","v":0.14820944985217085},{"$f":"(($AG29*(AB29^$AH29)*((($E29-14.4)*$AI29)/100))+($AJ29*(AB29^2)))*0.0098","v":0.15618545822201668},{"$f":"IF($G29=$CO$103,CP$103,IF($G29=$CO$104,CP$104,IF($G29=$CO$105,CP$105,IF($G29=$CO$107,CP$107,IF($G29=$CO$108,CP$108,IF($G29=$CO$109,CP$109,IF($G29=$CO$111,CP$111,IF($G29=$CO$112,CP$112,IF($G29=$CO$113,CP$113,IF($G29=$CO$115,CP$115,IF($G29=$CO$116,CP$116,IF($G29=$CO$117,CP$117,IF($G29=$CO$119,CP$119,IF($G29=$CO$120,CP$120,))))))))))))))","v":9.3700000000000001E-4},1.7889999999999999,4,1.39E-3,207.55317777061626,225.69015077977679,228.74988278130002,1,1,1,234,254,258,101,109,111,{"$f":"(($AG29*(AT29^$AH29)*((($E29-14.4)*$AI29)/100))+($AJ29*(AT29^2)))*0.0098","v":0.28838207558588946},{"$f":"(($AG29*(AU29^$AH29)*((($E29-14.4)*$AI29)/100))+($AJ29*(AU29^2)))*0.0098","v":0.33309889716624663},{"$f":"(($AG29*(AV29^$AH29)*((($E29-14.4)*$AI29)/100))+($AJ29*(AV29^2)))*0.0098","v":0.34475481027691268},{"$f":"AZ41/2","v":0.8},4.5888675638636949,5.3126846863936716,5.7142857142706998,null,538,null,false,null,null,0,14.2,16.2,21.85,null,{"$f":"IF((237.3*LN(($AQ$1*EXP(17.27*($AM$3/($AM$3+237.3))))))/(17.27-LN(($AQ$1*EXP(17.27*($AM$3/($AM$3+237.3))))))<(($AM$1+$AM$2)/2),1,IF(1/(1+((2258*((0.622/((101325/(1*611*EXP(17.27*((($AM$1+$AM$2)/2)/((($AM$1+$AM$2)/2)+237.3))))))-1)*1000-(0.622/((101325/($AQ$1*611*EXP(17.27*($AM$3/($AM$3+237.3))))))-1)*1000))/(1005*((($AM$1+$AM$2)/2)-$AM$3))))>1,1,1/(1+((2258*((0.622/((101325/(1*611*EXP(17.27*((($AM$1+$AM$2)/2)/((($AM$1+$AM$2)/2)+237.3))))))-1)*1000-(0.622/((101325/($AQ$1*611*EXP(17.27*($AM$3/($AM$3+237.3))))))-1)*1000))/(1005*((($AM$1+$AM$2)/2)-$AM$3))))))","v":1},1,1,234,{"$f":"AR29/BP29","v":254},{"$f":"AS29/BQ29","v":258},null,{"$f":"BR29-AQ29","v":0},0,0,{"$f":"IF(SUM(BV29:BX29)=0,1,0)","v":1},null,null,null,null,null,null,null,null,null,null,null,null,null,null,"8010",80,10,12.8,14.7,21.85,6.3,6.8,9.1,null,null,null,null,null,null,null,null,null,{"$f":"DF26","v":70},{"$f":"BM7","v":21.85},{"$f":"ROUND(IF($BZ$2=1,X7,IF($BZ$2=2,X7*3.412141633,)),0)","v":736},{"$f":"IF($BZ$2=1,ROUND(AB7,0),IF($BZ$2=2,ROUND(AB7/272.7654,1),))","v":127},{"$f":"IF($BZ$2=1,AF7,IF($BZ$2=2,AF7*0.3346,))","v":0.1640381020786108},{"$f":"IF(BY7=1,ROUND(IF($BZ$2=1,AS7,IF($BZ$2=2,AS7*3.412141633,)),0),\"\")","v":440},{"$f":"IF(BY7=1,IF($BZ$2=1,ROUND(AV7,0),IF($BZ$2=2,ROUND(AV7/272.7654,1),)),\"\")","v":189},{"$f":"IF(BY7=1,IF($BZ$2=1,AY7,IF($BZ$2=2,AY7*0.3346,)),\"\")","v":0.34704829521290631},{"$f":"L7","v":36.6},{"$f":"DN29+8","v":44.6},{"$f":"BC7","v":18.52499999999986},{"$f":"DQ26","v":1.6}]
["11508",null,null,1,150,40.5,8,9.5,0,26,30,32.5,0,827.58128439438269,984.80274727724418,1034.9998989776,"N/A",1,1,1,{"$error":"#VALUE!"},455,542,570,{"$error":"#VALUE!"},78,93,98,{"$error":"#VALUE!"},0.20372511737945243,0.28335606490432647,0.31262356062285168,9.3700000000000001E-4,1.7889999999999999,4,1.39E-3,263.93279496860379,297.60187213436905,305.00008159639998,1,1,1,297,335,343,128,144,147,0.51632885512799875,0.64437184409002235,0.66986308775522607,1,5.5884030936046987,6.7631145145832186,7.9999999999789786,null,606,null,false,null,null,0,14.2,16.2,21.85,null,{"$f":"IF((237.3*LN(($AQ$1*EXP(17.27*($AM$3/($AM$3+237.3))))))/(17.27-LN(($AQ$1*EXP(17.27*($AM$3/($AM$3+237.3))))))<(($AM$1+$AM$2)/2),1,IF(1/(1+((2258*((0.622/((101325/(1*611*EXP(17.27*((($AM$1+$AM$2)/2)/((($AM$1+$AM$2)/2)+237.3))))))-1)*1000-(0.622/((101325/($AQ$1*611*EXP(17.27*($AM$3/($AM$3+237.3))))))-1)*1000))/(1005*((($AM$1+$AM$2)/2)-$AM$3))))>1,1,1/(1+((2258*((0.622/((101325/(1*611*EXP(17.27*((($AM$1+$AM$2)/2)/((($AM$1+$AM$2)/2)+237.3))))))-1)*1000-(0.622/((101325/($AQ$1*611*EXP(17.27*($AM$3/($AM$3+237.3))))))-1)*1000))/(1005*((($AM$1+$AM$2)/2)-$AM$3))))))","v":1},1,1,297,335,343,null,0,0,0,1,null,null,null,null,null,null,null,null,null,null,null,null,null,null,"8015",80,15,11.8,13.7,21.85,6,6.7,9,null,null,null,null,null,null,null,null,null,{"$f":"IF(data!$CB$9=5,121,80)","v":80},{"$f":"BJ8","v":0},{"$f":"ROUND(IF($BZ$2=1,U8,IF($BZ$2=2,U8*3.412141633,)),0)","v":{"$error":"#VALUE!"}},{"$f":"IF($BZ$2=1,ROUND(Y8,0),IF($BZ$2=2,ROUND(Y8/272.7654,1),))","v":{"$error":"#VALUE!"}},{"$f":"IF($BZ$2=1,AC8,IF($BZ$2=2,AC8*0.3346,))","v":{"$error":"#VALUE!"}},null,null,null,0,0,0,{"$f":"IF($BZ$2=1,AZ8,IF($BZ$2=2,AZ8/4.54609,))","v":2}]
["11708",null,null,1,170,40.5,8,9.5,0,26,30,34.1,0,935.32547182659778,1110.0611142564405,1207.5001200914996,"N/A",1,1,1,{"$error":"#VALUE!"},515,611,665,{"$error":"#VALUE!"},89,105,114,{"$error":"#VALUE!"},0.28348751443118048,0.38619934394048588,0.45045639163375556,9.3700000000000001E-4,1.7889999999999999,4,1.39E-3,300.29050466265068,340.16723702600746,355.83342865509996,1,1,1,338,383,401,145,165,172,0.70686053683401129,0.90066147863384982,0.9736771763460359,1.1499999999999999,5.9780026167653464,7.4233571946386645,9.1428571428331189,null,598,null,false,null,null,0,14.2,16.2,21.85,null,1,1,1,338,383,401,null,0,0,0,1,null,null,null,null,null,null,null,null,null,null,null,null,null,null,"9010",90,10,12.5,14.7,21.85,6.7,7.4,10.3,null,null,null,null,null,null,null,null,null,{"$f":"DF30","v":80},{"$f":"BK8","v":12.3},{"$f":"ROUND(IF($BZ$2=1,V8,IF($BZ$2=2,V8*3.412141633,)),0)","v":739},{"$f":"IF($BZ$2=1,ROUND(Z8,0),IF($BZ$2=2,ROUND(Z8/272.7654,1),))","v":127},{"$f":"IF($BZ$2=1,AD8,IF($BZ$2=2,AD8*0.3346,))","v":0.18485166139367065},{"$f":"IF(BY8=1,ROUND(IF($BZ$2=1,AQ8,IF($BZ$2=2,AQ8*3.412141633,)),0),\"\")","v":477},{"$f":"IF(BY8=1,IF($BZ$2=1,ROUND(AT8,0),IF($BZ$2=2,ROUND(AT8/272.7654,1),)),\"\")","v":205},{"$f":"IF(BY8=1,IF($BZ$2=1,AW8,IF($BZ$2=2,AW8*0.3346,)),\"\")","v":0.45238903875710268},{"$f":"J8","v":26},{"$f":"DN31+8","v":34},{"$f":"BA8","v":16.558116316654743},{"$f":"DQ30","v":2}]
["11908",null,null,1,190,40.5,8,9.5,0,26,30,34.700000000000003,0,1034.6408787891078,1249.2454552694307,1379.9999841845001,"N/A",1,1,1,{"$error":"#VALUE!"},569,688,759,{"$error":"#VALUE!"},98,118,131,{"$error":"#VALUE!"},0.36625125166204098,0.51787915448035315,0.62945116755691577,9.3700000000000001E-4,1.7889999999999999,4,1.39E-3,334.24446003575076,384.95378914252967,406.66677552480007,1,1,1,376,434,458,162,187,197,0.9360879092027804,1.2243015707122469,1.3496696030225024,1.25,6.3001012515885302,8.0425399440970828,10.285714285687259,null,693,null,false,null,null,0,14.2,16.2,21.85,null,1,1,1,376,434,458,null,0,0,0,1,null,null,null,null,null,null,null,null,null,null,null,null,null,null,"9015",90,15,11.3,13.2,21.85,7,7.7,10.7,null,null,null,null,null,null,null,null,null,{"$f":"DF30","v":80},{"$f":"BL8","v":14.4},{"$f":"ROUND(IF($BZ$2=1,W8,IF($BZ$2=2,W8*3.412141633,)),0)","v":814},{"$f":"IF($BZ$2=1,ROUND(AA8,0),IF($BZ$2=2,ROUND(AA8/272.7654,1),))","v":140},{"$f":"IF($BZ$2=1,AE8,IF($BZ$2=2,AE8*0.3346,))","v":0.22171317786876893},{"$f":"IF(BY8=1,ROUND(IF($BZ$2=1,AR8,IF($BZ$2=2,AR8*3.412141633,)),0),\"\")","v":517},{"$f":"IF(BY8=1,IF($BZ$2=1,ROUND(AU8,0),IF($BZ$2=2,ROUND(AU8/272.7654,1),)),\"\")","v":222},{"$f":"IF(BY8=1,IF($BZ$2=1,AX8,IF($BZ$2=2,AX8*0.3346,)),\"\")","v":0.52523389841043688},{"$f":"K8","v":30},{"$f":"DN32+8","v":38},{"$f":"BB8","v":18.743964042758314},{"$f":"DQ30","v":2}]
["12108",null,null,1,210,40.5,8,9.5,0,26,30,35.200000000000003,0,1125.2963056378078,1384.7628023693387,1552.4998484663001,"N/A",1,1,1,{"$error":"#VALUE!"},619,762,854,{"$error":"#VALUE!"},106,131,147,{"$error":"#VALUE!"},0.45482028718700102,0.67451768527410427,0.83601587083275963,9.3700000000000001E-4,1.7889999999999999,4,1.39E-3,365.66033532629302,428.85378236279922,457.5001225835,1,1,1,412,483,515,177,208,221,1.1818883478801732,1.5972244992598617,1.7886548500520882,1.4,6.558604409106171,8.6219454735530849,11.4285714285414,null,772,null,false,null,null,0,14.2,16.2,21.85,null,1,1,1,412,483,515,null,0,0,0,1,null,null,null,null,null,null,null,null,null,null,null,null,null,null,"10010",100,10,12.3,14.1,21.85,7.8,8.6999999999999993,12.2,null,null,null,null,null,null,null,null,null,{"$f":"DF30","v":80},{"$f":"BM8","v":21.85},{"$f":"ROUND(IF($BZ$2=1,X8,IF($BZ$2=2,X8*3.412141633,)),0)","v":981},{"$f":"IF($BZ$2=1,ROUND(AB8,0),IF($BZ$2=2,ROUND(AB8/272.7654,1),))","v":169},{"$f":"IF($BZ$2=1,AF8,IF($BZ$2=2,AF8*0.3346,))","v":0.31516748940731842},{"$f":"IF(BY8=1,ROUND(IF($BZ$2=1,AS8,IF($BZ$2=2,AS8*3.412141633,)),0),\"\")","v":587},{"$f":"IF(BY8=1,IF($BZ$2=1,ROUND(AV8,0),IF($BZ$2=2,ROUND(AV8/272.7654,1),)),\"\")","v":252},{"$f":"IF(BY8=1,IF($BZ$2=1,AY8,IF($BZ$2=2,AY8*0.3346,)),\"\")","v":0.66621540315277183},{"$f":"L8","v":37.845112497945742},{"$f":"DN33+8","v":45.845112497945742},{"$f":"BC8","v":24.699999999999815},{"$f":"DQ30","v":2}]
["12308",null,null,1,230,40.5,8,9.5,0,26,30,35.700000000000003,0,1207.0334759379862,1516.5744309458671,1725.0000695802999,"N/A",1,1,1,{"$error":"#VALUE!"},664,835,949,{"$error":"#VALUE!"},114,144,163,{"$error":"#VALUE!"},0.55589014984728602,0.85788573912838362,1.0801768938847514,9.3700000000000001E-4,1.7889999999999999,4,1.39E-3,394.39770977261941,471.83893086262736,508.33346945329998,1,1,1,444,531,572,191,228,246,1.4507129751556203,2.0173678274508888,2.3242317387948992,1.55,6.7571565954453261,9.1626629443522205,12.571428571395538,null,539,null,false,null,null,0,13.6,15.6,21.85,null,1,1,1,444,531,572,null,0,0,0,1,null,null,null,null,null,null,null,null,null,null,null,null,null,null,"10015",100,15,10.9,12.8,21.85,7,7.7,10.7,null,null,null,null,null,null,null,null,null,{"$f":"IF(data!$CB$9=5,141,90)","v":90},{"$f":"BJ9","v":0},{"$f":"ROUND(IF($BZ$2=1,U9,IF($BZ$2=2,U9*3.412141633,)),0)","v":{"$error":"#VALUE!"}},{"$f":"IF($BZ$2=1,ROUND(Y9,0),IF($BZ$2=2,ROUND(Y9/272.7654,1),))","v":{"$error":"#VALUE!"}},{"$f":"IF($BZ$2=1,AC9,IF($BZ$2=2,AC9*0.3346,))","v":{"$error":"#VALUE!"}},null,null,null,0,0,0,{"$f":"IF($BZ$2=1,AZ9,IF($BZ$2=2,AZ9/4.54609,))","v":2.2999999999999998}]
["12508",null,null,1,250,40.5,8,9.5,0,26,30,36.200000000000003,0,1279.5762401811048,1644.6198712487519,1897.4999336732999,"N/A",1,1,1,{"$error":"#VALUE!"},704,905,1044,{"$error":"#VALUE!"},121,156,180,{"$error":"#VALUE!"},0.66001853125899113,1.0571109673612107,1.378663242845577,9.3700000000000001E-4,1.7889999999999999,4,1.39E-3,420.3119392983794,513.87538750125566,559.16681651190004,1,1,1,473,579,630,203,249,271,1.7236305800100349,2.5195265761077987,2.9492839081044573,1.65,6.8992203999314494,9.6656562105292405,13.714285714249678,null,646,null,false,null,null,0,13.6,15.6,21.85,null,1,1,1,473,579,630,null,0,0,0,1,null,null,null,null,null,null,null,null,null,null,null,null,null,null,"11010",110,10,12,13.9,21.85,8.4,9.3000000000000007,14,null,null,null,null,null,null,null,null,null,{"$f":"DF34","v":90},{"$f":"BK9","v":12.3},{"$f":"ROUND(IF($BZ$2=1,V9,IF($BZ$2=2,V9*3.412141633,)),0)","v":847},{"$f":"IF($BZ$2=1,ROUND(Z9,0),IF($BZ$2=2,ROUND(Z9/272.7654,1),))","v":146},{"$f":"IF($BZ$2=1,AD9,IF($BZ$2=2,AD9*0.3346,))","v":0.25745442774823707},{"$f":"IF(BY9=1,ROUND(IF($BZ$2=1,AQ9,IF($BZ$2=2,AQ9*3.412141633,)),0),\"\")","v":548},{"$f":"IF(BY9=1,IF($BZ$2=1,ROUND(AT9,0),IF($BZ$2=2,ROUND(AT9/272.7654,1),)),\"\")","v":236},{"$f":"IF(BY9=1,IF($BZ$2=1,AW9,IF($BZ$2=2,AW9*0.3346,)),\"\")","v":0.62970788756979623},{"$f":"J9","v":26},{"$f":"DN35+8","v":34},{"$f":"BA9","v":18.489203998745236},{"$f":"DQ34","v":2.2999999999999998}]
["12708",null,null,1,270,40.5,8,9.5,0,26,30,36.6,0,1315.699169724408,1768.8252599407056,2070.0001547871998,"N/A",1,1,1,{"$error":"#VALUE!"},724,973,1139,{"$error":"#VALUE!"},125,167,196,{"$error":"#VALUE!"},0.74245660831283666,1.2691588730502732,1.7075233724783607,9.3700000000000001E-4,1.7889999999999999,4,1.39E-3,435.42354455433292,554.9253537771383,610.00016338169996,1,1,1,490,625,687,211,269,295,1.957690522740609,3.0721772670948404,3.646377939491515,1.8,7.0136548989338428,10.351330785127757,15.428571428530887,null,727,null,false,null,null,0,13.6,15.6,21.85,null,1,1,1,490,625,687,null,0,0,0,1,null,null,null,null,null,null,null,null,null,null,null,null,null,null,"11015",110,15,10.9,12.8,21.85,7.9,8.8000000000000007,12.5,null,null,null,null,null,null,null,null,null,{"$f":"DF34","v":90},{"$f":"BL9","v":14.4},{"$f":"ROUND(IF($BZ$2=1,W9,IF($BZ$2=2,W9*3.412141633,)),0)","v":936},{"$f":"IF($BZ$2=1,ROUND(AA9,0),IF($BZ$2=2,ROUND(AA9/272.7654,1),))","v":161},{"$f":"IF($BZ$2=1,AE9,IF($BZ$2=2,AE9*0.3346,))","v":0.30878990974594944},{"$f":"IF(BY9=1,ROUND(IF($BZ$2=1,AR9,IF($BZ$2=2,AR9*3.412141633,)),0),\"\")","v":596},{"$f":"IF(BY9=1,IF($BZ$2=1,ROUND(AU9,0),IF($BZ$2=2,ROUND(AU9/272.7654,1),)),\"\")","v":256},{"$f":"IF(BY9=1,IF($BZ$2=1,AX9,IF($BZ$2=2,AX9*0.3346,)),\"\")","v":0.73301280223306675},{"$f":"K9","v":30},{"$f":"DN36+8","v":38},{"$f":"BB9","v":21.02882824621398},{"$f":"DQ34","v":2.2999999999999998}]
["12908",null,null,1,290,40.5,8,9.5,0,26,30,37.1,0,1336.3309718091307,1875.6070774363704,2242.5000188802005,"N/A",1,1,1,{"$error":"#VALUE!"},735,1032,1234,{"$error":"#VALUE!"},126,178,212,{"$error":"#VALUE!"},0.7955151846287799,1.5063464820359984,2.0815584552081106,9.3700000000000001E-4,1.7889999999999999,4,1.39E-3,445.3690035183082,591.79940711577513,660.83351025149989,1,1,1,502,666,744,{"$f":"ROUND(AQ37*3600/(4186*ABS($AM$1-$AM$2)),0)","v":216},286,320,{"$f":"(($AG37*(AT37^$AH37)*((($E37-14.4)*$AI37)/100))+($AJ37*(AT37^2)))*0.0098","v":2.1548448629246493},3.6246296101385589,4.4640432800653,1.95,7.0192879049634245,10.956887189589539,17.142857142812097,null,836,null,false,null,null,0,13.6,15.6,21.85,null,1,1,1,502,666,744,null,0,0,0,1,null,null,null,null,null,null,null,null,null,null,null,null,null,null,"12010",120,10,11.8,13.7,21.85,8.9,9.9,14.8,null,null,null,null,null,null,null,null,null,{"$f":"DF34","v":90},{"$f":"BM9","v":21.85},{"$f":"ROUND(IF($BZ$2=1,X9,IF($BZ$2=2,X9*3.412141633,)),0)","v":1145},{"$f":"IF($BZ$2=1,ROUND(AB9,0),IF($BZ$2=2,ROUND(AB9/272.7654,1),))","v":197},{"$f":"IF($BZ$2=1,AF9,IF($BZ$2=2,AF9*0.3346,))","v":0.44960197495514326},{"$f":"IF(BY9=1,ROUND(IF($BZ$2=1,AS9,IF($BZ$2=2,AS9*3.412141633,)),0),\"\")","v":685},{"$f":"IF(BY9=1,IF($BZ$2=1,ROUND(AV9,0),IF($BZ$2=2,ROUND(AV9/272.7654,1),)),\"\")","v":295},{"$f":"IF(BY9=1,IF($BZ$2=1,AY9,IF($BZ$2=2,AY9*0.3346,)),\"\")","v":0.9555041599386217},{"$f":"L9","v":38.51228976196019},{"$f":"DN37+8","v":46.51228976196019},{"$f":"BC9","v":28.81666666666645},{"$f":"DQ34","v":2.2999999999999998}]
["17011",null,null,1,70,40.5,11,11.5,0,26,30,33.090224995745899,406.68729763289474,501.68729763289474,555.77632661287191,594.33322034629998,"N/A",1,1,1,{"$error":"#VALUE!"},276,306,327,{"$error":"#VALUE!"},47,53,56,{"$error":"#VALUE!"},1.9310313049070021E-2,2.4280821023173509E-2,2.6970186387714118E-2,3.969E-4,1.7345999999999999,4,5.7428799999999995E-4,155.20317033289641,166.95712862891477,173.66676877119997,1,1,1,175,188,196,75,81,84,4.712879837718318E-2,5.4606180044696404E-2,5.8543341734782782E-2,{"$f":"ROUND(IF(G38=10,$CO$92*E38,IF(G38=11,$CO$93*E38,IF(G38=15,$CO$94*E38,IF(G38=16,$CO$95*E38,IF(G38=20,$CO$96*E38,IF(G38=21,$CO$97*E38,)))))),1)","v":0.9},7.3986314326901308,8.7271451789060368,8.2333333333332721,null,718,null,0.68,null,null,0,13.6,15.6,21.85,null,1,1,1,175,188,196,null,0,0,0,1,null,null,null,null,null,null,null,null,null,null,null,null,null,null,"12015",120,15,10.6,12.5,21.85,8.6999999999999993,9.8000000000000007,14.3,null,null,null,null,null,null,null,null,null,{"$f":"IF(data!$CB$9=5,181,100)","v":100},{"$f":"BJ10","v":0},{"$f":"ROUND(IF($BZ$2=1,U10,IF($BZ$2=2,U10*3.412141633,)),0)","v":{"$error":"#VALUE!"}},{"$f":"IF($BZ$2=1,ROUND(Y10,0),IF($BZ$2=2,ROUND(Y10/272.7654,1),))","v":{"$error":"#VALUE!"}},{"$f":"IF($BZ$2=1,AC10,IF($BZ$2=2,AC10*0.3346,))","v":{"$error":"#VALUE!"}},null,null,null,0,0,0,{"$f":"IF($BZ$2=1,AZ10,IF($BZ$2=2,AZ10/4.54609,))","v":2.5}]
["19011",null,null,1,90,40.5,11,11.5,0,26,30,34.845112497922791,565.76,720.34281553054336,796.40068831521091,891.49983051950005,"N/A",1,1,1,{"$error":"#VALUE!"},396,438,491,{"$f":"ROUND(U39*3600/(4186*ABS($O$1-$O$2)),0)","v":{"$error":"#VALUE!"}},68,75,84,{"$f":"(($AG39*(Y39^$AH39)*((($F39-14.4)*$AI39)/100))+($AJ39*(Y39^2)))*0.0098","v":{"$error":"#VALUE!"}},4.3772363867273588E-2,5.2693968297033239E-2,6.5317448094632705E-2,3.969E-4,1.7345999999999999,4,5.7428799999999995E-4,224.84323265548929,242.80128303053795,260.50015315670004,1,1,1,{"$f":"ROUND(AK39*POWER(CF_cool,AN39),0)","v":253},273,293,109,117,126,0.10710199356983116,0.12253704973862133,0.14108634794348476,{"$f":"ROUND(IF(G39=10,$CO$92*E39,IF(G39=11,$CO$93*E39,IF(G39=15,$CO$94*E39,IF(G39=16,$CO$95*E39,IF(G39=20,$CO$96*E39,IF(G39=21,$CO$97*E39,)))))),1)","v":1.2},9.8888355162670472,11.472097650788319,12.349999999999907,null,832,null,0.68,null,null,0,13.6,15.6,21.85,null,1,1,1,253,273,293,null,0,0,0,1,null,null,null,null,null,null,null,null,null,null,null,null,null,null,"14010",140,10,11.5,13.3,21.85,10.1,11.2,17.5,null,null,null,null,null,null,null,null,null,{"$f":"DF38","v":100},{"$f":"BK10","v":12.3},{"$f":"ROUND(IF($BZ$2=1,V10,IF($BZ$2=2,V10*3.412141633,)),0)","v":952},{"$f":"IF($BZ$2=1,ROUND(Z10,0),IF($BZ$2=2,ROUND(Z10/272.7654,1),))","v":164},{"$f":"IF($BZ$2=1,AD10,IF($BZ$2=2,AD10*0.3346,))","v":0.34119909125237768},{"$f":"IF(BY10=1,ROUND(IF($BZ$2=1,AQ10,IF($BZ$2=2,AQ10*3.412141633,)),0),\"\")","v":617},{"$f":"IF(BY10=1,IF($BZ$2=1,ROUND(AT10,0),IF($BZ$2=2,ROUND(AT10/272.7654,1),)),\"\")","v":265},{"$f":"IF(BY10=1,IF($BZ$2=1,AW10,IF($BZ$2=2,AW10*0.3346,)),\"\")","v":0.831596953463273},{"$f":"J10","v":26},{"$f":"DN39+8","v":34},{"$f":"BA10","v":20.298048161335824},{"$f":"DQ38","v":2.5}]
["110011",null,null,1,100,40.5,11,11.5,0,26,30,35.51228976193724,629.68000000000006,827.74055414326142,912.93315124158187,1040.0833414481001,"N/A",1,1,1,{"$error":"#VALUE!"},456,502,572,{"$error":"#VALUE!"},78,86,98,{"$error":"#VALUE!"},5.973666390354776E-2,7.1825896841150788E-2,9.1932548614121673E-2,3.969E-4,1.7345999999999999,4,5.7428799999999995E-4,259.05619663992024,279.70754340832019,303.91663950750007,1,1,1,292,315,342,126,135,147,0.14792971623992457,0.16859714880744567,0.19815260898208006,1.3,11.094203079999206,12.740717734308612,14.408333333333225,null,926,null,0.68,null,null,0,13.6,15.6,21.85,null,1,1,1,292,315,342,null,0,0,0,1,null,null,null,null,null,null,null,null,null,null,null,null,null,null,"14015",140,15,10.4,12.2,21.85,9.6,10.5,16.100000000000001,null,null,null,null,null,null,null,null,null,{"$f":"DF38","v":100},{"$f":"BL10","v":14.4},{"$f":"ROUND(IF($BZ$2=1,W10,IF($BZ$2=2,W10*3.412141633,)),0)","v":1056},{"$f":"IF($BZ$2=1,ROUND(AA10,0),IF($BZ$2=2,ROUND(AA10/272.7654,1),))","v":182},{"$f":"IF($BZ$2=1,AE10,IF($BZ$2=2,AE10*0.3346,))","v":0.4138336344854841},{"$f":"IF(BY10=1,ROUND(IF($BZ$2=1,AR10,IF($BZ$2=2,AR10*3.412141633,)),0),\"\")","v":675},{"$f":"IF(BY10=1,IF($BZ$2=1,ROUND(AU10,0),IF($BZ$2=2,ROUND(AU10/272.7654,1),)),\"\")","v":290},{"$f":"IF(BY10=1,IF($BZ$2=1,AX10,IF($BZ$2=2,AX10*0.3346,)),\"\")","v":0.98354815758365455},{"$f":"K10","v":30},{"$f":"DN40+8","v":38},{"$f":"BB10","v":23.241835253713635},{"$f":"DQ38","v":2.5}]
["112011",null,null,1,120,40.5,11,11.5,0,26,30,36.6,733.04000000000008,1038.2506842425073,1142.080305956021,1337.2499514184001,"N/A",1,1,1,{"$error":"#VALUE!"},571,629,736,{"$error":"#VALUE!"},98,108,127,{"$error":"#VALUE!"},0.10078325456844918,0.12095579733133843,0.1640381020786108,3.969E-4,1.7345999999999999,4,5.7428799999999995E-4,326.2128512917032,352.35728291623496,390.75002389310004,1,1,1,367,397,440,158,171,189,0.24750728668013899,0.28730900816008281,0.34704829521290631,1.6,13.395815719162472,15.195275468368678,18.52499999999986,null,1078,null,0.68,null,null,0,13.6,15.6,21.85,null,1,1,1,367,397,440,null,0,0,0,1,null,null,null,null,null,null,null,null,null,null,null,null,null,null,"16010",160,10,11.2,13,21.85,11,12.4,19.2,null,null,null,null,null,null,null,null,null,{"$f":"DF38","v":100},{"$f":"BM10","v":21.85},{"$f":"ROUND(IF($BZ$2=1,X10,IF($BZ$2=2,X10*3.412141633,)),0)","v":1308},{"$f":"IF($BZ$2=1,ROUND(AB10,0),IF($BZ$2=2,ROUND(AB10/272.7654,1),))","v":225},{"$f":"IF($BZ$2=1,AF10,IF($BZ$2=2,AF10*0.3346,))","v":0.61345804439765816},{"$f":"IF(BY10=1,ROUND(IF($BZ$2=1,AS10,IF($BZ$2=2,AS10*3.412141633,)),0),\"\")","v":782},{"$f":"IF(BY10=1,IF($BZ$2=1,ROUND(AV10,0),IF($BZ$2=2,ROUND(AV10/272.7654,1),)),\"\")","v":336},{"$f":"IF(BY10=1,IF($BZ$2=1,AY10,IF($BZ$2=2,AY10*0.3346,)),\"\")","v":1.2940692722839073},{"$f":"L10","v":39.0902249957918},{"$f":"DN41+8","v":47.0902249957918},{"$f":"BC10","v":32.933333333333088},{"$f":"DQ38","v":2.5}]
["115011",null,null,1,150,40.5,11,11.5,0,26,30,37.845112497945742,599.76,1342.8565496471372,1479.2041741051935,1783.0000725201999,"N/A",1,1,1,{"$error":"#VALUE!"},739,814,981,{"$error":"#VALUE!"},127,140,169,{"$error":"#VALUE!"},0.18485166139367065,0.22171317786876893,0.31516748940731842,3.969E-4,1.7345999999999999,4,5.7428799999999995E-4,423.65815696218516,459.33483713745414,520.99989462940005,1,1,1,477,517,587,205,222,252,0.45238903875710268,0.52523389841043688,0.66621540315277183,2,16.558116316654743,18.743964042758314,24.699999999999815,null,882,null,0.68,null,null,0,12.3,14.4,21.85,null,1,1,1,477,517,587,null,0,0,0,1,null,null,null,null,null,null,null,null,null,null,null,null,null,null,"16015",160,15,10,11.8,21.85,11.5,12.8,19.600000000000001,null,null,null,null,null,null,null,null,null,{"$f":"IF(data!$CB$9=5,241,110)","v":110},{"$f":"BJ11","v":0},{"$f":"ROUND(IF($BZ$2=1,U11,IF($BZ$2=2,U11*3.412141633,)),0)","v":{"$error":"#VALUE!"}},{"$f":"IF($BZ$2=1,ROUND(Y11,0),IF($BZ$2=2,ROUND(Y11/272.7654,1),))","v":{"$error":"#VALUE!"}},{"$f":"IF($BZ$2=1,AC11,IF($BZ$2=2,AC11*0.3346,))","v":{"$error":"#VALUE!"}},null,null,null,0,0,0,{"$f":"IF($BZ$2=1,AZ11,IF($BZ$2=2,AZ11/4.54609,))","v":2.8}]
["117011",null,null,1,170,40.5,11,11.5,0,26,30,38.51228976196019,707.2,1538.8653851714307,1700.275062626509,2080.1666826933997,"N/A",1,1,1,{"$error":"#VALUE!"},847,936,1145,{"$error":"#VALUE!"},146,161,197,{"$error":"#VALUE!"},0.25745442774823707,0.30878990974594944,0.44960197495514326,3.969E-4,1.7345999999999999,4,5.7428799999999995E-4,486.50888457827659,529.56310449561568,607.83327901500013,1,1,1,548,596,685,236,256,295,0.62970788756979623,0.73301280223306675,0.9555041599386217,2.2999999999999998,18.489203998745236,21.02882824621398,28.81666666666645,null,1040,null,0.68,null,null,0,12.3,14.4,21.85,null,1,1,1,548,596,685,null,0,0,0,1,null,null,null,null,null,null,null,null,null,null,null,null,null,null,"18010",180,10,10.9,12.7,21.85,12.2,13.7,22,null,null,null,null,null,null,null,null,null,{"$f":"DF42","v":110},{"$f":"BK11","v":12.3},{"$f":"ROUND(IF($BZ$2=1,V11,IF($BZ$2=2,V11*3.412141633,)),0)","v":1056},{"$f":"IF($BZ$2=1,ROUND(Z11,0),IF($BZ$2=2,ROUND(Z11/272.7654,1),))","v":182},{"$f":"IF($BZ$2=1,AD11,IF($BZ$2=2,AD11*0.3346,))","v":0.43973466187818161},{"$f":"IF(BY11=1,ROUND(IF($BZ$2=1,AQ11,IF($BZ$2=2,AQ11*3.412141633,)),0),\"\")","v":685},{"$f":"IF(BY11=1,IF($BZ$2=1,ROUND(AT11,0),IF($BZ$2=2,ROUND(AT11/272.7654,1),)),\"\")","v":295},{"$f":"IF(BY11=1,IF($BZ$2=1,AW11,IF($BZ$2=2,AW11*0.3346,)),\"\")","v":1.0752279415783701},{"$f":"J11","v":26},{"$f":"DN43+8","v":34},{"$f":"BA11","v":21.914929272697012},{"$f":"DQ42","v":2.8}]
["119011",null,null,1,190,40.5,11,11.5,0,26,30,39.0902249957918,784.04000000000008,1729.7380188633683,1918.3503361118428,2377.3332928665,"N/A",1,1,1,{"$error":"#VALUE!"},952,1056,1308,{"$error":"#VALUE!"},164,182,225,{"$error":"#VALUE!"},0.34119909125237768,0.4138336344854841,0.61345804439765816,3.969E-4,1.7345999999999999,4,5.7428799999999995E-4,547.7922272805813,598.9271409346693,694.66666319770025,1,1,1,617,675,782,265,290,336,0.831596953463273,0.98354815758365455,1.2940692722839073,2.5,20.298048161335824,23.241835253713635,32.933333333333088,null,1153,null,0.68,null,null,0,12.3,14.4,21.85,null,1,1,1,617,675,782,null,0,0,0,1,null,null,null,null,null,null,null,null,null,null,null,null,null,null,"18015",180,15,10,11.8,21.85,11.5,12.8,19.600000000000001,null,null,null,null,null,null,null,null,null,{"$f":"DF42","v":110},{"$f":"BL11","v":14.4},{"$f":"ROUND(IF($BZ$2=1,W11,IF($BZ$2=2,W11*3.412141633,)),0)","v":1172},{"$f":"IF($BZ$2=1,ROUND(AA11,0),IF($BZ$2=2,ROUND(AA11/272.7654,1),))","v":202},{"$f":"IF($BZ$2=1,AE11,IF($BZ$2=2,AE11*0.3346,))","v":0.5331736453801813},{"$f":"IF(BY11=1,ROUND(IF($BZ$2=1,AR11,IF($BZ$2=2,AR11*3.412141633,)),0),\"\")","v":751},{"$f":"IF(BY11=1,IF($BZ$2=1,ROUND(AU11,0),IF($BZ$2=2,ROUND(AU11/272.7654,1),)),\"\")","v":323},{"$f":"IF(BY11=1,IF($BZ$2=1,AX11,IF($BZ$2=2,AX11*0.3346,)),\"\")","v":1.272336536463021},{"$f":"K11","v":30},{"$f":"DN44+8","v":38},{"$f":"BB11","v":25.31535920549992},{"$f":"DQ42","v":2.8}]
["121011",null,null,1,210,40.5,11,11.5,0,26,30,39.6,875.84,1918.3843985526,2129.7361509447001,2674.4999030397003,"N/A",1,1,1,{"$error":"#VALUE!"},1056,1172,1472,{"$error":"#VALUE!"},182,202,253,{"$error":"#VALUE!"},0.43973466187818161,0.5331736453801813,0.80877137600977977,3.969E-4,1.7345999999999999,4,5.7428799999999995E-4,608.33433999609997,666.47226489819991,781.50004758319994,1,1,1,685,751,880,295,323,378,1.0752279415783701,1.272336536463021,1.7041766986471032,2.8,21.914929272697012,25.31535920549992,37.04999999999972,null,1288,null,0.68,null,null,0,12.3,14.4,21.85,null,1,1,1,685,751,880,null,0,0,0,1,null,null,null,null,null,null,null,null,null,null,null,null,null,null,"20010",200,10,10.7,12.5,21.85,13.4,14.8,24,null,null,null,null,null,null,null,null,null,{"$f":"DF42","v":110},{"$f":"BM11","v":21.85},{"$f":"ROUND(IF($BZ$2=1,X11,IF($BZ$2=2,X11*3.412141633,)),0)","v":1472},{"$f":"IF($BZ$2=1,ROUND(AB11,0),IF($BZ$2=2,ROUND(AB11/272.7654,1),))","v":253},{"$f":"IF($BZ$2=1,AF11,IF($BZ$2=2,AF11*0.3346,))","v":0.80877137600977977},{"$f":"IF(BY11=1,ROUND(IF($BZ$2=1,AS11,IF($BZ$2=2,AS11*3.412141633,)),0),\"\")","v":880},{"$f":"IF(BY11=1,IF($BZ$2=1,ROUND(AV11,0),IF($BZ$2=2,ROUND(AV11/272.7654,1),)),\"\")","v":378},{"$f":"IF(BY11=1,IF($BZ$2=1,AY11,IF($BZ$2=2,AY11*0.3346,)),\"\")","v":1.7041766986471032},{"$f":"L11","v":39.6},{"$f":"DN45+8","v":47.6},{"$f":"BC11","v":37.04999999999972},{"$f":"DQ42","v":2.8}]
["123011",null,null,1,230,40.5,11,11.5,0,26,30,40.056009280461275,650.08000000000004,2098.7535249748012,2346.283578214222,2971.6665132128001,"N/A",1,1,1,{"$error":"#VALUE!"},1155,1291,1635,{"$error":"#VALUE!"},199,222,281,{"$error":"#VALUE!"},0.54886695955094833,0.67146542787877728,1.0375133702569364,3.969E-4,1.7345999999999999,4,5.7428799999999995E-4,666.37413296082809,735.27644638729532,868.33343196880026,1,1,1,750,828,978,323,356,421,1.3423948787425122,1.6073215675769668,2.1934184660350664,3.1,23.634238992326342,27.471445963687056,41.166666666666359,null,956,null,0.68,null,null,0,12.3,14.4,21.85,null,1,1,1,750,828,978,null,0,0,0,1,null,null,null,null,null,null,null,null,null,null,null,null,null,null,"20015",200,15,10,11.4,21.85,13.2,14.7,23.5,null,null,null,null,null,null,null,null,null,120,{"$f":"BJ12","v":0},{"$f":"ROUND(IF($BZ$2=1,U12,IF($BZ$2=2,U12*3.412141633,)),0)","v":{"$error":"#VALUE!"}},{"$f":"IF($BZ$2=1,ROUND(Y12,0),IF($BZ$2=2,ROUND(Y12/272.7654,1),))","v":{"$error":"#VALUE!"}},{"$f":"IF($BZ$2=1,AC12,IF($BZ$2=2,AC12*0.3346,))","v":{"$error":"#VALUE!"}},null,null,null,0,0,0,{"$f":"IF($BZ$2=1,AZ12,IF($BZ$2=2,AZ12/4.54609,))","v":3.1}]
["125011",null,null,1,250,40.5,11,11.5,0,26,30,40.267177264137082,774.5200000000001,2292.9963754331725,2568.3450226310401,3268.8335350701,"N/A",1,1,1,{"$error":"#VALUE!"},1262,1413,1799,{"$error":"#VALUE!"},217,243,309,{"$error":"#VALUE!"},0.67898474120042573,0.83607913538454415,1.3015998199438761,3.969E-4,1.7345999999999999,4,5.7428799999999995E-4,728.41440486067631,805.49433173432965,955.16681635439988,1,1,1,820,907,1076,353,390,463,1.6640498684021283,2.00048879808688,2.7476743810272262,3.3,24.421799114084049,28.489088071156846,43.224999999999675,null,1139,null,0.68,null,null,0,12.3,14.4,21.85,null,1,1,1,820,907,1076,null,0,0,0,1,null,null,null,null,null,null,null,null,null,null,null,null,null,null,"22010",220,10,10.5,12.3,21.85,13.4,14.8,24,null,null,null,null,null,null,null,null,null,{"$f":"DF46","v":120},{"$f":"BK12","v":12.3},{"$f":"ROUND(IF($BZ$2=1,V12,IF($BZ$2=2,V12*3.412141633,)),0)","v":1155},{"$f":"IF($BZ$2=1,ROUND(Z12,0),IF($BZ$2=2,ROUND(Z12/272.7654,1),))","v":199},{"$f":"IF($BZ$2=1,AD12,IF($BZ$2=2,AD12*0.3346,))","v":0.54886695955094833},{"$f":"IF(BY12=1,ROUND(IF($BZ$2=1,AQ12,IF($BZ$2=2,AQ12*3.412141633,)),0),\"\")","v":750},{"$f":"IF(BY12=1,IF($BZ$2=1,ROUND(AT12,0),IF($BZ$2=2,ROUND(AT12/272.7654,1),)),\"\")","v":323},{"$f":"IF(BY12=1,IF($BZ$2=1,AW12,IF($BZ$2=2,AW12*0.3346,)),\"\")","v":1.3423948787425122},{"$f":"J12","v":26},{"$f":"DN47+8","v":34},{"$f":"BA12","v":23.634238992326342},{"$f":"DQ46","v":3.1}]
["127011",null,null,1,270,40.5,11,11.5,0,26,30,40.845112497968692,886.72,2454.2122355286301,2763.2822622329413,3566.0001452432998,"N/A",1,1,1,{"$error":"#VALUE!"},1351,1521,1963,{"$error":"#VALUE!"},232,262,338,{"$error":"#VALUE!"},0.80723952203605231,1.0090795381958573,1.6116624913310726,3.969E-4,1.7345999999999999,4,5.7428799999999995E-4,780.60009551350561,868.4570063463691,1042.0002007400001,1,1,1,879,978,1173,378,421,504,1.98025717289419,2.4152927049658022,3.3667611860596756,3.6,26.694065383965011,31.439143963119381,49.399999999999629,null,1304,null,0.68,null,null,0,12.3,14.4,21.85,null,1,1,1,879,978,1173,null,0,0,0,1,null,null,null,null,null,null,null,null,null,null,null,null,null,null,"22015",220,15,10,11.1,21.85,15.5,16.8,27.5,null,null,null,null,null,null,null,null,null,{"$f":"DF46","v":120},{"$f":"BL12","v":14.4},{"$f":"ROUND(IF($BZ$2=1,W12,IF($BZ$2=2,W12*3.412141633,)),0)","v":1291},{"$f":"IF($BZ$2=1,ROUND(AA12,0),IF($BZ$2=2,ROUND(AA12/272.7654,1),))","v":222},{"$f":"IF($BZ$2=1,AE12,IF($BZ$2=2,AE12*0.3346,))","v":0.67146542787877728},{"$f":"IF(BY12=1,ROUND(IF($BZ$2=1,AR12,IF($BZ$2=2,AR12*3.412141633,)),0),\"\")","v":828},{"$f":"IF(BY12=1,IF($BZ$2=1,ROUND(AU12,0),IF($BZ$2=2,ROUND(AU12/272.7654,1),)),\"\")","v":356},{"$f":"IF(BY12=1,IF($BZ$2=1,AX12,IF($BZ$2=2,AX12*0.3346,)),\"\")","v":1.6073215675769668},{"$f":"K12","v":30},{"$f":"DN48+8","v":38},{"$f":"BB12","v":27.471445963687056},{"$f":"DQ46","v":3.1}]
["129011",null,null,1,290,40.5,11,11.5,0,26,30,40.845112497968692,1092.0800000000002,2658.7298954551984,2993.5557487931087,3863.1667552135,"N/A",1,1,1,{"$error":"#VALUE!"},1463,1647,2126,{"$error":"#VALUE!"},252,283,366,{"$error":"#VALUE!"},0.98504936784926223,1.2183076276551912,1.9530219107940605,3.969E-4,1.7345999999999999,4,5.7428799999999995E-4,845.64995909540062,940.82823017747751,1128.8331734415003,1,1,1,952,1060,1271,409,456,547,2.3953849596663752,2.9261159724999453,4.0914155938597272,3.9,26.69,31.44,49.4,null,1606,null,0.68,null,null,0,12.3,14.4,21.85,null,1,1,1,952,1060,1271,null,0,0,0,1,null,null,null,null,null,null,null,null,null,null,null,null,null,null,"24010",240,10,10.4,12.2,21.85,14.8,16.600000000000001,28,null,null,null,null,null,null,null,null,null,{"$f":"DF46","v":120},{"$f":"BM12","v":21.85},{"$f":"ROUND(IF($BZ$2=1,X12,IF($BZ$2=2,X12*3.412141633,)),0)","v":1635},{"$f":"IF($BZ$2=1,ROUND(AB12,0),IF($BZ$2=2,ROUND(AB12/272.7654,1),))","v":281},{"$f":"IF($BZ$2=1,AF12,IF($BZ$2=2,AF12*0.3346,))","v":1.0375133702569364},{"$f":"IF(BY12=1,ROUND(IF($BZ$2=1,AS12,IF($BZ$2=2,AS12*3.412141633,)),0),\"\")","v":978},{"$f":"IF(BY12=1,IF($BZ$2=1,ROUND(AV12,0),IF($BZ$2=2,ROUND(AV12/272.7654,1),)),\"\")","v":421},{"$f":"IF(BY12=1,IF($BZ$2=1,AY12,IF($BZ$2=2,AY12*0.3346,)),\"\")","v":2.1934184660350664},{"$f":"L12","v":40.056009280461275},{"$f":"DN49+8","v":48.056009280461275},{"$f":"BC12","v":41.166666666666359},{"$f":"DQ46","v":3.1}]
["19016",null,null,1,90,40.5,16,16.5,0,26,30,32.373251667884233,1000.4309288239419,1000.4309288239419,1061.187807521588,1097.4999097588002,"N/A",1,1,1,{"$error":"#VALUE!"},551,584,604,{"$error":"#VALUE!"},95,100,104,{"$error":"#VALUE!"},0.13903815482591109,0.15381198396114895,0.16616137250218418,2.0829999999999999E-4,1.724,4,1.392796E-3,292.16724503036227,314.02254794707267,330.49996828450003,1,1,1,329,354,372,141,152,160,0.302678626742097,0.35100049828758162,0.38836502230497766,1.8,9,9.8000000000000007,12,null,1236,null,0.68,null,null,0,12.3,14.4,21.85,null,1,1,1,329,354,372,null,0,0,0,1,null,null,null,null,null,null,null,null,null,null,null,null,null,null,"24015",240,15,10,10.9,21.85,16.399999999999999,17.7,29.7,null,null,null,null,null,null,null,null,null,140,{"$f":"BJ13","v":0},{"$f":"ROUND(IF($BZ$2=1,U13,IF($BZ$2=2,U13*3.412141633,)),0)","v":{"$error":"#VALUE!"}},{"$f":"IF($BZ$2=1,ROUND(Y13,0),IF($BZ$2=2,ROUND(Y13/272.7654,1),))","v":{"$error":"#VALUE!"}},{"$f":"IF($BZ$2=1,AC13,IF($BZ$2=2,AC13*0.3346,))","v":{"$error":"#VALUE!"}},null,null,null,0,0,0,{"$f":"IF($BZ$2=1,AZ13,IF($BZ$2=2,AZ13/4.54609,))","v":3.3}]
["110016",null,null,1,100,40.5,16,16.5,0,26,30,33.5,1144.2945624617412,1144.2945624617412,1219.8567526298987,1280.4165614387,"N/A",1,1,1,{"$error":"#VALUE!"},630,671,705,{"$error":"#VALUE!"},108,115,121,{"$error":"#VALUE!"},0.18159751638342336,0.20546456815485745,0.22707861774619104,2.0829999999999999E-4,1.724,4,1.392796E-3,333.71019183251281,359.20778051958422,385.58333902519996,1,1,1,376,405,434,162,174,187,0.403260537937074,0.46420064501136543,0.53499636048815336,2,10.6,11.5,15,null,1455,null,0.68,null,null,0,12.3,14.4,21.85,null,1,1,1,376,405,434,null,0,0,0,1,null,null,null,null,null,null,null,null,null,null,null,null,null,null,"26010",260,10,10.199999999999999,11.9,21.85,16.2,18.600000000000001,31.4,null,null,null,null,null,null,null,null,null,{"$f":"DF50","v":140},{"$f":"BK13","v":12.3},{"$f":"ROUND(IF($BZ$2=1,V13,IF($BZ$2=2,V13*3.412141633,)),0)","v":1262},{"$f":"IF($BZ$2=1,ROUND(Z13,0),IF($BZ$2=2,ROUND(Z13/272.7654,1),))","v":217},{"$f":"IF($BZ$2=1,AD13,IF($BZ$2=2,AD13*0.3346,))","v":0.67898474120042573},{"$f":"IF(BY13=1,ROUND(IF($BZ$2=1,AQ13,IF($BZ$2=2,AQ13*3.412141633,)),0),\"\")","v":820},{"$f":"IF(BY13=1,IF($BZ$2=1,ROUND(AT13,0),IF($BZ$2=2,ROUND(AT13/272.7654,1),)),\"\")","v":353},{"$f":"IF(BY13=1,IF($BZ$2=1,AW13,IF($BZ$2=2,AW13*0.3346,)),\"\")","v":1.6640498684021283},{"$f":"J13","v":26},{"$f":"DN51+8","v":34},{"$f":"BA13","v":24.421799114084049},{"$f":"DQ50","v":3.3}]
["112016",null,null,1,120,40.5,16,16.5,0,26,30,34.420620420403672,1444.1514106397387,1444.1514106397387,1549.1300059858766,1646.2501212786997,"N/A",1,1,1,{"$error":"#VALUE!"},795,853,906,{"$error":"#VALUE!"},137,147,156,{"$error":"#VALUE!"},0.29780976655361691,0.34194952120188388,0.38424163623367596,2.0829999999999999E-4,1.724,4,1.392796E-3,421.01845228739194,454.72572098434807,495.75008066689998,1,1,1,474,512,558,204,220,240,0.65072130683798723,0.75481474409566274,0.89563221973017815,2.4,12,13.2,18,null,1611,null,0.68,null,null,0,12.3,14.4,21.85,null,1,1,1,474,512,558,null,0,0,0,1,null,null,null,null,null,null,null,null,null,null,null,null,null,null,"26015",260,15,10,10.9,21.85,16.2,18.600000000000001,31.4,null,null,null,null,null,null,null,null,null,{"$f":"DF50","v":140},{"$f":"BL13","v":14.4},{"$f":"ROUND(IF($BZ$2=1,W13,IF($BZ$2=2,W13*3.412141633,)),0)","v":1413},{"$f":"IF($BZ$2=1,ROUND(AA13,0),IF($BZ$2=2,ROUND(AA13/272.7654,1),))","v":243},{"$f":"IF($BZ$2=1,AE13,IF($BZ$2=2,AE13*0.3346,))","v":0.83607913538454415},{"$f":"IF(BY13=1,ROUND(IF($BZ$2=1,AR13,IF($BZ$2=2,AR13*3.412141633,)),0),\"\")","v":907},{"$f":"IF(BY13=1,IF($BZ$2=1,ROUND(AU13,0),IF($BZ$2=2,ROUND(AU13/272.7654,1),)),\"\")","v":390},{"$f":"IF(BY13=1,IF($BZ$2=1,AX13,IF($BZ$2=2,AX13*0.3346,)),\"\")","v":2.00048879808688},{"$f":"K13","v":30},{"$f":"DN52+8","v":38},{"$f":"BB13","v":28.489088071156846},{"$f":"DQ50","v":3.3}]
["115016",null,null,1,150,40.5,16,16.5,0,26,30,35.873251667876353,1863.8707900710288,1863.8707900710288,2019.2959866329084,2195.0000761581,"N/A",1,1,1,{"$error":"#VALUE!"},1026,1111,1208,{"$error":"#VALUE!"},176,191,208,{"$error":"#VALUE!"},0.50512260789167507,0.59272812213263948,0.70032107160461665,2.0829999999999999E-4,1.724,4,1.392796E-3,544.12150403661462,590.35446813379963,660.99993640880007,1,1,1,613,665,744,264,286,320,1.1169162126240249,1.3065786228719103,1.6284337013372321,3,14.6,16.2,24,null,1795,null,0.68,null,null,0,12.3,14.4,21.85,null,1,1,1,613,665,744,null,0,0,0,1,null,null,null,null,null,null,null,null,null,null,null,null,null,null,"28010",280,10,10.199999999999999,11.9,21.85,16.2,18.600000000000001,31.4,null,null,null,null,null,null,null,null,null,{"$f":"DF50","v":140},{"$f":"BM13","v":21.85},{"$f":"ROUND(IF($BZ$2=1,X13,IF($BZ$2=2,X13*3.412141633,)),0)","v":1799},{"$f":"IF($BZ$2=1,ROUND(AB13,0),IF($BZ$2=2,ROUND(AB13/272.7654,1),))","v":309},{"$f":"IF($BZ$2=1,AF13,IF($BZ$2=2,AF13*0.3346,))","v":1.3015998199438761},{"$f":"IF(BY13=1,ROUND(IF($BZ$2=1,AS13,IF($BZ$2=2,AS13*3.412141633,)),0),\"\")","v":1076},{"$f":"IF(BY13=1,IF($BZ$2=1,ROUND(AV13,0),IF($BZ$2=2,ROUND(AV13/272.7654,1),)),\"\")","v":463},{"$f":"IF(BY13=1,IF($BZ$2=1,AY13,IF($BZ$2=2,AY13*0.3346,)),\"\")","v":2.7476743810272262},{"$f":"L13","v":40.267177264137082},{"$f":"DN53+8","v":48.267177264137082},{"$f":"BC13","v":43.224999999999675},{"$f":"DQ50","v":3.3}]
["117016",null,null,1,170,40.5,16,16.5,0,26,30,37,2118.863344509703,2118.863344509703,2307.0129959469905,2560.8333795178,"N/A",1,1,1,{"$error":"#VALUE!"},1166,1270,1409,{"$error":"#VALUE!"},201,218,242,{"$error":"#VALUE!"},0.67021620819966077,0.78528457446084809,0.9629255868626988,2.0829999999999999E-4,1.724,4,1.392796E-3,620.15764298983106,673.08261214058791,771.16667805049997,1,1,1,698,758,868,300,326,373,1.4653334782564407,1.7239870764403638,2.2438621792632056,3.4,16.899999999999999,18.899999999999999,30,null,1268,null,0.68,null,null,0,12.3,14.4,21.85,null,1,1,1,698,758,868,null,0,0,0,1,null,null,null,null,null,null,null,null,null,null,null,null,null,null,"28015",280,15,10,10.6,21.85,19.3,20.399999999999999,34.5,null,null,null,null,null,null,null,null,null,160,{"$f":"BJ14","v":0},{"$f":"ROUND(IF($BZ$2=1,U14,IF($BZ$2=2,U14*3.412141633,)),0)","v":{"$error":"#VALUE!"}},{"$f":"IF($BZ$2=1,ROUND(Y14,0),IF($BZ$2=2,ROUND(Y14/272.7654,1),))","v":{"$error":"#VALUE!"}},{"$f":"IF($BZ$2=1,AC14,IF($BZ$2=2,AC14*0.3346,))","v":{"$error":"#VALUE!"}},null,null,null,0,0,0,{"$f":"IF($BZ$2=1,AZ14,IF($BZ$2=2,AZ14/4.54609,))","v":3.6}]
["119016",null,null,1,190,40.5,16,16.5,0,26,30,37,2421.5580893318297,2421.5580893318297,2636.5862567783283,2926.6666827174008,"N/A",1,1,1,{"$error":"#VALUE!"},1333,1451,1611,{"$error":"#VALUE!"},229,250,277,{"$error":"#VALUE!"},0.88361305895974451,1.0483183902740312,1.2802936341975999,2.0829999999999999E-4,1.724,4,1.392796E-3,708.75162926539838,769.23731953271863,881.33341969210005,1,1,1,798,866,993,343,372,427,1.9426188346458304,2.2762196657093545,2.9799937494173196,3.8,16.899999999999999,18.899999999999999,30,null,1549,null,0.68,null,null,0,12.3,14.4,21.85,null,1,1,1,798,866,993,null,0,0,0,1,null,null,null,null,null,null,null,null,null,null,null,null,null,null,"30010",300,10,{"$f":"CQ53","v":10.199999999999999},{"$f":"CR53","v":11.9},{"$f":"CS53","v":21.85},16.2,18.600000000000001,31.4,null,null,null,null,null,null,null,null,null,{"$f":"DF54","v":160},{"$f":"BK14","v":12.3},{"$f":"ROUND(IF($BZ$2=1,V14,IF($BZ$2=2,V14*3.412141633,)),0)","v":1351},{"$f":"IF($BZ$2=1,ROUND(Z14,0),IF($BZ$2=2,ROUND(Z14/272.7654,1),))","v":232},{"$f":"IF($BZ$2=1,AD14,IF($BZ$2=2,AD14*0.3346,))","v":0.80723952203605231},{"$f":"IF(BY14=1,ROUND(IF($BZ$2=1,AQ14,IF($BZ$2=2,AQ14*3.412141633,)),0),\"\")","v":879},{"$f":"IF(BY14=1,IF($BZ$2=1,ROUND(AT14,0),IF($BZ$2=2,ROUND(AT14/272.7654,1),)),\"\")","v":378},{"$f":"IF(BY14=1,IF($BZ$2=1,AW14,IF($BZ$2=2,AW14*0.3346,)),\"\")","v":1.98025717289419},{"$f":"J14","v":26},{"$f":"DN55+8","v":34},{"$f":"BA14","v":26.694065383965011},{"$f":"DQ54","v":3.6}]
["121016",null,null,1,210,40.5,16,16.5,0,26,30,36.999999999979586,2669.5313978647614,2669.5313978647614,2909.9640301305849,3292.4999860771995,"N/A",1,1,1,{"$error":"#VALUE!"},1469,1601,1812,{"$error":"#VALUE!"},253,275,312,{"$error":"#VALUE!"},1.095669667902474,1.2885389720883265,1.6473026306017533,2.0829999999999999E-4,1.724,4,1.392796E-3,783.52605243058065,848.37403540934054,991.4999046933001,1,1,1,882,955,1117,{"$f":"ROUND(AQ56*3600/(4186*ABS($AM$1-$AM$2)),0)","v":379},{"$f":"ROUND(AR56*3600/(4186*ABS($AM$1-$AM$2)),0)","v":411},{"$f":"ROUND(AS56*3600/(4186*ABS($AM$1-$AM$2)),0)","v":480},2.4061858816353339,2.8180685061626929,3.814404422900636,4.2,19.3,21.3,36,null,1818,null,0.68,null,null,0,12.3,14.4,21.85,null,1,1,1,882,955,1117,null,0,0,0,1,null,null,null,null,null,null,null,null,null,null,null,null,null,null,"30015",300,15,{"$f":"CQ54","v":10},{"$f":"CR54","v":10.6},21.85,19.3,20.399999999999999,34.5,null,null,null,null,null,null,null,null,null,{"$f":"DF54","v":160},{"$f":"BL14","v":14.4},{"$f":"ROUND(IF($BZ$2=1,W14,IF($BZ$2=2,W14*3.412141633,)),0)","v":1521},{"$f":"IF($BZ$2=1,ROUND(AA14,0),IF($BZ$2=2,ROUND(AA14/272.7654,1),))","v":262},{"$f":"IF($BZ$2=1,AE14,IF($BZ$2=2,AE14*0.3346,))","v":1.0090795381958573},{"$f":"IF(BY14=1,ROUND(IF($BZ$2=1,AR14,IF($BZ$2=2,AR14*3.412141633,)),0),\"\")","v":978},{"$f":"IF(BY14=1,IF($BZ$2=1,ROUND(AU14,0),IF($BZ$2=2,ROUND(AU14/272.7654,1),)),\"\")","v":421},{"$f":"IF(BY14=1,IF($BZ$2=1,AX14,IF($BZ$2=2,AX14*0.3346,)),\"\")","v":2.4152927049658022},{"$f":"K14","v":30},{"$f":"DN56+8","v":38},{"$f":"BB14","v":31.439143963119381},{"$f":"DQ54","v":3.6}]
["123016",null,null,1,230,40.5,16,16.5,0,26,30,37.920620420395792,2918.8231148088507,2918.8231148088507,3177.4563557664569,3658.3332892766998,"N/A",1,1,1,{"$error":"#VALUE!"},1606,1749,2013,{"$error":"#VALUE!"},276,301,346,{"$error":"#VALUE!"},1.3240400571821975,1.5667700425388946,2.0538022296404099,2.0829999999999999E-4,1.724,4,1.392796E-3,858.98373363756457,926.4939336207043,1101.6666461748,1,1,1,967,1043,1241,416,448,534,2.9387988123839386,3.394770057413278,4.7791709568594172,4.5999999999999996,21.6,23.6,42,null,2352,null,0.68,null,null,0,12.3,14.4,21.85,null,1,1,1,967,1043,1241,null,0,0,0,1,null,null,null,null,null,null,null,null,null,null,null,null,null,null,null,null,null,null,null,null,null,null,null,null,null,null,null,null,null,null,null,null,{"$f":"DF54","v":160},{"$f":"BM14","v":21.85},{"$f":"ROUND(IF($BZ$2=1,X14,IF($BZ$2=2,X14*3.412141633,)),0)","v":1963},{"$f":"IF($BZ$2=1,ROUND(AB14,0),IF($BZ$2=2,ROUND(AB14/272.7654,1),))","v":338},{"$f":"IF($BZ$2=1,AF14,IF($BZ$2=2,AF14*0.3346,))","v":1.6116624913310726},{"$f":"IF(BY14=1,ROUND(IF($BZ$2=1,AS14,IF($BZ$2=2,AS14*3.412141633,)),0),\"\")","v":1173},{"$f":"IF(BY14=1,IF($BZ$2=1,ROUND(AV14,0),IF($BZ$2=2,ROUND(AV14/272.7654,1),)),\"\")","v":504},{"$f":"IF(BY14=1,IF($BZ$2=1,AY14,IF($BZ$2=2,AY14*0.3346,)),\"\")","v":3.3667611860596756},{"$f":"L14","v":40.845112497968692},{"$f":"DN57+8","v":48.845112497968692},{"$f":"BC14","v":49.399999999999629},{"$f":"DQ54","v":3.6}]
["125016",null,null,1,250,40.5,16,16.5,0,26,30,38.698993895071602,3189.1985120369991,3189.1985120369991,3467.5380197005534,4024.1665924761992,"N/A",1,1,1,{"$error":"#VALUE!"},1755,1908,2215,{"$f":"ROUND(U58*3600/(4186*ABS($O$1-$O$2)),0)","v":{"$error":"#VALUE!"}},{"$f":"ROUND(V58*3600/(4186*ABS($O$1-$O$2)),0)","v":302},{"$f":"ROUND(W58*3600/(4186*ABS($O$1-$O$2)),0)","v":328},{"$f":"ROUND(X58*3600/(4186*ABS($O$1-$O$2)),0)","v":381},{"$error":"#VALUE!"},1.6076927440606623,1.8867853238856231,2.5229439906767754,2.0829999999999999E-4,1.724,4,1.392796E-3,939.70165429861254,1011.3773530871895,1211.8333878163999,1,1,1,1058,1139,1365,455,490,587,3.5612326425804435,4.1129177894082574,5.8441526738710294,5,22.7,24.7,45,null,629,null,0.68,null,null,0,13.2,15.1,21.85,null,1,1,1,1058,1139,1365,null,0,0,0,1,null,null,null,null,null,null,null,null,null,null,null,null,null,null,null,null,null,null,null,null,null,null,null,null,null,null,null,null,null,null,null,null,180,{"$f":"BJ15","v":0},{"$f":"ROUND(IF($BZ$2=1,U15,IF($BZ$2=2,U15*3.412141633,)),0)","v":{"$error":"#VALUE!"}},{"$f":"IF($BZ$2=1,ROUND(Y15,0),IF($BZ$2=2,ROUND(Y15/272.7654,1),))","v":{"$error":"#VALUE!"}},{"$f":"IF($BZ$2=1,AC15,IF($BZ$2=2,AC15*0.3346,))","v":{"$error":"#VALUE!"}},null,null,null,0,0,0,{"$f":"IF($BZ$2=1,AZ15,IF($BZ$2=2,AZ15/4.54609,))","v":3.9}]
["127016",null,null,1,270,40.5,16,16.5,0,26,30,38.698993895071602,3479.1256390628068,3479.1256390628068,3782.768735461209,4389.9998958360011,"N/A",1,1,1,{"$error":"#VALUE!"},1915,2082,2416,{"$error":"#VALUE!"},329,358,416,{"$error":"#VALUE!"},1.9336527698100008,2.2771145776973354,3.0457910401277486,2.0829999999999999E-4,1.724,4,1.392796E-3,1025.1289934318841,1103.3206418021921,1321.9998728177,1,1,1,1154,1243,1489,496,534,640,4.283833705520423,4.9437279925430193,7.0275751883963045,5.4,22.7,24.7,45,null,753,null,0.68,null,null,0,13.2,15.1,21.85,null,1,1,1,1154,1243,1489,null,0,0,0,1,null,null,null,null,null,null,null,null,null,null,null,null,null,null,null,null,null,null,null,null,null,null,null,null,null,null,null,null,null,null,null,null,{"$f":"DF58","v":180},{"$f":"BK15","v":12.3},{"$f":"ROUND(IF($BZ$2=1,V15,IF($BZ$2=2,V15*3.412141633,)),0)","v":1463},{"$f":"IF($BZ$2=1,ROUND(Z15,0),IF($BZ$2=2,ROUND(Z15/272.7654,1),))","v":252},{"$f":"IF($BZ$2=1,AD15,IF($BZ$2=2,AD15*0.3346,))","v":0.98504936784926223},{"$f":"IF(BY15=1,ROUND(IF($BZ$2=1,AQ15,IF($BZ$2=2,AQ15*3.412141633,)),0),\"\")","v":952},{"$f":"IF(BY15=1,IF($BZ$2=1,ROUND(AT15,0),IF($BZ$2=2,ROUND(AT15/272.7654,1),)),\"\")","v":409},{"$f":"IF(BY15=1,IF($BZ$2=1,AW15,IF($BZ$2=2,AW15*0.3346,)),\"\")","v":2.3953849596663752},{"$f":"J15","v":26},{"$f":"DN59+8","v":34},{"$f":"BA15","v":26.69},{"$f":"DQ58","v":3.9}]
["129016",null,null,1,290,40.5,16,16.5,0,26,30,39.047368752499018,3707.968088755943,3707.968088755943,4011.878713977218,4755.8334556759992,"N/A",1,1,1,{"$error":"#VALUE!"},2041,2208,2617,{"$error":"#VALUE!"},351,380,450,{"$error":"#VALUE!"},2.2316215116668912,2.6016424561048881,3.6081017644202342,2.0829999999999999E-4,1.724,4,1.392796E-3,1096.0869417994961,1171.8229930876669,1432.1666144593,1,1,1,1234,1320,1613,531,568,694,4.9714377398345224,5.6647287999131031,8.355429798051377,5.8,26.2,27.9,54,null,848,null,0.68,null,null,0,13.2,15.1,21.85,null,1,1,1,1234,1320,1613,null,0,0,0,1,null,null,null,null,null,null,null,null,null,null,null,null,null,null,"L,rail/L,tot","T10","T11","T15","T16","T20","T21","ALS",null,null,null,null,null,null,null,null,null,null,{"$f":"DF58","v":180},{"$f":"BL15","v":14.4},{"$f":"ROUND(IF($BZ$2=1,W15,IF($BZ$2=2,W15*3.412141633,)),0)","v":1647},{"$f":"IF($BZ$2=1,ROUND(AA15,0),IF($BZ$2=2,ROUND(AA15/272.7654,1),))","v":283},{"$f":"IF($BZ$2=1,AE15,IF($BZ$2=2,AE15*0.3346,))","v":1.2183076276551912},{"$f":"IF(BY15=1,ROUND(IF($BZ$2=1,AR15,IF($BZ$2=2,AR15*3.412141633,)),0),\"\")","v":1060},{"$f":"IF(BY15=1,IF($BZ$2=1,ROUND(AU15,0),IF($BZ$2=2,ROUND(AU15/272.7654,1),)),\"\")","v":456},{"$f":"IF(BY15=1,IF($BZ$2=1,AX15,IF($BZ$2=2,AX15*0.3346,)),\"\")","v":2.9261159724999453},{"$f":"K15","v":30},{"$f":"DN60+8","v":38},{"$f":"BB15","v":31.44},{"$f":"DQ58","v":3.9}]
["19510",null,null,1,95,40.5,10,16.5,0,26,30,41,877.5,1029.7403904507714,1104.2859635902939,1320.28,"N/A",1,1,1,{"$error":"#VALUE!"},567,608,727,{"$error":"#VALUE!"},98,105,125,{"$error":"#VALUE!"},5.2408578260369904E-2,5.979144662864936E-2,8.3450223358468259E-2,3.969E-4,1.7345999999999999,2,3.6734700000000002E-4,142.7603849699376,153.09517888293954,183.04,1,1,1,161,172,206,69,74,89,2.6843358346229921E-2,3.0669339149011501E-2,4.3605426778316241E-2,0.6,5.5,5.9,7.9,null,975,null,0.9,null,null,0,13.2,15.1,21.85,null,1,1,1,161,172,206,null,0,0,0,1,null,null,null,null,null,null,null,null,null,null,null,null,null,null,1,0.9,0.68,0.8,0.68,0.8,0.8,{"$f":"IF(#REF!/#REF!>data!CN$61,0,IF(#REF!/#REF!=data!CN$61,data!CO$61,IF(#REF!/#REF!>data!CN$62,data!CO$62,IF(#REF!/#REF!>data!CN$63,data!CO$63,IF(#REF!/#REF!>data!CN$64,data!CO$64,IF(#REF!/#REF!>data!CN$65,data!CO$65,IF(#REF!/#REF!>data!CN$66,data!CO$66,IF(#REF!/#REF!=data!CN$66,1,))))))))","v":{"$error":"#REF!"}},"T10",null,null,null,null,null,null,null,null,null,{"$f":"DF58","v":180},{"$f":"BM15","v":21.85},{"$f":"ROUND(IF($BZ$2=1,X15,IF($BZ$2=2,X15*3.412141633,)),0)","v":2126},{"$f":"IF($BZ$2=1,ROUND(AB15,0),IF($BZ$2=2,ROUND(AB15/272.7654,1),))","v":366},{"$f":"IF($BZ$2=1,AF15,IF($BZ$2=2,AF15*0.3346,))","v":1.9530219107940605},{"$f":"IF(BY15=1,ROUND(IF($BZ$2=1,AS15,IF($BZ$2=2,AS15*3.412141633,)),0),\"\")","v":1271},{"$f":"IF(BY15=1,IF($BZ$2=1,ROUND(AV15,0),IF($BZ$2=2,ROUND(AV15/272.7654,1),)),\"\")","v":547},{"$f":"IF(BY15=1,IF($BZ$2=1,AY15,IF($BZ$2=2,AY15*0.3346,)),\"\")","v":4.0914155938597272},{"$f":"L15","v":40.845112497968692},{"$f":"DN61+8","v":48.845112497968692},{"$f":"BC15","v":49.4},{"$f":"DQ58","v":3.9}]
["13511",null,null,1,35,40.5,11,16.5,0,26,30,41,569.16000000000008,1397.1861540381678,1498.3320774196782,1791.4,"N/A",1,1,1,{"$error":"#VALUE!"},769,825,986,{"$error":"#VALUE!"},132,142,170,{"$error":"#VALUE!"},0.11334472324419503,0.13082922026344146,0.18635108830540642,3.969E-4,1.7345999999999999,4,5.7428799999999995E-4,234.01347195356249,250.95431311209123,300.04000000000002,1,1,1,264,283,338,114,122,145,8.4992411910571233E-2,9.7097608150567657E-2,0.13631553267179172,0.5,5.5,5.9,7.9,null,837,null,0.68,null,null,0,13.2,15.1,21.85,null,1,1,1,264,283,338,null,0,0,0,1,null,null,null,null,null,null,null,null,null,null,null,null,null,null,0.8,{"$f":"CO$66-((CO$66-CO$61)*$CN62)","v":0.92},{"$f":"CP$66-((CP$66-CP$61)*$CN62)","v":0.74399999999999999},0.84000000000000008,0.74399999999999999,0.84000000000000008,0.84000000000000008,{"$f":"IF(#REF!/#REF!>data!CN$61,0,IF(#REF!/#REF!=data!CN$61,data!CP$61,IF(#REF!/#REF!>data!CN$62,data!CP$62,IF(#REF!/#REF!>data!CN$63,data!CP$63,IF(#REF!/#REF!>data!CN$64,data!CP$64,IF(#REF!/#REF!>data!CN$65,data!CP$65,IF(#REF!/#REF!>data!CN$66,data!CP$66,IF(#REF!/#REF!=data!CN$66,1,))))))))","v":{"$error":"#REF!"}},"T11",null,null,null,null,null,null,null,null,null,200,{"$f":"BJ16","v":{"$error":"#N/A"}},{"$f":"ROUND(IF($BZ$2=1,U16,IF($BZ$2=2,U16*3.412141633,)),0)","v":{"$error":"#N/A"}},{"$f":"IF($BZ$2=1,ROUND(Y16,0),IF($BZ$2=2,ROUND(Y16/272.7654,1),))","v":{"$error":"#N/A"}},{"$f":"IF($BZ$2=1,AC16,IF($BZ$2=2,AC16*0.3346,))","v":{"$error":"#N/A"}},null,null,null,0,0,0,{"$f":"IF($BZ$2=1,AZ16,IF($BZ$2=2,AZ16/4.54609,))","v":{"$error":"#N/A"}}]
["15011",null,null,1,50,40.5,11,16.5,0,26,30,41,659.6,1397.1861540381678,1498.3320774196782,1791.4,"N/A",1,1,1,{"$error":"#VALUE!"},769,825,986,{"$error":"#VALUE!"},132,142,170,{"$error":"#VALUE!"},0.1244724375256963,0.14345964011041337,0.20360927345982857,3.969E-4,1.7345999999999999,4,5.7428799999999995E-4,234.01347195356249,250.95431311209123,300.04000000000002,1,1,1,264,283,338,114,122,145,9.3621513464093989E-2,0.1068040082104956,0.14941239799591194,0.7,5.5,5.9,7.9,null,970,null,0.68,null,null,0,13.2,15.1,21.85,null,1,1,1,264,283,338,null,0,0,0,1,null,null,null,null,null,null,null,null,null,null,null,null,null,null,0.6,{"$f":"CO$66-((CO$66-CO$61)*$CN63)","v":0.94000000000000006},0.80800000000000005,0.88,0.80800000000000005,0.88,0.88,{"$f":"IF(#REF!/#REF!>data!CN$61,0,IF(#REF!/#REF!=data!CN$61,data!CQ$61,IF(#REF!/#REF!>data!CN$62,data!CQ$62,IF(#REF!/#REF!>data!CN$63,data!CQ$63,IF(#REF!/#REF!>data!CN$64,data!CQ$64,IF(#REF!/#REF!>data!CN$65,data!CQ$65,IF(#REF!/#REF!>data!CN$66,data!CQ$66,IF(#REF!/#REF!=data!CN$66,1,))))))))","v":{"$error":"#REF!"}},"T15",null,null,null,null,null,null,null,null,null,{"$f":"DF62","v":200},{"$f":"BK16","v":{"$error":"#N/A"}},{"$f":"ROUND(IF($BZ$2=1,V16,IF($BZ$2=2,V16*3.412141633,)),0)","v":{"$error":"#N/A"}},{"$f":"IF($BZ$2=1,ROUND(Z16,0),IF($BZ$2=2,ROUND(Z16/272.7654,1),))","v":{"$error":"#N/A"}},{"$f":"IF($BZ$2=1,AD16,IF($BZ$2=2,AD16*0.3346,))","v":{"$error":"#N/A"}},{"$f":"IF(BY16=1,ROUND(IF($BZ$2=1,AQ16,IF($BZ$2=2,AQ16*3.412141633,)),0),\"\")","v":{"$error":"#N/A"}},{"$f":"IF(BY16=1,IF($BZ$2=1,ROUND(AT16,0),IF($BZ$2=2,ROUND(AT16/272.7654,1),)),\"\")","v":{"$error":"#N/A"}},{"$f":"IF(BY16=1,IF($BZ$2=1,AW16,IF($BZ$2=2,AW16*0.3346,)),\"\")","v":{"$error":"#N/A"}},{"$f":"J16","v":{"$error":"#N/A"}},{"$f":"DN63+8","v":{"$error":"#N/A"}},{"$f":"BA16","v":{"$error":"#N/A"}},{"$f":"DQ62","v":{"$error":"#N/A"}}]
["16511",null,null,1,65,40.5,11,16.5,0,26,30,41,734.40000000000009,1397.1861540381678,1498.3320774196782,1791.4,"N/A",1,1,1,{"$error":"#VALUE!"},769,825,986,{"$error":"#VALUE!"},132,142,170,{"$error":"#VALUE!"},0.13560015180719756,0.15609005995738529,0.22086745861425072,3.969E-4,1.7345999999999999,4,5.7428799999999995E-4,{"$f":"AK63*(1-(($E64-50)*0.005))","v":216.46246155704532},{"$f":"AL63*(1-(($E64-50)*0.005))","v":232.13273962868439},{"$f":"AM63*(1-(($E64-50)*0.005))","v":277.53700000000003},1,1,1,244,261,313,105,112,135,8.7287975860512582E-2,9.8826638113981513E-2,0.14160035651935457,0.9,5.5,5.9,7.9,null,1080,null,0.68,null,null,0,13.2,15.1,21.85,null,1,1,1,244,261,313,null,0,0,0,1,null,null,null,null,null,null,null,null,null,null,null,null,null,null,0.4,0.96,0.872,0.92,0.872,0.92,0.92,{"$f":"IF(#REF!/#REF!>data!CN$61,0,IF(#REF!/#REF!=data!CN$61,data!CR$61,IF(#REF!/#REF!>data!CN$62,data!CR$62,IF(#REF!/#REF!>data!CN$63,data!CR$63,IF(#REF!/#REF!>data!CN$64,data!CR$64,IF(#REF!/#REF!>data!CN$65,data!CR$65,IF(#REF!/#REF!>data!CN$66,data!CR$66,IF(#REF!/#REF!=data!CN$66,1,))))))))","v":{"$error":"#REF!"}},"T16",null,null,null,null,null,null,null,null,null,{"$f":"DF62","v":200},{"$f":"BL16","v":{"$error":"#N/A"}},{"$f":"ROUND(IF($BZ$2=1,W16,IF($BZ$2=2,W16*3.412141633,)),0)","v":{"$error":"#N/A"}},{"$f":"IF($BZ$2=1,ROUND(AA16,0),IF($BZ$2=2,ROUND(AA16/272.7654,1),))","v":{"$error":"#N/A"}},{"$f":"IF($BZ$2=1,AE16,IF($BZ$2=2,AE16*0.3346,))","v":{"$error":"#N/A"}},{"$f":"IF(BY16=1,ROUND(IF($BZ$2=1,AR16,IF($BZ$2=2,AR16*3.412141633,)),0),\"\")","v":{"$error":"#N/A"}},{"$f":"IF(BY16=1,IF($BZ$2=1,ROUND(AU16,0),IF($BZ$2=2,ROUND(AU16/272.7654,1),)),\"\")","v":{"$error":"#N/A"}},{"$f":"IF(BY16=1,IF($BZ$2=1,AX16,IF($BZ$2=2,AX16*0.3346,)),\"\")","v":{"$error":"#N/A"}},{"$f":"K16","v":{"$error":"#N/A"}},{"$f":"DN64+8","v":{"$error":"#N/A"}},{"$f":"BB16","v":{"$error":"#N/A"}},{"$f":"DQ62","v":{"$error":"#N/A"}}]
["19511",null,null,1,95,40.5,11,16.5,0,26,30,41,854.7600000000001,1397.1861540381678,1498.3320774196782,1791.4,"N/A",1,1,1,{"$error":"#VALUE!"},769,825,986,{"$error":"#VALUE!"},132,142,170,{"$error":"#VALUE!"},0.15785558037020006,0.18135089965132914,0.25538382892309502,3.969E-4,1.7345999999999999,4,5.7428799999999995E-4,{"$f":"AK63*(1-(($E65-50)*0.005))","v":181.36044076401095},{"$f":"AL63*(1-(($E65-50)*0.005))","v":194.48959266187072},{"$f":"AM63*(1-(($E65-50)*0.005))","v":232.53100000000003},1,1,1,204,219,262,88,94,113,7.3177281539777289E-2,8.2910229767797508E-2,0.11752802081187021,1.3,5.5,5.9,7.9,null,1257,null,0.68,null,null,0,13.2,15.1,21.85,null,1,1,1,204,219,262,null,0,0,0,1,null,null,null,null,null,null,null,null,null,null,null,null,null,null,0.2,0.98,0.93600000000000005,0.96,0.93600000000000005,0.96,0.96,{"$f":"IF(#REF!/#REF!>data!CN$61,0,IF(#REF!/#REF!=data!CN$61,data!CS$61,IF(#REF!/#REF!>data!CN$62,data!CS$62,IF(#REF!/#REF!>data!CN$63,data!CS$63,IF(#REF!/#REF!>data!CN$64,data!CS$64,IF(#REF!/#REF!>data!CN$65,data!CS$65,IF(#REF!/#REF!>data!CN$66,data!CS$66,IF(#REF!/#REF!=data!CN$66,1,))))))))","v":{"$error":"#REF!"}},"T20",null,null,null,null,null,null,null,null,null,{"$f":"DF62","v":200},{"$f":"BM16","v":{"$error":"#N/A"}},{"$f":"ROUND(IF($BZ$2=1,X16,IF($BZ$2=2,X16*3.412141633,)),0)","v":{"$error":"#N/A"}},{"$f":"IF($BZ$2=1,ROUND(AB16,0),IF($BZ$2=2,ROUND(AB16/272.7654,1),))","v":{"$error":"#N/A"}},{"$f":"IF($BZ$2=1,AF16,IF($BZ$2=2,AF16*0.3346,))","v":{"$error":"#N/A"}},{"$f":"IF(BY16=1,ROUND(IF($BZ$2=1,AS16,IF($BZ$2=2,AS16*3.412141633,)),0),\"\")","v":{"$error":"#N/A"}},{"$f":"IF(BY16=1,IF($BZ$2=1,ROUND(AV16,0),IF($BZ$2=2,ROUND(AV16/272.7654,1),)),\"\")","v":{"$error":"#N/A"}},{"$f":"IF(BY16=1,IF($BZ$2=1,AY16,IF($BZ$2=2,AY16*0.3346,)),\"\")","v":{"$error":"#N/A"}},{"$f":"L16","v":{"$error":"#N/A"}},{"$f":"DN65+8","v":{"$error":"#N/A"}},{"$f":"BC16","v":{"$error":"#N/A"}},{"$f":"DQ62","v":{"$error":"#N/A"}}]
["13515",null,null,1,35,40.5,15,16.5,0,26,30,41.1,823.2,1070.8273541699666,1149.5094620994566,1521.41,"N/A",1,1,1,{"$error":"#VALUE!"},589,633,837,{"$error":"#VALUE!"},101,109,144,{"$error":"#VALUE!"},4.8569236653053655E-2,5.6509890174333069E-2,9.8273710694899818E-2,2.0829999999999999E-4,1.724,2,4.6182900000000003E-4,135.09481491470635,145.02129350758159,191.94,1,1,1,152,163,216,65,70,93,2.0244759385978153E-2,2.345276684657006E-2,4.1226701338362669E-2,0.4,5.0999999999999996,5.6,7.2,null,1029,null,0.8,null,null,0,12.3,14.4,21.85,null,1,1,1,152,163,216,null,0,0,0,1,null,null,null,null,null,null,null,null,null,null,null,null,null,null,0,1,1,1,1,1,1,{"$f":"IF(#REF!/#REF!>data!CN$61,0,IF(#REF!/#REF!=data!CN$61,data!CT$61,IF(#REF!/#REF!>data!CN$62,data!CT$62,IF(#REF!/#REF!>data!CN$63,data!CT$63,IF(#REF!/#REF!>data!CN$64,data!CT$64,IF(#REF!/#REF!>data!CN$65,data!CT$65,IF(#REF!/#REF!>data!CN$66,data!CT$66,IF(#REF!/#REF!=data!CN$66,1,))))))))","v":{"$error":"#REF!"}},"T21",null,null,null,null,null,null,null,null,null,220,{"$f":"BJ17","v":{"$error":"#N/A"}},{"$f":"ROUND(IF($BZ$2=1,U17,IF($BZ$2=2,U17*3.412141633,)),0)","v":{"$error":"#N/A"}},{"$f":"IF($BZ$2=1,ROUND(Y17,0),IF($BZ$2=2,ROUND(Y17/272.7654,1),))","v":{"$error":"#N/A"}},{"$f":"IF($BZ$2=1,AC17,IF($BZ$2=2,AC17*0.3346,))","v":{"$error":"#N/A"}},null,null,null,0,0,0,{"$f":"IF($BZ$2=1,AZ17,IF($BZ$2=2,AZ17/4.54609,))","v":{"$error":"#N/A"}}]
["15015",null,null,1,50,40.5,15,16.5,0,26,30,41.1,975.82735416996661,1070.8273541699666,1149.5094620994566,1521.41,"N/A",1,1,1,{"$error":"#VALUE!"},589,633,837,{"$error":"#VALUE!"},101,109,144,{"$error":"#VALUE!"},5.0317016183772344E-2,5.8503131500158123E-2,0.101495176581089,2.0829999999999999E-4,1.724,2,4.6182900000000003E-4,135.09481491470635,145.02129350758159,191.94,1,1,1,152,163,216,65,70,93,2.1062280969214673E-2,2.4381702477567675E-2,4.2742708328092759E-2,0.5,5.0999999999999996,5.6,7.2,null,1214,null,0.8,null,null,0,12.3,14.4,21.85,null,1,1,1,152,163,216,null,0,0,0,1,null,null,null,null,null,null,null,null,null,null,null,null,null,null,null,null,null,null,null,null,null,null,null,null,null,null,null,null,null,null,null,null,{"$f":"DF66","v":220},{"$f":"BK17","v":{"$error":"#N/A"}},{"$f":"ROUND(IF($BZ$2=1,V17,IF($BZ$2=2,V17*3.412141633,)),0)","v":{"$error":"#N/A"}},{"$f":"IF($BZ$2=1,ROUND(Z17,0),IF($BZ$2=2,ROUND(Z17/272.7654,1),))","v":{"$error":"#N/A"}},{"$f":"IF($BZ$2=1,AD17,IF($BZ$2=2,AD17*0.3346,))","v":{"$error":"#N/A"}},{"$f":"IF(BY17=1,ROUND(IF($BZ$2=1,AQ17,IF($BZ$2=2,AQ17*3.412141633,)),0),\"\")","v":{"$error":"#N/A"}},{"$f":"IF(BY17=1,IF($BZ$2=1,ROUND(AT17,0),IF($BZ$2=2,ROUND(AT17/272.7654,1),)),\"\")","v":{"$error":"#N/A"}},{"$f":"IF(BY17=1,IF($BZ$2=1,AW17,IF($BZ$2=2,AW17*0.3346,)),\"\")","v":{"$error":"#N/A"}},{"$f":"J17","v":{"$error":"#N/A"}},{"$f":"DN67+8","v":{"$error":"#N/A"}},{"$f":"BA17","v":{"$error":"#N/A"}},{"$f":"DQ66","v":{"$error":"#N/A"}}]
["16515",null,null,1,65,40.5,15,16.5,0,26,30,41.1,975.82735416996661,1070.8273541699666,1149.5094620994566,1521.41,"N/A",1,1,1,{"$error":"#VALUE!"},589,633,837,{"$error":"#VALUE!"},101,109,144,{"$error":"#VALUE!"},5.2064795714491026E-2,6.049637282598317E-2,0.1047166424672782,2.0829999999999999E-4,1.724,2,4.6182900000000003E-4,135.09481491470635,145.02129350758159,191.94,1,1,1,152,163,216,65,70,93,2.1879802552451196E-2,2.5310638108565289E-2,4.4258715317822855E-2,0.7,5.0999999999999996,5.6,7.2,null,1345,null,0.8,null,null,0,12.3,14.4,21.85,null,1,1,1,152,163,216,null,0,0,0,1,null,null,null,null,null,null,null,null,null,null,null,null,null,null,null,null,null,null,null,null,null,null,null,null,null,null,null,null,null,null,null,null,{"$f":"DF66","v":220},{"$f":"BL17","v":{"$error":"#N/A"}},{"$f":"ROUND(IF($BZ$2=1,W17,IF($BZ$2=2,W17*3.412141633,)),0)","v":{"$error":"#N/A"}},{"$f":"IF($BZ$2=1,ROUND(AA17,0),IF($BZ$2=2,ROUND(AA17/272.7654,1),))","v":{"$error":"#N/A"}},{"$f":"IF($BZ$2=1,AE17,IF($BZ$2=2,AE17*0.3346,))","v":{"$error":"#N/A"}},{"$f":"IF(BY17=1,ROUND(IF($BZ$2=1,AR17,IF($BZ$2=2,AR17*3.412141633,)),0),\"\")","v":{"$error":"#N/A"}},{"$f":"IF(BY17=1,IF($BZ$2=1,ROUND(AU17,0),IF($BZ$2=2,ROUND(AU17/272.7654,1),)),\"\")","v":{"$error":"#N/A"}},{"$f":"IF(BY17=1,IF($BZ$2=1,AX17,IF($BZ$2=2,AX17*0.3346,)),\"\")","v":{"$error":"#N/A"}},{"$f":"K17","v":{"$error":"#N/A"}},{"$f":"DN68+8","v":{"$error":"#N/A"}},{"$f":"BB17","v":{"$error":"#N/A"}},{"$f":"DQ66","v":{"$error":"#N/A"}}]
["19515",null,null,1,95,40.5,15,16.5,0,26,30,41.1,975.82735416996661,1070.8273541699666,1149.5094620994566,1521.41,"N/A",1,1,1,{"$error":"#VALUE!"},589,633,837,{"$error":"#VALUE!"},101,109,144,{"$error":"#VALUE!"},5.556035477592839E-2,6.4482855477633272E-2,0.11115957423965658,2.0829999999999999E-4,1.724,2,4.6182900000000003E-4,135.09481491470635,145.02129350758159,191.94,1,1,1,152,163,216,65,70,93,2.3514845718924236E-2,2.716850937056052E-2,4.7290729297283049E-2,1,5.0999999999999996,5.6,7.2,null,1502,null,0.8,null,null,0,12.3,14.4,21.85,null,1,1,1,152,163,216,null,0,0,0,1,null,null,null,null,null,null,null,null,null,null,null,null,null,null,null,null,null,null,null,null,null,null,null,null,null,null,null,null,null,null,null,null,{"$f":"DF66","v":220},{"$f":"BM17","v":{"$error":"#N/A"}},{"$f":"ROUND(IF($BZ$2=1,X17,IF($BZ$2=2,X17*3.412141633,)),0)","v":{"$error":"#N/A"}},{"$f":"IF($BZ$2=1,ROUND(AB17,0),IF($BZ$2=2,ROUND(AB17/272.7654,1),))","v":{"$error":"#N/A"}},{"$f":"IF($BZ$2=1,AF17,IF($BZ$2=2,AF17*0.3346,))","v":{"$error":"#N/A"}},{"$f":"IF(BY17=1,ROUND(IF($BZ$2=1,AS17,IF($BZ$2=2,AS17*3.412141633,)),0),\"\")","v":{"$error":"#N/A"}},{"$f":"IF(BY17=1,IF($BZ$2=1,ROUND(AV17,0),IF($BZ$2=2,ROUND(AV17/272.7654,1),)),\"\")","v":{"$error":"#N/A"}},{"$f":"IF(BY17=1,IF($BZ$2=1,AY17,IF($BZ$2=2,AY17*0.3346,)),\"\")","v":{"$error":"#N/A"}},{"$f":"L17","v":{"$error":"#N/A"}},{"$f":"DN69+8","v":{"$error":"#N/A"}},{"$f":"BC17","v":{"$error":"#N/A"}},{"$f":"DQ66","v":{"$error":"#N/A"}}]
["13516",null,null,1,35,40.5,16,16.5,0,26,30,41.1,758.2,1627.62717250317,1747.2217424001376,2312.5,"N/A",1,1,1,{"$error":"#VALUE!"},896,962,1273,{"$error":"#VALUE!"},154,165,219,{"$error":"#VALUE!"},0.33364328371428481,0.38279377197938957,0.67286813701791259,2.0829999999999999E-4,1.724,4,1.392796E-3,219.59769851718443,235.73326859625641,312,1,1,1,247,265,351,106,114,151,0.15858225642717025,0.18330250073527798,0.32082280821925219,0.7,5.0999999999999996,5.6,7.2,null,1115,null,0.68,null,null,0,12.3,14.4,21.85,null,1,1,1,247,265,351,null,0,0,0,1,null,null,null,null,null,null,null,null,null,null,null,null,null,null,"Lengths","Calculation factors for lower fan settings",null,null,null,null,null,null,null,null,null,null,null,null,null,null,null,null,240,{"$f":"BJ18","v":{"$error":"#N/A"}},{"$f":"ROUND(IF($BZ$2=1,U18,IF($BZ$2=2,U18*3.412141633,)),0)","v":{"$error":"#N/A"}},{"$f":"IF($BZ$2=1,ROUND(Y18,0),IF($BZ$2=2,ROUND(Y18/272.7654,1),))","v":{"$error":"#N/A"}},{"$f":"IF($BZ$2=1,AC18,IF($BZ$2=2,AC18*0.3346,))","v":{"$error":"#N/A"}},null,null,null,0,0,0,{"$f":"IF($BZ$2=1,AZ18,IF($BZ$2=2,AZ18/4.54609,))","v":{"$error":"#N/A"}}]
["15016",null,null,1,50,40.5,16,16.5,0,26,30,41.1,903.72,1627.62717250317,1747.2217424001376,2312.5,"N/A",1,1,1,{"$error":"#VALUE!"},896,962,1273,{"$error":"#VALUE!"},154,165,219,{"$error":"#VALUE!"},0.34087684755517184,0.39094098207603256,0.68614184472357698,2.0829999999999999E-4,1.724,4,1.392796E-3,219.59769851718443,235.73326859625641,312,1,1,1,247,265,351,106,114,151,0.16238147174637194,0.18760945797203377,0.32781515330064936,1,5.0999999999999996,5.6,7.2,null,1329,null,0.68,null,null,0,12.3,14.4,21.85,null,1,1,1,247,265,351,null,0,0,0,1,null,null,null,null,null,null,null,null,null,null,null,null,null,null,null,"T10",null,"T11",null,"T15",null,"T16",null,"T20",null,"T21",null,null,null,null,null,null,{"$f":"DF70","v":240},{"$f":"BK18","v":{"$error":"#N/A"}},{"$f":"ROUND(IF($BZ$2=1,V18,IF($BZ$2=2,V18*3.412141633,)),0)","v":{"$error":"#N/A"}},{"$f":"IF($BZ$2=1,ROUND(Z18,0),IF($BZ$2=2,ROUND(Z18/272.7654,1),))","v":{"$error":"#N/A"}},{"$f":"IF($BZ$2=1,AD18,IF($BZ$2=2,AD18*0.3346,))","v":{"$error":"#N/A"}},{"$f":"IF(BY18=1,ROUND(IF($BZ$2=1,AQ18,IF($BZ$2=2,AQ18*3.412141633,)),0),\"\")","v":{"$error":"#N/A"}},{"$f":"IF(BY18=1,IF($BZ$2=1,ROUND(AT18,0),IF($BZ$2=2,ROUND(AT18/272.7654,1),)),\"\")","v":{"$error":"#N/A"}},{"$f":"IF(BY18=1,IF($BZ$2=1,AW18,IF($BZ$2=2,AW18*0.3346,)),\"\")","v":{"$error":"#N/A"}},{"$f":"J18","v":{"$error":"#N/A"}},{"$f":"DN71+8","v":{"$error":"#N/A"}},{"$f":"BA18","v":{"$error":"#N/A"}},{"$f":"DQ70","v":{"$error":"#N/A"}}]
["16516",null,null,1,65,40.5,16,16.5,0,26,30,41.1,1034.28,1627.62717250317,1747.2217424001376,2312.5,"N/A",1,1,1,{"$error":"#VALUE!"},896,962,1273,{"$error":"#VALUE!"},154,165,219,{"$error":"#VALUE!"},0.34811041139605886,0.39908819217267549,0.69941555242924147,2.0829999999999999E-4,1.724,4,1.392796E-3,{"$f":"AK71*(1-(($E72-50)*0.005))","v":203.12787112839561},{"$f":"AL71*(1-(($E72-50)*0.005))","v":218.05327345153719},{"$f":"AM71*(1-(($E72-50)*0.005))","v":288.60000000000002},1,1,1,229,246,325,98,106,140,0.14228321402146105,0.16618068706557357,0.28823208064217454,1.3,5.0999999999999996,5.6,7.2,null,1521,null,0.68,null,null,0,12.3,14.4,21.85,null,1,1,1,229,246,325,null,0,0,0,1,null,null,null,null,null,null,null,null,null,null,null,null,null,null,null,"S2","S1","S2","S1","S2","S1","S2","S1","S2","S1","S2","S1",null,null,null,null,null,{"$f":"DF70","v":240},{"$f":"BL18","v":{"$error":"#N/A"}},{"$f":"ROUND(IF($BZ$2=1,W18,IF($BZ$2=2,W18*3.412141633,)),0)","v":{"$error":"#N/A"}},{"$f":"IF($BZ$2=1,ROUND(AA18,0),IF($BZ$2=2,ROUND(AA18/272.7654,1),))","v":{"$error":"#N/A"}},{"$f":"IF($BZ$2=1,AE18,IF($BZ$2=2,AE18*0.3346,))","v":{"$error":"#N/A"}},{"$f":"IF(BY18=1,ROUND(IF($BZ$2=1,AR18,IF($BZ$2=2,AR18*3.412141633,)),0),\"\")","v":{"$error":"#N/A"}},{"$f":"IF(BY18=1,IF($BZ$2=1,ROUND(AU18,0),IF($BZ$2=2,ROUND(AU18/272.7654,1),)),\"\")","v":{"$error":"#N/A"}},{"$f":"IF(BY18=1,IF($BZ$2=1,AX18,IF($BZ$2=2,AX18*0.3346,)),\"\")","v":{"$error":"#N/A"}},{"$f":"K18","v":{"$error":"#N/A"}},{"$f":"DN72+8","v":{"$error":"#N/A"}},{"$f":"BB18","v":{"$error":"#N/A"}},{"$f":"DQ70","v":{"$error":"#N/A"}}]
["19516",null,null,1,95,40.5,16,16.5,0,26,30,41.1,1274.3200000000002,1627.62717250317,1747.2217424001376,2312.5,"N/A",1,1,1,{"$error":"#VALUE!"},896,962,1273,{"$error":"#VALUE!"},154,165,219,{"$error":"#VALUE!"},0.36257753907783286,0.41538261236596147,0.72596296784057035,2.0829999999999999E-4,1.724,4,1.392796E-3,{"$f":"AK71*(1-(($E73-50)*0.005))","v":170.18821635081792},{"$f":"AL71*(1-(($E73-50)*0.005))","v":182.69328316209871},{"$f":"AM71*(1-(($E73-50)*0.005))","v":241.8},1,1,1,192,206,272,83,89,117,0.10742135210894088,0.12321974821381734,0.21104929108703993,1.9,5.0999999999999996,5.6,7.2,null,1874,null,0.68,null,null,0,12.3,14.4,21.85,null,1,1,1,192,206,272,null,0,0,0,1,null,null,null,null,null,null,null,null,null,null,null,null,null,null,50,0.85518696133680483,0.79918429718355943,0.85518696133680483,0.79918429718355943,null,null,null,null,null,null,null,null,null,null,null,null,null,{"$f":"DF70","v":240},{"$f":"BM18","v":{"$error":"#N/A"}},{"$f":"ROUND(IF($BZ$2=1,X18,IF($BZ$2=2,X18*3.412141633,)),0)","v":{"$error":"#N/A"}},{"$f":"IF($BZ$2=1,ROUND(AB18,0),IF($BZ$2=2,ROUND(AB18/272.7654,1),))","v":{"$error":"#N/A"}},{"$f":"IF($BZ$2=1,AF18,IF($BZ$2=2,AF18*0.3346,))","v":{"$error":"#N/A"}},{"$f":"IF(BY18=1,ROUND(IF($BZ$2=1,AS18,IF($BZ$2=2,AS18*3.412141633,)),0),\"\")","v":{"$error":"#N/A"}},{"$f":"IF(BY18=1,IF($BZ$2=1,ROUND(AV18,0),IF($BZ$2=2,ROUND(AV18/272.7654,1),)),\"\")","v":{"$error":"#N/A"}},{"$f":"IF(BY18=1,IF($BZ$2=1,AY18,IF($BZ$2=2,AY18*0.3346,)),\"\")","v":{"$error":"#N/A"}},{"$f":"L18","v":{"$error":"#N/A"}},{"$f":"DN73+8","v":{"$error":"#N/A"}},{"$f":"BC18","v":{"$error":"#N/A"}},{"$f":"DQ70","v":{"$error":"#N/A"}}]
["13520",null,null,1,35,40.5,20,21.5,0,26,30,41.1,1153.6000000000001,1509.840819712653,1619.1421060355642,1935.84,"N/A",1,1,1,{"$error":"#VALUE!"},831,891,1065,{"$error":"#VALUE!"},143,153,183,{"$error":"#VALUE!"},7.8122927136477713E-2,8.9374756532848446E-2,0.12765297047706625,1.2760000000000001E-4,1.7219,2,3.76611E-4,170.52628152222005,182.87112058001478,218.64000000000001,1,1,1,192,206,246,83,89,106,2.6464404188652701E-2,3.0405923569736745E-2,4.3052207815074114E-2,0.5,5.0999999999999996,5.6,7.2,null,1442,null,0.8,null,null,0,12.3,14.4,21.85,null,1,1,1,192,206,246,null,0,0,0,1,null,null,null,null,null,null,null,null,null,null,null,null,null,null,60,0.8452517014716241,0.78929861482598995,0.8452517014716241,0.78929861482598995,0.75555534806492441,0.70383877729866806,0.75555534806492441,0.70383877729866806,0.8452517014716241,0.78929861482598995,0.75555534806492441,0.70383877729866806,null,null,null,null,null,260,{"$f":"BJ19","v":{"$error":"#N/A"}},{"$f":"ROUND(IF($BZ$2=1,U19,IF($BZ$2=2,U19*3.412141633,)),0)","v":{"$error":"#N/A"}},{"$f":"IF($BZ$2=1,ROUND(Y19,0),IF($BZ$2=2,ROUND(Y19/272.7654,1),))","v":{"$error":"#N/A"}},{"$f":"IF($BZ$2=1,AC19,IF($BZ$2=2,AC19*0.3346,))","v":{"$error":"#N/A"}},null,null,null,0,0,0,{"$f":"IF($BZ$2=1,AZ19,IF($BZ$2=2,AZ19/4.54609,))","v":{"$error":"#N/A"}}]
["15020",null,null,1,50,40.5,20,21.5,0,26,30,41.1,1358.4,1509.840819712653,1619.1421060355642,1935.84,"N/A",1,1,1,{"$error":"#VALUE!"},831,891,1065,{"$error":"#VALUE!"},143,153,183,{"$error":"#VALUE!"},8.0052544185709062E-2,9.154255137943712E-2,0.13060358541119216,1.2760000000000001E-4,1.7219,2,3.76611E-4,170.52628152222005,182.87112058001478,218.64000000000001,1,1,1,192,206,246,83,89,106,2.722064232053574E-2,3.1258734302214958E-2,4.4204525359448472E-2,0.7,5.0999999999999996,5.6,7.2,null,1698,null,0.8,null,null,0,12.3,14.4,21.85,null,1,1,1,192,206,246,null,0,0,0,1,null,null,null,null,null,null,null,null,null,null,null,null,null,null,70,0.83640285665941616,0.77994091438995627,0.83640285665941616,0.77994091438995627,0.75555534806492441,0.70383877729866806,0.75555534806492441,0.70383877729866806,0.83640285665941616,0.77994091438995627,0.75555534806492441,0.70383877729866806,null,null,null,null,null,{"$f":"DF74","v":260},{"$f":"BK19","v":{"$error":"#N/A"}},{"$f":"ROUND(IF($BZ$2=1,V19,IF($BZ$2=2,V19*3.412141633,)),0)","v":{"$error":"#N/A"}},{"$f":"IF($BZ$2=1,ROUND(Z19,0),IF($BZ$2=2,ROUND(Z19/272.7654,1),))","v":{"$error":"#N/A"}},{"$f":"IF($BZ$2=1,AD19,IF($BZ$2=2,AD19*0.3346,))","v":{"$error":"#N/A"}},{"$f":"IF(BY19=1,ROUND(IF($BZ$2=1,AQ19,IF($BZ$2=2,AQ19*3.412141633,)),0),\"\")","v":{"$error":"#N/A"}},{"$f":"IF(BY19=1,IF($BZ$2=1,ROUND(AT19,0),IF($BZ$2=2,ROUND(AT19/272.7654,1),)),\"\")","v":{"$error":"#N/A"}},{"$f":"IF(BY19=1,IF($BZ$2=1,AW19,IF($BZ$2=2,AW19*0.3346,)),\"\")","v":{"$error":"#N/A"}},{"$f":"J19","v":{"$error":"#N/A"}},{"$f":"DN75+8","v":{"$error":"#N/A"}},{"$f":"BA19","v":{"$error":"#N/A"}},{"$f":"DQ74","v":{"$error":"#N/A"}}]
["16520",null,null,1,65,40.5,20,21.5,0,26,30,41.1,1414.840819712653,1509.840819712653,1619.1421060355642,1935.84,"N/A",1,1,1,{"$error":"#VALUE!"},831,891,1065,{"$error":"#VALUE!"},143,153,183,{"$error":"#VALUE!"},8.1982161234940412E-2,9.3710346226025795E-2,0.13355420034531809,1.2760000000000001E-4,1.7219,2,3.76611E-4,170.52628152222005,182.87112058001478,218.64000000000001,1,1,1,192,206,246,83,89,106,2.7976880452418775E-2,3.211154503469317E-2,4.535684290382283E-2,0.9,5.0999999999999996,5.6,7.2,null,1880,null,0.8,null,null,0,12.3,14.4,21.85,null,1,1,1,192,206,246,null,0,0,0,1,null,null,null,null,null,null,null,null,null,null,null,null,null,null,80,0.82845886137907021,0.77133936020072458,0.82845886137907021,0.77133936020072458,0.74531089933631789,0.69504144552059222,0.74531089933631789,0.69504144552059222,0.82845886137907021,0.77133936020072458,0.74531089933631789,0.69504144552059222,null,null,null,null,null,{"$f":"DF74","v":260},{"$f":"BL19","v":{"$error":"#N/A"}},{"$f":"ROUND(IF($BZ$2=1,W19,IF($BZ$2=2,W19*3.412141633,)),0)","v":{"$error":"#N/A"}},{"$f":"IF($BZ$2=1,ROUND(AA19,0),IF($BZ$2=2,ROUND(AA19/272.7654,1),))","v":{"$error":"#N/A"}},{"$f":"IF($BZ$2=1,AE19,IF($BZ$2=2,AE19*0.3346,))","v":{"$error":"#N/A"}},{"$f":"IF(BY19=1,ROUND(IF($BZ$2=1,AR19,IF($BZ$2=2,AR19*3.412141633,)),0),\"\")","v":{"$error":"#N/A"}},{"$f":"IF(BY19=1,IF($BZ$2=1,ROUND(AU19,0),IF($BZ$2=2,ROUND(AU19/272.7654,1),)),\"\")","v":{"$error":"#N/A"}},{"$f":"IF(BY19=1,IF($BZ$2=1,AX19,IF($BZ$2=2,AX19*0.3346,)),\"\")","v":{"$error":"#N/A"}},{"$f":"K19","v":{"$error":"#N/A"}},{"$f":"DN76+8","v":{"$error":"#N/A"}},{"$f":"BB19","v":{"$error":"#N/A"}},{"$f":"DQ74","v":{"$error":"#N/A"}}]
["19520",null,null,1,95,40.5,20,21.5,0,26,30,41.1,1414.840819712653,1509.840819712653,1619.1421060355642,1935.84,"N/A",1,1,1,{"$error":"#VALUE!"},831,891,1065,{"$error":"#VALUE!"},143,153,183,{"$error":"#VALUE!"},8.5841395333403098E-2,9.8045935919203159E-2,0.1394554302135699,1.2760000000000001E-4,1.7219,2,3.76611E-4,170.52628152222005,182.87112058001478,218.64000000000001,1,1,1,192,206,246,83,89,106,2.9489356716184849E-2,3.3817166499649595E-2,4.7661477992571546E-2,1.3,5.0999999999999996,5.6,7.2,null,2094,null,0.8,null,null,0,12.3,14.4,21.85,null,1,1,1,192,206,246,null,0,0,0,1,null,null,null,null,null,null,null,null,null,null,null,null,null,null,90,0.8212441545440573,0.76343880970753542,0.8212441545440573,0.76343880970753542,0.73429802939744349,0.68540112539231846,0.73429802939744349,0.68540112539231846,0.8212441545440573,0.76343880970753542,0.73429802939744349,0.68540112539231846,null,null,null,null,null,{"$f":"DF74","v":260},{"$f":"BM19","v":{"$error":"#N/A"}},{"$f":"ROUND(IF($BZ$2=1,X19,IF($BZ$2=2,X19*3.412141633,)),0)","v":{"$error":"#N/A"}},{"$f":"IF($BZ$2=1,ROUND(AB19,0),IF($BZ$2=2,ROUND(AB19/272.7654,1),))","v":{"$error":"#N/A"}},{"$f":"IF($BZ$2=1,AF19,IF($BZ$2=2,AF19*0.3346,))","v":{"$error":"#N/A"}},{"$f":"IF(BY19=1,ROUND(IF($BZ$2=1,AS19,IF($BZ$2=2,AS19*3.412141633,)),0),\"\")","v":{"$error":"#N/A"}},{"$f":"IF(BY19=1,IF($BZ$2=1,ROUND(AV19,0),IF($BZ$2=2,ROUND(AV19/272.7654,1),)),\"\")","v":{"$error":"#N/A"}},{"$f":"IF(BY19=1,IF($BZ$2=1,AY19,IF($BZ$2=2,AY19*0.3346,)),\"\")","v":{"$error":"#N/A"}},{"$f":"L19","v":{"$error":"#N/A"}},{"$f":"DN77+8","v":{"$error":"#N/A"}},{"$f":"BC19","v":{"$error":"#N/A"}},{"$f":"DQ74","v":{"$error":"#N/A"}}]
["13521",null,null,1,35,40.5,21,21.5,0,26,30,41.1,1184,1977.8291945358951,2123.1558613833213,2810.06,"N/A",1,1,1,{"$error":"#VALUE!"},1088,1168,1546,{"$error":"#VALUE!"},187,201,266,{"$error":"#VALUE!"},0.18462651102864869,0.21311276817222599,0.37198298091223903,1.2760000000000001E-4,1.7219,4,5.1420100000000005E-4,240.30463534531125,257.96170693632649,341.42,1,1,1,271,291,385,117,125,166,7.2732766625888928E-2,8.2941130791281681E-2,0.14571121666438436,0.9,5.0999999999999996,5.6,7.2,null,1480,null,0.8,null,null,0,12.3,14.4,21.85,null,1,1,1,271,291,385,null,0,0,0,1,null,null,null,null,null,null,null,null,null,null,null,null,null,null,100,0.81466996609637188,0.75619868948084668,0.81466996609637188,0.75619868948084668,0.72541359909535208,0.67746340042029107,0.72541359909535208,0.67746340042029107,0.81466996609637188,0.75619868948084668,0.72541359909535208,0.67746340042029107,null,null,null,null,null,280,{"$f":"BJ20","v":{"$error":"#N/A"}},{"$f":"ROUND(IF($BZ$2=1,U20,IF($BZ$2=2,U20*3.412141633,)),0)","v":{"$error":"#N/A"}},{"$f":"IF($BZ$2=1,ROUND(Y20,0),IF($BZ$2=2,ROUND(Y20/272.7654,1),))","v":{"$error":"#N/A"}},{"$f":"IF($BZ$2=1,AC20,IF($BZ$2=2,AC20*0.3346,))","v":{"$error":"#N/A"}},null,null,null,0,0,0,{"$f":"IF($BZ$2=1,AZ20,IF($BZ$2=2,AZ20/4.54609,))","v":{"$error":"#N/A"}}]
["15021",null,null,1,50,40.5,21,21.5,0,26,30,41.1,1445.6000000000001,1977.8291945358951,2123.1558613833213,2810.06,"N/A",1,1,1,{"$error":"#VALUE!"},1088,1168,1546,{"$error":"#VALUE!"},187,201,266,{"$error":"#VALUE!"},0.1907515952221793,0.22004864371768176,0.38321949732736454,1.2760000000000001E-4,1.7219,4,5.1420100000000005E-4,240.30463534531125,257.96170693632649,341.42,1,1,1,271,291,385,117,125,166,7.5464493252361445E-2,8.6002370596826597E-2,0.15070043049126619,1.3,5.0999999999999996,5.6,7.2,null,1807,null,0.8,null,null,0,12.3,14.4,21.85,null,1,1,1,271,291,385,null,0,0,0,1,null,null,null,null,null,null,null,null,null,null,null,null,null,null,110,0.81466996609637188,0.75619868948084668,0.81466996609637188,0.75619868948084668,0.72541359909535208,0.67746340042029107,0.72541359909535208,0.67746340042029107,0.81466996609637188,0.75619868948084668,0.72541359909535208,0.67746340042029107,null,null,null,null,null,{"$f":"DF78","v":280},{"$f":"BK20","v":{"$error":"#N/A"}},{"$f":"ROUND(IF($BZ$2=1,V20,IF($BZ$2=2,V20*3.412141633,)),0)","v":{"$error":"#N/A"}},{"$f":"IF($BZ$2=1,ROUND(Z20,0),IF($BZ$2=2,ROUND(Z20/272.7654,1),))","v":{"$error":"#N/A"}},{"$f":"IF($BZ$2=1,AD20,IF($BZ$2=2,AD20*0.3346,))","v":{"$error":"#N/A"}},{"$f":"IF(BY20=1,ROUND(IF($BZ$2=1,AQ20,IF($BZ$2=2,AQ20*3.412141633,)),0),\"\")","v":{"$error":"#N/A"}},{"$f":"IF(BY20=1,IF($BZ$2=1,ROUND(AT20,0),IF($BZ$2=2,ROUND(AT20/272.7654,1),)),\"\")","v":{"$error":"#N/A"}},{"$f":"IF(BY20=1,IF($BZ$2=1,AW20,IF($BZ$2=2,AW20*0.3346,)),\"\")","v":{"$error":"#N/A"}},{"$f":"J20","v":{"$error":"#N/A"}},{"$f":"DN79+8","v":{"$error":"#N/A"}},{"$f":"BA20","v":{"$error":"#N/A"}},{"$f":"DQ78","v":{"$error":"#N/A"}}]
["16521",null,null,1,65,40.5,21,21.5,0,26,30,41.1,1696.8000000000002,1977.8291945358951,2123.1558613833213,2810.06,"N/A",1,1,1,{"$error":"#VALUE!"},1088,1168,1546,{"$error":"#VALUE!"},187,201,266,{"$error":"#VALUE!"},0.19687667941570988,0.22698451926313759,0.39445601374249006,1.2760000000000001E-4,1.7219,4,5.1420100000000005E-4,{"$f":"AK79*(1-(($E80-50)*0.005))","v":222.28178769441291},{"$f":"AL79*(1-(($E80-50)*0.005))","v":238.614578916102},{"$f":"AM79*(1-(($E80-50)*0.005))","v":315.81350000000003},1,1,1,250,269,356,108,116,153,6.6805472881956221E-2,7.6886893654598942E-2,0.13258731507985161,1.7,5.0999999999999996,5.6,7.2,null,2121,null,0.8,null,null,0,12.3,14.4,21.85,null,1,1,1,250,269,356,null,0,0,0,1,null,null,null,null,null,null,null,null,null,null,null,null,null,null,120,0.80301038786259926,0.74330306539663082,0.80301038786259926,0.74330306539663082,0.71879122259285499,0.67122872584611504,0.71879122259285499,0.67122872584611504,0.80301038786259926,0.74330306539663082,0.71879122259285499,0.67122872584611504,null,null,null,null,null,{"$f":"DF78","v":280},{"$f":"BL20","v":{"$error":"#N/A"}},{"$f":"ROUND(IF($BZ$2=1,W20,IF($BZ$2=2,W20*3.412141633,)),0)","v":{"$error":"#N/A"}},{"$f":"IF($BZ$2=1,ROUND(AA20,0),IF($BZ$2=2,ROUND(AA20/272.7654,1),))","v":{"$error":"#N/A"}},{"$f":"IF($BZ$2=1,AE20,IF($BZ$2=2,AE20*0.3346,))","v":{"$error":"#N/A"}},{"$f":"IF(BY20=1,ROUND(IF($BZ$2=1,AR20,IF($BZ$2=2,AR20*3.412141633,)),0),\"\")","v":{"$error":"#N/A"}},{"$f":"IF(BY20=1,IF($BZ$2=1,ROUND(AU20,0),IF($BZ$2=2,ROUND(AU20/272.7654,1),)),\"\")","v":{"$error":"#N/A"}},{"$f":"IF(BY20=1,IF($BZ$2=1,AX20,IF($BZ$2=2,AX20*0.3346,)),\"\")","v":{"$error":"#N/A"}},{"$f":"K20","v":{"$error":"#N/A"}},{"$f":"DN80+8","v":{"$error":"#N/A"}},{"$f":"BB20","v":{"$error":"#N/A"}},{"$f":"DQ78","v":{"$error":"#N/A"}}]
["19521",null,null,1,95,40.5,21,21.5,0,26,30,41.1,1882.8291945358951,1977.8291945358951,2123.1558613833213,2810.06,"N/A",1,1,1,{"$error":"#VALUE!"},1088,1168,1546,{"$error":"#VALUE!"},187,201,266,{"$error":"#VALUE!"},0.20912684780277108,0.24085627035404916,0.41692904657274099,1.2760000000000001E-4,1.7219,4,5.1420100000000005E-4,{"$f":"AK79*(1-(($E81-50)*0.005))","v":186.23609239261623},{"$f":"AL79*(1-(($E81-50)*0.005))","v":199.92032287565303},{"$f":"AM79*(1-(($E81-50)*0.005))","v":264.60050000000001},1,1,1,210,225,298,90,97,128,5.0160180967576504E-2,5.8042588428378922E-2,9.9696462930484481E-2,2.5,5.0999999999999996,5.6,7.2,null,2744,null,0.8,null,null,0,12.3,14.4,21.85,null,1,1,1,210,225,298,null,0,0,0,1,null,null,null,null,null,null,null,null,null,null,null,null,null,null,140,0.79292312789827257,0.73211718284521199,0.79292312789827257,0.73211718284521199,0.7127093372490777,0.66550507053605756,0.7127093372490777,0.66550507053605756,0.79292312789827257,0.73211718284521199,0.7127093372490777,0.66550507053605756,null,null,null,null,null,{"$f":"DF78","v":280},{"$f":"BM20","v":{"$error":"#N/A"}},{"$f":"ROUND(IF($BZ$2=1,X20,IF($BZ$2=2,X20*3.412141633,)),0)","v":{"$error":"#N/A"}},{"$f":"IF($BZ$2=1,ROUND(AB20,0),IF($BZ$2=2,ROUND(AB20/272.7654,1),))","v":{"$error":"#N/A"}},{"$f":"IF($BZ$2=1,AF20,IF($BZ$2=2,AF20*0.3346,))","v":{"$error":"#N/A"}},{"$f":"IF(BY20=1,ROUND(IF($BZ$2=1,AS20,IF($BZ$2=2,AS20*3.412141633,)),0),\"\")","v":{"$error":"#N/A"}},{"$f":"IF(BY20=1,IF($BZ$2=1,ROUND(AV20,0),IF($BZ$2=2,ROUND(AV20/272.7654,1),)),\"\")","v":{"$error":"#N/A"}},{"$f":"IF(BY20=1,IF($BZ$2=1,AY20,IF($BZ$2=2,AY20*0.3346,)),\"\")","v":{"$error":"#N/A"}},{"$f":"L20","v":{"$error":"#N/A"}},{"$f":"DN81+8","v":{"$error":"#N/A"}},{"$f":"BC20","v":{"$error":"#N/A"}},{"$f":"DQ78","v":{"$error":"#N/A"}}]
["13510",null,null,1,35,40.5,10,11.5,0,26,30,41.8,646.20000000000005,1214.2269940407766,1304.1433704057049,1574.18,"N/A",1,1,1,{"$error":"#VALUE!"},668,718,866,{"$error":"#VALUE!"},115,123,149,{"$error":"#VALUE!"},5.3625772961126326E-2,6.1224519608648838E-2,8.935147694639381E-2,3.969E-4,1.7345999999999999,2,3.6734700000000002E-4,168.33710197020613,180.80286190736828,218.24,1,1,1,190,204,246,82,88,106,2.7552249658903728E-2,3.166025233329859E-2,4.567236524120652E-2,0.2,6.3,6.8,9.1,null,718,null,0.9,null,null,0,12.8,14.7,21.85,null,1,1,1,190,204,246,null,0,0,0,1,null,null,null,null,null,null,null,null,null,null,null,null,null,null,160,0.78402243332267385,0.72223627558039949,0.78402243332267385,0.72223627558039949,0.70153112340864476,0.65706930534609798,0.70153112340864476,0.65706930534609798,0.78402243332267385,0.72223627558039949,0.70153112340864476,0.65706930534609798,null,null,null,null,null,300,{"$f":"BJ21","v":{"$error":"#N/A"}},{"$f":"ROUND(IF($BZ$2=1,U21,IF($BZ$2=2,U21*3.412141633,)),0)","v":{"$error":"#N/A"}},{"$f":"IF($BZ$2=1,ROUND(Y21,0),IF($BZ$2=2,ROUND(Y21/272.7654,1),))","v":{"$error":"#N/A"}},{"$f":"IF($BZ$2=1,AC21,IF($BZ$2=2,AC21*0.3346,))","v":{"$error":"#N/A"}},null,null,null,0,0,0,{"$f":"IF($BZ$2=1,AZ21,IF($BZ$2=2,AZ21/4.54609,))","v":{"$error":"#N/A"}}]
["15010",null,null,1,50,40.5,10,11.5,0,26,30,41.8,774.9,1214.2269940407766,1304.1433704057049,1574.18,"N/A",1,1,1,{"$error":"#VALUE!"},668,718,866,{"$error":"#VALUE!"},115,123,149,{"$error":"#VALUE!"},5.8006184387917333E-2,6.614693018965527E-2,9.6216426188476686E-2,3.969E-4,1.7345999999999999,2,3.6734700000000002E-4,168.33710197020613,180.80286190736828,218.24,1,1,1,190,204,246,82,88,106,2.9988545016552074E-2,3.4414024920846102E-2,4.947534473121127E-2,0.3,6.3,6.8,9.1,null,861,null,0.9,null,null,0,12.8,14.7,21.85,null,1,1,1,190,204,246,null,0,0,0,1,null,null,null,null,null,null,null,null,null,null,null,null,null,null,180,0.78402243332267385,0.72223627558039949,0.78402243332267385,0.72223627558039949,0.70153112340864476,0.65706930534609798,0.70153112340864476,0.65706930534609798,0.78402243332267385,0.72223627558039949,0.70153112340864476,0.65706930534609798,null,null,null,null,null,{"$f":"DF82","v":300},{"$f":"BK21","v":{"$error":"#N/A"}},{"$f":"ROUND(IF($BZ$2=1,V21,IF($BZ$2=2,V21*3.412141633,)),0)","v":{"$error":"#N/A"}},{"$f":"IF($BZ$2=1,ROUND(Z21,0),IF($BZ$2=2,ROUND(Z21/272.7654,1),))","v":{"$error":"#N/A"}},{"$f":"IF($BZ$2=1,AD21,IF($BZ$2=2,AD21*0.3346,))","v":{"$error":"#N/A"}},{"$f":"IF(BY21=1,ROUND(IF($BZ$2=1,AQ21,IF($BZ$2=2,AQ21*3.412141633,)),0),\"\")","v":{"$error":"#N/A"}},{"$f":"IF(BY21=1,IF($BZ$2=1,ROUND(AT21,0),IF($BZ$2=2,ROUND(AT21/272.7654,1),)),\"\")","v":{"$error":"#N/A"}},{"$f":"IF(BY21=1,IF($BZ$2=1,AW21,IF($BZ$2=2,AW21*0.3346,)),\"\")","v":{"$error":"#N/A"}},{"$f":"J21","v":{"$error":"#N/A"}},{"$f":"DN83+8","v":{"$error":"#N/A"}},{"$f":"BA21","v":{"$error":"#N/A"}},{"$f":"DQ82","v":{"$error":"#N/A"}}]
["16510",null,null,1,65,40.5,10,11.5,0,26,30,41.8,872.1,1214.2269940407766,1304.1433704057049,1574.18,"N/A",1,1,1,{"$error":"#VALUE!"},668,718,866,{"$error":"#VALUE!"},115,123,149,{"$error":"#VALUE!"},6.2386595814708339E-2,7.106934077066171E-2,0.10308137543055956,3.969E-4,1.7345999999999999,2,3.6734700000000002E-4,168.33710197020613,180.80286190736828,218.24,1,1,1,190,204,246,82,88,106,3.2424840374200417E-2,3.7167797508393614E-2,5.327832422121602E-2,0.4,6.3,6.8,9.1,null,969,null,0.9,null,null,0,12.8,14.7,21.85,null,1,1,1,190,204,246,null,0,0,0,1,null,null,null,null,null,null,null,null,null,null,null,null,null,null,200,0.76885591203746129,0.70538685838828352,0.76885591203746129,0.70538685838828352,0.69291747680457172,0.65762042960065581,0.69291747680457172,0.65762042960065581,0.76885591203746129,0.70538685838828352,0.69291747680457172,0.65762042960065581,null,null,null,null,null,{"$f":"DF82","v":300},{"$f":"BL21","v":{"$error":"#N/A"}},{"$f":"ROUND(IF($BZ$2=1,W21,IF($BZ$2=2,W21*3.412141633,)),0)","v":{"$error":"#N/A"}},{"$f":"IF($BZ$2=1,ROUND(AA21,0),IF($BZ$2=2,ROUND(AA21/272.7654,1),))","v":{"$error":"#N/A"}},{"$f":"IF($BZ$2=1,AE21,IF($BZ$2=2,AE21*0.3346,))","v":{"$error":"#N/A"}},{"$f":"IF(BY21=1,ROUND(IF($BZ$2=1,AR21,IF($BZ$2=2,AR21*3.412141633,)),0),\"\")","v":{"$error":"#N/A"}},{"$f":"IF(BY21=1,IF($BZ$2=1,ROUND(AU21,0),IF($BZ$2=2,ROUND(AU21/272.7654,1),)),\"\")","v":{"$error":"#N/A"}},{"$f":"IF(BY21=1,IF($BZ$2=1,AX21,IF($BZ$2=2,AX21*0.3346,)),\"\")","v":{"$error":"#N/A"}},{"$f":"K21","v":{"$error":"#N/A"}},{"$f":"DN84+8","v":{"$error":"#N/A"}},{"$f":"BB21","v":{"$error":"#N/A"}},{"$f":"DQ82","v":{"$error":"#N/A"}}]
["19510",null,null,1,95,40.5,10,11.5,0,26,30,41.8,1002.6,1214.2269940407766,1304.1433704057049,1574.18,"N/A",1,1,1,{"$error":"#VALUE!"},668,718,866,{"$error":"#VALUE!"},115,123,149,{"$error":"#VALUE!"},7.1147418668290358E-2,8.0914161932674575E-2,0.11681127391472532,3.969E-4,1.7345999999999999,2,3.6734700000000002E-4,168.33710197020613,180.80286190736828,218.24,1,1,1,190,204,246,82,88,106,3.729743108949711E-2,4.2675342683488639E-2,6.0884283201225513E-2,0.6,6.3,6.8,9.1,null,1114,null,0.9,null,null,0,12.8,14.7,21.85,null,1,1,1,190,204,246,null,0,0,0,1,null,null,null,null,null,null,null,null,null,null,null,null,null,null,220,0.7585639347228863,0.69425955238573378,0.7585639347228863,0.69425955238573378,0.68521071868549555,0.65780685179925613,0.68521071868549555,0.65780685179925613,0.7585639347228863,0.69425955238573378,0.68521071868549555,0.65780685179925613,null,null,null,null,null,{"$f":"DF82","v":300},{"$f":"BM21","v":{"$error":"#N/A"}},{"$f":"ROUND(IF($BZ$2=1,X21,IF($BZ$2=2,X21*3.412141633,)),0)","v":{"$error":"#N/A"}},{"$f":"IF($BZ$2=1,ROUND(AB21,0),IF($BZ$2=2,ROUND(AB21/272.7654,1),))","v":{"$error":"#N/A"}},{"$f":"IF($BZ$2=1,AF21,IF($BZ$2=2,AF21*0.3346,))","v":{"$error":"#N/A"}},{"$f":"IF(BY21=1,ROUND(IF($BZ$2=1,AS21,IF($BZ$2=2,AS21*3.412141633,)),0),\"\")","v":{"$error":"#N/A"}},{"$f":"IF(BY21=1,IF($BZ$2=1,ROUND(AV21,0),IF($BZ$2=2,ROUND(AV21/272.7654,1),)),\"\")","v":{"$error":"#N/A"}},{"$f":"IF(BY21=1,IF($BZ$2=1,AY21,IF($BZ$2=2,AY21*0.3346,)),\"\")","v":{"$error":"#N/A"}},{"$f":"L21","v":{"$error":"#N/A"}},{"$f":"DN85+8","v":{"$error":"#N/A"}},{"$f":"BC21","v":{"$error":"#N/A"}},{"$f":"DQ82","v":{"$error":"#N/A"}}]
["13511",null,null,1,35,40.5,11,11.5,0,26,30,41.8,650.76,1647.5037394527276,1769.505282019556,2135.9,"N/A",1,1,1,{"$error":"#VALUE!"},907,974,1175,{"$error":"#VALUE!"},156,168,202,{"$error":"#VALUE!"},0.15738226376391512,0.18206496476299452,0.26161245729300475,3.969E-4,1.7345999999999999,4,5.7428799999999995E-4,276,296,358,1,1,1,311,333,403,134,143,173,0.1167427037158299,0.13264564159016839,0.1928725275595165,0.5,6.3,6.8,9.1,null,957,null,0.68,null,null,0,12.8,14.7,21.85,null,1,1,1,311,333,403,null,0,0,0,1,null,null,null,null,null,null,null,null,null,null,null,null,null,null,240,0.75027509009945204,0.68488673514658593,0.75027509009945204,0.68488673514658593,0.68190440163328403,0.65796861393376183,0.68190440163328403,0.65796861393376183,0.75027509009945204,0.68488673514658593,0.68190440163328403,0.65796861393376183,null,null,null,null,null,null,null,null,null,null,null,null,null,null,null,null,"v2020-09-17"]
["15011",null,null,1,50,40.5,11,11.5,0,26,30,41.8,754.12,1647.5037394527276,1769.505282019556,2135.9,"N/A",1,1,1,{"$error":"#VALUE!"},907,974,1175,{"$error":"#VALUE!"},156,168,202,{"$error":"#VALUE!"},0.17225025694657178,0.19897248457760222,0.28488913055761989,3.969E-4,1.7345999999999999,4,5.7428799999999995E-4,276,296,358,1,1,1,311,333,403,134,143,173,0.12816449995473517,0.1454307470750483,0.21066241480460138,0.7,6.3,6.8,9.1,null,1109,null,0.68,null,null,0,12.8,14.7,21.85,null,1,1,1,311,333,403,null,0,0,0,1,null,null,null,null,null,null,null,null,null,null,null,null,null,null,260,0.75,0.68,0.75,0.68,0.68190449384530405,0.65796861393376183,0.68190449384530405,0.65796861393376183,0.75,0.68,0.68190449384530405,0.65796861393376183,null,null,null,null,null,"*",{"$f":"IF($J$4=data!$CC$3,NL!DI6,IF($J$4=data!$CC$4,EN!DI6,IF($J$4=data!$CC$5,FR!DI6,IF($J$4=data!$CC$6,DE!DI6,IF($J$4=data!$CC$7,NR!DI6,IF($J$4=data!$CC$8,SP!DI6,IF($J$4=data!$CC$9,SW!DI6,)))))))","v":0}]
["16511",null,null,1,65,40.5,11,11.5,0,26,30,41.8,839.12,1647.5037394527276,1769.505282019556,2135.9,"N/A",1,1,1,{"$error":"#VALUE!"},907,974,1175,{"$error":"#VALUE!"},156,168,202,{"$error":"#VALUE!"},0.18711825012922845,0.21588000439220995,0.30816580382223502,3.969E-4,1.7345999999999999,4,5.7428799999999995E-4,{"$f":"AK87*(1-(($E88-50)*0.005))","v":255.3},{"$f":"AL87*(1-(($E88-50)*0.005))","v":273.8},{"$f":"AM87*(1-(($E88-50)*0.005))","v":331.15000000000003},1,1,1,288,308,373,124,132,160,0.1202160734262524,0.13560015180719756,0.1964837586382166,0.9,6.3,6.8,9.1,null,1234,null,0.68,null,null,0,12.8,14.7,21.85,null,1,1,1,288,308,373,null,0,0,0,1,null,null,null,null,null,null,null,null,null,null,null,null,null,null,280,0.75077946095441817,0.68,0.75077946095441817,0.68,0.67294243770541662,0.6582099452827469,0.67294243770541662,0.6582099452827469,0.75077946095441817,0.68,0.67294243770541662,0.6582099452827469,null,null,null,null,null,"**",{"$f":"IF($J$4=data!$CC$3,NL!DF20,IF($J$4=data!$CC$4,EN!DF20,IF($J$4=data!$CC$5,FR!DF20,IF($J$4=data!$CC$6,DE!DF20,IF($J$4=data!$CC$7,NR!DF20,IF($J$4=data!$CC$8,SP!DF20,IF($J$4=data!$CC$9,SW!DF20,)))))))","v":0}]
["19511",null,null,1,95,40.5,11,11.5,0,26,30,41.8,977.16000000000008,1647.5037394527276,1769.505282019556,2135.9,"N/A",1,1,1,{"$error":"#VALUE!"},907,974,1175,{"$error":"#VALUE!"},156,168,202,{"$error":"#VALUE!"},0.21685423649454175,0.24969504402142531,0.35471915035146528,3.969E-4,1.7345999999999999,4,5.7428799999999995E-4,{"$f":"AK87*(1-(($E89-50)*0.005))","v":213.9},{"$f":"AL87*(1-(($E89-50)*0.005))","v":229.4},{"$f":"AM87*(1-(($E89-50)*0.005))","v":277.45},1,1,1,241,258,312,104,111,134,0.10041374395648672,0.11361387568647237,0.16242988867145094,1.3,6.3,6.8,9.1,null,1437,null,0.68,null,null,0,12.8,14.7,21.85,null,1,1,1,241,258,312,null,0,0,0,1,null,null,null,null,null,null,null,null,null,null,null,null,null,null,300,0.75077946095441817,0.68,0.75077946095441817,0.68,0.67294243770541662,0.6582099452827469,0.67294243770541662,0.6582099452827469,0.75077946095441817,0.68,0.67294243770541662,0.6582099452827469,null,null,null,null,null,"***",{"$f":"IF($J$4=data!$CC$3,NL!DF21,IF($J$4=data!$CC$4,EN!DF21,IF($J$4=data!$CC$5,FR!DF21,IF($J$4=data!$CC$6,DE!DF21,IF($J$4=data!$CC$7,NR!DF21,IF($J$4=data!$CC$8,SP!DF21,IF($J$4=data!$CC$9,SW!DF21,)))))))","v":0}]
["13515",null,null,1,35,40.5,15,16.5,0,26,30,42.4,940.80000000000007,1395.33740436932,1496.2563490716184,2007.56,"N/A",1,1,1,{"$error":"#VALUE!"},768,823,1105,{"$error":"#VALUE!"},132,142,190,{"$error":"#VALUE!"},8.2667572435233122E-2,9.5579481617652146E-2,0.17052069591966401,2.0829999999999999E-4,1.724,2,4.6182900000000003E-4,190.46915773046311,204.24499885412456,274.04000000000002,1,1,1,215,230,309,92,99,133,4.0350960702190575E-2,4.6677513073963194E-2,8.391681172182261E-2,0.4,6,6.7,9,null,1176,null,0.8,null,null,0,11.8,13.7,21.85,null,1,1,1,215,230,309,null,0,0,0,1,null,null,null,null,null,null,null,null,null,null,null,null,null,null,null,null,null,null,null,null,null,null,null,null,null,null,null,null,null,null,null,null,"****",{"$f":"IF($J$4=data!$CC$3,NL!DF22,IF($J$4=data!$CC$4,EN!DF22,IF($J$4=data!$CC$5,FR!DF22,IF($J$4=data!$CC$6,DE!DF22,IF($J$4=data!$CC$7,NR!DF22,IF($J$4=data!$CC$8,SP!DF22,IF($J$4=data!$CC$9,SW!DF22,)))))))","v":0}]
["15015",null,null,1,50,40.5,15,16.5,0,26,30,42.4,1109.6000000000001,1395.33740436932,1496.2563490716184,2007.56,"N/A",1,1,1,{"$error":"#VALUE!"},768,823,1105,{"$error":"#VALUE!"},132,142,190,{"$error":"#VALUE!"},8.5440292707878604E-2,9.8724199614389163E-2,0.17571596215728341,2.0829999999999999E-4,1.724,2,4.6182900000000003E-4,190.46915773046311,204.24499885412456,274.04000000000002,1,1,1,215,230,309,92,99,133,4.18389740080575E-2,4.8366054328645124E-2,8.6725844645140063E-2,0.5,6,6.7,9,null,1387,null,0.8,null,null,0,11.8,13.7,21.85,null,1,1,1,215,230,309,null,0,0,0,1,null,null,null,null,null,null,null,null,null,null,null,null,null,null,"Type,ww","L/cm"]
["16515",null,null,1,65,40.5,15,16.5,0,26,30,42.4,{"$f":"IF($N92-($BE92*$BG92)>100,$BE92*$BG92,$N92-95)","v":1230.4000000000001},1395.33740436932,1496.2563490716184,2007.56,"N/A",1,1,1,{"$f":"ROUND(M92*POWER(CF_heat,Q92),0)","v":{"$error":"#VALUE!"}},{"$f":"ROUND(N92*POWER(CF_heat,R92),0)","v":768},{"$f":"ROUND(O92*POWER(CF_heat,S92),0)","v":823},{"$f":"ROUND(P92*POWER(CF_heat,T92),0)","v":1105},{"$error":"#VALUE!"},132,142,190,{"$error":"#VALUE!"},8.8213012980524086E-2,0.10186891761112615,0.18091122839490284,{"$f":"IF($G92=$CO$103,CP$103,IF($G92=$CO$104,CP$104,IF($G92=$CO$105,CP$105,IF($G92=$CO$107,CP$107,IF($G92=$CO$108,CP$108,IF($G92=$CO$109,CP$109,IF($G92=$CO$111,CP$111,IF($G92=$CO$112,CP$112,IF($G92=$CO$113,CP$113,IF($G92=$CO$115,CP$115,IF($G92=$CO$116,CP$116,IF($G92=$CO$117,CP$117,IF($G92=$CO$119,CP$119,IF($G92=$CO$120,CP$120,))))))))))))))","v":2.0829999999999999E-4},{"$f":"IF($G92=$CO$103,CQ$103,IF($G92=$CO$104,CQ$104,IF($G92=$CO$105,CQ$105,IF($G92=$CO$107,CQ$107,IF($G92=$CO$108,CQ$108,IF($G92=$CO$109,CQ$109,IF($G92=$CO$111,CQ$111,IF($G92=$CO$112,CQ$112,IF($G92=$CO$113,CQ$113,IF($G92=$CO$115,CQ$115,IF($G92=$CO$116,CQ$116,IF($G92=$CO$117,CQ$117,IF($G92=$CO$119,CQ$119,IF($G92=$CO$120,CQ$120,))))))))))))))","v":1.724},{"$f":"IF($G92=$CO$103,CR$103,IF($G92=$CO$104,CR$104,IF($G92=$CO$105,CR$105,IF($G92=$CO$107,CR$107,IF($G92=$CO$108,CR$108,IF($G92=$CO$109,CR$109,IF($G92=$CO$111,CR$111,IF($G92=$CO$112,CR$112,IF($G92=$CO$113,CR$113,IF($G92=$CO$115,CR$115,IF($G92=$CO$116,CR$116,IF($G92=$CO$117,CR$117,IF($G92=$CO$119,CR$119,IF($G92=$CO$120,CR$120,))))))))))))))","v":2},{"$f":"IF($G92=$CO$103,CS$103,IF($G92=$CO$104,CS$104,IF($G92=$CO$105,CS$105,IF($G92=$CO$107,CS$107,IF($G92=$CO$108,CS$108,IF($G92=$CO$109,CS$109,IF($G92=$CO$111,CS$111,IF($G92=$CO$112,CS$112,IF($G92=$CO$113,CS$113,IF($G92=$CO$115,CS$115,IF($G92=$CO$116,CS$116,IF($G92=$CO$117,CS$117,IF($G92=$CO$119,CS$119,IF($G92=$CO$120,CS$120,))))))))))))))","v":4.6182900000000003E-4},190.46915773046311,204.24499885412456,274.04000000000002,1,1,1,{"$f":"ROUND(AK92*POWER(CF_cool,AN92),0)","v":215},230,{"$f":"ROUND(AM92*POWER(CF_cool,AP92),0)","v":309},92,99,133,4.3326987313924425E-2,5.0054595583327068E-2,8.9534877568457488E-2,0.7,6,6.7,9,null,1538,null,{"$f":"IF(G92=10,0.9,IF(G92=11,0.68,IF(G92=15,0.8,IF(G92=16,0.68,IF(G92=20,0.8,IF(G92=21,0.8))))))","v":0.8},null,null,0,11.8,13.7,21.85,null,1,1,1,{"$f":"AQ92/BO92","v":215},230,309,null,{"$f":"BR92-AQ92","v":0},{"$f":"BS92-AR92","v":0},{"$f":"BT92-AS92","v":0},1,null,null,null,null,null,null,null,null,null,null,null,null,null,null,10,{"$f":"0.4/60","v":6.6666666666666671E-3}]
[{"$f":"CONCATENATE(D93,E93,G93)","v":"19515"},null,null,1,95,40.5,15,16.5,0,26,30,42.4,1300.33740436932,1395.33740436932,1496.2563490716184,2007.56,"N/A",1,1,1,{"$error":"#VALUE!"},768,823,1105,{"$error":"#VALUE!"},132,142,190,{"$f":"(($AG93*(Y93^$AH93)*((($F93-14.4)*$AI93)/100))+($AJ93*(Y93^2)))*0.0098","v":{"$error":"#VALUE!"}},{"$f":"(($AG93*(Z93^$AH93)*((($E93-14.4)*$AI93)/100))+($AJ93*(Z93^2)))*0.0098","v":9.375845352581505E-2},{"$f":"(($AG93*(AA93^$AH93)*((($E93-14.4)*$AI93)/100))+($AJ93*(AA93^2)))*0.0098","v":0.10815835360460015},{"$f":"(($AG93*(AB93^$AH93)*((($E93-14.4)*$AI93)/100))+($AJ93*(AB93^2)))*0.0098","v":0.19130176087014161},2.0829999999999999E-4,1.724,2,4.6182900000000003E-4,190.46915773046311,204.24499885412456,274.04000000000002,1,1,1,215,230,309,92,99,133,{"$f":"(($AG93*(AT93^$AH93)*((($E93-14.4)*$AI93)/100))+($AJ93*(AT93^2)))*0.0098","v":4.6303013925658269E-2},{"$f":"(($AG93*(AU93^$AH93)*((($E93-14.4)*$AI93)/100))+($AJ93*(AU93^2)))*0.0098","v":5.3431678092690935E-2},{"$f":"(($AG93*(AV93^$AH93)*((($E93-14.4)*$AI93)/100))+($AJ93*(AV93^2)))*0.0098","v":9.5152943415092353E-2},1,6,6.7,9,null,1717,null,0.8,null,null,0,11.8,13.7,21.85,null,1,1,1,215,{"$f":"AR93/BP93","v":230},{"$f":"AS93/BQ93","v":309},null,0,0,0,{"$f":"IF(SUM(BV93:BX93)=0,1,0)","v":1},null,null,null,null,null,null,null,null,null,null,null,null,null,null,11,{"$f":"CO92*2","v":1.3333333333333334E-2}]
["13516",null,null,1,35,40.5,16,16.5,0,26,30,42.4,866.32,2040.4331716148024,2188.0092071816284,2935.7,"N/A",1,1,1,{"$error":"#VALUE!"},1123,1204,1616,{"$error":"#VALUE!"},193,207,278,{"$error":"#VALUE!"},0.5230868472949447,0.60140469558543708,1.0823830201740816,2.0829999999999999E-4,1.724,4,1.392796E-3,312,335,450,1,1,1,351,377,507,151,162,218,0.32082280821925219,0.36905530292280042,0.66676008304939238,0.7,6,6.7,9,null,1274,null,0.68,null,null,0,11.8,13.7,21.85,null,{"$f":"IF((237.3*LN(($AQ$1*EXP(17.27*($AM$3/($AM$3+237.3))))))/(17.27-LN(($AQ$1*EXP(17.27*($AM$3/($AM$3+237.3))))))<(($AM$1+$AM$2)/2),1,IF(1/(1+((2258*((0.622/((101325/(1*611*EXP(17.27*((($AM$1+$AM$2)/2)/((($AM$1+$AM$2)/2)+237.3))))))-1)*1000-(0.622/((101325/($AQ$1*611*EXP(17.27*($AM$3/($AM$3+237.3))))))-1)*1000))/(1005*((($AM$1+$AM$2)/2)-$AM$3))))>1,1,1/(1+((2258*((0.622/((101325/(1*611*EXP(17.27*((($AM$1+$AM$2)/2)/((($AM$1+$AM$2)/2)+237.3))))))-1)*1000-(0.622/((101325/($AQ$1*611*EXP(17.27*($AM$3/($AM$3+237.3))))))-1)*1000))/(1005*((($AM$1+$AM$2)/2)-$AM$3))))))","v":1},1,1,351,377,507,null,0,0,0,1,null,null,null,null,null,null,null,null,null,null,null,null,null,null,15,{"$f":"CO92*1.5","v":0.01}]
["15016",null,null,1,50,40.5,16,16.5,0,26,30,42.4,1032.24,2040.4331716148024,2188.0092071816284,2935.7,"N/A",1,1,1,{"$error":"#VALUE!"},1123,1204,1616,{"$error":"#VALUE!"},193,207,278,{"$error":"#VALUE!"},0.53376183532582666,0.61344949221619227,1.1024092789703548,2.0829999999999999E-4,1.724,4,1.392796E-3,312,335,450,1,1,1,351,377,507,151,162,218,0.32781515330064936,0.37694881869532509,0.6799294709839987,1,6,6.7,9,null,1518,null,0.68,null,null,0,11.8,13.7,21.85,null,1,1,1,351,377,507,null,0,0,0,1,null,null,null,null,null,null,null,null,null,null,null,null,null,null,16,{"$f":"CO94*2","v":0.02}]
["16516",null,null,1,65,40.5,16,16.5,0,26,30,42.4,1181.8400000000001,2040.4331716148024,2188.0092071816284,2935.7,"N/A",1,1,1,{"$error":"#VALUE!"},1123,1204,1616,{"$error":"#VALUE!"},193,207,278,{"$error":"#VALUE!"},0.54443682335670873,0.62549428884694735,1.1224355377666277,2.0829999999999999E-4,1.724,4,1.392796E-3,{"$f":"AK95*(1-(($E96-50)*0.005))","v":288.60000000000002},{"$f":"AL95*(1-(($E96-50)*0.005))","v":309.875},{"$f":"AM95*(1-(($E96-50)*0.005))","v":416.25},1,1,1,325,349,469,140,150,202,0.28823208064217454,0.33043037098606459,0.59590411031211266,1.3,6,6.7,9,null,1738,null,0.68,null,null,0,11.8,13.7,21.85,null,1,1,1,325,349,469,null,0,0,0,1,null,null,null,null,null,null,null,null,null,null,null,null,null,null,20,{"$f":"CO92*2","v":1.3333333333333334E-2}]
["19516",null,null,1,95,40.5,16,16.5,0,26,30,42.4,1456.5600000000002,2040.4331716148024,2188.0092071816284,2935.7,"N/A",1,1,1,{"$error":"#VALUE!"},1123,1204,1616,{"$error":"#VALUE!"},193,207,278,{"$error":"#VALUE!"},0.56578679941847276,0.64958388210845774,1.1624880553591741,2.0829999999999999E-4,1.724,4,1.392796E-3,{"$f":"AK95*(1-(($E97-50)*0.005))","v":241.8},{"$f":"AL95*(1-(($E97-50)*0.005))","v":259.625},{"$f":"AM95*(1-(($E97-50)*0.005))","v":348.75},1,1,1,272,292,393,117,126,169,0.21104929108703993,0.24419893221788194,0.43546387430852262,1.9,6,6.7,9,null,2142,null,0.68,null,null,0,11.8,13.7,21.85,null,1,1,1,272,292,393,null,0,0,0,1,null,null,null,null,null,null,null,null,null,null,null,null,null,null,21,{"$f":"CO96*2","v":2.6666666666666668E-2}]
["13520",null,null,1,35,40.5,20,21.5,0,26,30,42.4,1318.4,1942.5718983039128,2086.4239348515057,2518.44,"N/A",1,1,1,{"$error":"#VALUE!"},1069,1148,1386,{"$error":"#VALUE!"},184,197,238,{"$error":"#VALUE!"},0.12904569288060302,0.14783639311420288,0.21543189940214263,1.2760000000000001E-4,1.7219,2,3.76611E-4,240.07166246887351,257.84953601562182,311.24,1,1,1,270,290,351,116,125,151,5.1511505374067373E-2,5.9770610708140839E-2,8.7064063952829396E-2,0.5,6,6.7,9,null,1648,null,0.8,null,null,0,11.8,13.7,21.85,null,1,1,1,270,290,351,null,0,0,0,1]
["15020",null,null,1,50,40.5,20,21.5,0,26,30,42.4,1552,1942.5718983039128,2086.4239348515057,2518.44,"N/A",1,1,1,{"$error":"#VALUE!"},1069,1148,1386,{"$error":"#VALUE!"},184,197,238,{"$error":"#VALUE!"},0.13202412573774117,0.15118635140352535,0.22007091536739209,1.2760000000000001E-4,1.7219,2,3.76611E-4,240.07166246887351,257.84953601562182,311.24,1,1,1,270,290,351,116,125,151,5.2857329211883422E-2,6.1301230610913297E-2,8.9183295500180879E-2,0.7,6,6.7,9,null,1940,null,0.8,null,null,0,11.8,13.7,21.85,null,1,1,1,270,290,351,null,0,0,0,1]
["16520",null,null,1,65,40.5,20,21.5,0,26,30,42.4,1718.4,1942.5718983039128,2086.4239348515057,2518.44,"N/A",1,1,1,{"$error":"#VALUE!"},1069,1148,1386,{"$error":"#VALUE!"},184,197,238,{"$error":"#VALUE!"},0.13500255859487931,0.15453630969284785,0.22470993133264158,1.2760000000000001E-4,1.7219,2,3.76611E-4,240.07166246887351,257.84953601562182,311.24,1,1,1,270,290,351,116,125,151,5.4203153049699471E-2,6.2831850513685755E-2,9.1302527047532375E-2,0.9,6,6.7,9,null,2148,null,0.8,null,null,0,11.8,13.7,21.85,null,1,1,1,270,290,351,null,0,0,0,1,null,null,null,null,null,null,null,null,null,null,null,null,null,null,"Niveaus","Type","k1","n","t","k2"]
["19520",null,null,1,95,40.5,20,21.5,0,26,30,42.4,1847.5718983039128,1942.5718983039128,2086.4239348515057,2518.44,"N/A",1,1,1,{"$error":"#VALUE!"},1069,1148,1386,{"$error":"#VALUE!"},184,197,238,{"$error":"#VALUE!"},0.14095942430915556,0.16123622627149281,0.23398796326314053,1.2760000000000001E-4,1.7219,2,3.76611E-4,240.07166246887351,257.84953601562182,311.24,1,1,1,270,290,351,116,125,151,5.6894800725331568E-2,6.5893090319230657E-2,9.5540990142235369E-2,1.3,6,6.7,9,null,2394,null,0.8,null,null,0,11.8,13.7,21.85,null,1,1,1,270,290,351,null,0,0,0,1]
["13521",null,null,1,35,40.5,21,21.5,0,26,30,42.4,1352.8000000000002,2627.7848955664344,2817.8416357747774,3780.76,"N/A",1,1,1,{"$error":"#VALUE!"},1446,1551,2081,{"$error":"#VALUE!"},249,267,358,{"$error":"#VALUE!"},0.32620628357280429,0.37476888666198083,0.67157580846894804,1.2760000000000001E-4,1.7219,4,5.1420100000000005E-4,340.86222571220884,365.51537125251701,490.42,1,1,1,384,412,552,165,177,237,0.14397233255417841,0.16552440029557403,0.295694913339206,0.9,6,6.7,9,null,1691,null,0.8,null,null,0,11.8,13.7,21.85,null,1,1,1,384,412,552,null,0,0,0,1,null,null,null,null,null,null,null,null,null,null,null,null,null,null,"1 row"]
["15021",null,null,1,50,40.5,21,21.5,0,26,30,42.4,1652.8000000000002,2627.7848955664344,2817.8416357747774,3780.76,"N/A",1,1,1,{"$error":"#VALUE!"},1446,1551,2081,{"$error":"#VALUE!"},249,267,358,{"$error":"#VALUE!"},0.33623496085654525,0.38607823917881157,0.69031535960128876,1.2760000000000001E-4,1.7219,4,5.1420100000000005E-4,340.86222571220884,365.51537125251701,490.42,1,1,1,384,412,552,165,177,237,0.14890990640066754,0.17109642672618616,0.30490592172003561,{"$f":"ROUND(IF(G103=10,$CO$92*E103,IF(G103=11,$CO$93*E103,IF(G103=15,$CO$94*E103,IF(G103=16,$CO$95*E103,IF(G103=20,$CO$96*E103,IF(G103=21,$CO$97*E103,)))))),1)","v":1.3},6,6.7,9,null,2066,null,0.8,null,null,0,11.8,13.7,21.85,null,1,1,1,384,412,552,null,0,0,0,1,null,null,null,null,null,null,null,null,null,null,null,null,null,null,1,4,1.3823338826853E-3,1.723172227894,1,3.3290816326530999E-4]
["16521",null,null,1,65,40.5,21,21.5,0,26,30,42.4,1939.2,2627.7848955664344,2817.8416357747774,3780.76,"N/A",1,1,1,{"$error":"#VALUE!"},1446,1551,2081,{"$error":"#VALUE!"},249,267,358,{"$error":"#VALUE!"},0.34626363814028621,0.39738759169564225,0.70905491073362958,1.2760000000000001E-4,1.7219,4,5.1420100000000005E-4,{"$f":"AK103*(1-(($E104-50)*0.005))","v":315.29755878379319},{"$f":"AL103*(1-(($E104-50)*0.005))","v":338.10171840857828},{"$f":"AM103*(1-(($E104-50)*0.005))","v":453.63850000000002},1,1,1,355,381,511,153,164,220,0.13258731507985161,0.15201615500034751,0.27122992420035885,1.7,6,6.7,9,null,2424,null,0.8,null,null,0,11.8,13.7,21.85,null,1,1,1,355,381,511,null,0,0,0,1,null,null,null,null,null,null,null,null,null,null,null,null,null,null,2,5,9.3700000000000001E-4,1.7889999999999999,2,4.46E-4]
["19521",null,null,1,95,40.5,21,21.5,0,26,30,42.4,2508.8000000000002,2627.7848955664344,2817.8416357747774,3780.76,"N/A",1,1,1,{"$error":"#VALUE!"},1446,1551,2081,{"$error":"#VALUE!"},249,267,358,{"$error":"#VALUE!"},0.36632099270776813,0.42000629672930367,0.74653401299831113,1.2760000000000001E-4,1.7219,4,5.1420100000000005E-4,{"$f":"AK103*(1-(($E105-50)*0.005))","v":264.16822492696184},{"$f":"AL103*(1-(($E105-50)*0.005))","v":283.2744127207007},{"$f":"AM103*(1-(($E105-50)*0.005))","v":380.07550000000003},1,1,1,298,319,428,128,137,184,9.9696462930484481E-2,0.11384171446702054,0.20261435785351109,2.5,6,6.7,9,null,3136,null,0.8,null,null,0,11.8,13.7,21.85,null,1,1,1,298,319,428,null,0,0,0,1,null,null,null,null,null,null,null,null,null,null,null,null,null,null,4,6,9.3700000000000001E-4,1.7889999999999999,4,1.39E-3]
["13510",null,null,1,35,40.5,10,11.5,0,26,30,42.4,727.2,1395.6272192501513,1501.3000140389001,1828.08,"N/A",1,1,1,{"$error":"#VALUE!"},768,826,1006,{"$f":"ROUND(U106*3600/(4186*ABS($O$1-$O$2)),0)","v":{"$error":"#VALUE!"}},{"$f":"ROUND(V106*3600/(4186*ABS($O$1-$O$2)),0)","v":132},{"$f":"ROUND(W106*3600/(4186*ABS($O$1-$O$2)),0)","v":142},{"$f":"ROUND(X106*3600/(4186*ABS($O$1-$O$2)),0)","v":173},{"$error":"#VALUE!"},7.0367440927697533E-2,8.1263300393320734E-2,0.11996014053235826,3.969E-4,1.7345999999999999,2,3.6734700000000002E-4,193.48593193227777,208.13611852764589,253.44,1,1,1,218,234,285,{"$f":"ROUND(AQ106*3600/(4186*ABS($AM$1-$AM$2)),0)","v":94},{"$f":"ROUND(AR106*3600/(4186*ABS($AM$1-$AM$2)),0)","v":101},{"$f":"ROUND(AS106*3600/(4186*ABS($AM$1-$AM$2)),0)","v":123},3.6049860209371648E-2,4.1526469639044605E-2,6.1224519608648838E-2,0.2,6.7,7.4,10.3,null,808,null,0.9,null,null,0,12.5,14.7,21.85,null,1,1,1,218,234,285,null,0,0,0,1,null,null,null,null,null,null,null,null,null,null,null,null,null,null,"2 rows"]
["15010",null,null,1,50,40.5,10,11.5,0,26,30,42.4,871.2,1395.6272192501513,1501.3000140389001,1828.08,"N/A",1,1,1,{"$error":"#VALUE!"},768,826,1006,{"$error":"#VALUE!"},132,142,173,{"$error":"#VALUE!"},7.5931298068448158E-2,8.7578510316806676E-2,0.12885508415490071,3.969E-4,1.7345999999999999,2,3.6734700000000002E-4,193.48593193227777,208.13611852764589,253.44,1,1,1,218,234,285,94,101,123,3.9137424462603425E-2,4.5023700356358637E-2,6.614693018965527E-2,0.3,6.7,7.4,10.3,null,968,null,0.9,null,null,0,12.5,14.7,21.85,null,1,1,1,218,234,285,null,0,0,0,1,null,null,null,null,null,null,null,null,null,null,null,null,null,null,1,9,8.0534470601597002E-4,1.8138647155180001,2,3.9795050474943999E-4]
["16510",null,null,1,65,40.5,10,11.5,0,26,30,42.4,981,1395.6272192501513,1501.3000140389001,1828.08,"N/A",1,1,1,{"$error":"#VALUE!"},768,826,1006,{"$error":"#VALUE!"},132,142,173,{"$error":"#VALUE!"},8.1495155209198783E-2,9.3893720240292647E-2,0.13775002777744313,3.969E-4,1.7345999999999999,2,3.6734700000000002E-4,193.48593193227777,208.13611852764589,253.44,1,1,1,218,234,285,94,101,123,4.2224988715835209E-2,4.8520931073672668E-2,7.106934077066171E-2,0.4,6.7,7.4,10.3,null,1090,null,0.9,null,null,0,12.5,14.7,21.85,null,1,1,1,218,234,285,null,0,0,0,1,null,null,null,null,null,null,null,null,null,null,null,null,null,null,2,10,3.969E-4,1.7345999999999999,2,3.6734700000000002E-4]
["19510",null,null,1,95,40.5,10,11.5,0,26,30,42.4,1128.6000000000001,1395.6272192501499,1501.3000140388999,1828.08,"N/A",1,1,1,{"$error":"#VALUE!"},768,826,1006,{"$error":"#VALUE!"},132,142,173,{"$error":"#VALUE!"},9.2622869490700047E-2,0.10652414008726457,0.15553991502252798,3.969E-4,1.7345999999999999,2,3.6734700000000002E-4,193.48593193227777,208.13611852764589,253.44,1,1,1,218,234,285,94,101,123,4.8400117222298762E-2,5.5515392508300732E-2,8.0914161932674575E-2,0.6,6.7,7.4,10.3,null,1254,null,0.9,null,null,0,12.5,14.7,21.85,null,1,1,1,218,234,285,null,0,0,0,1,null,null,null,null,null,null,null,null,null,null,null,null,null,null,4,11,3.969E-4,1.7345999999999999,4,5.7428799999999995E-4]
["13511",null,null,1,35,40.5,11,11.5,0,26,30,42.4,731.68000000000006,1893.6336235985709,2037.0140009310799,2480.4,"N/A",1,1,1,{"$error":"#VALUE!"},1042,1121,1365,{"$error":"#VALUE!"},179,193,235,{"$error":"#VALUE!"},0.20624736166940191,0.23917491471202376,0.35236879653621589,3.969E-4,1.7345999999999999,4,5.7428799999999995E-4,317.16301910489852,341.17767156378318,415.44,1,1,1,357,384,468,154,165,201,0.1534409498542397,0.17572806626630944,0.25907036203823502,0.5,6.7,7.4,10.3,null,1076,null,0.68,null,null,0,12.5,14.7,21.85,null,1,1,1,357,384,468,null,0,0,0,1,null,null,null,null,null,null,null,null,null,null,null,null,null,null,"3 rows"]
["15011",null,null,1,50,40.5,11,11.5,0,26,30,42.4,847.96,1893.6336235985709,2037.0140009310799,2480.4,"N/A",1,1,1,{"$error":"#VALUE!"},1042,1121,1365,{"$error":"#VALUE!"},179,193,235,{"$error":"#VALUE!"},0.22512107231333536,0.26068222660602169,0.38263184956744106,3.969E-4,1.7345999999999999,4,5.7428799999999995E-4,317.16301910489852,341.17767156378318,415.44,1,1,1,357,384,468,154,165,201,0.16797986049684144,0.19211531609129209,0.28214751911772651,0.7,6.7,7.4,10.3,null,1247,null,0.68,null,null,0,12.5,14.7,21.85,null,1,1,1,357,384,468,null,0,0,0,1,null,null,null,null,null,null,null,null,null,null,null,null,null,null,1,14,2.5582398288699999E-3,1.4942747715061999,3,5.6161694684148003E-4]
["16511",null,null,1,65,40.5,11,11.5,0,26,30,42.4,944.5200000000001,1893.6336235985709,2037.0140009310799,2480.4,"N/A",1,1,1,{"$error":"#VALUE!"},1042,1121,1365,{"$error":"#VALUE!"},179,193,235,{"$error":"#VALUE!"},0.24399478295726876,0.2821895385000196,0.41289490259866624,3.969E-4,1.7345999999999999,4,5.7428799999999995E-4,{"$f":"AK111*(1-(($E112-50)*0.005))","v":293.37579267203114},{"$f":"AL111*(1-(($E112-50)*0.005))","v":315.58934619649943},{"$f":"AM111*(1-(($E112-50)*0.005))","v":384.28200000000004},1,1,1,330,355,433,142,153,186,0.15609005995738529,0.18023986613095133,0.26275497997531416,0.9,6.7,7.4,10.3,null,1389,null,0.68,null,null,0,12.5,14.7,21.85,null,1,1,1,330,355,433,null,0,0,0,1,null,null,null,null,null,null,null,null,null,null,null,null,null,null,2,15,2.0829999999999999E-4,1.724,2,4.6182900000000003E-4]
["19511",null,null,1,95,40.5,11,11.5,0,26,30,42.4,1098.8800000000001,1893.6336235985709,2037.0140009310799,2480.4,"N/A",1,1,1,{"$error":"#VALUE!"},1042,1121,1365,{"$error":"#VALUE!"},179,193,235,{"$error":"#VALUE!"},0.28174220424513563,0.32520416228801535,0.47342100866111658,3.969E-4,1.7345999999999999,4,5.7428799999999995E-4,{"$f":"AK111*(1-(($E113-50)*0.005))","v":245.80133980629637},{"$f":"AL111*(1-(($E113-50)*0.005))","v":264.41269546193195},{"$f":"AM111*(1-(($E113-50)*0.005))","v":321.96600000000001},1,1,1,277,298,363,119,128,156,0.12964962992513512,0.14889458036150519,0.21685423649454175,1.3,6.7,7.4,10.3,null,1616,null,0.68,null,null,0,12.5,14.7,21.85,null,1,1,1,277,298,363,null,0,0,0,1,null,null,null,null,null,null,null,null,null,null,null,null,null,null,4,16,2.0829999999999999E-4,1.724,4,1.392796E-3]
["13515",null,null,1,35,40.5,15,16.5,0,26,30,43.3,1058.4000000000001,1597.9167676946356,1711.9130538160239,2331.36,"N/A",1,1,1,{"$error":"#VALUE!"},879,942,1283,{"$error":"#VALUE!"},151,162,221,{"$error":"#VALUE!"},0.10799700797342608,0.12419856886860027,0.23030925361626872,2.0829999999999999E-4,1.724,2,4.6182900000000003E-4,218.12205414485143,233.68300487544244,318.24,1,1,1,246,263,358,106,113,154,5.3462078830385139E-2,6.0704387360591382E-2,0.11230386549794243,0.4,7,7.7,10.7,null,1323,null,0.8,null,null,0,11.3,13.2,21.85,null,1,1,1,246,263,358,null,0,0,0,1,null,null,null,null,null,null,null,null,null,null,null,null,null,null,"4 rows"]
["15015",null,null,1,50,40.5,15,16.5,0,26,30,43.3,1248.8000000000002,1597.9167676946356,1711.9130538160239,2331.36,"N/A",1,1,1,{"$error":"#VALUE!"},879,942,1283,{"$error":"#VALUE!"},151,162,221,{"$error":"#VALUE!"},0.11149318051412467,0.12814532675486259,0.23705094519204692,2.0829999999999999E-4,1.724,2,4.6182900000000003E-4,218.12205414485143,233.68300487544244,318.24,1,1,1,246,263,358,106,113,154,5.5361686489985962E-2,6.2825402834468594E-2,0.11592064741838594,0.5,7,7.7,10.7,null,1561,null,0.8,null,null,0,11.3,13.2,21.85,null,1,1,1,246,263,358,null,0,0,0,1,null,null,null,null,null,null,null,null,null,null,null,null,null,null,1,19,1.1616292894075E-2,1.5869346821790999,1,1.6553227470231999E-3]
["16515",null,null,1,65,40.5,15,16.5,0,26,30,43.3,1384,1597.9167676946356,1711.9130538160239,2331.36,"N/A",1,1,1,{"$error":"#VALUE!"},879,942,1283,{"$error":"#VALUE!"},151,162,221,{"$error":"#VALUE!"},0.11498935305482327,0.1320920846411249,0.24379263676782514,2.0829999999999999E-4,1.724,2,4.6182900000000003E-4,218.12205414485143,233.68300487544244,318.24,1,1,1,246,263,358,106,113,154,5.7261294149586799E-2,6.4946418308345813E-2,0.11953742933882944,0.7,7,7.7,10.7,null,1730,null,0.8,null,null,0,11.3,13.2,21.85,null,1,1,1,246,263,358,null,0,0,0,1,null,null,null,null,null,null,null,null,null,null,null,null,null,null,2,20,1.2760000000000001E-4,1.7219,2,3.76611E-4]
["19515",null,null,1,95,40.5,15,16.5,0,26,30,43.3,1502.9167676946356,1597.9167676946356,1711.9130538160239,2331.36,"N/A",1,1,1,{"$error":"#VALUE!"},879,942,1283,{"$error":"#VALUE!"},151,162,221,{"$error":"#VALUE!"},0.12198169813622048,0.13998560041364957,0.25727601991938154,2.0829999999999999E-4,1.724,2,4.6182900000000003E-4,218.12205414485143,233.68300487544244,318.24,1,1,1,246,263,358,106,113,154,6.1060509468788451E-2,6.9188449256100223E-2,0.12677099317971646,1,7,7.7,10.7,null,1931,null,0.8,null,null,0,11.3,13.2,21.85,null,1,1,1,246,263,358,null,0,0,0,1,null,null,null,null,null,null,null,null,null,null,null,null,null,null,4,21,1.2760000000000001E-4,1.7219,4,5.1420100000000005E-4]
["13516",null,null,1,35,40.5,16,16.5,0,26,30,43.3,975.12000000000012,2336.669516687492,2503.3688418217644,3409.2,"N/A",1,1,1,{"$error":"#VALUE!"},1286,1378,1876,{"$error":"#VALUE!"},221,237,323,{"$error":"#VALUE!"},0.68516756400093737,0.78756176334310279,1.4596494671686426,2.0829999999999999E-4,1.724,4,1.392796E-3,357.77938745479025,383.30357134546551,522,1,1,1,403,432,588,173,186,253,0.42065334570208385,0.485970375699047,0.8970633022753115,0.7,7,7.7,10.7,null,1434,null,0.68,null,null,0,11.3,13.2,21.85,null,1,1,1,403,432,588,null,0,0,0,1]
["15016",null,null,1,50,40.5,16,16.5,0,26,30,43.3,1161.44,2336.669516687492,2503.3688418217644,3409.2,"N/A",1,1,1,{"$error":"#VALUE!"},1286,1378,1876,{"$error":"#VALUE!"},221,237,323,{"$error":"#VALUE!"},0.69865094715249376,0.80277188698963409,1.4855871839929942,2.0829999999999999E-4,1.724,4,1.392796E-3,357.77938745479025,383.30357134546551,522,1,1,1,403,432,588,173,186,253,0.4294934640216595,0.49598666620068316,0.9140867050433541,1,7,7.7,10.7,null,1708,null,0.68,null,null,0,11.3,13.2,21.85,null,1,1,1,403,432,588,null,0,0,0,{"$f":"IF(SUM(BV119:BX119)=0,1,0)","v":1},null,null,null,null,null,null,null,null,null,null,null,null,null,null,{"$f":"CN111","v":1},7,{"$f":"CP111","v":2.5582398288699999E-3},{"$f":"CQ111","v":1.4942747715061999},{"$f":"CR111","v":3},{"$f":"CS111","v":5.6161694684148003E-4}]
["16516",null,null,1,65,40.5,16,16.5,0,26,30,43.3,1330.0800000000002,2336.669516687492,2503.3688418217644,3409.2,"N/A",1,1,1,{"$error":"#VALUE!"},1286,1378,1876,{"$error":"#VALUE!"},221,237,323,{"$error":"#VALUE!"},0.71213433030405016,0.81798201063616538,1.5115249008173457,2.0829999999999999E-4,1.724,4,1.392796E-3,{"$f":"AK119*(1-(($E120-50)*0.005))","v":330.94593339568098},{"$f":"AL119*(1-(($E120-50)*0.005))","v":354.55580349455562},{"$f":"AM119*(1-(($E120-50)*0.005))","v":482.85},1,1,1,373,399,544,160,172,234,0.37548791852687663,0.43332798881027862,0.79758084281372033,1.3,7,7.7,10.7,null,1956,null,0.68,null,null,0,11.3,13.2,21.85,null,1,1,1,373,399,544,null,0,0,0,1,null,null,null,null,null,null,null,null,null,null,null,null,null,null,{"$f":"CN105","v":4},8,{"$f":"CP105","v":9.3700000000000001E-4},{"$f":"CQ105","v":1.7889999999999999},{"$f":"CR105","v":4},{"$f":"CS105","v":1.39E-3}]
["19516",null,null,1,95,40.5,16,16.5,0,26,30,43.3,1638.1200000000001,2336.669516687492,2503.3688418217644,3409.2,"N/A",1,1,1,{"$error":"#VALUE!"},1286,1378,1876,{"$error":"#VALUE!"},221,237,323,{"$error":"#VALUE!"},0.73910109660716294,0.84840225792922785,1.5634003344660488,2.0829999999999999E-4,1.724,4,1.392796E-3,{"$f":"AK119*(1-(($E121-50)*0.005))","v":277.27902527746244},{"$f":"AL119*(1-(($E121-50)*0.005))","v":297.06026779273577},{"$f":"AM119*(1-(($E121-50)*0.005))","v":404.55},1,1,1,312,335,456,134,144,196,0.27566875131897833,0.31765399504571312,0.58326142355075616,1.9,7,7.7,10.7,null,2409,null,0.68,null,null,0,11.3,13.2,21.85,null,1,1,1,312,335,456,null,0,0,0,1]
["13520",null,null,1,35,40.5,20,21.5,0,26,30,43.3,1483.2,2232.7836804230465,2401.8435041457315,2924.64,"N/A",1,1,1,{"$error":"#VALUE!"},1229,1322,1610,{"$error":"#VALUE!"},211,227,277,{"$error":"#VALUE!"},0.16949549067435069,0.19605499453499028,0.29146377820978486,1.2760000000000001E-4,1.7219,2,3.76611E-4,275.93732338069162,296.83048721840407,361.44,1,1,1,311,334,407,134,144,175,6.8641171193437309E-2,7.921417315132831E-2,0.11678236214123439,0.5,7,7.7,10.7,null,1854,null,0.8,null,null,0,11.3,13.2,21.85,null,1,1,1,311,334,407,null,0,0,0,1]
["15020",null,null,1,50,40.5,20,21.5,0,26,30,43.3,1746.4,2232.7836804230465,2401.8435041457315,2924.64,"N/A",1,1,1,{"$error":"#VALUE!"},1229,1322,1610,{"$error":"#VALUE!"},211,227,277,{"$error":"#VALUE!"},0.17326582589077111,0.20033100666275019,0.2974880411492884,1.2760000000000001E-4,1.7219,2,3.76611E-4,275.93732338069162,296.83048721840407,361.44,1,1,1,311,334,407,134,144,175,7.0366451865746013E-2,8.1167083828897452E-2,0.11951439061179341,0.7,7,7.7,10.7,null,2183,null,0.8,null,null,0,11.3,13.2,21.85,null,1,1,1,311,334,407,null,0,0,0,1]
["16520",null,null,1,65,40.5,20,21.5,0,26,30,43.3,1933.6000000000001,2232.7836804230465,2401.8435041457315,2924.64,"N/A",1,1,1,{"$error":"#VALUE!"},1229,1322,1610,{"$error":"#VALUE!"},211,227,277,{"$error":"#VALUE!"},0.17703616110719153,0.2046070187905101,0.30351230408879193,1.2760000000000001E-4,1.7219,2,3.76611E-4,275.93732338069162,296.83048721840407,361.44,1,1,1,311,334,407,134,144,175,7.2091732538054731E-2,8.3119994506466621E-2,0.12224641908235243,0.9,7,7.7,10.7,null,2417,null,0.8,null,null,0,11.3,13.2,21.85,null,1,1,1,311,334,407,null,0,0,0,1]
["19520",null,null,1,95,40.5,20,21.5,0,26,30,43.3,2137.7836804230465,2232.7836804230465,2401.8435041457315,2924.64,"N/A",1,1,1,{"$error":"#VALUE!"},1229,1322,1610,{"$error":"#VALUE!"},211,227,277,{"$error":"#VALUE!"},0.18457683154003238,0.21315904304602995,0.31556082996779899,1.2760000000000001E-4,1.7219,2,3.76611E-4,275.93732338069162,296.83048721840407,361.44,1,1,1,311,334,407,134,144,175,7.5542293882672168E-2,8.7025815861604919E-2,0.12771047602347047,1.3,7,7.7,10.7,null,2693,null,0.8,null,null,0,11.3,13.2,21.85,null,1,1,1,311,334,407,null,0,0,0,1]
["13521",null,null,1,35,40.5,21,21.5,0,26,30,43.3,1522.4,3009.2947651024979,3223.9795559512399,4390.5600000000004,"N/A",1,1,1,{"$error":"#VALUE!"},1656,1774,2416,{"$error":"#VALUE!"},285,305,416,{"$error":"#VALUE!"},0.42668462836053289,0.48829956265728197,0.90538745260162146,1.2760000000000001E-4,1.7219,4,5.1420100000000005E-4,390.34964893343317,418.19741370243202,569.52,1,1,1,440,471,641,189,203,276,0.18857147589551504,0.21734820258027088,0.40030771697794076,0.9,7,7.7,10.7,null,1903,null,0.8,null,null,0,11.3,13.2,21.85,null,1,1,1,440,471,641,null,0,0,0,1]
["15021",null,null,1,50,40.5,21,21.5,0,26,30,43.3,1859.2,3009.2947651024979,3223.9795559512399,4390.5600000000004,"N/A",1,1,1,{"$error":"#VALUE!"},1656,1774,2416,{"$error":"#VALUE!"},285,305,416,{"$error":"#VALUE!"},0.43933855653203752,0.50252101315166198,0.92965605723231659,1.2760000000000001E-4,1.7219,4,5.1420100000000005E-4,390.34964893343317,418.19741370243202,569.52,1,1,1,440,471,641,189,203,276,0.19480979492686093,0.22440333920071082,0.41228144389042193,1.3,7,7.7,10.7,null,2324,null,0.8,null,null,0,11.3,13.2,21.85,null,1,1,1,440,471,641,null,0,0,0,1]
["16521",null,null,1,65,40.5,21,21.5,0,26,30,43.3,2181.6,3009.2947651024979,3223.9795559512399,4390.5600000000004,"N/A",1,1,1,{"$error":"#VALUE!"},1656,1774,2416,{"$error":"#VALUE!"},285,305,416,{"$error":"#VALUE!"},0.45199248470354203,0.51674246364604204,0.95392466186301172,1.2760000000000001E-4,1.7219,4,5.1420100000000005E-4,{"$f":"AK127*(1-(($E128-50)*0.005))","v":361.07342526342569},{"$f":"AL127*(1-(($E128-50)*0.005))","v":386.83260767474962},{"$f":"AM127*(1-(($E128-50)*0.005))","v":526.80600000000004},1,1,1,407,436,593,175,187,255,0.17275666053970484,0.19687667941570988,0.36291793168340142,1.7,7,7.7,10.7,null,2727,null,0.8,null,null,0,11.3,13.2,21.85,null,1,1,1,407,436,593,null,0,0,0,1]
["19521",null,null,1,95,40.5,21,21.5,0,26,30,43.3,2822.4,3009.2947651024979,3223.9795559512399,4390.5600000000004,"N/A",1,1,1,{"$error":"#VALUE!"},1656,1774,2416,{"$error":"#VALUE!"},285,305,416,{"$error":"#VALUE!"},0.47730034104655111,0.54518536463480216,1.0024618711244022,1.2760000000000001E-4,1.7219,4,5.1420100000000005E-4,{"$f":"AK127*(1-(($E129-50)*0.005))","v":302.52097792341073},{"$f":"AL127*(1-(($E129-50)*0.005))","v":324.10299561938484},{"$f":"AM127*(1-(($E129-50)*0.005))","v":441.37799999999999},1,1,1,341,365,497,147,157,214,0.13063722584040824,0.14856567926402467,0.27228941448629879,2.5,7,7.7,10.7,null,3528,null,0.8,null,null,0,11.3,13.2,21.85,null,1,1,1,341,365,497,null,0,0,0,1]
["13510",null,null,1,35,40.5,10,11.5,0,26,30,43,808.2,1574.3905475253332,1696.1265760133244,2081.98,"N/A",1,1,1,{"$error":"#VALUE!"},866,933,1146,{"$error":"#VALUE!"},149,160,197,{"$error":"#VALUE!"},8.935147694639381E-2,0.10282771827584251,0.15501573788967696,3.969E-4,1.7345999999999999,2,3.6734700000000002E-4,218.26918973175157,235.14633901405676,288.64,1,1,1,246,265,325,106,114,140,4.567236524120652E-2,5.2710924197685624E-2,7.9022110358350439E-2,0.2,7.8,8.6999999999999993,12.2,null,898,null,0.9,null,null,0,12.3,14.1,21.85,null,1,1,1,246,265,325,null,0,0,0,1]
["15010",null,null,1,50,40.5,10,11.5,0,26,30,43,968.4,1574.3905475253332,1696.1265760133244,2081.98,"N/A",1,1,1,{"$error":"#VALUE!"},866,933,1146,{"$error":"#VALUE!"},149,160,197,{"$error":"#VALUE!"},9.6216426188476686E-2,0.11059546311747542,0.1661589281355097,3.969E-4,1.7345999999999999,2,3.6734700000000002E-4,218.26918973175157,235.14633901405676,288.64,1,1,1,246,265,325,106,114,140,4.947534473121127E-2,5.7025474974446995E-2,8.5183832638702703E-2,0.3,7.8,8.6999999999999993,12.2,null,1076,null,0.9,null,null,0,12.3,14.1,21.85,null,1,1,1,246,265,325,null,0,0,0,1]
["16510",null,null,1,65,40.5,10,11.5,0,26,30,43,1089.9000000000001,1574.3905475253332,1696.1265760133244,2081.98,"N/A",1,1,1,{"$error":"#VALUE!"},866,933,1146,{"$error":"#VALUE!"},149,160,197,{"$error":"#VALUE!"},0.10308137543055956,0.11836320795910832,0.17730211838134247,3.969E-4,1.7345999999999999,2,3.6734700000000002E-4,218.26918973175157,235.14633901405676,288.64,1,1,1,246,265,325,106,114,140,5.327832422121602E-2,6.1340025751208373E-2,9.134555491905498E-2,0.4,7.8,8.6999999999999993,12.2,null,1211,null,0.9,null,null,0,12.3,14.1,21.85,null,1,1,1,246,265,325,null,0,0,0,1]
["19510",null,null,1,95,40.5,10,11.5,0,26,30,43,1253.7,1574.39054752533,1696.1265760133199,2081.98,"N/A",1,1,1,{"$error":"#VALUE!"},866,933,1146,{"$error":"#VALUE!"},149,160,197,{"$error":"#VALUE!"},0.11681127391472532,0.13389869764237411,0.19958849887300792,3.969E-4,1.7345999999999999,2,3.6734700000000002E-4,218.26918973175157,235.14633901405676,288.64,1,1,1,246,265,325,106,114,140,6.0884283201225513E-2,6.9969127304731121E-2,0.10366899947975949,0.6,7.8,8.6999999999999993,12.2,null,1393,null,0.9,null,null,0,12.3,14.1,21.85,null,1,1,1,246,265,325,null,0,0,0,1]
["13511",null,null,1,35,40.5,11,11.5,0,26,30,43,813.28000000000009,2136.1856779144437,2301.3611872256411,2824.9,"N/A",1,1,1,{"$error":"#VALUE!"},1176,1267,1555,{"$error":"#VALUE!"},202,218,267,{"$error":"#VALUE!"},0.26161245729300475,0.30395169684660706,0.45307946927971943,3.969E-4,1.7345999999999999,4,5.7428799999999995E-4,358,385,473,1,1,1,403,434,533,173,187,229,0.1928725275595165,0.2247684830685665,0.33487703195914881,0.5,7.8,8.6999999999999993,12.2,null,1196,null,0.68,null,null,0,12.3,14.1,21.85,null,1,1,1,403,434,533,null,0,0,0,1]
["15011",null,null,1,50,40.5,11,11.5,0,26,30,43,942.48,2136.1856779144437,2301.3611872256411,2824.9,"N/A",1,1,1,{"$error":"#VALUE!"},1176,1267,1555,{"$error":"#VALUE!"},202,218,267,{"$error":"#VALUE!"},0.28488913055761989,0.33051885241141804,0.49084406666281616,3.969E-4,1.7345999999999999,4,5.7428799999999995E-4,358,385,473,1,1,1,403,434,533,173,187,229,0.21066241480460138,0.2451292848377169,0.3638124027946455,0.7,7.8,8.6999999999999993,12.2,null,1386,null,0.68,null,null,0,12.3,14.1,21.85,null,1,1,1,403,434,533,null,0,0,0,1]
["16511",null,null,1,65,40.5,11,11.5,0,26,30,43,1049.24,2136.1856779144437,2301.3611872256411,2824.9,"N/A",1,1,1,{"$error":"#VALUE!"},1176,1267,1555,{"$error":"#VALUE!"},202,218,267,{"$error":"#VALUE!"},0.30816580382223502,0.35708600797622903,0.52860866404591289,3.969E-4,1.7345999999999999,4,5.7428799999999995E-4,{"$f":"AK135*(1-(($E136-50)*0.005))","v":331.15000000000003},{"$f":"AL135*(1-(($E136-50)*0.005))","v":356.125},{"$f":"AM135*(1-(($E136-50)*0.005))","v":437.52500000000003},1,1,1,373,401,493,160,172,212,0.1964837586382166,0.22591020460455546,0.33833050144421067,0.9,7.8,8.6999999999999993,12.2,null,1543,null,0.68,null,null,0,12.3,14.1,21.85,null,1,1,1,373,401,493,null,0,0,0,1]
["19511",null,null,1,95,40.5,11,11.5,0,26,30,43,1221.2800000000002,2136.1856779144437,2301.3611872256411,2824.9,"N/A",1,1,1,{"$error":"#VALUE!"},1176,1267,1555,{"$error":"#VALUE!"},202,218,267,{"$error":"#VALUE!"},0.35471915035146528,0.41022031910585094,0.60413785881210624,3.969E-4,1.7345999999999999,4,5.7428799999999995E-4,{"$f":"AK135*(1-(($E137-50)*0.005))","v":277.45},{"$f":"AL135*(1-(($E137-50)*0.005))","v":298.375},{"$f":"AM135*(1-(($E137-50)*0.005))","v":366.57499999999999},1,1,1,312,336,413,134,144,178,0.16242988867145094,0.18623676427202723,0.27875225801897668,1.3,7.8,8.6999999999999993,12.2,null,1796,null,0.68,null,null,0,12.3,14.1,21.85,null,1,1,1,312,336,413,null,0,0,0,1]
["13515",null,null,1,35,40.5,15,16.5,0,26,30,44.1,1176,1798.7737222599399,1926.0891717740149,2655.16,"N/A",1,1,1,{"$error":"#VALUE!"},990,1060,1461,{"$error":"#VALUE!"},170,182,251,{"$error":"#VALUE!"},0.13668909013319613,0.15654155687248419,0.29666830143071582,2.0829999999999999E-4,1.724,2,4.6182900000000003E-4,245.53983484833029,262.91890485611941,362.44,1,1,1,277,296,408,119,127,175,6.7276217233078611E-2,7.6561256958697144E-2,0.14479813221550225,0.4,7,7.7,10.7,null,1470,null,0.8,null,null,0,10.9,12.8,21.85,null,1,1,1,277,296,408,null,0,0,0,1]
["15015",null,null,1,50,40.5,15,16.5,0,26,30,44.1,1387.2,1798.7737222599399,1926.0891717740149,2655.16,"N/A",1,1,1,{"$error":"#VALUE!"},990,1060,1461,{"$error":"#VALUE!"},170,182,251,{"$error":"#VALUE!"},0.14097783825445542,0.16136547216739985,0.30506433364419822,2.0829999999999999E-4,1.724,2,4.6182900000000003E-4,245.53983484833029,262.91890485611941,362.44,1,1,1,277,296,408,119,127,175,6.9595104104592145E-2,7.9155401767117384E-2,0.14930665424742137,0.5,7,7.7,10.7,null,1734,null,0.8,null,null,0,10.9,12.8,21.85,null,1,1,1,277,296,408,null,0,0,0,1]
["16515",null,null,1,65,40.5,15,16.5,0,26,30,44.1,1537.6000000000001,1798.7737222599399,1926.0891717740149,2655.16,"N/A",1,1,1,{"$error":"#VALUE!"},990,1060,1461,{"$error":"#VALUE!"},170,182,251,{"$error":"#VALUE!"},0.14526658637571474,0.16618938746231551,0.31346036585768061,2.0829999999999999E-4,1.724,2,4.6182900000000003E-4,245.53983484833029,262.91890485611941,362.44,1,1,1,277,296,408,119,127,175,7.1913990976105693E-2,8.1749546575537652E-2,0.15381517627934049,0.7,7,7.7,10.7,null,1922,null,0.8,null,null,0,10.9,12.8,21.85,null,1,1,1,277,296,408,null,0,0,0,1]
["19515",null,null,1,95,40.5,15,16.5,0,26,30,44.1,1703.7737222599399,1798.7737222599399,1926.0891717740149,2655.16,"N/A",1,1,1,{"$error":"#VALUE!"},990,1060,1461,{"$error":"#VALUE!"},170,182,251,{"$error":"#VALUE!"},0.15384408261823337,0.17583721805214683,0.3302524302846454,2.0829999999999999E-4,1.724,2,4.6182900000000003E-4,245.53983484833029,262.91890485611941,362.44,1,1,1,277,296,408,119,127,175,7.6551764719132789E-2,8.693783619237816E-2,0.16283222034317871,1,7,7.7,10.7,null,2146,null,0.8,null,null,0,10.9,12.8,21.85,null,1,1,1,277,296,408,null,0,0,0,1]
["13516",null,null,1,35,40.5,16,16.5,0,26,30,44.1,1083.24,2630.3871448118639,2816.5633812075234,3882.7,"N/A",1,1,1,{"$error":"#VALUE!"},1448,1550,2137,{"$error":"#VALUE!"},249,267,368,{"$error":"#VALUE!"},0.86902172370862862,0.99870571314277667,1.8930594669174214,2.0829999999999999E-4,1.724,4,1.392796E-3,403,431,595,1,1,1,454,485,670,195,209,288,0.53394167462582565,0.61303749208448999,1.1613663300935326,0.7,7,7.7,10.7,null,1593,null,0.68,null,null,0,10.9,12.8,21.85,null,1,1,1,454,485,670,null,0,0,0,1]
["15016",null,null,1,50,40.5,16,16.5,0,26,30,44.1,1290.6400000000001,2630.3871448118639,2816.5633812075234,3882.7,"N/A",1,1,1,{"$error":"#VALUE!"},1448,1550,2137,{"$error":"#VALUE!"},249,267,368,{"$error":"#VALUE!"},0.88558378053471742,1.0173855040492645,1.925537388988942,2.0829999999999999E-4,1.724,4,1.392796E-3,403,431,595,1,1,1,454,485,670,195,209,288,0.54480808909608713,0.62528362005028371,1.1826506238835808,1,7,7.7,10.7,null,1898,null,0.68,null,null,0,10.9,12.8,21.85,null,1,1,1,454,485,670,null,0,0,0,1]
["16516",null,null,1,65,40.5,16,16.5,0,26,30,44.1,1477.64,2630.3871448118639,2816.5633812075234,3882.7,"N/A",1,1,1,{"$error":"#VALUE!"},1448,1550,2137,{"$error":"#VALUE!"},249,267,368,{"$error":"#VALUE!"},0.90214583736080634,1.0360652949557525,1.9580153110604628,2.0829999999999999E-4,1.724,4,1.392796E-3,{"$f":"AK143*(1-(($E144-50)*0.005))","v":372.77500000000003},{"$f":"AL143*(1-(($E144-50)*0.005))","v":398.67500000000001},{"$f":"AM143*(1-(($E144-50)*0.005))","v":550.375},1,1,1,420,449,620,181,193,267,0.47940569492000018,0.54443682335670873,1.0360652949557525,1.3,7,7.7,10.7,null,2173,null,0.68,null,null,0,10.9,12.8,21.85,null,1,1,1,420,449,620,null,0,0,0,1]
["19516",null,null,1,95,40.5,16,16.5,0,26,30,44.1,1820.3600000000001,2630.3871448118639,2816.5633812075234,3882.7,"N/A",1,1,1,{"$error":"#VALUE!"},1448,1550,2137,{"$error":"#VALUE!"},249,267,368,{"$error":"#VALUE!"},0.93526995101298416,1.0734248767687282,2.0229711552035035,2.0829999999999999E-4,1.724,4,1.392796E-3,{"$f":"AK143*(1-(($E145-50)*0.005))","v":312.32499999999999},{"$f":"AL143*(1-(($E145-50)*0.005))","v":334.02500000000003},{"$f":"AM143*(1-(($E145-50)*0.005))","v":461.125},1,1,1,352,376,519,151,162,223,0.34879218854484095,0.40062936601289911,0.75235582677228374,1.9,7,7.7,10.7,null,2677,null,0.68,null,null,0,10.9,12.8,21.85,null,1,1,1,352,376,519,null,0,0,0,1]
["13520",null,null,1,35,40.5,20,21.5,0,26,30,44.1,1648,2518.7768428703835,2713.5353098724395,3330.84,"N/A",1,1,1,{"$error":"#VALUE!"},1386,1493,1833,{"$error":"#VALUE!"},238,257,315,{"$error":"#VALUE!"},0.21543189940214263,0.25104457450821849,0.37654163293995196,1.2760000000000001E-4,1.7219,2,3.76611E-4,311.2816285378957,335.35074484391049,411.64,1,1,1,351,378,464,151,163,200,8.7064063952829396E-2,0.10138055419490523,0.15235341993977525,0.5,7,7.7,10.7,null,2060,null,0.8,null,null,0,10.9,12.8,21.85,null,1,1,1,351,378,464,null,0,0,0,1]
["15020",null,null,1,50,40.5,20,21.5,0,26,30,44.1,1940,2518.7768428703835,2713.5353098724395,3330.84,"N/A",1,1,1,{"$error":"#VALUE!"},1386,1493,1833,{"$error":"#VALUE!"},238,257,315,{"$error":"#VALUE!"},0.22007091536739209,0.25633952434269802,0.38405853596297518,1.2760000000000001E-4,1.7219,2,3.76611E-4,311.2816285378957,335.35074484391049,411.64,1,1,1,351,378,464,151,163,200,8.9183295500180879E-2,0.10379803948862265,0.15579170242019411,0.7,7,7.7,10.7,null,2425,null,0.8,null,null,0,10.9,12.8,21.85,null,1,1,1,351,378,464,null,0,0,0,1]
["16520",null,null,1,65,40.5,20,21.5,0,26,30,44.1,2148,2518.7768428703835,2713.5353098724395,3330.84,"N/A",1,1,1,{"$error":"#VALUE!"},1386,1493,1833,{"$error":"#VALUE!"},238,257,315,{"$error":"#VALUE!"},0.22470993133264158,0.2616344741771775,0.39157543898599839,1.2760000000000001E-4,1.7219,2,3.76611E-4,311.2816285378957,335.35074484391049,411.64,1,1,1,351,378,464,151,163,200,9.1302527047532375E-2,0.10621552478234005,0.15922998490061299,0.9,7,7.7,10.7,null,2685,null,0.8,null,null,0,10.9,12.8,21.85,null,1,1,1,351,378,464,null,0,0,0,1]
["19520",null,null,1,95,40.5,20,21.5,0,26,30,44.1,2393.6,2518.7768428703835,2713.5353098724395,3330.84,"N/A",1,1,1,{"$error":"#VALUE!"},1386,1493,1833,{"$error":"#VALUE!"},238,257,315,{"$error":"#VALUE!"},0.23398796326314053,0.27222437384613651,0.40660924503204493,1.2760000000000001E-4,1.7219,2,3.76611E-4,311.2816285378957,335.35074484391049,411.64,1,1,1,351,378,464,151,163,200,9.5540990142235369E-2,0.11105049536977485,0.16610654986145071,1.3,7,7.7,10.7,null,2992,null,0.8,null,null,0,10.9,12.8,21.85,null,1,1,1,351,378,464,null,0,0,0,1]
["13521",null,null,1,35,40.5,21,21.5,0,26,30,44.1,1691.2,3387.5608889256064,3627.3291443724347,5000.3599999999997,"N/A",1,1,1,{"$error":"#VALUE!"},1864,1996,2752,{"$error":"#VALUE!"},321,343,473,{"$error":"#VALUE!"},0.54056933329896706,0.61676038829208923,1.168984865934876,1.2760000000000001E-4,1.7219,4,5.1420100000000005E-4,439.41631078060919,470.51776864522725,648.62,1,1,1,495,530,730,213,228,314,0.2391475477684335,0.27379021405204484,0.51737568135301271,0.9,7,7.7,10.7,null,2114,null,0.8,null,null,0,10.9,12.8,21.85,null,1,1,1,495,530,730,null,0,0,0,1]
["15021",null,null,1,50,40.5,21,21.5,0,26,30,44.1,2065.6,3387.5608889256064,3627.3291443724347,5000.3599999999997,"N/A",1,1,1,{"$error":"#VALUE!"},1864,1996,2752,{"$error":"#VALUE!"},321,343,473,{"$error":"#VALUE!"},0.5560996036415643,0.63416847117453279,1.1992589769183779,1.2760000000000001E-4,1.7219,4,5.1420100000000005E-4,439.41631078060919,470.51776864522725,648.62,1,1,1,495,530,730,213,228,314,0.24681171265598215,0.28240721247596101,0.53232740156093461,1.3,7,7.7,10.7,null,2582,null,0.8,null,null,0,10.9,12.8,21.85,null,1,1,1,495,530,730,null,0,0,0,1]
["16521",null,null,1,65,40.5,21,21.5,0,26,30,44.1,2424,3387.5608889256064,3627.3291443724347,5000.3599999999997,"N/A",1,1,1,{"$error":"#VALUE!"},1864,1996,2752,{"$error":"#VALUE!"},321,343,473,{"$error":"#VALUE!"},0.57162987398416165,0.65157655405697634,1.2295330879018795,1.2760000000000001E-4,1.7219,4,5.1420100000000005E-4,{"$f":"AK151*(1-(($E152-50)*0.005))","v":406.46008747206355},{"$f":"AL151*(1-(($E152-50)*0.005))","v":435.22893599683522},{"$f":"AM151*(1-(($E152-50)*0.005))","v":599.97350000000006},1,1,1,458,490,676,197,211,291,0.21816619269349569,0.24978607359258309,0.47096697823266437,1.7,7,7.7,10.7,null,3030,null,0.8,null,null,0,10.9,12.8,21.85,null,1,1,1,458,490,676,null,0,0,0,1]
["19521",null,null,1,95,40.5,21,21.5,0,26,30,44.1,3136,3387.5608889256064,3627.3291443724347,5000.3599999999997,"N/A",1,1,1,{"$error":"#VALUE!"},1864,1996,2752,{"$error":"#VALUE!"},321,343,473,{"$error":"#VALUE!"},0.60269041466935624,0.68639271982186356,1.2900813098688833,1.2760000000000001E-4,1.7219,4,5.1420100000000005E-4,{"$f":"AK151*(1-(($E153-50)*0.005))","v":340.54764085497214},{"$f":"AL151*(1-(($E153-50)*0.005))","v":364.65127070005116},{"$f":"AM151*(1-(($E153-50)*0.005))","v":502.68049999999999},1,1,1,384,411,566,165,177,243,0.16372262794013492,0.18781250601802263,0.34922898024456522,2.5,7,7.7,10.7,null,3920,null,0.8,null,null,0,10.9,12.8,21.85,null,1,1,1,384,411,566,null,0,0,0,1]
["13510",null,null,1,35,40.5,10,11.5,0,26,30,43.5,889.2,1766.3893947845202,1902.9712804051933,2335.88,"N/A",1,1,1,{"$error":"#VALUE!"},972,1047,1286,{"$f":"ROUND(U154*3600/(4186*ABS($O$1-$O$2)),0)","v":{"$error":"#VALUE!"}},{"$f":"ROUND(V154*3600/(4186*ABS($O$1-$O$2)),0)","v":167},{"$f":"ROUND(W154*3600/(4186*ABS($O$1-$O$2)),0)","v":180},{"$f":"ROUND(X154*3600/(4186*ABS($O$1-$O$2)),0)","v":221},{"$error":"#VALUE!"},0.11189063772299504,0.12972581340222847,0.19450807477412543,3.969E-4,1.7345999999999999,2,3.6734700000000002E-4,244.88738360147738,263.82272182064906,323.83999999999997,1,1,1,276,297,365,{"$f":"ROUND(AQ154*3600/(4186*ABS($AM$1-$AM$2)),0)","v":119},{"$f":"ROUND(AR154*3600/(4186*ABS($AM$1-$AM$2)),0)","v":128},{"$f":"ROUND(AS154*3600/(4186*ABS($AM$1-$AM$2)),0)","v":157},5.7362951035098413E-2,6.6226282435946207E-2,9.9059557416487698E-2,0.2,8.4,9.3000000000000007,14,null,988,null,0.9,null,null,0,12,13.9,21.85,null,1,1,1,276,297,365,null,0,0,0,1]
["15010",null,null,1,50,40.5,10,11.5,0,26,30,43.5,1065.6000000000001,1766.3893947845202,1902.9712804051933,2335.88,"N/A",1,1,1,{"$error":"#VALUE!"},972,1047,1286,{"$error":"#VALUE!"},167,180,221,{"$error":"#VALUE!"},0.12025730349211763,0.13925430415142392,0.20811034089271194,3.969E-4,1.7345999999999999,2,3.6734700000000002E-4,244.88738360147738,263.82272182064906,323.83999999999997,1,1,1,276,297,365,119,128,157,6.2011015990315707E-2,7.1500946954547812E-2,0.10657640884397875,0.3,8.4,9.3000000000000007,14,null,1184,null,0.9,null,null,0,12,13.9,21.85,null,1,1,1,276,297,365,null,0,0,0,1]
["16510",null,null,1,65,40.5,10,11.5,0,26,30,43.5,{"$f":"IF($N156-($BE156*$BG156)>100,$BE156*$BG156,$N156-95)","v":1198.8},1766.3893947845202,1902.9712804051933,2335.88,"N/A",1,1,1,{"$f":"ROUND(M156*POWER(CF_heat,Q156),0)","v":{"$error":"#VALUE!"}},{"$f":"ROUND(N156*POWER(CF_heat,R156),0)","v":972},{"$f":"ROUND(O156*POWER(CF_heat,S156),0)","v":1047},{"$f":"ROUND(P156*POWER(CF_heat,T156),0)","v":1286},{"$error":"#VALUE!"},167,180,221,{"$error":"#VALUE!"},0.12862396926124023,0.14878279490061941,0.22171260701129844,{"$f":"IF($G156=$CO$103,CP$103,IF($G156=$CO$104,CP$104,IF($G156=$CO$105,CP$105,IF($G156=$CO$107,CP$107,IF($G156=$CO$108,CP$108,IF($G156=$CO$109,CP$109,IF($G156=$CO$111,CP$111,IF($G156=$CO$112,CP$112,IF($G156=$CO$113,CP$113,IF($G156=$CO$115,CP$115,IF($G156=$CO$116,CP$116,IF($G156=$CO$117,CP$117,IF($G156=$CO$119,CP$119,IF($G156=$CO$120,CP$120,))))))))))))))","v":3.969E-4},{"$f":"IF($G156=$CO$103,CQ$103,IF($G156=$CO$104,CQ$104,IF($G156=$CO$105,CQ$105,IF($G156=$CO$107,CQ$107,IF($G156=$CO$108,CQ$108,IF($G156=$CO$109,CQ$109,IF($G156=$CO$111,CQ$111,IF($G156=$CO$112,CQ$112,IF($G156=$CO$113,CQ$113,IF($G156=$CO$115,CQ$115,IF($G156=$CO$116,CQ$116,IF($G156=$CO$117,CQ$117,IF($G156=$CO$119,CQ$119,IF($G156=$CO$120,CQ$120,))))))))))))))","v":1.7345999999999999},{"$f":"IF($G156=$CO$103,CR$103,IF($G156=$CO$104,CR$104,IF($G156=$CO$105,CR$105,IF($G156=$CO$107,CR$107,IF($G156=$CO$108,CR$108,IF($G156=$CO$109,CR$109,IF($G156=$CO$111,CR$111,IF($G156=$CO$112,CR$112,IF($G156=$CO$113,CR$113,IF($G156=$CO$115,CR$115,IF($G156=$CO$116,CR$116,IF($G156=$CO$117,CR$117,IF($G156=$CO$119,CR$119,IF($G156=$CO$120,CR$120,))))))))))))))","v":2},{"$f":"IF($G156=$CO$103,CS$103,IF($G156=$CO$104,CS$104,IF($G156=$CO$105,CS$105,IF($G156=$CO$107,CS$107,IF($G156=$CO$108,CS$108,IF($G156=$CO$109,CS$109,IF($G156=$CO$111,CS$111,IF($G156=$CO$112,CS$112,IF($G156=$CO$113,CS$113,IF($G156=$CO$115,CS$115,IF($G156=$CO$116,CS$116,IF($G156=$CO$117,CS$117,IF($G156=$CO$119,CS$119,IF($G156=$CO$120,CS$120,))))))))))))))","v":3.6734700000000002E-4},244.88738360147738,263.82272182064906,323.83999999999997,1,1,1,{"$f":"ROUND(AK156*POWER(CF_cool,AN156),0)","v":276},297,{"$f":"ROUND(AM156*POWER(CF_cool,AP156),0)","v":365},119,128,157,6.6659080945532995E-2,7.6775611473149402E-2,0.11409326027146978,0.4,8.4,9.3000000000000007,14,null,1332,null,{"$f":"IF(G156=10,0.9,IF(G156=11,0.68,IF(G156=15,0.8,IF(G156=16,0.68,IF(G156=20,0.8,IF(G156=21,0.8))))))","v":0.9},null,null,0,12,13.9,21.85,null,1,1,1,{"$f":"AQ156/BO156","v":276},297,365,null,{"$f":"BR156-AQ156","v":0},{"$f":"BS156-AR156","v":0},{"$f":"BT156-AS156","v":0},1]
[{"$f":"CONCATENATE(D157,E157,G157)","v":"19510"},null,null,1,95,40.5,10,11.5,0,26,30,43.5,1378.8,1766.3893947845199,1902.9712804051901,2335.88,"N/A",1,1,1,{"$error":"#VALUE!"},972,1047,1286,{"$error":"#VALUE!"},167,180,221,{"$f":"(($AG157*(Y157^$AH157)*((($F157-14.4)*$AI157)/100))+($AJ157*(Y157^2)))*0.0098","v":{"$error":"#VALUE!"}},{"$f":"(($AG157*(Z157^$AH157)*((($E157-14.4)*$AI157)/100))+($AJ157*(Z157^2)))*0.0098","v":0.14535730079948542},{"$f":"(($AG157*(AA157^$AH157)*((($E157-14.4)*$AI157)/100))+($AJ157*(AA157^2)))*0.0098","v":0.16783977639901038},{"$f":"(($AG157*(AB157^$AH157)*((($E157-14.4)*$AI157)/100))+($AJ157*(AB157^2)))*0.0098","v":0.24891713924847142},3.969E-4,1.7345999999999999,2,3.6734700000000002E-4,244.88738360147738,263.82272182064906,323.83999999999997,1,1,1,276,297,365,119,128,157,{"$f":"(($AG157*(AT157^$AH157)*((($E157-14.4)*$AI157)/100))+($AJ157*(AT157^2)))*0.0098","v":7.595521085596757E-2},{"$f":"(($AG157*(AU157^$AH157)*((($E157-14.4)*$AI157)/100))+($AJ157*(AU157^2)))*0.0098","v":8.7324940510352611E-2},{"$f":"(($AG157*(AV157^$AH157)*((($E157-14.4)*$AI157)/100))+($AJ157*(AV157^2)))*0.0098","v":0.12912696312645186},0.6,8.4,9.3000000000000007,14,null,1532,null,0.9,null,null,0,12,13.9,21.85,null,1,1,1,276,{"$f":"AR157/BP157","v":297},{"$f":"AS157/BQ157","v":365},null,0,0,0,1]
["13511",null,null,1,35,40.5,11,11.5,0,26,30,43.5,894.88000000000011,2396.6961264405954,2582.0149905458411,3169.4,"N/A",1,1,1,{"$error":"#VALUE!"},1319,1421,1744,{"$error":"#VALUE!"},227,244,300,{"$error":"#VALUE!"},0.32914420487260215,0.37943088557683924,0.57000376955187726,3.969E-4,1.7345999999999999,4,5.7428799999999995E-4,401.42051232401269,432.4594048025981,530.84,1,1,1,452,487,598,194,209,257,0.24161892743390734,0.27975017202110158,0.42026576675192007,0.5,8.4,9.3000000000000007,14,null,1316,null,0.68,null,null,0,12,13.9,21.85,null,{"$f":"IF((237.3*LN(($AQ$1*EXP(17.27*($AM$3/($AM$3+237.3))))))/(17.27-LN(($AQ$1*EXP(17.27*($AM$3/($AM$3+237.3))))))<(($AM$1+$AM$2)/2),1,IF(1/(1+((2258*((0.622/((101325/(1*611*EXP(17.27*((($AM$1+$AM$2)/2)/((($AM$1+$AM$2)/2)+237.3))))))-1)*1000-(0.622/((101325/($AQ$1*611*EXP(17.27*($AM$3/($AM$3+237.3))))))-1)*1000))/(1005*((($AM$1+$AM$2)/2)-$AM$3))))>1,1,1/(1+((2258*((0.622/((101325/(1*611*EXP(17.27*((($AM$1+$AM$2)/2)/((($AM$1+$AM$2)/2)+237.3))))))-1)*1000-(0.622/((101325/($AQ$1*611*EXP(17.27*($AM$3/($AM$3+237.3))))))-1)*1000))/(1005*((($AM$1+$AM$2)/2)-$AM$3))))))","v":1},1,1,452,487,598,null,0,0,0,1]
["15011",null,null,1,50,40.5,11,11.5,0,26,30,43.5,1037,2396.6961264405954,2582.0149905458411,3169.4,"N/A",1,1,1,{"$error":"#VALUE!"},1319,1421,1744,{"$error":"#VALUE!"},227,244,300,{"$error":"#VALUE!"},0.35764263105439981,0.4117325438077416,0.61622834738091425,3.969E-4,1.7345999999999999,4,5.7428799999999995E-4,401.42051232401269,432.4594048025981,530.84,1,1,1,452,487,598,194,209,257,0.26331990538597583,0.30444375859879691,0.45561080213127936,0.7,8.4,9.3000000000000007,14,null,1525,null,0.68,null,null,0,12,13.9,21.85,null,1,1,1,452,487,598,null,0,0,0,1]
["16511",null,null,1,65,40.5,11,11.5,0,26,30,43.5,1153.96,2396.6961264405954,2582.0149905458411,3169.4,"N/A",1,1,1,{"$error":"#VALUE!"},1319,1421,1744,{"$error":"#VALUE!"},227,244,300,{"$error":"#VALUE!"},0.38614105723619752,0.44403420203864397,0.66245292520995125,3.969E-4,1.7345999999999999,4,5.7428799999999995E-4,{"$f":"AK159*(1-(($E160-50)*0.005))","v":371.31397389971175},{"$f":"AL159*(1-(($E160-50)*0.005))","v":400.02494944240328},{"$f":"AM159*(1-(($E160-50)*0.005))","v":491.02700000000004},1,1,1,418,451,553,180,194,238,0.24663347668123881,0.28502088333804432,0.42315225954135194,0.9,8.4,9.3000000000000007,14,null,1697,null,0.68,null,null,0,12,13.9,21.85,null,1,1,1,418,451,553,null,0,0,0,1]
["19511",null,null,1,95,40.5,11,11.5,0,26,30,43.5,1343.68,2396.6961264405954,2582.0149905458411,3169.4,"N/A",1,1,1,{"$error":"#VALUE!"},1319,1421,1744,{"$error":"#VALUE!"},227,244,300,{"$error":"#VALUE!"},0.44313790959979288,0.50863751850044869,0.75490208086802502,3.969E-4,1.7345999999999999,4,5.7428799999999995E-4,{"$f":"AK159*(1-(($E161-50)*0.005))","v":311.10089705110983},{"$f":"AL159*(1-(($E161-50)*0.005))","v":335.15603872201353},{"$f":"AM159*(1-(($E161-50)*0.005))","v":411.40100000000001},1,1,1,350,377,463,151,162,199,0.20382604580009406,0.23299748338713477,0.34474417659197787,1.3,8.4,9.3000000000000007,14,null,1976,null,0.68,null,null,0,12,13.9,21.85,null,1,1,1,350,377,463,null,0,0,0,1]
["13515",null,null,1,35,40.5,15,16.5,0,26,30,44.1,1293.6000000000001,1908.1501882577959,2043.2071973479594,2816.6099999999997,"N/A",1,1,1,{"$error":"#VALUE!"},1050,1124,1550,{"$error":"#VALUE!"},181,193,267,{"$error":"#VALUE!"},0.15483601725583168,0.17591630897367236,0.33547540004958837,2.0829999999999999E-4,1.724,2,4.6182900000000003E-4,249.80785427097814,267.48901053042016,368.74,1,1,1,281,301,415,121,129,178,6.9541494629535613E-2,7.8975804637198763E-2,0.14977521113120368,0.4,7.9,8.8000000000000007,12.5,null,1617,null,0.8,null,null,0,10.9,12.8,21.85,null,1,1,1,281,301,415,null,0,0,0,1]
["15015",null,null,1,50,40.5,15,16.5,0,26,30,44.1,1525.6000000000001,1908.1501882577959,2043.2071973479594,2816.6099999999997,"N/A",1,1,1,{"$error":"#VALUE!"},1050,1124,1550,{"$error":"#VALUE!"},181,193,267,{"$error":"#VALUE!"},0.15961432881381588,0.18125380298911337,0.34481529550283235,2.0829999999999999E-4,1.724,2,4.6182900000000003E-4,249.80785427097814,267.48901053042016,368.74,1,1,1,281,301,415,121,129,178,7.1927978914003279E-2,8.1640780383557099E-2,0.15441780490188597,0.5,7.9,8.8000000000000007,12.5,null,1907,null,0.8,null,null,0,10.9,12.8,21.85,null,1,1,1,281,301,415,null,0,0,0,1]
["16515",null,null,1,65,40.5,15,16.5,0,26,30,44.1,1691.2,1908.1501882577959,2043.2071973479594,2816.6099999999997,"N/A",1,1,1,{"$error":"#VALUE!"},1050,1124,1550,{"$error":"#VALUE!"},181,193,267,{"$error":"#VALUE!"},0.16439264037180013,0.1865912970045544,0.35415519095607628,2.0829999999999999E-4,1.724,2,4.6182900000000003E-4,249.80785427097814,267.48901053042016,368.74,1,1,1,281,301,415,121,129,178,7.4314463198470959E-2,8.4305756129915421E-2,0.15906039867256827,0.7,7.9,8.8000000000000007,12.5,null,2114,null,0.8,null,null,0,10.9,12.8,21.85,null,1,1,1,281,301,415,null,0,0,0,1]
["19515",null,null,1,95,40.5,15,16.5,0,26,30,44.1,1813.1501882577959,1908.1501882577959,2043.2071973479594,2816.6099999999997,"N/A",1,1,1,{"$error":"#VALUE!"},1050,1124,1550,{"$error":"#VALUE!"},181,193,267,{"$error":"#VALUE!"},0.17394926348776854,0.19726628503543642,0.37283498186256414,2.0829999999999999E-4,1.724,2,4.6182900000000003E-4,249.80785427097814,267.48901053042016,368.74,1,1,1,281,301,415,121,129,178,7.9087431767406305E-2,8.9635707622632066E-2,0.16834558621393286,1,7.9,8.8000000000000007,12.5,null,2361,null,0.8,null,null,0,10.9,12.8,21.85,null,1,1,1,281,301,415,null,0,0,0,1]
["13516",null,null,1,35,40.5,16,16.5,0,26,30,44.1,1191.3600000000001,2849.7497938679544,3051.4523045945984,4206.5,"N/A",1,1,1,{"$error":"#VALUE!"},1568,1679,2315,{"$error":"#VALUE!"},270,289,398,{"$error":"#VALUE!"},1.0211938469827355,1.1694172308234554,2.2131750009167157,2.0829999999999999E-4,1.724,4,1.392796E-3,407.83296705301524,436.69898665540194,602,1,1,1,459,492,678,197,212,292,0.54490765659496276,0.6306950305616138,1.1937363608572948,0.7,7.9,8.8000000000000007,12.5,null,1752,null,0.68,null,null,0,10.9,12.8,21.85,null,1,1,1,459,492,678,null,0,0,0,1]
["15016",null,null,1,50,40.5,16,16.5,0,26,30,44.1,1419.8400000000001,2849.7497938679544,3051.4523045945984,4206.5,"N/A",1,1,1,{"$error":"#VALUE!"},1568,1679,2315,{"$error":"#VALUE!"},270,289,398,{"$error":"#VALUE!"},1.0402369503779312,1.1908290948574276,2.2503512023197607,2.0829999999999999E-4,1.724,4,1.392796E-3,407.83296705301524,436.69898665540194,602,1,1,1,459,492,678,197,212,292,0.55596692427537242,0.64324577886725487,1.2155328543374608,{"$f":"ROUND(IF(G167=10,$CO$92*E167,IF(G167=11,$CO$93*E167,IF(G167=15,$CO$94*E167,IF(G167=16,$CO$95*E167,IF(G167=20,$CO$96*E167,IF(G167=21,$CO$97*E167,)))))),1)","v":1},7.9,8.8000000000000007,12.5,null,2088,null,0.68,null,null,0,10.9,12.8,21.85,null,1,1,1,459,492,678,null,0,0,0,1]
["16516",null,null,1,65,40.5,16,16.5,0,26,30,44.1,1625.2,2849.7497938679544,3051.4523045945984,4206.5,"N/A",1,1,1,{"$error":"#VALUE!"},1568,1679,2315,{"$error":"#VALUE!"},270,289,398,{"$error":"#VALUE!"},1.0592800537731271,1.2122409588913998,2.2875274037228062,2.0829999999999999E-4,1.724,4,1.392796E-3,{"$f":"AK167*(1-(($E168-50)*0.005))","v":377.24549452403909},{"$f":"AL167*(1-(($E168-50)*0.005))","v":403.94656265624684},{"$f":"AM167*(1-(($E168-50)*0.005))","v":556.85},1,1,1,425,455,627,183,196,270,0.48995903149844827,0.5613360975887377,1.0592800537731271,1.3,7.9,8.8000000000000007,12.5,null,2390,null,0.68,null,null,0,10.9,12.8,21.85,null,1,1,1,425,455,627,null,0,0,0,1]
["19516",null,null,1,95,40.5,16,16.5,0,26,30,44.1,2002.6000000000001,2849.7497938679544,3051.4523045945984,4206.5,"N/A",1,1,1,{"$error":"#VALUE!"},1568,1679,2315,{"$error":"#VALUE!"},270,289,398,{"$error":"#VALUE!"},1.0973662605635184,1.2550646869593445,2.3618798065288971,2.0829999999999999E-4,1.724,4,1.392796E-3,{"$f":"AK167*(1-(($E169-50)*0.005))","v":316.07054946608685},{"$f":"AL167*(1-(($E169-50)*0.005))","v":338.44171465793653},{"$f":"AM167*(1-(($E169-50)*0.005))","v":466.55},1,1,1,356,381,525,153,164,226,0.3579530728643634,0.41043555321398084,0.77245650946494626,1.9,7.9,8.8000000000000007,12.5,null,2945,null,0.68,null,null,0,10.9,12.8,21.85,null,1,1,1,356,381,525,null,0,0,0,1]
["13520",null,null,1,35,40.5,20,21.5,0,26,30,44.1,1812.8000000000002,2692.551301713082,2900.746468081386,3560.6400000000003,"N/A",1,1,1,{"$error":"#VALUE!"},1482,1596,1960,{"$error":"#VALUE!"},255,275,337,{"$error":"#VALUE!"},0.24716804050953625,0.2872865587304988,0.43075485766307609,1.2760000000000001E-4,1.7219,2,3.76611E-4,317.17997831584631,341.70517057946222,419.44,1,1,1,357,385,472,154,166,203,9.0541412461384474E-2,0.10512927544459219,0.15693820159623539,0.5,7.9,8.8000000000000007,12.5,null,2266,null,0.8,null,null,0,10.9,12.8,21.85,null,1,1,1,357,385,472,null,0,0,0,1]
["15020",null,null,1,50,40.5,20,21.5,0,26,30,44.1,2134.4,2692.551301713082,2900.746468081386,3560.6400000000003,"N/A",1,1,1,{"$error":"#VALUE!"},1482,1596,1960,{"$error":"#VALUE!"},255,275,337,{"$error":"#VALUE!"},0.25239223746186851,0.29323612039712416,0.43919838533652961,1.2760000000000001E-4,1.7219,2,3.76611E-4,317.17997831584631,341.70517057946222,419.44,1,1,1,357,385,472,154,166,203,9.2733661730742101E-2,0.10762388235803309,0.16046576990645536,0.7,7.9,8.8000000000000007,12.5,null,2668,null,0.8,null,null,0,10.9,12.8,21.85,null,1,1,1,357,385,472,null,0,0,0,1]
["16520",null,null,1,65,40.5,20,21.5,0,26,30,44.1,2363.2000000000003,2692.551301713082,2900.746468081386,3560.6400000000003,"N/A",1,1,1,{"$error":"#VALUE!"},1482,1596,1960,{"$error":"#VALUE!"},255,275,337,{"$error":"#VALUE!"},0.25761643441420073,0.29918568206374946,0.44764191300998307,1.2760000000000001E-4,1.7219,2,3.76611E-4,317.17997831584631,341.70517057946222,419.44,1,1,1,357,385,472,154,166,203,9.4925911000099727E-2,0.110118489271474,0.16399333821667533,0.9,7.9,8.8000000000000007,12.5,null,2954,null,0.8,null,null,0,10.9,12.8,21.85,null,1,1,1,357,385,472,null,0,0,0,1]
["19520",null,null,1,95,40.5,20,21.5,0,26,30,44.1,2597.551301713082,2692.551301713082,2900.746468081386,3560.6400000000003,"N/A",1,1,1,{"$error":"#VALUE!"},1482,1596,1960,{"$error":"#VALUE!"},255,275,337,{"$error":"#VALUE!"},0.26806482831886519,0.31108480539700012,0.46452896835689012,1.2760000000000001E-4,1.7219,2,3.76611E-4,317.17997831584631,341.70517057946222,419.44,1,1,1,357,385,472,154,166,203,9.9310409538814981E-2,0.11510770309835582,0.17104847483711527,1.3,7.9,8.8000000000000007,12.5,null,3291,null,0.8,null,null,0,10.9,12.8,21.85,null,1,1,1,357,385,472,null,0,0,0,1]
["13521",null,null,1,35,40.5,21,21.5,0,26,30,44.1,1860,3556.1815292902165,3807.8845891872675,5249.2599999999993,"N/A",1,1,1,{"$error":"#VALUE!"},1957,2096,2889,{"$error":"#VALUE!"},337,361,497,{"$error":"#VALUE!"},0.59548503102595229,0.68281776826160223,1.2899954566489635,1.2760000000000001E-4,1.7219,4,5.1420100000000005E-4,445.64897406447591,477.19157375690452,657.82,1,1,1,502,537,741,216,231,319,0.24588951980337115,0.28099854091334819,0.53389089406281531,0.9,7.9,8.8000000000000007,12.5,null,2325,null,0.8,null,null,0,10.9,12.8,21.85,null,1,1,1,502,537,741,null,0,0,0,1]
["15021",null,null,1,50,40.5,21,21.5,0,26,30,44.1,2272,3556.1815292902165,3807.8845891872675,5249.2599999999993,"N/A",1,1,1,{"$error":"#VALUE!"},1957,2096,2889,{"$error":"#VALUE!"},337,361,497,{"$error":"#VALUE!"},0.61237208637285934,0.70182853580223492,1.3229628087271896,1.2760000000000001E-4,1.7219,4,5.1420100000000005E-4,445.64897406447591,477.19157375690452,657.82,1,1,1,502,537,741,216,231,319,0.25374050059068026,0.28981169713826199,0.54925492516355467,1.3,7.9,8.8000000000000007,12.5,null,2840,null,0.8,null,null,0,10.9,12.8,21.85,null,1,1,1,502,537,741,null,0,0,0,1]
["16521",null,null,1,65,40.5,21,21.5,0,26,30,44.1,2666.4,3556.1815292902165,3807.8845891872675,5249.2599999999993,"N/A",1,1,1,{"$error":"#VALUE!"},1957,2096,2889,{"$error":"#VALUE!"},337,361,497,{"$error":"#VALUE!"},0.62925914171976627,0.72083930334286761,1.3559301608054155,1.2760000000000001E-4,1.7219,4,5.1420100000000005E-4,{"$f":"AK175*(1-(($E176-50)*0.005))","v":412.22530100964025},{"$f":"AL175*(1-(($E176-50)*0.005))","v":441.4022057251367},{"$f":"AM175*(1-(($E176-50)*0.005))","v":608.48350000000005},1,1,1,464,497,685,200,214,295,0.22476373780122599,0.25683696002271367,0.48383120531550317,1.7,7.9,8.8000000000000007,12.5,null,3333,null,0.8,null,null,0,10.9,12.8,21.85,null,1,1,1,464,497,685,null,0,0,0,1]
["19521",null,null,1,95,40.5,21,21.5,0,26,30,44.1,3449.6000000000004,3556.1815292902165,3807.8845891872675,5249.2599999999993,"N/A",1,1,1,{"$error":"#VALUE!"},1957,2096,2889,{"$error":"#VALUE!"},337,361,497,{"$error":"#VALUE!"},0.66303325241358024,0.75886083842413288,1.4218648649618675,1.2760000000000001E-4,1.7219,4,5.1420100000000005E-4,{"$f":"AK175*(1-(($E177-50)*0.005))","v":345.37795489996881},{"$f":"AL175*(1-(($E177-50)*0.005))","v":369.823469661601},{"$f":"AM175*(1-(($E177-50)*0.005))","v":509.81050000000005},1,1,1,389,416,574,167,179,247,0.16762480367421279,0.19198530276009981,0.36057900739039062,2.5,7.9,8.8000000000000007,12.5,null,4312,null,0.8,null,null,0,10.9,12.8,21.85,null,1,1,1,389,416,574,null,0,0,0,1]
["13510",null,null,1,35,40.5,10,11.5,0,26,30,44,970.2,1924.9914127028867,2079.6202422788024,2589.7800000000002,"N/A",1,1,1,{"$error":"#VALUE!"},1059,1144,1425,{"$error":"#VALUE!"},182,197,245,{"$error":"#VALUE!"},0.13258544898163924,0.15501573788967696,0.23842842661534219,3.969E-4,1.7345999999999999,2,3.6734700000000002E-4,266.87553260000635,288.31284965818764,359.04,1,1,1,301,325,404,129,140,174,6.7249929878101883E-2,7.9022110358350439E-2,0.12133208268892461,0.2,8.9,9.9,14.8,null,1078,null,0.9,null,null,0,11.8,13.7,21.85,null,1,1,1,301,325,404,null,0,0,0,1]
["15010",null,null,1,50,40.5,10,11.5,0,26,30,44,1161.9000000000001,1924.9914127028867,2079.6202422788024,2589.7800000000002,"N/A",1,1,1,{"$error":"#VALUE!"},1059,1144,1425,{"$error":"#VALUE!"},182,197,245,{"$error":"#VALUE!"},0.14229833425390079,0.1661589281355097,0.25469424501364962,3.969E-4,1.7345999999999999,2,3.6734700000000002E-4,266.87553260000635,288.31284965818764,359.04,1,1,1,301,325,404,129,140,174,7.2596279315117807E-2,8.5183832638702703E-2,0.13031640151658816,0.3,8.9,9.9,14.8,null,1291,null,0.9,null,null,0,11.8,13.7,21.85,null,1,1,1,301,325,404,null,0,0,0,1]
["16510",null,null,1,65,40.5,10,11.5,0,26,30,44,1307.7,1924.9914127028867,2079.6202422788024,2589.7800000000002,"N/A",1,1,1,{"$error":"#VALUE!"},1059,1144,1425,{"$error":"#VALUE!"},182,197,245,{"$error":"#VALUE!"},0.15201121952616237,0.17730211838134247,0.270960063411957,3.969E-4,1.7345999999999999,2,3.6734700000000002E-4,266.87553260000635,288.31284965818764,359.04,1,1,1,301,325,404,129,140,174,7.7942628752133744E-2,9.134555491905498E-2,0.1393007203442517,0.4,8.9,9.9,14.8,null,1453,null,0.9,null,null,0,11.8,13.7,21.85,null,1,1,1,301,325,404,null,0,0,0,1]
["19510",null,null,1,95,40.5,10,11.5,0,26,30,44,1504.8,1924.9914127028901,2079.6202422788001,2589.7800000000002,"N/A",1,1,1,{"$error":"#VALUE!"},1059,1144,1425,{"$error":"#VALUE!"},182,197,245,{"$error":"#VALUE!"},0.17143699007068547,0.19958849887300792,0.3034917002085718,3.969E-4,1.7345999999999999,2,3.6734700000000002E-4,266.87553260000635,288.31284965818764,359.04,1,1,1,301,325,404,129,140,174,8.8635327626165591E-2,0.10366899947975949,0.15726935799957881,0.6,8.9,9.9,14.8,null,1672,null,0.9,null,null,0,11.8,13.7,21.85,null,1,1,1,301,325,404,null,0,0,0,1]
["13511",null,null,1,35,40.5,11,11.5,0,26,30,44,975.80000000000007,2611.8926414972211,2821.6982019103875,3513.9,"N/A",1,1,1,{"$error":"#VALUE!"},1437,1553,1934,{"$error":"#VALUE!"},247,267,333,{"$error":"#VALUE!"},0.38867131849456993,0.45307946927971943,0.70016501384775931,3.969E-4,1.7345999999999999,4,5.7428799999999995E-4,437,473,589,1,1,1,492,533,663,212,229,285,0.28770718363871023,0.33487703195914881,0.5152136685160672,0.5,8.9,9.9,14.8,null,1435,null,0.68,null,null,0,11.8,13.7,21.85,null,1,1,1,492,533,663,null,0,0,0,1]
["15011",null,null,1,50,40.5,11,11.5,0,26,30,44,1130.8400000000001,2611.8926414972211,2821.6982019103875,3513.9,"N/A",1,1,1,{"$error":"#VALUE!"},1437,1553,1934,{"$error":"#VALUE!"},247,267,333,{"$error":"#VALUE!"},0.42166498346517917,0.49084406666281616,0.75556251719787515,3.969E-4,1.7345999999999999,4,5.7428799999999995E-4,437,473,589,1,1,1,492,533,663,212,229,285,0.31301884254146045,0.3638124027946455,0.55750314599864048,0.7,8.9,9.9,14.8,null,1663,null,0.68,null,null,0,11.8,13.7,21.85,null,1,1,1,492,533,663,null,0,0,0,{"$f":"IF(SUM(BV183:BX183)=0,1,0)","v":1}]
["16511",null,null,1,65,40.5,11,11.5,0,26,30,44,1259.3600000000001,2611.8926414972211,2821.6982019103875,3513.9,"N/A",1,1,1,{"$error":"#VALUE!"},1437,1553,1934,{"$error":"#VALUE!"},247,267,333,{"$error":"#VALUE!"},0.4546586484357884,0.52860866404591289,0.81096002054799121,3.969E-4,1.7345999999999999,4,5.7428799999999995E-4,{"$f":"AK183*(1-(($E184-50)*0.005))","v":404.22500000000002},{"$f":"AL183*(1-(($E184-50)*0.005))","v":437.52500000000003},{"$f":"AM183*(1-(($E184-50)*0.005))","v":544.82500000000005},1,1,1,455,493,614,196,212,264,0.29072477321351514,0.33833050144421067,0.51717061431639011,0.9,8.9,9.9,14.8,null,1852,null,0.68,null,null,0,11.8,13.7,21.85,null,1,1,1,455,493,614,null,0,0,0,1]
["19511",null,null,1,95,40.5,11,11.5,0,26,30,44,1465.4,2611.8926414972211,2821.6982019103875,3513.9,"N/A",1,1,1,{"$error":"#VALUE!"},1437,1553,1934,{"$error":"#VALUE!"},247,267,333,{"$error":"#VALUE!"},0.52064597837700688,0.60413785881210624,0.92175502724822334,3.969E-4,1.7345999999999999,4,5.7428799999999995E-4,{"$f":"AK183*(1-(($E185-50)*0.005))","v":338.67500000000001},{"$f":"AL183*(1-(($E185-50)*0.005))","v":366.57499999999999},{"$f":"AM183*(1-(($E185-50)*0.005))","v":456.47500000000002},1,1,1,381,413,514,164,178,221,0.23850181861975878,0.27875225801897668,0.42105726192614279,1.3,8.9,9.9,14.8,null,2155,null,0.68,null,null,0,11.8,13.7,21.85,null,1,1,1,381,413,514,null,0,0,0,1]
["13515",null,null,1,35,40.5,15,16.5,0,26,30,44.8,1411.2,2216.9073865755149,2373.9948983307781,3302.76,"N/A",1,1,1,{"$error":"#VALUE!"},1220,1307,1818,{"$error":"#VALUE!"},210,225,313,{"$error":"#VALUE!"},0.20807174943621862,0.23867429366423817,0.46027088625135254,2.0829999999999999E-4,1.724,2,4.6182900000000003E-4,302.61675876046246,324.05983479376272,450.84,1,1,1,341,365,508,147,157,218,0.10238493920959209,0.11669454243100187,0.22413300139589623,0.4,8.6999999999999993,9.8000000000000007,14.3,null,1764,null,0.8,null,null,0,10.6,12.5,21.85,null,1,1,1,341,365,508,null,0,0,0,1]
["15015",null,null,1,50,40.5,15,16.5,0,26,30,44.8,1664.8000000000002,2216.9073865755149,2373.9948983307781,3302.76,"N/A",1,1,1,{"$error":"#VALUE!"},1220,1307,1818,{"$error":"#VALUE!"},210,225,313,{"$error":"#VALUE!"},0.21424540881696033,0.24562772645979991,0.47255531705345388,2.0829999999999999E-4,1.724,2,4.6182900000000003E-4,302.61675876046246,324.05983479376272,450.84,1,1,1,341,365,508,{"$f":"ROUND(AQ187*3600/(4186*ABS($AM$1-$AM$2)),0)","v":147},{"$f":"ROUND(AR187*3600/(4186*ABS($AM$1-$AM$2)),0)","v":157},{"$f":"ROUND(AS187*3600/(4186*ABS($AM$1-$AM$2)),0)","v":218},0.1057229803541009,0.12043364691537217,0.23071769536319933,0.5,8.6999999999999993,9.8000000000000007,14.3,null,2081,null,0.8,null,null,0,10.6,12.5,21.85,null,1,1,1,341,365,508,null,0,0,0,1]
["16515",null,null,1,65,40.5,15,16.5,0,26,30,44.8,1844.8000000000002,2216.9073865755149,2373.9948983307781,3302.76,"N/A",1,1,1,{"$error":"#VALUE!"},1220,1307,1818,{"$error":"#VALUE!"},210,225,313,{"$error":"#VALUE!"},0.22041906819770207,0.25258115925536168,0.48483974785555528,2.0829999999999999E-4,1.724,2,4.6182900000000003E-4,302.61675876046246,324.05983479376272,450.84,1,1,1,341,365,508,147,157,218,0.1090610214986097,0.12417275139974246,0.23730238933050243,0.7,8.6999999999999993,9.8000000000000007,14.3,null,2306,null,0.8,null,null,0,10.6,12.5,21.85,null,1,1,1,341,365,508,null,0,0,0,1]
["19515",null,null,1,95,40.5,15,16.5,0,26,30,44.8,2060,2216.9073865755149,2373.9948983307781,3302.76,"N/A",1,1,1,{"$error":"#VALUE!"},1220,1307,1818,{"$f":"ROUND(U189*3600/(4186*ABS($O$1-$O$2)),0)","v":{"$error":"#VALUE!"}},{"$f":"ROUND(V189*3600/(4186*ABS($O$1-$O$2)),0)","v":210},{"$f":"ROUND(W189*3600/(4186*ABS($O$1-$O$2)),0)","v":225},{"$f":"ROUND(X189*3600/(4186*ABS($O$1-$O$2)),0)","v":313},{"$error":"#VALUE!"},0.2327663869591855,0.26648802484648515,0.50940860945975797,2.0829999999999999E-4,1.724,2,4.6182900000000003E-4,302.61675876046246,324.05983479376272,450.84,1,1,1,341,365,508,147,157,218,0.1157371037876273,0.13165096036848303,0.25047177726510861,1,8.6999999999999993,9.8000000000000007,14.3,null,2575,null,0.8,null,null,0,10.6,12.5,21.85,null,1,1,1,341,365,508,null,0,0,0,1]
["13516",null,null,1,35,40.5,16,16.5,0,26,30,44.8,1300.1600000000001,3241.8333772189817,3471.5459677567114,4829.7,"N/A",1,1,1,{"$error":"#VALUE!"},1784,1911,2658,{"$error":"#VALUE!"},307,329,457,{"$error":"#VALUE!"},1.3190762863889032,1.5141943395007591,2.9154581992296937,2.0829999999999999E-4,1.724,4,1.392796E-3,496,532,740,1,1,1,559,599,833,240,258,358,0.80755198904584913,0.93273975234355333,1.7918958696064049,0.7,8.6999999999999993,9.8000000000000007,14.3,null,1912,null,0.68,null,null,0,10.6,12.5,21.85,null,1,1,1,559,599,833,null,0,0,0,1]
["15016",null,null,1,50,40.5,16,16.5,0,26,30,44.8,1549.0400000000002,3241.8333772189817,3471.5459677567114,4829.7,"N/A",1,1,1,{"$error":"#VALUE!"},1784,1911,2658,{"$error":"#VALUE!"},307,329,457,{"$error":"#VALUE!"},1.3428388424979105,1.5409682818609234,2.9626386542421903,2.0829999999999999E-4,1.724,4,1.392796E-3,496,532,740,1,1,1,559,599,833,240,258,358,0.82309555916661303,0.95034730391565514,1.8228672765058258,1,8.6999999999999993,9.8000000000000007,14.3,null,2278,null,0.68,null,null,0,10.6,12.5,21.85,null,1,1,1,559,599,833,null,0,0,0,1]
["16516",null,null,1,65,40.5,16,16.5,0,26,30,44.8,1773.44,3241.8333772189817,3471.5459677567114,4829.7,"N/A",1,1,1,{"$error":"#VALUE!"},1784,1911,2658,{"$error":"#VALUE!"},307,329,457,{"$error":"#VALUE!"},1.3666013986069177,1.5677422242210879,3.0098191092546864,2.0829999999999999E-4,1.724,4,1.392796E-3,{"$f":"AK191*(1-(($E192-50)*0.005))","v":458.8},{"$f":"AL191*(1-(($E192-50)*0.005))","v":492.1},{"$f":"AM191*(1-(($E192-50)*0.005))","v":684.5},1,1,1,517,554,771,222,238,332,0.7185364117480002,0.82483927964032122,1.5962334917748215,1.3,8.6999999999999993,9.8000000000000007,14.3,null,2608,null,0.68,null,null,0,10.6,12.5,21.85,null,1,1,1,517,554,771,null,0,0,0,1]
["19516",null,null,1,95,40.5,16,16.5,0,26,30,44.8,2184.1600000000003,3241.8333772189817,3471.5459677567114,4829.7,"N/A",1,1,1,{"$error":"#VALUE!"},1784,1911,2658,{"$error":"#VALUE!"},307,329,457,{"$error":"#VALUE!"},1.4141265108249321,1.6212901089414167,3.1041800192796782,2.0829999999999999E-4,1.724,4,1.392796E-3,{"$f":"AK191*(1-(($E193-50)*0.005))","v":384.40000000000003},{"$f":"AL191*(1-(($E193-50)*0.005))","v":412.3},{"$f":"AM191*(1-(($E193-50)*0.005))","v":573.5},1,1,1,433,464,646,186,200,278,0.52603553770559164,0.60696988816854247,1.1624880553591741,1.9,8.6999999999999993,9.8000000000000007,14.3,null,3212,null,0.68,null,null,0,10.6,12.5,21.85,null,1,1,1,433,464,646,null,0,0,0,1]
["13520",null,null,1,35,40.5,20,21.5,0,26,30,44.8,1977.6000000000001,3079.6829926739365,3327.0647594078355,4143.24,"N/A",1,1,1,{"$error":"#VALUE!"},1695,1831,2280,{"$error":"#VALUE!"},292,315,392,{"$error":"#VALUE!"},0.32375109108319056,0.37654163293995196,0.58218486733678754,1.2760000000000001E-4,1.7219,2,3.76611E-4,380.60090160569081,411.17343900116532,512.04,1,1,1,429,463,577,184,199,248,0.12904569288060302,0.1508402157442113,0.23383701934372039,0.5,8.6999999999999993,9.8000000000000007,14.3,null,2472,null,0.8,null,null,0,10.6,12.5,21.85,null,1,1,1,429,463,577,null,0,0,0,1]
["15020",null,null,1,50,40.5,20,21.5,0,26,30,44.8,2328,3079.6829926739365,3327.0647594078355,4143.24,"N/A",1,1,1,{"$error":"#VALUE!"},1695,1831,2280,{"$error":"#VALUE!"},292,315,392,{"$error":"#VALUE!"},0.33034800378027102,0.38405853596297518,0.59313898202435134,1.2760000000000001E-4,1.7219,2,3.76611E-4,380.60090160569081,411.17343900116532,512.04,1,1,1,429,463,577,184,199,248,0.13202412573774117,0.1542489497804331,0.23881673280914789,0.7,8.6999999999999993,9.8000000000000007,14.3,null,2910,null,0.8,null,null,0,10.6,12.5,21.85,null,1,1,1,429,463,577,null,0,0,0,1]
["16520",null,null,1,65,40.5,20,21.5,0,26,30,44.8,2577.6000000000004,3079.6829926739365,3327.0647594078355,4143.24,"N/A",1,1,1,{"$error":"#VALUE!"},1695,1831,2280,{"$error":"#VALUE!"},292,315,392,{"$error":"#VALUE!"},0.33694491647735159,0.39157543898599839,0.60409309671191502,1.2760000000000001E-4,1.7219,2,3.76611E-4,380.60090160569081,411.17343900116532,512.04,1,1,1,429,463,577,184,199,248,0.13500255859487931,0.1576576838166549,0.24379644627457539,0.9,8.6999999999999993,9.8000000000000007,14.3,null,3222,null,0.8,null,null,0,10.6,12.5,21.85,null,1,1,1,429,463,577,null,0,0,0,1]
["19520",null,null,1,95,40.5,20,21.5,0,26,30,44.8,2872,3079.6829926739365,3327.0647594078355,4143.24,"N/A",1,1,1,{"$error":"#VALUE!"},1695,1831,2280,{"$error":"#VALUE!"},292,315,392,{"$error":"#VALUE!"},0.35013874187151256,0.40660924503204493,0.62600132608704251,1.2760000000000001E-4,1.7219,2,3.76611E-4,380.60090160569081,411.17343900116532,512.04,1,1,1,429,463,577,184,199,248,0.14095942430915556,0.16447515188909853,0.25375587320543036,1.3,8.6999999999999993,9.8000000000000007,14.3,null,3590,null,0.8,null,null,0,10.6,12.5,21.85,null,1,1,1,429,463,577,null,0,0,0,1]
["13521",null,null,1,35,40.5,21,21.5,0,26,30,44.8,2029.6000000000001,4175.015825613802,4470.8526528786542,6219.96,"N/A",1,1,1,{"$error":"#VALUE!"},2298,2460,3423,{"$error":"#VALUE!"},395,423,589,{"$error":"#VALUE!"},0.81672134881150071,0.93595403333817506,1.808848669875462,1.2760000000000001E-4,1.7219,4,5.1420100000000005E-4,541.56076058716258,579.9351342123673,806.82,1,1,1,610,653,909,262,281,391,0.36094285515737579,0.41485810238350951,0.80034858004817044,0.9,8.6999999999999993,9.8000000000000007,14.3,null,2537,null,0.8,null,null,0,10.6,12.5,21.85,null,1,1,1,610,653,909,null,0,0,0,1]
["15021",null,null,1,50,40.5,21,21.5,0,26,30,44.8,2478.4,4175.015825613802,4470.8526528786542,6219.96,"N/A",1,1,1,{"$error":"#VALUE!"},2298,2460,3423,{"$error":"#VALUE!"},395,423,589,{"$error":"#VALUE!"},0.83891907752497197,0.96093006746000131,1.8530148181931771,1.2760000000000001E-4,1.7219,4,5.1420100000000005E-4,541.56076058716258,579.9351342123673,806.82,1,1,1,610,653,909,262,281,391,0.37189000326866878,0.42720777408669608,0.82216066392271181,1.3,8.6999999999999993,9.8000000000000007,14.3,null,3098,null,0.8,null,null,0,10.6,12.5,21.85,null,1,1,1,610,653,909,null,0,0,0,1]
["16521",null,null,1,65,40.5,21,21.5,0,26,30,44.8,2908.8,4175.015825613802,4470.8526528786542,6219.96,"N/A",1,1,1,{"$error":"#VALUE!"},2298,2460,3423,{"$error":"#VALUE!"},395,423,589,{"$error":"#VALUE!"},0.86111680623844333,0.98590610158182779,1.8971809665108921,1.2760000000000001E-4,1.7219,4,5.1420100000000005E-4,{"$f":"AK199*(1-(($E200-50)*0.005))","v":500.94370354312542},{"$f":"AL199*(1-(($E200-50)*0.005))","v":536.43999914643973},{"$f":"AM199*(1-(($E200-50)*0.005))","v":746.30850000000009},1,1,1,564,604,840,243,260,361,0.32999658220820105,0.37709219972223568,0.72083930334286761,1.7,8.6999999999999993,9.8000000000000007,14.3,null,3636,null,0.8,null,null,0,10.6,12.5,21.85,null,1,1,1,564,604,840,null,0,0,0,1]
["19521",null,null,1,95,40.5,21,21.5,0,26,30,44.8,3763.2000000000003,4175.015825613802,4470.8526528786542,6219.96,"N/A",1,1,1,{"$error":"#VALUE!"},2298,2460,3423,{"$error":"#VALUE!"},395,423,589,{"$error":"#VALUE!"},0.90551226366538595,1.0358581698254805,1.9855132631463224,1.2760000000000001E-4,1.7219,4,5.1420100000000005E-4,{"$f":"AK199*(1-(($E201-50)*0.005))","v":419.709589455051},{"$f":"AL199*(1-(($E201-50)*0.005))","v":449.44972901458465},{"$f":"AM199*(1-(($E201-50)*0.005))","v":625.28550000000007},1,1,1,473,506,704,203,218,303,0.24556874906203058,0.28234228056980154,0.53819694658674766,2.5,8.6999999999999993,9.8000000000000007,14.3,null,4704,null,0.8,null,null,0,10.6,12.5,21.85,null,1,1,1,473,506,704,null,0,0,0,1]
["13510",null,null,1,35,40.5,10,11.5,0,26,30,44.8,1131.3,2267.7915432376717,2456.1428225151312,3097.58,"N/A",1,1,1,{"$error":"#VALUE!"},1248,1352,1705,{"$error":"#VALUE!"},215,233,293,{"$error":"#VALUE!"},0.18421954480838962,0.21591524685953425,0.33952368107357966,3.969E-4,1.7345999999999999,2,3.6734700000000002E-4,314.40040300104783,340.51290804463417,429.44,1,1,1,354,383,484,152,165,208,9.2933974759177168E-2,0.10926259454815473,0.17256620729774091,0.2,10.1,11.2,17.5,null,1257,null,0.9,null,null,0,11.5,13.3,21.85,null,1,1,1,354,383,484,null,0,0,0,1]
["15010",null,null,1,50,40.5,10,11.5,0,26,30,44.8,1355.4,2267.7915432376717,2456.1428225151312,3097.58,"N/A",1,1,1,{"$error":"#VALUE!"},1248,1352,1705,{"$error":"#VALUE!"},215,233,293,{"$error":"#VALUE!"},0.1971876397647413,0.23082409221351549,0.36170855696982701,3.969E-4,1.7345999999999999,2,3.6734700000000002E-4,314.40040300104783,340.51290804463417,429.44,1,1,1,354,383,484,152,165,208,0.10004045114032561,0.11745621946064604,0.18481070827298918,0.3,10.1,11.2,17.5,null,1506,null,0.9,null,null,0,11.5,13.3,21.85,null,1,1,1,354,383,484,null,0,0,0,1]
["16510",null,null,1,65,40.5,10,11.5,0,26,30,44.8,1525.5,2267.7915432376717,2456.1428225151312,3097.58,"N/A",1,1,1,{"$error":"#VALUE!"},1248,1352,1705,{"$error":"#VALUE!"},215,233,293,{"$error":"#VALUE!"},0.21015573472109292,0.24573293756749676,0.3838934328660743,3.969E-4,1.7345999999999999,2,3.6734700000000002E-4,314.40040300104783,340.51290804463417,429.44,1,1,1,354,383,484,152,165,208,0.10714692752147405,0.12564984437313734,0.19705520924823741,0.4,10.1,11.2,17.5,null,1695,null,0.9,null,null,0,11.5,13.3,21.85,null,1,1,1,354,383,484,null,0,0,0,1]
["19510",null,null,1,95,40.5,10,11.5,0,26,30,44.8,1755,2267.7915432376699,2456.1428225151299,3097.58,"N/A",1,1,1,{"$error":"#VALUE!"},1248,1352,1705,{"$error":"#VALUE!"},215,233,293,{"$error":"#VALUE!"},0.23609192463379625,0.27555062827545923,0.42826318465856894,3.969E-4,1.7345999999999999,2,3.6734700000000002E-4,314.40040300104783,340.51290804463417,429.44,1,1,1,354,383,484,152,165,208,0.1213598802837709,0.14203709419811997,0.22154421119873388,0.6,10.1,11.2,17.5,null,1950,null,0.9,null,null,0,11.5,13.3,21.85,null,1,1,1,354,383,484,null,0,0,0,1]
["13511",null,null,1,35,40.5,11,11.5,0,26,30,44.8,1138.3200000000002,3077.015307780141,3332.5766142436496,4202.8999999999996,"N/A",1,1,1,{"$error":"#VALUE!"},1693,1834,2313,{"$error":"#VALUE!"},291,315,398,{"$error":"#VALUE!"},0.5368013533165763,0.62752872184884423,0.99515657223191623,3.969E-4,1.7345999999999999,4,5.7428799999999995E-4,515,558,704,1,1,1,580,628,793,249,270,341,0.39489262091130506,0.46316119227577629,0.73370960660966256,0.5,10.1,11.2,17.5,null,1674,null,0.68,null,null,0,11.5,13.3,21.85,null,1,1,1,580,628,793,null,0,0,0,1]
["15011",null,null,1,50,40.5,11,11.5,0,26,30,44.8,1319.2,3077.015307780141,3332.5766142436496,4202.8999999999996,"N/A",1,1,1,{"$error":"#VALUE!"},1693,1834,2313,{"$error":"#VALUE!"},291,315,398,{"$error":"#VALUE!"},0.58064707307058816,0.67783566302033271,1.0706337411510787,3.969E-4,1.7345999999999999,4,5.7428799999999995E-4,515,558,704,1,1,1,580,628,793,249,270,341,0.42835107049060483,0.50166485197172994,0.79143596625669854,0.7,10.1,11.2,17.5,null,1940,null,0.68,null,null,0,11.5,13.3,21.85,null,1,1,1,580,628,793,null,0,0,0,1]
["16511",null,null,1,65,40.5,11,11.5,0,26,30,44.8,1468.8000000000002,3077.015307780141,3332.5766142436496,4202.8999999999996,"N/A",1,1,1,{"$error":"#VALUE!"},1693,1834,2313,{"$error":"#VALUE!"},291,315,398,{"$error":"#VALUE!"},0.62449279282460002,0.7281426041918212,1.1461109100702409,3.969E-4,1.7345999999999999,4,5.7428799999999995E-4,{"$f":"AK207*(1-(($E208-50)*0.005))","v":476.375},{"$f":"AL207*(1-(($E208-50)*0.005))","v":516.15},{"$f":"AM207*(1-(($E208-50)*0.005))","v":651.20000000000005},1,1,1,536,581,733,230,250,315,0.39607157488876904,0.4654053206234649,0.7281426041918212,0.9,10.1,11.2,17.5,null,2160,null,0.68,null,null,0,11.5,13.3,21.85,null,1,1,1,536,581,733,null,0,0,0,1]
["19511",null,null,1,95,40.5,11,11.5,0,26,30,44.8,1709.5200000000002,3077.015307780141,3332.5766142436496,4202.8999999999996,"N/A",1,1,1,{"$error":"#VALUE!"},1693,1834,2313,{"$error":"#VALUE!"},291,315,398,{"$error":"#VALUE!"},0.71218423233262385,0.82875648653479816,1.2970652479085656,3.969E-4,1.7345999999999999,4,5.7428799999999995E-4,{"$f":"AK207*(1-(($E209-50)*0.005))","v":399.125},{"$f":"AL207*(1-(($E209-50)*0.005))","v":432.45},{"$f":"AM207*(1-(($E209-50)*0.005))","v":545.6},1,1,1,449,487,614,193,209,264,0.32520416228801535,0.37852451833188294,0.59123383474681901,1.3,10.1,11.2,17.5,null,2514,null,0.68,null,null,0,11.5,13.3,21.85,null,1,1,1,449,487,614,null,0,0,0,1]
["13515",null,null,1,35,40.5,15,16.5,0,26,30,45.4,1646.4,2628.9846104428207,2815.4584574952669,3950.36,"N/A",1,1,1,{"$error":"#VALUE!"},1447,1549,2174,{"$error":"#VALUE!"},249,266,374,{"$error":"#VALUE!"},0.29198443867811436,0.33298037311109374,0.65600024049931827,2.0829999999999999E-4,1.724,2,4.6182900000000003E-4,358.86695423586366,384.32138301819265,539.24,1,1,1,404,433,607,174,186,261,0.14315771378741057,0.16345672643432352,0.32064439303171161,0.4,9.6,10.5,16.100000000000001,null,2058,null,0.8,null,null,0,10.4,12.2,21.85,null,1,1,1,404,433,607,null,0,0,0,1]
["15015",null,null,1,50,40.5,15,16.5,0,26,30,45.4,1942.4,2628.9846104428207,2815.4584574952669,3950.36,"N/A",1,1,1,{"$error":"#VALUE!"},1447,1549,2174,{"$error":"#VALUE!"},249,266,374,{"$error":"#VALUE!"},0.30026546709115881,0.34226004331684162,0.67269834761105474,2.0829999999999999E-4,1.724,2,4.6182900000000003E-4,358.86695423586366,384.32138301819265,539.24,1,1,1,404,433,607,174,186,261,0.14762191236135028,0.1684648716851416,0.32962539589834622,0.5,9.6,10.5,16.100000000000001,null,2428,null,0.8,null,null,0,10.4,12.2,21.85,null,1,1,1,404,433,607,null,0,0,0,1]
["16515",null,null,1,65,40.5,15,16.5,0,26,30,45.4,2152.8000000000002,2628.9846104428207,2815.4584574952669,3950.36,"N/A",1,1,1,{"$error":"#VALUE!"},1447,1549,2174,{"$error":"#VALUE!"},249,266,374,{"$error":"#VALUE!"},0.30854649550420327,0.35153971352258945,0.68939645472279121,2.0829999999999999E-4,1.724,2,4.6182900000000003E-4,358.86695423586366,384.32138301819265,539.24,1,1,1,404,433,607,174,186,261,0.15208611093529001,0.17347301693595968,0.33860639876498094,0.7,9.6,10.5,16.100000000000001,null,2691,null,0.8,null,null,0,10.4,12.2,21.85,null,1,1,1,404,433,607,null,0,0,0,1]
["19515",null,null,1,95,40.5,15,16.5,0,26,30,45.4,2403.2000000000003,2628.9846104428207,2815.4584574952669,3950.36,"N/A",1,1,1,{"$error":"#VALUE!"},1447,1549,2174,{"$error":"#VALUE!"},249,266,374,{"$error":"#VALUE!"},0.32510855233029212,0.37009905393408521,0.72279266894626437,2.0829999999999999E-4,1.724,2,4.6182900000000003E-4,358.86695423586366,384.32138301819265,539.24,1,1,1,404,433,607,174,186,261,0.16101450808316947,0.18348930743759587,0.35656840449825022,1,9.6,10.5,16.100000000000001,null,3004,null,0.8,null,null,0,10.4,12.2,21.85,null,1,1,1,404,433,607,null,0,0,0,1]
["13516",null,null,1,35,40.5,16,16.5,0,26,30,45.4,1516.4,3844.4231409656436,4117.1080284867467,5776.7,"N/A",1,1,1,{"$error":"#VALUE!"},2116,2266,3179,{"$error":"#VALUE!"},364,390,547,{"$error":"#VALUE!"},1.8522614917738778,2.1253728423690181,4.1723585425209979,2.0829999999999999E-4,1.724,4,1.392796E-3,589,630,885,1,1,1,663,709,997,285,305,429,1.1373800616365293,1.3020037644254268,2.5701524224562435,0.7,9.6,10.5,16.100000000000001,null,2230,null,0.68,null,null,0,10.4,12.2,21.85,null,1,1,1,663,709,997,null,0,0,0,1]
["15016",null,null,1,50,40.5,16,16.5,0,26,30,45.4,1806.7600000000002,3844.4231409656436,4117.1080284867467,5776.7,"N/A",1,1,1,{"$error":"#VALUE!"},2116,2266,3179,{"$error":"#VALUE!"},364,390,547,{"$error":"#VALUE!"},1.8841332029707789,2.1612701584047112,4.2366801288465794,2.0829999999999999E-4,1.724,4,1.392796E-3,589,630,885,1,1,1,663,709,997,285,305,429,1.1582835676971091,1.3255000666138443,2.6124604684441883,1,9.6,10.5,16.100000000000001,null,2657,null,0.68,null,null,0,10.4,12.2,21.85,null,1,1,1,663,709,997,null,0,0,0,1]
["16516",null,null,1,65,40.5,16,16.5,0,26,30,45.4,2068.56,3844.4231409656436,4117.1080284867467,5776.7,"N/A",1,1,1,{"$error":"#VALUE!"},2116,2266,3179,{"$error":"#VALUE!"},364,390,547,{"$error":"#VALUE!"},1.9160049141676803,2.1971674744404042,4.3010017151721609,2.0829999999999999E-4,1.724,4,1.392796E-3,{"$f":"AK215*(1-(($E216-50)*0.005))","v":544.82500000000005},{"$f":"AL215*(1-(($E216-50)*0.005))","v":582.75},{"$f":"AM215*(1-(($E216-50)*0.005))","v":818.625},1,1,1,614,656,922,264,282,396,1.0131061548827704,1.1546946713868969,2.2647676857428789,1.3,9.6,10.5,16.100000000000001,null,3042,null,0.68,null,null,0,10.4,12.2,21.85,null,1,1,1,614,656,922,null,0,0,0,1]
["19516",null,null,1,95,40.5,16,16.5,0,26,30,45.4,2548.6400000000003,3844.4231409656436,4117.1080284867467,5776.7,"N/A",1,1,1,{"$error":"#VALUE!"},2116,2266,3179,{"$error":"#VALUE!"},364,390,547,{"$error":"#VALUE!"},1.9797483365614827,2.2689621065117898,4.4296448878233239,2.0829999999999999E-4,1.724,4,1.392796E-3,{"$f":"AK215*(1-(($E217-50)*0.005))","v":456.47500000000002},{"$f":"AL215*(1-(($E217-50)*0.005))","v":488.25},{"$f":"AM215*(1-(($E217-50)*0.005))","v":685.875},1,1,1,514,550,772,221,237,332,0.73910109660716294,0.84840225792922785,1.6506259451319099,1.9,9.6,10.5,16.100000000000001,null,3748,null,0.68,null,null,0,10.4,12.2,21.85,null,1,1,1,514,550,772,null,0,0,0,1]
["13520",null,null,1,35,40.5,20,21.5,0,26,30,45.4,2307.2000000000003,3628.1091959950468,3929.4415695377957,4955.6400000000003,"N/A",1,1,1,{"$error":"#VALUE!"},1997,2163,2727,{"$error":"#VALUE!"},343,372,469,{"$error":"#VALUE!"},0.44617104412814457,0.52449246998557841,0.83231581470446792,1.2760000000000001E-4,1.7219,2,3.76611E-4,448.37784746172167,485.61784045001809,612.44000000000005,1,1,1,505,547,690,217,235,297,0.17922956111450436,0.21005702308277846,0.3348892328470508,0.5,9.6,10.5,16.100000000000001,null,2884,null,0.8,null,null,0,10.4,12.2,21.85,null,1,1,1,505,547,690,null,0,0,0,1]
["15020",null,null,1,50,40.5,20,21.5,0,26,30,45.4,2716,3628.1091959950468,3929.4415695377957,4955.6400000000003,"N/A",1,1,1,{"$error":"#VALUE!"},1997,2163,2727,{"$error":"#VALUE!"},343,372,469,{"$error":"#VALUE!"},0.4548750855693664,0.53450205086206759,0.84723312496806091,1.2760000000000001E-4,1.7219,2,3.76611E-4,448.37784746172167,485.61784045001809,612.44000000000005,1,1,1,505,547,690,217,235,297,0.18318639684288138,0.21459580960785987,0.34168185308747612,0.7,9.6,10.5,16.100000000000001,null,3395,null,0.8,null,null,0,10.4,12.2,21.85,null,1,1,1,505,547,690,null,0,0,0,1]
["16520",null,null,1,65,40.5,20,21.5,0,26,30,45.4,{"$f":"IF($N220-($BE220*$BG220)>100,$BE220*$BG220,$N220-95)","v":3007.2000000000003},3628.1091959950468,3929.4415695377957,4955.6400000000003,"N/A",1,1,1,{"$f":"ROUND(M220*POWER(CF_heat,Q220),0)","v":{"$error":"#VALUE!"}},{"$f":"ROUND(N220*POWER(CF_heat,R220),0)","v":1997},{"$f":"ROUND(O220*POWER(CF_heat,S220),0)","v":2163},{"$f":"ROUND(P220*POWER(CF_heat,T220),0)","v":2727},{"$error":"#VALUE!"},343,372,469,{"$error":"#VALUE!"},0.46357912701058818,0.54451163173855688,0.86215043523165402,{"$f":"IF($G220=$CO$103,CP$103,IF($G220=$CO$104,CP$104,IF($G220=$CO$105,CP$105,IF($G220=$CO$107,CP$107,IF($G220=$CO$108,CP$108,IF($G220=$CO$109,CP$109,IF($G220=$CO$111,CP$111,IF($G220=$CO$112,CP$112,IF($G220=$CO$113,CP$113,IF($G220=$CO$115,CP$115,IF($G220=$CO$116,CP$116,IF($G220=$CO$117,CP$117,IF($G220=$CO$119,CP$119,IF($G220=$CO$120,CP$120,))))))))))))))","v":1.2760000000000001E-4},{"$f":"IF($G220=$CO$103,CQ$103,IF($G220=$CO$104,CQ$104,IF($G220=$CO$105,CQ$105,IF($G220=$CO$107,CQ$107,IF($G220=$CO$108,CQ$108,IF($G220=$CO$109,CQ$109,IF($G220=$CO$111,CQ$111,IF($G220=$CO$112,CQ$112,IF($G220=$CO$113,CQ$113,IF($G220=$CO$115,CQ$115,IF($G220=$CO$116,CQ$116,IF($G220=$CO$117,CQ$117,IF($G220=$CO$119,CQ$119,IF($G220=$CO$120,CQ$120,))))))))))))))","v":1.7219},{"$f":"IF($G220=$CO$103,CR$103,IF($G220=$CO$104,CR$104,IF($G220=$CO$105,CR$105,IF($G220=$CO$107,CR$107,IF($G220=$CO$108,CR$108,IF($G220=$CO$109,CR$109,IF($G220=$CO$111,CR$111,IF($G220=$CO$112,CR$112,IF($G220=$CO$113,CR$113,IF($G220=$CO$115,CR$115,IF($G220=$CO$116,CR$116,IF($G220=$CO$117,CR$117,IF($G220=$CO$119,CR$119,IF($G220=$CO$120,CR$120,))))))))))))))","v":2},{"$f":"IF($G220=$CO$103,CS$103,IF($G220=$CO$104,CS$104,IF($G220=$CO$105,CS$105,IF($G220=$CO$107,CS$107,IF($G220=$CO$108,CS$108,IF($G220=$CO$109,CS$109,IF($G220=$CO$111,CS$111,IF($G220=$CO$112,CS$112,IF($G220=$CO$113,CS$113,IF($G220=$CO$115,CS$115,IF($G220=$CO$116,CS$116,IF($G220=$CO$117,CS$117,IF($G220=$CO$119,CS$119,IF($G220=$CO$120,CS$120,))))))))))))))","v":3.76611E-4},448.37784746172167,485.61784045001809,612.44000000000005,1,1,1,{"$f":"ROUND(AK220*POWER(CF_cool,AN220),0)","v":505},547,{"$f":"ROUND(AM220*POWER(CF_cool,AP220),0)","v":690},217,235,297,0.18714323257125834,0.21913459613294126,0.34847447332790144,0.9,9.6,10.5,16.100000000000001,null,3759,null,{"$f":"IF(G220=10,0.9,IF(G220=11,0.68,IF(G220=15,0.8,IF(G220=16,0.68,IF(G220=20,0.8,IF(G220=21,0.8))))))","v":0.8},null,null,0,10.4,12.2,21.85,null,1,1,1,{"$f":"AQ220/BO220","v":505},547,690,null,{"$f":"BR220-AQ220","v":0},{"$f":"BS220-AR220","v":0},{"$f":"BT220-AS220","v":0},1]
[{"$f":"CONCATENATE(D221,E221,G221)","v":"19520"},null,null,1,95,40.5,20,21.5,0,26,30,45.4,3351.2000000000003,3628.1091959950468,3929.4415695377957,4955.6400000000003,"N/A",1,1,1,{"$error":"#VALUE!"},1997,2163,2727,{"$error":"#VALUE!"},343,372,469,{"$f":"(($AG221*(Y221^$AH221)*((($F221-14.4)*$AI221)/100))+($AJ221*(Y221^2)))*0.0098","v":{"$error":"#VALUE!"}},{"$f":"(($AG221*(Z221^$AH221)*((($E221-14.4)*$AI221)/100))+($AJ221*(Z221^2)))*0.0098","v":0.48098720989303179},{"$f":"(($AG221*(AA221^$AH221)*((($E221-14.4)*$AI221)/100))+($AJ221*(AA221^2)))*0.0098","v":0.56453079349153512},{"$f":"(($AG221*(AB221^$AH221)*((($E221-14.4)*$AI221)/100))+($AJ221*(AB221^2)))*0.0098","v":0.89198505575884024},1.2760000000000001E-4,1.7219,2,3.76611E-4,448.37784746172167,485.61784045001809,612.44000000000005,1,1,1,505,547,690,217,235,297,{"$f":"(($AG221*(AT221^$AH221)*((($E221-14.4)*$AI221)/100))+($AJ221*(AT221^2)))*0.0098","v":0.19505690402801229},{"$f":"(($AG221*(AU221^$AH221)*((($E221-14.4)*$AI221)/100))+($AJ221*(AU221^2)))*0.0098","v":0.22821216918310408},{"$f":"(($AG221*(AV221^$AH221)*((($E221-14.4)*$AI221)/100))+($AJ221*(AV221^2)))*0.0098","v":0.36205971380875207},1.3,9.6,10.5,16.100000000000001,null,4189,null,0.8,null,null,0,10.4,12.2,21.85,null,1,1,1,505,{"$f":"AR221/BP221","v":547},{"$f":"AS221/BQ221","v":690},null,0,0,0,1]
["13521",null,null,1,35,40.5,21,21.5,0,26,30,45.4,2368,4951.0649025572329,5302.2438770247491,7439.56,"N/A",1,1,1,{"$error":"#VALUE!"},2725,2918,4094,{"$error":"#VALUE!"},469,502,704,{"$error":"#VALUE!"},1.1493937072351359,1.3159532540008114,2.579952418802915,1.2760000000000001E-4,1.7219,4,5.1420100000000005E-4,642.22570316870622,687.77876463210498,965.02,1,1,1,723,775,1087,311,333,467,0.50759059850492894,0.58150810029261768,1.1396599866470469,0.9,9.6,10.5,16.100000000000001,null,2960,null,0.8,null,null,0,10.4,12.2,21.85,null,{"$f":"IF((237.3*LN(($AQ$1*EXP(17.27*($AM$3/($AM$3+237.3))))))/(17.27-LN(($AQ$1*EXP(17.27*($AM$3/($AM$3+237.3))))))<(($AM$1+$AM$2)/2),1,IF(1/(1+((2258*((0.622/((101325/(1*611*EXP(17.27*((($AM$1+$AM$2)/2)/((($AM$1+$AM$2)/2)+237.3))))))-1)*1000-(0.622/((101325/($AQ$1*611*EXP(17.27*($AM$3/($AM$3+237.3))))))-1)*1000))/(1005*((($AM$1+$AM$2)/2)-$AM$3))))>1,1,1/(1+((2258*((0.622/((101325/(1*611*EXP(17.27*((($AM$1+$AM$2)/2)/((($AM$1+$AM$2)/2)+237.3))))))-1)*1000-(0.622/((101325/($AQ$1*611*EXP(17.27*($AM$3/($AM$3+237.3))))))-1)*1000))/(1005*((($AM$1+$AM$2)/2)-$AM$3))))))","v":1},1,1,723,775,1087,null,0,0,0,1]
["15021",null,null,1,50,40.5,21,21.5,0,26,30,45.4,2892,4951.0649025572329,5302.2438770247491,7439.56,"N/A",1,1,1,{"$error":"#VALUE!"},2725,2918,4094,{"$error":"#VALUE!"},469,502,704,{"$error":"#VALUE!"},1.1792283277623221,1.3494937693320814,2.6399955541471729,1.2760000000000001E-4,1.7219,4,5.1420100000000005E-4,642.22570316870622,687.77876463210498,965.02,1,1,1,723,775,1087,311,333,467,0.52229719288293552,0.59805149859874707,1.1692758731530035,1.3,9.6,10.5,16.100000000000001,null,3615,null,0.8,null,null,0,10.4,12.2,21.85,null,1,1,1,723,775,1087,null,0,0,0,1]
["16521",null,null,1,65,40.5,21,21.5,0,26,30,45.4,3393.6000000000004,4951.0649025572329,5302.2438770247491,7439.56,"N/A",1,1,1,{"$error":"#VALUE!"},2725,2918,4094,{"$error":"#VALUE!"},469,502,704,{"$error":"#VALUE!"},1.2090629482895083,1.3830342846633519,2.7000386894914308,1.2760000000000001E-4,1.7219,4,5.1420100000000005E-4,{"$f":"AK223*(1-(($E224-50)*0.005))","v":594.05877543105328},{"$f":"AL223*(1-(($E224-50)*0.005))","v":636.19535728469714},{"$f":"AM223*(1-(($E224-50)*0.005))","v":892.64350000000002},1,1,1,669,716,1005,288,308,432,0.46143144785036827,0.5268248960568247,1.0277928603713331,1.7,9.6,10.5,16.100000000000001,null,4242,null,0.8,null,null,0,10.4,12.2,21.85,null,1,1,1,669,716,1005,null,0,0,0,1]
["19521",null,null,1,95,40.5,21,21.5,0,26,30,45.4,4390.4000000000005,4951.0649025572329,5302.2438770247491,7439.56,"N/A",1,1,1,{"$error":"#VALUE!"},2725,2918,4094,{"$error":"#VALUE!"},469,502,704,{"$error":"#VALUE!"},1.2687321893438805,1.4501153153258926,2.8201249601799474,1.2760000000000001E-4,1.7219,4,5.1420100000000005E-4,{"$f":"AK223*(1-(($E225-50)*0.005))","v":497.72491995574734},{"$f":"AL223*(1-(($E225-50)*0.005))","v":533.02854258988134},{"$f":"AM223*(1-(($E225-50)*0.005))","v":747.89049999999997},1,1,1,561,600,842,241,258,362,0.34362095812697963,0.39271214522681797,0.76299188661140205,2.5,9.6,10.5,16.100000000000001,null,5488,null,0.8,null,null,0,10.4,12.2,21.85,null,1,1,1,561,600,842,null,0,0,0,1]
["13510",null,null,1,35,40.5,10,11.5,0,26,30,45.5,1293.3,2603.9362232520607,2826.6988006529018,3605.38,"N/A",1,1,1,{"$error":"#VALUE!"},1433,1556,1984,{"$error":"#VALUE!"},246,268,341,{"$error":"#VALUE!"},0.24035441973448859,0.28466683355160177,0.45825043672623134,3.969E-4,1.7345999999999999,2,3.6734700000000002E-4,361.00257998610687,391.88577307200529,499.84,1,1,1,407,441,563,175,190,242,0.12271174414067054,0.14433245777327183,0.23269649458443267,0.2,11,12.4,19.2,null,1437,null,0.9,null,null,0,11.2,13,21.85,null,1,1,1,407,441,563,null,0,0,0,1]
["15010",null,null,1,50,40.5,10,11.5,0,26,30,45.5,1549.8,2603.9362232520607,2826.6988006529018,3605.38,"N/A",1,1,1,{"$error":"#VALUE!"},1433,1556,1984,{"$error":"#VALUE!"},246,268,341,{"$error":"#VALUE!"},0.25673557271377639,0.3036719722340302,0.48711361654974933,3.969E-4,1.7345999999999999,2,3.6734700000000002E-4,361.00257998610687,391.88577307200529,499.84,1,1,1,407,441,563,175,190,242,0.13178581630013939,0.15479782387516877,0.24861838253057297,0.3,11,12.4,19.2,null,1722,null,0.9,null,null,0,11.2,13,21.85,null,1,1,1,407,441,563,null,0,0,0,1]
["16510",null,null,1,65,40.5,10,11.5,0,26,30,45.5,1744.2,2603.9362232520607,2826.6988006529018,3605.38,"N/A",1,1,1,{"$error":"#VALUE!"},1433,1556,1984,{"$error":"#VALUE!"},{"$f":"ROUND(V228*3600/(4186*ABS($O$1-$O$2)),0)","v":246},{"$f":"ROUND(W228*3600/(4186*ABS($O$1-$O$2)),0)","v":268},{"$f":"ROUND(X228*3600/(4186*ABS($O$1-$O$2)),0)","v":341},{"$error":"#VALUE!"},0.27311672569306417,0.32267711091645868,0.51597679637326732,3.969E-4,1.7345999999999999,2,3.6734700000000002E-4,361.00257998610687,391.88577307200529,499.84,1,1,1,407,441,563,{"$f":"ROUND(AQ228*3600/(4186*ABS($AM$1-$AM$2)),0)","v":175},{"$f":"ROUND(AR228*3600/(4186*ABS($AM$1-$AM$2)),0)","v":190},{"$f":"ROUND(AS228*3600/(4186*ABS($AM$1-$AM$2)),0)","v":242},0.1408598884596082,0.16526318997706574,0.26454027047671325,0.4,11,12.4,19.2,null,1938,null,0.9,null,null,0,11.2,13,21.85,null,1,1,1,407,441,563,null,0,0,0,1]
["13511",null,null,1,35,40.5,11,11.5,0,26,30,45.5,1301.52,3533.107636511756,3835.359341571188,4891.8999999999996,"N/A",1,1,1,{"$error":"#VALUE!"},1944,2111,2692,{"$f":"ROUND(U229*3600/(4186*ABS($O$1-$O$2)),0)","v":{"$error":"#VALUE!"}},334,363,463,{"$error":"#VALUE!"},0.7043156392256017,0.82995740062081447,1.3412304839994262,3.969E-4,1.7345999999999999,4,5.7428799999999995E-4,592,642,819,1,1,1,667,723,922,287,311,396,0.52236090383248246,0.61192147681836073,0.98531742093480079,0.5,11,12.4,19.2,null,1914,null,0.68,null,null,0,11.2,13,21.85,null,1,1,1,667,723,922,null,0,0,0,1]
["15011",null,null,1,50,40.5,11,11.5,0,26,30,45.5,1508.24,3533.107636511756,3835.359341571188,4891.8999999999996,"N/A",1,1,1,{"$error":"#VALUE!"},1944,2111,2692,{"$error":"#VALUE!"},334,363,463,{"$error":"#VALUE!"},0.760002026874535,0.89429612658820368,1.4393544768153193,3.969E-4,1.7345999999999999,4,5.7428799999999995E-4,592,642,819,1,1,1,667,723,922,287,311,396,0.5651664815753582,0.66112549788726427,1.0601379017040249,0.7,11,12.4,19.2,null,2218,null,0.68,null,null,0,11.2,13,21.85,null,1,1,1,667,723,922,null,0,0,0,1]
["16511",null,null,1,65,40.5,11,11.5,0,26,30,45.5,1678.92,3533.107636511756,3835.359341571188,4891.8999999999996,"N/A",1,1,1,{"$error":"#VALUE!"},1944,2111,2692,{"$error":"#VALUE!"},334,363,463,{"$error":"#VALUE!"},0.81568841452346841,0.95863485255559289,1.5374784696312123,3.969E-4,1.7345999999999999,4,5.7428799999999995E-4,{"$f":"AK230*(1-(($E231-50)*0.005))","v":547.6},{"$f":"AL230*(1-(($E231-50)*0.005))","v":593.85},{"$f":"AM230*(1-(($E231-50)*0.005))","v":757.57500000000005},1,1,1,617,669,853,265,288,367,0.52096976067905243,0.61208201305415344,0.97923388823486845,{"$f":"ROUND(IF(G231=10,$CO$92*E231,IF(G231=11,$CO$93*E231,IF(G231=15,$CO$94*E231,IF(G231=16,$CO$95*E231,IF(G231=20,$CO$96*E231,IF(G231=21,$CO$97*E231,)))))),1)","v":0.9},11,12.4,19.2,null,2469,null,0.68,null,null,0,11.2,13,21.85,null,1,1,1,617,669,853,null,0,0,0,1]
["13515",null,null,1,35,40.5,15,16.5,0,26,30,46.4,1881.6000000000001,3021.1783832091446,3225.6120441880121,4597.96,"N/A",1,1,1,{"$error":"#VALUE!"},1663,1775,2530,{"$error":"#VALUE!"},286,305,435,{"$error":"#VALUE!"},0.38464317448312363,0.43715822620771344,0.88617356075393949,2.0829999999999999E-4,1.724,2,4.6182900000000003E-4,412.40297880742492,440.30899429620177,627.64,1,1,1,464,496,707,200,213,304,0.18883146822997504,0.2140250388466467,0.43431084914908369,0.4,11.5,12.8,19.600000000000001,null,2352,null,0.8,null,null,0,10,11.8,21.85,null,1,1,1,464,496,707,null,0,0,0,1]
["15015",null,null,1,50,40.5,15,16.5,0,26,30,46.4,2219.2000000000003,3021.1783832091446,3225.6120441880121,4597.96,"N/A",1,1,1,{"$error":"#VALUE!"},1663,1775,2530,{"$error":"#VALUE!"},286,305,435,{"$error":"#VALUE!"},0.3951582317306408,0.44890637730192223,0.90784022629442929,2.0829999999999999E-4,1.724,2,4.6182900000000003E-4,412.40297880742492,440.30899429620177,627.64,1,1,1,464,496,707,200,213,304,0.19450707519354907,0.22035153191716619,0.44599267314074653,0.5,11.5,12.8,19.600000000000001,null,2774,null,0.8,null,null,0,10,11.8,21.85,null,1,1,1,464,496,707,null,0,0,0,1]
["16515",null,null,1,65,40.5,15,16.5,0,26,30,46.4,2460,3021.1783832091446,3225.6120441880121,4597.96,"N/A",1,1,1,{"$error":"#VALUE!"},1663,1775,2530,{"$error":"#VALUE!"},286,305,435,{"$error":"#VALUE!"},0.40567328897815791,0.46065452839613102,0.92950689183491919,2.0829999999999999E-4,1.724,2,4.6182900000000003E-4,412.40297880742492,440.30899429620177,627.64,1,1,1,464,496,707,200,213,304,0.20018268215712315,0.22667802498768563,0.45767449713240937,0.7,11.5,12.8,19.600000000000001,null,3075,null,0.8,null,null,0,10,11.8,21.85,null,1,1,1,464,496,707,null,0,0,0,1]
["13516",null,null,1,35,40.5,16,16.5,0,26,30,46.4,1733.3200000000002,4417.9368883555589,4716.8848144627045,6723.7,"N/A",1,1,1,{"$error":"#VALUE!"},2431,2596,3700,{"$error":"#VALUE!"},418,447,636,{"$error":"#VALUE!"},2.4404363996509892,2.7896426911943943,5.6356800124490993,2.0829999999999999E-4,1.724,4,1.392796E-3,676,722,1030,1,1,1,761,813,1160,327,350,499,1.4959018203401577,1.7129603156263848,3.4741138500001796,0.7,11.5,12.8,19.600000000000001,null,2549,null,0.68,null,null,0,10,11.8,21.85,null,1,1,1,761,813,1160,null,0,0,0,1]
["15016",null,null,1,50,40.5,16,16.5,0,26,30,46.4,2065.1600000000003,4417.9368883555589,4716.8848144627045,6723.7,"N/A",1,1,1,{"$error":"#VALUE!"},2431,2596,3700,{"$error":"#VALUE!"},418,447,636,{"$error":"#VALUE!"},2.4808916139265644,2.8350574242627395,5.7190916530697056,2.0829999999999999E-4,1.724,4,1.392796E-3,676,722,1030,1,1,1,761,813,1160,327,350,499,1.5223957831049331,1.7427482168106456,3.5290163267473011,1,11.5,12.8,19.600000000000001,null,3037,null,0.68,null,null,0,10,11.8,21.85,null,1,1,1,761,813,1160,null,0,0,0,1]
["16516",null,null,1,65,40.5,16,16.5,0,26,30,46.4,2364.36,4417.9368883555589,4716.8848144627045,6723.7,"N/A",1,1,1,{"$error":"#VALUE!"},2431,2596,3700,{"$error":"#VALUE!"},418,447,636,{"$error":"#VALUE!"},2.5213468282021396,2.8804721573310847,5.8025032936903136,2.0829999999999999E-4,1.724,4,1.392796E-3,{"$f":"AK236*(1-(($E237-50)*0.005))","v":625.30000000000007},{"$f":"AL236*(1-(($E237-50)*0.005))","v":667.85},{"$f":"AM236*(1-(($E237-50)*0.005))","v":952.75},1,1,1,704,752,1073,303,323,461,1.3315047881842166,1.5115249008173457,3.0623489220943925,1.3,11.5,12.8,19.600000000000001,null,3477,null,0.68,null,null,0,10,11.8,21.85,null,1,1,1,704,752,1073,null,0,0,0,1]
["13520",null,null,1,35,40.5,20,21.5,0,26,30,46.4,2636.8,4165.887726998767,4522.2727563025155,5768.04,"N/A",1,1,1,{"$error":"#VALUE!"},2293,2489,3174,{"$error":"#VALUE!"},394,428,546,{"$error":"#VALUE!"},0.58811919057247375,0.69359403569617806,1.1268990912696391,1.2760000000000001E-4,1.7219,2,3.76611E-4,514.83890668473202,558.88255136973487,712.84,1,1,1,580,629,803,249,270,345,0.23571889278930214,0.27697504027402392,0.45136983703148575,0.5,11.5,12.8,19.600000000000001,null,3296,null,0.8,null,null,0,10,11.8,21.85,null,1,1,1,580,629,803,null,0,0,0,1]
["15020",null,null,1,50,40.5,20,21.5,0,26,30,46.4,3104,4165.887726998767,4522.2727563025155,5768.04,"N/A",1,1,1,{"$error":"#VALUE!"},2293,2489,3174,{"$error":"#VALUE!"},394,428,546,{"$error":"#VALUE!"},0.59916971653243023,0.70633730997358934,1.1462798161372405,1.2760000000000001E-4,1.7219,2,3.76611E-4,514.83890668473202,558.88255136973487,712.84,1,1,1,580,629,803,249,270,345,0.24073323143117262,0.28273956186675986,0.4601614529075676,0.7,11.5,12.8,19.600000000000001,null,3880,null,0.8,null,null,0,10,11.8,21.85,null,1,1,1,580,629,803,null,0,0,0,1]
["16520",null,null,1,65,40.5,20,21.5,0,26,30,46.4,3436.8,4165.887726998767,4522.2727563025155,5768.04,"N/A",1,1,1,{"$error":"#VALUE!"},2293,2489,3174,{"$error":"#VALUE!"},394,428,546,{"$error":"#VALUE!"},0.61022024249238682,0.71908058425100041,1.165660541004842,1.2760000000000001E-4,1.7219,2,3.76611E-4,514.83890668473202,558.88255136973487,712.84,1,1,1,580,629,803,249,270,345,0.2457475700730431,0.28850408345949569,0.46895306878364951,0.9,11.5,12.8,19.600000000000001,null,4296,null,0.8,null,null,0,10,11.8,21.85,null,1,1,1,580,629,803,null,0,0,0,1]
["13521",null,null,1,35,40.5,21,21.5,0,26,30,46.4,2705.6000000000004,5689.6682460807178,6074.6702425752001,8659.16,"N/A",1,1,1,{"$error":"#VALUE!"},3131,3343,4765,{"$error":"#VALUE!"},539,575,820,{"$error":"#VALUE!"},1.5160473458027823,1.7242692221864393,3.4955637559883712,1.2760000000000001E-4,1.7219,4,5.1420100000000005E-4,738.0333851508442,787.97378843505794,1123.22,1,1,1,831,887,1265,357,381,544,0.66784914417043373,0.76013921556347797,1.5441688349303584,0.9,11.5,12.8,19.600000000000001,null,3382,null,0.8,null,null,0,10,11.8,21.85,null,1,1,1,831,887,1265,null,0,0,0,1]
["15021",null,null,1,50,40.5,21,21.5,0,26,30,46.4,3304.8,5689.6682460807178,6074.6702425752001,8659.16,"N/A",1,1,1,{"$error":"#VALUE!"},3131,3343,4765,{"$error":"#VALUE!"},539,575,820,{"$error":"#VALUE!"},1.5539570761452448,1.7666432807263224,3.5736409276886412,1.2760000000000001E-4,1.7219,4,5.1420100000000005E-4,738.0333851508442,787.97378843505794,1123.22,1,1,1,831,887,1265,357,381,544,0.68649865314875924,0.78099961961130182,1.5826861269188717,1.3,11.5,12.8,19.600000000000001,null,4131,null,0.8,null,null,0,10,11.8,21.85,null,1,1,1,831,887,1265,null,0,0,0,1]
["16521",null,null,1,65,40.5,21,21.5,0,26,30,46.4,3878.4,5689.6682460807178,6074.6702425752001,8659.16,"N/A",1,1,1,{"$error":"#VALUE!"},3131,3343,4765,{"$error":"#VALUE!"},539,575,820,{"$error":"#VALUE!"},1.5918668064877077,1.8090173392662052,3.6517180993889111,1.2760000000000001E-4,1.7219,4,5.1420100000000005E-4,{"$f":"AK242*(1-(($E243-50)*0.005))","v":682.68088126453097},{"$f":"AL242*(1-(($E243-50)*0.005))","v":728.87575430242862},{"$f":"AM242*(1-(($E243-50)*0.005))","v":1038.9785000000002},1,1,1,769,821,1170,331,353,503,0.60732699591675265,0.68962809175183226,1.3884870199733848,1.7,11.5,12.8,19.600000000000001,null,4848,null,0.8,null,null,0,10,11.8,21.85,null,1,1,1,769,821,1170,null,0,0,0,1]
["13510",null,null,1,35,40.5,10,11.5,0,26,30,46,1454.4,2970.6878039917879,3224.8253922941558,4113.18,"N/A",1,1,1,{"$error":"#VALUE!"},1635,1775,2264,{"$error":"#VALUE!"},281,305,389,{"$error":"#VALUE!"},0.31259511427532233,0.36755417051662098,0.59456734551944379,3.969E-4,1.7345999999999999,2,3.6734700000000002E-4,411.84801378696699,447.08095237792156,570.24,1,1,1,464,503,642,{"$f":"ROUND(AQ244*3600/(4186*ABS($AM$1-$AM$2)),0)","v":200},{"$f":"ROUND(AR244*3600/(4186*ABS($AM$1-$AM$2)),0)","v":216},{"$f":"ROUND(AS244*3600/(4186*ABS($AM$1-$AM$2)),0)","v":276},0.15970983720316775,0.18591507596152784,0.3017002698345167,0.2,12.2,13.7,22,null,1616,null,0.9,null,null,0,10.9,12.7,21.85,null,1,1,1,464,503,642,null,0,0,0,1]
["15010",null,null,1,50,40.5,10,11.5,0,26,30,46,1743.3,2970.6878039917879,3224.8253922941558,4113.18,"N/A",1,1,1,{"$error":"#VALUE!"},1635,1775,2264,{"$error":"#VALUE!"},281,305,389,{"$error":"#VALUE!"},0.33322773580351817,0.39133872005663617,0.63083796789335922,3.969E-4,1.7345999999999999,2,3.6734700000000002E-4,411.84801378696699,447.08095237792156,570.24,1,1,1,464,503,642,200,216,276,0.17114902157440642,0.19898797496730053,0.32170023886042692,0.3,12.2,13.7,22,null,1937,null,0.9,null,null,0,10.9,12.7,21.85,null,1,1,1,464,503,642,null,0,0,0,1]
["16510",null,null,1,65,40.5,10,11.5,0,26,30,46,1962,2970.6878039917879,3224.8253922941558,4113.18,"N/A",1,1,1,{"$error":"#VALUE!"},1635,1775,2264,{"$error":"#VALUE!"},281,305,389,{"$error":"#VALUE!"},0.353860357331714,0.41512326959665147,0.66710859026727443,3.969E-4,1.7345999999999999,2,3.6734700000000002E-4,411.84801378696699,447.08095237792156,570.24,1,1,1,464,503,642,200,216,276,0.18258820594564507,0.21206087397307319,0.3417002078863372,0.4,12.2,13.7,22,null,2180,null,0.9,null,null,0,10.9,12.7,21.85,null,1,1,1,464,503,642,null,0,0,0,1]
["13511",null,null,1,35,40.5,11,11.5,0,26,30,46,1464.0400000000002,4030.7284303866513,4375.55079813051,5580.9,"N/A",1,1,1,{"$error":"#VALUE!"},2218,2408,3071,{"$error":"#VALUE!"},382,414,528,{"$error":"#VALUE!"},0.91779780599469374,1.0756103551763327,1.7382473399979994,3.969E-4,1.7345999999999999,4,5.7428799999999995E-4,675.10313623602258,732.85712932403612,934.74,1,1,1,760,825,1053,327,355,453,0.67551602197799432,0.7942796578120439,1.2846693432329346,0.5,12.2,13.7,22,null,2153,null,0.68,null,null,0,10.9,12.7,21.85,null,1,1,1,760,825,1053,null,0,0,0,{"$f":"IF(SUM(BV247:BX247)=0,1,0)","v":1}]
["15011",null,null,1,50,40.5,11,11.5,0,26,30,46,1696.6000000000001,4030.7284303866513,4375.55079813051,5580.9,"N/A",1,1,1,{"$error":"#VALUE!"},2218,2408,3071,{"$error":"#VALUE!"},382,414,528,{"$error":"#VALUE!"},0.98808974674500472,1.1564281910301673,1.8614838035196497,3.969E-4,1.7345999999999999,4,5.7428799999999995E-4,675.10313623602258,732.85712932403612,934.74,1,1,1,760,825,1053,327,355,453,0.72919360554721357,0.85617878513149337,1.3791464023722557,0.7,12.2,13.7,22,null,2495,null,0.68,null,null,0,10.9,12.7,21.85,null,1,1,1,760,825,1053,null,0,0,0,1]
["16511",null,null,1,65,40.5,11,11.5,0,26,30,46,1888.3600000000001,4030.7284303866513,4375.55079813051,5580.9,"N/A",1,1,1,{"$error":"#VALUE!"},2218,2408,3071,{"$error":"#VALUE!"},382,414,528,{"$error":"#VALUE!"},1.0583816874953158,1.2372460268840018,1.9847202670413,3.969E-4,1.7345999999999999,4,5.7428799999999995E-4,{"$f":"AK248*(1-(($E249-50)*0.005))","v":624.4704010183209},{"$f":"AL248*(1-(($E249-50)*0.005))","v":677.89284462473347},{"$f":"AM248*(1-(($E249-50)*0.005))","v":864.6345},1,1,1,703,763,974,302,328,419,0.67103666201411338,0.78751913661772699,1.2664233551770299,0.9,12.2,13.7,22,null,2777,null,0.68,null,null,0,10.9,12.7,21.85,null,1,1,1,703,763,974,null,0,0,0,1]
["13515",null,null,1,35,40.5,15,16.5,0,26,30,46.4,2116.8000000000002,3233.3460619053994,3452.1364439366635,4920.8599999999997,"N/A",1,1,1,{"$error":"#VALUE!"},1779,1900,2708,{"$error":"#VALUE!"},306,327,466,{"$error":"#VALUE!"},0.4400148715967328,0.50214506988027896,1.0163366156163574,2.0829999999999999E-4,1.724,2,4.6182900000000003E-4,420.6820520547858,449.14828645115074,640.24,1,1,1,474,506,721,204,218,310,0.1964160583291264,0.22413300139589623,0.45153413255906993,0.4,11.5,12.8,19.600000000000001,null,2646,null,0.8,null,null,0,10,11.8,21.85,null,1,1,1,474,506,721,null,0,0,0,1]
["15015",null,null,1,50,40.5,15,16.5,0,26,30,46.4,2496.8000000000002,3233.3460619053994,3452.1364439366635,4920.8599999999997,"N/A",1,1,1,{"$error":"#VALUE!"},1779,1900,2708,{"$error":"#VALUE!"},306,327,466,{"$error":"#VALUE!"},0.45182950742600431,0.51539205126266663,1.0407334748696271,2.0829999999999999E-4,1.724,2,4.6182900000000003E-4,420.6820520547858,449.14828645115074,640.24,1,1,1,474,506,721,204,218,310,0.2022887744615971,0.23071769536319933,0.46361628081567424,0.5,11.5,12.8,19.600000000000001,null,3121,null,0.8,null,null,0,10,11.8,21.85,null,1,1,1,474,506,721,null,0,0,0,1]
["16515",null,null,1,65,40.5,15,16.5,0,26,30,46.4,2768,3233.3460619053994,3452.1364439366635,4920.8599999999997,"N/A",1,1,1,{"$error":"#VALUE!"},1779,1900,2708,{"$error":"#VALUE!"},306,327,466,{"$error":"#VALUE!"},0.4636441432552757,0.52863903264505419,1.065130334122897,2.0829999999999999E-4,1.724,2,4.6182900000000003E-4,420.6820520547858,449.14828645115074,640.24,1,1,1,474,506,721,204,218,310,0.2081614905940678,0.23730238933050243,0.47569842907227855,0.7,11.5,12.8,19.600000000000001,null,3460,null,0.8,null,null,0,10,11.8,21.85,null,1,1,1,474,506,721,null,0,0,0,1]
["13516",null,null,1,35,40.5,16,16.5,0,26,30,46.4,1949.5600000000002,4843.4549704976926,5171.1963699821436,7371.3,"N/A",1,1,1,{"$error":"#VALUE!"},2666,2846,4057,{"$error":"#VALUE!"},459,490,698,{"$error":"#VALUE!"},2.9409535408891267,3.3502913831027592,6.7845200680201634,2.0829999999999999E-4,1.724,4,1.392796E-3,686.3088894339993,732.7492584003295,1044.5,1,1,1,773,825,1176,332,355,506,1.5418410384177337,1.7620871802382805,3.571970119608272,0.7,11.5,12.8,19.600000000000001,null,2867,null,0.68,null,null,0,10,11.8,21.85,null,1,1,1,773,825,1176,null,0,0,0,1]
["15016",null,null,1,50,40.5,16,16.5,0,26,30,46.4,2322.88,4843.4549704976926,5171.1963699821436,7371.3,"N/A",1,1,1,{"$error":"#VALUE!"},2666,2846,4057,{"$error":"#VALUE!"},459,490,698,{"$error":"#VALUE!"},2.9884905294408206,3.4034978765659334,6.8824405053917381,2.0829999999999999E-4,1.724,4,1.392796E-3,686.3088894339993,732.7492584003295,1044.5,1,1,1,773,825,1176,332,355,506,1.5690372650962776,1.7926125038438248,3.6282071121175972,1,11.5,12.8,19.600000000000001,null,3416,null,0.68,null,null,0,10,11.8,21.85,null,1,1,1,773,825,1176,null,0,0,0,1]
["16516",null,null,1,65,40.5,16,16.5,0,26,30,46.4,2659.48,4843.4549704976926,5171.1963699821436,7371.3,"N/A",1,1,1,{"$error":"#VALUE!"},2666,2846,4057,{"$error":"#VALUE!"},459,490,698,{"$error":"#VALUE!"},3.0360275179925149,3.4567043700291076,6.9803609427633138,2.0829999999999999E-4,1.724,4,1.392796E-3,{"$f":"AK254*(1-(($E255-50)*0.005))","v":634.83572272644938},{"$f":"AL254*(1-(($E255-50)*0.005))","v":677.79306402030477},{"$f":"AM254*(1-(($E255-50)*0.005))","v":966.16250000000002},1,1,1,715,763,1088,307,328,468,1.3666013986069177,1.5583018144611398,3.1553636093705948,1.3,11.5,12.8,19.600000000000001,null,3911,null,0.68,null,null,0,10,11.8,21.85,null,1,1,1,715,763,1088,null,0,0,0,1]
["13520",null,null,1,35,40.5,20,21.5,0,26,30,46.4,2966.4,4497.8275192555193,4882.6094666576164,6227.64,"N/A",1,1,1,{"$error":"#VALUE!"},2475,2687,3427,{"$error":"#VALUE!"},426,462,589,{"$error":"#VALUE!"},0.68714959202671311,0.80773928949039431,1.3107392162086311,1.2760000000000001E-4,1.7219,2,3.76611E-4,526.1057925837863,571.11330132956857,728.44,1,1,1,592,643,820,255,276,353,0.24716804050953625,0.28937141059937038,0.47246530732750064,0.5,11.5,12.8,19.600000000000001,null,3708,null,0.8,null,null,0,10,11.8,21.85,null,1,1,1,592,643,820,null,0,0,0,1]
["15020",null,null,1,50,40.5,20,21.5,0,26,30,46.4,3492,4497.8275192555193,4882.6094666576164,6227.64,"N/A",1,1,1,{"$error":"#VALUE!"},2475,2687,3427,{"$error":"#VALUE!"},426,462,589,{"$error":"#VALUE!"},0.6997905036048051,0.82227529311213776,1.3328222903674887,1.2760000000000001E-4,1.7219,2,3.76611E-4,526.1057925837863,571.11330132956857,728.44,1,1,1,592,643,820,255,276,353,0.25239223746186851,0.29535827405561094,0.48161088768475835,0.7,11.5,12.8,19.600000000000001,null,4365,null,0.8,null,null,0,10,11.8,21.85,null,1,1,1,592,643,820,null,0,0,0,1]
["16520",null,null,1,65,40.5,20,21.5,0,26,30,46.4,3866.4,4497.8275192555193,4882.6094666576164,6227.64,"N/A",1,1,1,{"$error":"#VALUE!"},2475,2687,3427,{"$error":"#VALUE!"},426,462,589,{"$error":"#VALUE!"},0.7124314151828971,0.8368112967338811,1.3549053645263462,1.2760000000000001E-4,1.7219,2,3.76611E-4,526.1057925837863,571.11330132956857,728.44,1,1,1,592,643,820,255,276,353,0.25761643441420073,0.30134513751185149,0.49075646804201611,0.9,11.5,12.8,19.600000000000001,null,4833,null,0.8,null,null,0,10,11.8,21.85,null,1,1,1,592,643,820,null,0,0,0,1]
["13521",null,null,1,35,40.5,21,21.5,0,26,30,46.4,3044,6016.7573462820046,6423.892435808023,9156.9599999999991,"N/A",1,1,1,{"$error":"#VALUE!"},3311,3535,5039,{"$error":"#VALUE!"},569,608,867,{"$error":"#VALUE!"},1.6886386984146051,1.9268627036814636,3.9059148765639562,1.2760000000000001E-4,1.7219,4,5.1420100000000005E-4,750.12346036921247,800.88196110577712,1141.6200000000001,1,1,1,845,902,1286,363,388,553,0.69036404527734596,0.78817738281338978,1.5954364390870561,0.9,11.5,12.8,19.600000000000001,null,3805,null,0.8,null,null,0,10,11.8,21.85,null,1,1,1,845,902,1286,null,0,0,0,1]
["15021",null,null,1,50,40.5,21,21.5,0,26,30,46.4,3718.4,6016.7573462820046,6423.892435808023,9156.9599999999991,"N/A",1,1,1,{"$error":"#VALUE!"},3311,3535,5039,{"$error":"#VALUE!"},569,608,867,{"$error":"#VALUE!"},1.7302542650142207,1.9735105474200048,3.9918564072230018,1.2760000000000001E-4,1.7219,4,5.1420100000000005E-4,750.12346036921247,800.88196110577712,1141.6200000000001,1,1,1,845,902,1286,363,388,553,0.70955653064225821,0.80970209478585797,1.6350575277172912,1.3,11.5,12.8,19.600000000000001,null,4648,null,0.8,null,null,0,10,11.8,21.85,null,1,1,1,845,902,1286,null,0,0,0,1]
["16521",null,null,1,65,40.5,21,21.5,0,26,30,46.4,4363.2,6016.7573462820046,6423.892435808023,9156.9599999999991,"N/A",1,1,1,{"$error":"#VALUE!"},3311,3535,5039,{"$error":"#VALUE!"},569,608,867,{"$error":"#VALUE!"},1.7718698316138359,2.0201583911585459,4.077797937882047,1.2760000000000001E-4,1.7219,4,5.1420100000000005E-4,{"$f":"AK260*(1-(($E261-50)*0.005))","v":693.86420084152155},{"$f":"AL260*(1-(($E261-50)*0.005))","v":740.81581402284382},{"$f":"AM260*(1-(($E261-50)*0.005))","v":1055.9985000000001},1,1,1,781,834,1189,336,359,511,0.62557702646109581,0.71297235078844323,1.4324917771370005,1.7,11.5,12.8,19.600000000000001,null,5454,null,0.8,null,null,0,10,11.8,21.85,null,1,1,1,781,834,1189,null,0,0,0,1]
["13510",null,null,1,35,40.5,10,11.5,0,26,30,46.5,1616.4,3259.5785648750903,3552.8677924068675,4620.9799999999996,"N/A",1,1,1,{"$error":"#VALUE!"},1794,1955,2543,{"$error":"#VALUE!"},309,336,437,{"$error":"#VALUE!"},0.37714241839066115,0.44506169832278875,0.74843988732215638,3.969E-4,1.7345999999999999,2,3.6734700000000002E-4,451.89903695786995,492.55985148767917,640.64,1,1,1,509,555,721,219,239,310,0.1910478090251985,0.22703364444377036,0.37955859602818431,0.2,13.4,14.8,24,null,1796,null,0.9,null,null,0,10.7,12.5,21.85,null,1,1,1,509,555,721,null,0,0,0,1]
["15010",null,null,1,50,40.5,10,11.5,0,26,30,46.5,1936.8,3259.5785648750903,3552.8677924068675,4620.9799999999996,"N/A",1,1,1,{"$error":"#VALUE!"},1794,1955,2543,{"$error":"#VALUE!"},309,336,437,{"$error":"#VALUE!"},0.40147064249410369,0.47319473030229497,0.79282195485183327,3.969E-4,1.7345999999999999,2,3.6734700000000002E-4,451.89903695786995,492.55985148767917,640.64,1,1,1,509,555,721,219,239,310,0.20443726066252749,0.24261471981112742,0.40402355115064859,0.3,13.4,14.8,24,null,2152,null,0.9,null,null,0,10.7,12.5,21.85,null,1,1,1,509,555,721,null,0,0,0,1]
["16510",null,null,1,65,40.5,10,11.5,0,26,30,46.5,2179.8000000000002,3259.5785648750903,3552.8677924068675,4620.9799999999996,"N/A",1,1,1,{"$error":"#VALUE!"},1794,1955,2543,{"$error":"#VALUE!"},309,336,437,{"$error":"#VALUE!"},0.42579886659754623,0.50132776228180131,0.83720402238151026,3.969E-4,1.7345999999999999,2,3.6734700000000002E-4,451.89903695786995,492.55985148767917,640.64,1,1,1,509,555,721,219,239,310,0.21782671229985645,0.25819579517848446,0.42848850627311286,0.4,13.4,14.8,24,null,2422,null,0.9,null,null,0,10.7,12.5,21.85,null,1,1,1,509,555,721,null,0,0,0,1]
["13511",null,null,1,35,40.5,11,11.5,0,26,30,46.5,1626.5600000000002,4422.7050634086982,4820.649682883678,6269.9,"N/A",1,1,1,{"$error":"#VALUE!"},2434,2653,3451,{"$error":"#VALUE!"},419,456,594,{"$error":"#VALUE!"},1.1013865283327828,1.3015110587951046,2.1933770401604238,3.969E-4,1.7345999999999999,4,5.7428799999999995E-4,741,807,1050,1,1,1,835,909,1182,359,391,508,0.81202162512208953,0.96093114480488517,1.6106698049963359,0.5,13.4,14.8,24,null,2392,null,0.68,null,null,0,10.7,12.5,21.85,null,1,1,1,835,909,1182,null,0,0,0,1]
["15011",null,null,1,50,40.5,11,11.5,0,26,30,46.5,1884.96,4422.7050634086982,4820.649682883678,6269.9,"N/A",1,1,1,{"$error":"#VALUE!"},2434,2653,3451,{"$error":"#VALUE!"},419,456,594,{"$error":"#VALUE!"},1.1839049417549063,1.3970760537189189,2.3445480076123828,3.969E-4,1.7345999999999999,4,5.7428799999999995E-4,741,807,1050,1,1,1,835,909,1182,359,391,508,0.87513555972477619,1.034120551797957,1.725922110114833,0.7,13.4,14.8,24,null,2772,null,0.68,null,null,0,10.7,12.5,21.85,null,1,1,1,835,909,1182,null,0,0,0,1]
["16511",null,null,1,65,40.5,11,11.5,0,26,30,46.5,2098.48,4422.7050634086982,4820.649682883678,6269.9,"N/A",1,1,1,{"$error":"#VALUE!"},2434,2653,3451,{"$error":"#VALUE!"},419,456,594,{"$error":"#VALUE!"},1.2664233551770299,1.4926410486427331,2.4957189750643418,3.969E-4,1.7345999999999999,4,5.7428799999999995E-4,{"$f":"AK266*(1-(($E267-50)*0.005))","v":685.42500000000007},{"$f":"AL266*(1-(($E267-50)*0.005))","v":746.47500000000002},{"$f":"AM266*(1-(($E267-50)*0.005))","v":971.25},1,1,1,772,841,1094,332,362,470,0.80624503000945258,0.95351847689788571,1.5829638467104097,0.9,13.4,14.8,24,null,3086,null,0.68,null,null,0,10.7,12.5,21.85,null,1,1,1,772,841,1094,null,0,0,0,1]
["13515",null,null,1,35,40.5,15,16.5,0,26,30,47.1,2352,3875.4624109054007,4083.4735576056296,5893.16,"N/A",1,1,1,{"$error":"#VALUE!"},2133,2247,3243,{"$error":"#VALUE!"},367,386,558,{"$error":"#VALUE!"},0.6317893361531477,0.69855985867335058,1.4549197257143336,2.0829999999999999E-4,1.724,2,4.6182900000000003E-4,529.01617838795164,557.41053504066974,804.44,1,1,1,596,628,906,256,270,390,0.30854035905627836,0.34301613851136781,0.71304256116450926,0.4,13.2,14.7,23.5,null,2940,null,0.8,null,null,0,10,11.4,21.85,null,1,1,1,596,628,906,null,0,0,0,1]
["15015",null,null,1,50,40.5,15,16.5,0,26,30,47.1,2774.4,3875.4624109054007,4083.4735576056296,5893.16,"N/A",1,1,1,{"$error":"#VALUE!"},2133,2247,3243,{"$error":"#VALUE!"},367,386,558,{"$error":"#VALUE!"},0.647952296041022,0.71619232704967384,1.488203606616421,2.0829999999999999E-4,1.724,2,4.6182900000000003E-4,529.01617838795164,557.41053504066974,804.44,1,1,1,596,628,906,256,270,390,0.31722680858424807,0.35253769020896569,0.73099121918235577,0.5,13.2,14.7,23.5,null,3468,null,0.8,null,null,0,10,11.4,21.85,null,1,1,1,596,628,906,null,0,0,0,1]
["16515",null,null,1,65,40.5,15,16.5,0,26,30,47.1,3075.2000000000003,3875.4624109054007,4083.4735576056296,5893.16,"N/A",1,1,1,{"$error":"#VALUE!"},2133,2247,3243,{"$error":"#VALUE!"},367,386,558,{"$error":"#VALUE!"},0.66411525592889653,0.7338247954259971,1.5214874875185085,2.0829999999999999E-4,1.724,2,4.6182900000000003E-4,529.01617838795164,557.41053504066974,804.44,1,1,1,596,628,906,256,270,390,0.32591325811221783,0.36205924190656352,0.74893987720020228,0.7,13.2,14.7,23.5,null,3844,null,0.8,null,null,0,10,11.4,21.85,null,1,1,1,596,628,906,null,0,0,0,1]
["13516",null,null,1,35,40.5,16,16.5,0,26,30,47.1,2166.48,5667.1755761695722,5971.3549398587584,8617.7000000000007,"N/A",1,1,1,{"$error":"#VALUE!"},3119,3286,4743,{"$error":"#VALUE!"},536,565,816,{"$error":"#VALUE!"},4.0067130717920145,4.4506358213417645,9.2645693516049086,2.0829999999999999E-4,1.724,4,1.392796E-3,868,914,1320,1,1,1,978,1029,1487,421,442,639,2.4754811629880153,2.7277732378507742,5.6888221058768238,0.7,13.2,14.7,23.5,null,3186,null,0.68,null,null,0,10,11.4,21.85,null,1,1,1,978,1029,1487,null,0,0,0,1]
["15016",null,null,1,50,40.5,16,16.5,0,26,30,47.1,2581.2800000000002,5667.1755761695722,5971.3549398587584,8617.7000000000007,"N/A",1,1,1,{"$error":"#VALUE!"},3119,3286,4743,{"$error":"#VALUE!"},536,565,816,{"$error":"#VALUE!"},4.0688209501089174,4.5186497904886807,9.3927493995564433,2.0829999999999999E-4,1.724,4,1.392796E-3,868,914,1320,1,1,1,978,1029,1487,421,442,639,2.5164382375961818,2.7723157378213386,5.7729132139982005,1,13.2,14.7,23.5,null,3796,null,0.68,null,null,0,10,11.4,21.85,null,1,1,1,978,1029,1487,null,0,0,0,1]
["16516",null,null,1,65,40.5,16,16.5,0,26,30,47.1,2955.28,5667.1755761695722,5971.3549398587584,8617.7000000000007,"N/A",1,1,1,{"$error":"#VALUE!"},3119,3286,4743,{"$error":"#VALUE!"},536,565,816,{"$error":"#VALUE!"},4.1309288284258221,4.5866637596355968,9.520929447507978,2.0829999999999999E-4,1.724,4,1.392796E-3,{"$f":"AK272*(1-(($E273-50)*0.005))","v":802.90000000000009},{"$f":"AL272*(1-(($E273-50)*0.005))","v":845.45},{"$f":"AM272*(1-(($E273-50)*0.005))","v":1221},1,1,1,904,952,1375,389,409,591,2.1859997923311889,2.4147282257960394,5.0154141194579536,1.3,13.2,14.7,23.5,null,4346,null,0.68,null,null,0,10,11.4,21.85,null,1,1,1,904,952,1375,null,0,0,0,1]
["13520",null,null,1,35,40.5,20,21.5,0,26,30,47.1,3296,5214.8121821672385,5684.028740747025,7392.84,"N/A",1,1,1,{"$error":"#VALUE!"},2870,3128,4069,{"$error":"#VALUE!"},494,538,700,{"$error":"#VALUE!"},0.92308789660114099,1.0942246275940823,1.8493130983733144,1.2760000000000001E-4,1.7219,2,3.76611E-4,644.46964929787134,702.45751547390614,913.64,1,1,1,726,791,1029,312,340,442,0.36943055269150393,0.43842916407662524,0.73954514428202989,0.5,13.2,14.7,23.5,null,4120,null,0.8,null,null,0,10,11.4,21.85,null,1,1,1,726,791,1029,null,0,0,0,1]
["15020",null,null,1,50,40.5,20,21.5,0,26,30,47.1,3880,5214.8121821672385,5684.028740747025,7392.84,"N/A",1,1,1,{"$error":"#VALUE!"},2870,3128,4069,{"$error":"#VALUE!"},494,538,700,{"$error":"#VALUE!"},0.93940061871789404,1.1131189797379286,1.8790415520432036,1.2760000000000001E-4,1.7219,2,3.76611E-4,644.46964929787134,702.45751547390614,913.64,1,1,1,726,791,1029,312,340,442,0.37682460979463789,0.44700253378290578,0.75301461747826526,0.7,13.2,14.7,23.5,null,4850,null,0.8,null,null,0,10,11.4,21.85,null,1,1,1,726,791,1029,null,0,0,0,1]
["16520",null,null,1,65,40.5,20,21.5,0,26,30,47.1,4296,5214.8121821672385,5684.028740747025,7392.84,"N/A",1,1,1,{"$error":"#VALUE!"},2870,3128,4069,{"$error":"#VALUE!"},494,538,700,{"$error":"#VALUE!"},0.95571334083464721,1.1320133318817749,1.9087700057130927,1.2760000000000001E-4,1.7219,2,3.76611E-4,644.46964929787134,702.45751547390614,913.64,1,1,1,726,791,1029,312,340,442,0.38421866689777184,0.45557590348918631,0.76648409067450052,0.9,13.2,14.7,23.5,null,5370,null,0.8,null,null,0,10,11.4,21.85,null,1,1,1,726,791,1029,null,0,0,0,1]
["13521",null,null,1,35,40.5,21,21.5,0,26,30,47.1,3382.4,7298.5082710627348,7690.2476078687869,11098.36,"N/A",1,1,1,{"$error":"#VALUE!"},4017,4232,6108,{"$error":"#VALUE!"},691,728,1051,{"$error":"#VALUE!"},2.4859626693342887,2.7580384336232586,5.7306719492597047,1.2760000000000001E-4,1.7219,4,5.1420100000000005E-4,946.7235228616961,997.53785795739748,1439.62,1,1,1,1066,1123,1621,458,483,697,1.0963686129774604,1.218684397531322,2.5291265539698817,0.9,13.2,14.7,23.5,null,4228,null,0.8,null,null,0,10,11.4,21.85,null,1,1,1,1066,1123,1621,null,0,0,0,1]
["15021",null,null,1,50,40.5,21,21.5,0,26,30,47.1,4131.2,7298.5082710627348,7690.2476078687869,11098.36,"N/A",1,1,1,{"$error":"#VALUE!"},4017,4232,6108,{"$error":"#VALUE!"},691,728,1051,{"$error":"#VALUE!"},2.5441093931647418,2.8216494042592233,5.8503806499950723,1.2760000000000001E-4,1.7219,4,5.1420100000000005E-4,946.7235228616961,997.53785795739748,1439.62,1,1,1,1066,1123,1621,458,483,697,1.1250085637422129,1.2500689951471875,2.5881453738254745,1.3,13.2,14.7,23.5,null,5164,null,0.8,null,null,0,10,11.4,21.85,null,1,1,1,1066,1123,1621,null,0,0,0,1]
["16521",null,null,1,65,40.5,21,21.5,0,26,30,47.1,4848,7298.5082710627348,7690.2476078687869,11098.36,"N/A",1,1,1,{"$error":"#VALUE!"},4017,4232,6108,{"$error":"#VALUE!"},691,728,1051,{"$error":"#VALUE!"},2.6022561169951941,2.8852603748951879,5.9700893507304391,1.2760000000000001E-4,1.7219,4,5.1420100000000005E-4,{"$f":"AK278*(1-(($E279-50)*0.005))","v":875.71925864706895},{"$f":"AL278*(1-(($E279-50)*0.005))","v":922.72251861059272},{"$f":"AM278*(1-(($E279-50)*0.005))","v":1331.6485},1,1,1,986,1039,1500,424,447,645,0.99051753638372675,1.0995228351021635,2.270628630495529,1.7,13.2,14.7,23.5,null,6060,null,0.8,null,null,0,10,11.4,21.85,null,1,1,1,986,1039,1500,null,0,0,0,1]
["13510",null,null,1,35,40.5,10,11.5,0,26,30,46.9,1939.5,3560.7045070849035,3890.5075371280445,5128.78,"N/A",1,1,1,{"$error":"#VALUE!"},1960,2141,2823,{"$error":"#VALUE!"},337,368,486,{"$error":"#VALUE!"},0.44768417521614812,0.53276662924230811,0.92359556310632773,3.969E-4,1.7345999999999999,2,3.6734700000000002E-4,493.64631212835212,539.36930014536108,711.04,1,1,1,556,607,801,239,261,344,0.22703364444377036,0.27016487949398399,0.4662552949730811,0.2,13.4,14.8,24,null,{"$f":"(BE298/(F298-102))*(F280-102)","v":2155},null,0.9,null,null,0,10.5,12.3,21.85,null,1,1,1,556,607,801,null,0,0,0,1]
["15010",null,null,1,50,40.5,10,11.5,0,26,30,46.9,2323.8000000000002,3560.7045070849035,3890.5075371280445,5128.78,"N/A",1,1,1,{"$error":"#VALUE!"},1960,2141,2823,{"$error":"#VALUE!"},337,368,486,{"$error":"#VALUE!"},0.47596260269776075,0.56570848457330913,0.97696193790394503,3.969E-4,1.7345999999999999,2,3.6734700000000002E-4,493.64631212835212,539.36930014536108,711.04,1,1,1,556,607,801,239,261,344,0.24261471981112742,0.28831723771343831,0.49556036097173251,0.3,13.4,14.8,24,null,2582,null,0.9,null,null,0,10.5,12.3,21.85,null,1,1,1,556,607,801,null,0,0,0,1]
["16510",null,null,1,65,40.5,10,11.5,0,26,30,46.9,2615.4,3560.7045070849035,3890.5075371280445,5128.78,"N/A",1,1,1,{"$error":"#VALUE!"},1960,2141,2823,{"$error":"#VALUE!"},337,368,486,{"$error":"#VALUE!"},0.50424103017937338,0.59865033990431016,1.0303283127015623,3.969E-4,1.7345999999999999,2,3.6734700000000002E-4,493.64631212835212,539.36930014536108,711.04,1,1,1,556,607,801,239,261,344,0.25819579517848446,0.30646959593289264,0.52486542697038385,0.4,13.4,14.8,24,null,2906,null,0.9,null,null,0,10.5,12.3,21.85,null,1,1,1,556,607,801,null,0,0,0,1]
["13511",null,null,1,35,40.5,11,11.5,0,26,30,46.9,1951.6000000000001,4831.2827990970827,5278.770565343093,6958.9,"N/A",1,1,1,{"$error":"#VALUE!"},2659,2905,3830,{"$error":"#VALUE!"},457,500,659,{"$error":"#VALUE!"},1.3071490852137135,1.5609868198500723,2.6927271125664731,3.969E-4,1.7345999999999999,4,5.7428799999999995E-4,809.18727868766814,884.1366084769129,1165.54,1,1,1,911,996,1313,392,428,565,0.96578421468132103,1.1485445466414241,1.9869487635424359,0.5,13.4,14.8,24,null,2870,null,0.68,null,null,0,10.5,12.3,21.85,null,1,1,1,911,996,1313,null,0,0,0,1]
["15011",null,null,1,50,40.5,11,11.5,0,26,30,46.9,{"$f":"IF($N284-($BE284*$BG284)>100,$BE284*$BG284,$N284-95)","v":2261.6800000000003},4831.2827990970827,5278.770565343093,6958.9,"N/A",1,1,1,{"$f":"ROUND(M284*POWER(CF_heat,Q284),0)","v":{"$error":"#VALUE!"}},{"$f":"ROUND(N284*POWER(CF_heat,R284),0)","v":2659},{"$f":"ROUND(O284*POWER(CF_heat,S284),0)","v":2905},{"$f":"ROUND(P284*POWER(CF_heat,T284),0)","v":3830},{"$error":"#VALUE!"},457,500,659,{"$error":"#VALUE!"},1.4030778971040876,1.6731090673137174,2.8737348188810903,{"$f":"IF($G284=$CO$103,CP$103,IF($G284=$CO$104,CP$104,IF($G284=$CO$105,CP$105,IF($G284=$CO$107,CP$107,IF($G284=$CO$108,CP$108,IF($G284=$CO$109,CP$109,IF($G284=$CO$111,CP$111,IF($G284=$CO$112,CP$112,IF($G284=$CO$113,CP$113,IF($G284=$CO$115,CP$115,IF($G284=$CO$116,CP$116,IF($G284=$CO$117,CP$117,IF($G284=$CO$119,CP$119,IF($G284=$CO$120,CP$120,))))))))))))))","v":3.969E-4},{"$f":"IF($G284=$CO$103,CQ$103,IF($G284=$CO$104,CQ$104,IF($G284=$CO$105,CQ$105,IF($G284=$CO$107,CQ$107,IF($G284=$CO$108,CQ$108,IF($G284=$CO$109,CQ$109,IF($G284=$CO$111,CQ$111,IF($G284=$CO$112,CQ$112,IF($G284=$CO$113,CQ$113,IF($G284=$CO$115,CQ$115,IF($G284=$CO$116,CQ$116,IF($G284=$CO$117,CQ$117,IF($G284=$CO$119,CQ$119,IF($G284=$CO$120,CQ$120,))))))))))))))","v":1.7345999999999999},{"$f":"IF($G284=$CO$103,CR$103,IF($G284=$CO$104,CR$104,IF($G284=$CO$105,CR$105,IF($G284=$CO$107,CR$107,IF($G284=$CO$108,CR$108,IF($G284=$CO$109,CR$109,IF($G284=$CO$111,CR$111,IF($G284=$CO$112,CR$112,IF($G284=$CO$113,CR$113,IF($G284=$CO$115,CR$115,IF($G284=$CO$116,CR$116,IF($G284=$CO$117,CR$117,IF($G284=$CO$119,CR$119,IF($G284=$CO$120,CR$120,))))))))))))))","v":4},{"$f":"IF($G284=$CO$103,CS$103,IF($G284=$CO$104,CS$104,IF($G284=$CO$105,CS$105,IF($G284=$CO$107,CS$107,IF($G284=$CO$108,CS$108,IF($G284=$CO$109,CS$109,IF($G284=$CO$111,CS$111,IF($G284=$CO$112,CS$112,IF($G284=$CO$113,CS$113,IF($G284=$CO$115,CS$115,IF($G284=$CO$116,CS$116,IF($G284=$CO$117,CS$117,IF($G284=$CO$119,CS$119,IF($G284=$CO$120,CS$120,))))))))))))))","v":5.7428799999999995E-4},809.18727868766814,884.1366084769129,1165.54,1,1,1,{"$f":"ROUND(AK284*POWER(CF_cool,AN284),0)","v":911},996,{"$f":"ROUND(AM284*POWER(CF_cool,AP284),0)","v":1313},392,428,565,1.0392986180364576,1.2341617005150827,2.125548263228676,0.7,13.4,14.8,24,null,3326,null,{"$f":"IF(G284=10,0.9,IF(G284=11,0.68,IF(G284=15,0.8,IF(G284=16,0.68,IF(G284=20,0.8,IF(G284=21,0.8))))))","v":0.68},null,null,0,10.5,12.3,21.85,null,1,1,1,{"$f":"AQ284/BO284","v":911},996,1313,null,{"$f":"BR284-AQ284","v":0},{"$f":"BS284-AR284","v":0},{"$f":"BT284-AS284","v":0},1]
[{"$f":"CONCATENATE(D285,E285,G285)","v":"16511"},null,null,1,65,40.5,11,11.5,0,26,30,46.9,2518.04,4831.2827990970827,5278.770565343093,6958.9,"N/A",1,1,1,{"$error":"#VALUE!"},2659,2905,3830,{"$error":"#VALUE!"},457,500,659,{"$f":"(($AG285*(Y285^$AH285)*((($F285-14.4)*$AI285)/100))+($AJ285*(Y285^2)))*0.0098","v":{"$error":"#VALUE!"}},{"$f":"(($AG285*(Z285^$AH285)*((($E285-14.4)*$AI285)/100))+($AJ285*(Z285^2)))*0.0098","v":1.4990067089944621},{"$f":"(($AG285*(AA285^$AH285)*((($E285-14.4)*$AI285)/100))+($AJ285*(AA285^2)))*0.0098","v":1.7852313147773624},{"$f":"(($AG285*(AB285^$AH285)*((($E285-14.4)*$AI285)/100))+($AJ285*(AB285^2)))*0.0098","v":3.054742525195707},3.969E-4,1.7345999999999999,4,5.7428799999999995E-4,{"$f":"AK284*(1-(($E285-50)*0.005))","v":748.49823278609301},{"$f":"AL284*(1-(($E285-50)*0.005))","v":817.82636284114449},{"$f":"AM284*(1-(($E285-50)*0.005))","v":1078.1245000000001},1,1,1,843,921,1214,362,396,522,{"$f":"(($AG285*(AT285^$AH285)*((($E285-14.4)*$AI285)/100))+($AJ285*(AT285^2)))*0.0098","v":0.95351847689788571},{"$f":"(($AG285*(AU285^$AH285)*((($E285-14.4)*$AI285)/100))+($AJ285*(AU285^2)))*0.0098","v":1.134958382473249},{"$f":"(($AG285*(AV285^$AH285)*((($E285-14.4)*$AI285)/100))+($AJ285*(AV285^2)))*0.0098","v":1.9411036004104063},0.9,13.4,14.8,24,null,3703,null,0.68,null,null,0,10.5,12.3,21.85,null,1,1,1,843,{"$f":"AR285/BP285","v":921},{"$f":"AS285/BQ285","v":1214},null,0,0,0,1]
["13515",null,null,1,35,40.5,15,16.5,0,26,30,47.8,2822.4,4302.5567439745028,4481.7988603493422,6540.76,"N/A",1,1,1,{"$error":"#VALUE!"},2368,2467,3600,{"$error":"#VALUE!"},407,424,619,{"$error":"#VALUE!"},0.77624579969661556,0.84212280013913232,1.7888198592296469,2.0829999999999999E-4,1.724,2,4.6182900000000003E-4,587.31626956044784,611.78353807115786,892.84,1,1,1,661,689,1006,284,296,433,0.37930996588430549,0.4118655163062187,0.87808109354160713,0.4,15.5,16.8,27.5,null,3528,null,0.8,null,null,0,10,11.1,21.85,null,{"$f":"IF((237.3*LN(($AQ$1*EXP(17.27*($AM$3/($AM$3+237.3))))))/(17.27-LN(($AQ$1*EXP(17.27*($AM$3/($AM$3+237.3))))))<(($AM$1+$AM$2)/2),1,IF(1/(1+((2258*((0.622/((101325/(1*611*EXP(17.27*((($AM$1+$AM$2)/2)/((($AM$1+$AM$2)/2)+237.3))))))-1)*1000-(0.622/((101325/($AQ$1*611*EXP(17.27*($AM$3/($AM$3+237.3))))))-1)*1000))/(1005*((($AM$1+$AM$2)/2)-$AM$3))))>1,1,1/(1+((2258*((0.622/((101325/(1*611*EXP(17.27*((($AM$1+$AM$2)/2)/((($AM$1+$AM$2)/2)+237.3))))))-1)*1000-(0.622/((101325/($AQ$1*611*EXP(17.27*($AM$3/($AM$3+237.3))))))-1)*1000))/(1005*((($AM$1+$AM$2)/2)-$AM$3))))))","v":1},1,1,661,689,1006,null,0,0,0,1]
["15015",null,null,1,50,40.5,15,16.5,0,26,30,47.8,3329.6000000000004,4302.5567439745028,4481.7988603493422,6540.76,"N/A",1,1,1,{"$error":"#VALUE!"},2368,2467,3600,{"$error":"#VALUE!"},407,424,619,{"$error":"#VALUE!"},0.79556447583070444,0.86285356554685,1.8286224443025452,2.0829999999999999E-4,1.724,2,4.6182900000000003E-4,587.31626956044784,611.78353807115786,892.84,1,1,1,661,689,1006,284,296,433,0.38969857530841151,0.4230224155288051,0.89957630558612678,0.5,15.5,16.8,27.5,null,4162,null,0.8,null,null,0,10,11.1,21.85,null,1,1,1,661,689,1006,null,0,0,0,1]
["16515",null,null,1,65,40.5,15,16.5,0,26,30,47.8,3690.4,4302.5567439745028,4481.7988603493422,6540.76,"N/A",1,1,1,{"$error":"#VALUE!"},2368,2467,3600,{"$error":"#VALUE!"},407,424,619,{"$error":"#VALUE!"},0.81488315196479333,0.88358433095456757,1.8684250293754432,2.0829999999999999E-4,1.724,2,4.6182900000000003E-4,587.31626956044784,611.78353807115786,892.84,1,1,1,661,689,1006,284,296,433,0.40008718473251742,0.43417931475139154,0.92107151763064654,0.7,15.5,16.8,27.5,null,4613,null,0.8,null,null,0,10,11.1,21.85,null,1,1,1,661,689,1006,null,0,0,0,1]
["13516",null,null,1,35,40.5,16,16.5,0,26,30,47.8,2599.6400000000003,6291.7251954043459,6553.83496101116,9564.7000000000007,"N/A",1,1,1,{"$error":"#VALUE!"},3463,3607,5264,{"$error":"#VALUE!"},596,620,905,{"$error":"#VALUE!"},4.9509013893275364,5.356458762786759,11.389629062161569,2.0829999999999999E-4,1.724,4,1.392796E-3,963.35813446001066,1003.4910975149082,1464.5,1,1,1,1085,1130,1649,467,486,709,3.0440423120853457,3.2959788116117843,6.9994462814049454,0.7,15.5,16.8,27.5,null,3823,null,0.68,null,null,0,10,11.1,21.85,null,1,1,1,1085,1130,1649,null,0,0,0,1]
["15016",null,null,1,50,40.5,16,16.5,0,26,30,47.8,3097.4,6291.7251954043459,6553.83496101116,9564.7000000000007,"N/A",1,1,1,{"$error":"#VALUE!"},3463,3607,5264,{"$error":"#VALUE!"},596,620,905,{"$error":"#VALUE!"},5.0254760262848688,5.4362857739033323,11.542853750468534,2.0829999999999999E-4,1.724,4,1.392796E-3,963.35813446001066,1003.4910975149082,1464.5,1,1,1,1085,1130,1649,467,486,709,3.0930166866102091,3.3484387195644429,7.1000422798468001,1,15.5,16.8,27.5,null,4555,null,0.68,null,null,0,10,11.1,21.85,null,1,1,1,1085,1130,1649,null,0,0,0,1]
["16516",null,null,1,65,40.5,16,16.5,0,26,30,47.8,3546.2000000000003,6291.7251954043459,6553.83496101116,9564.7000000000007,"N/A",1,1,1,{"$error":"#VALUE!"},3463,3607,5264,{"$error":"#VALUE!"},596,620,905,{"$error":"#VALUE!"},5.100050663242202,5.5161127850199039,11.696078438775503,2.0829999999999999E-4,1.724,4,1.392796E-3,{"$f":"AK290*(1-(($E291-50)*0.005))","v":891.10627437550988},{"$f":"AL290*(1-(($E291-50)*0.005))","v":928.2292652012901},{"$f":"AM290*(1-(($E291-50)*0.005))","v":1354.6625000000001},1,1,1,1004,1045,1526,432,449,656,2.6917498835719216,2.9061155199881616,6.1706313967857547,1.3,15.5,16.8,27.5,null,5215,null,0.68,null,null,0,10,11.1,21.85,null,1,1,1,1004,1045,1526,null,0,0,0,1]
["13520",null,null,1,35,40.5,20,21.5,0,26,30,47.8,3955.2000000000003,5696.5662496175182,6224.1991397456159,8205.24,"N/A",1,1,1,{"$error":"#VALUE!"},3135,3425,4516,{"$error":"#VALUE!"},{"$f":"ROUND(V292*3600/(4186*ABS($O$1-$O$2)),0)","v":539},{"$f":"ROUND(W292*3600/(4186*ABS($O$1-$O$2)),0)","v":589},{"$f":"ROUND(X292*3600/(4186*ABS($O$1-$O$2)),0)","v":777},{"$error":"#VALUE!"},1.098282710612291,1.3107392162086311,2.2770997293068831,1.2760000000000001E-4,1.7219,2,3.76611E-4,704.00695650122941,769.21417236639559,1014.04,1,1,1,793,866,1142,341,372,491,0.44100228271641545,0.52449246998557841,0.91194786894631152,0.5,15.5,16.8,27.5,null,4944,null,0.8,null,null,0,10,11.1,21.85,null,1,1,1,793,866,1142,null,0,0,0,1]
["15020",null,null,1,50,40.5,20,21.5,0,26,30,47.8,4656,5696.5662496175182,6224.1991397456159,8205.24,"N/A",1,1,1,{"$error":"#VALUE!"},3135,3425,4516,{"$f":"ROUND(U293*3600/(4186*ABS($O$1-$O$2)),0)","v":{"$error":"#VALUE!"}},539,589,777,{"$error":"#VALUE!"},1.1172375757835222,1.3328222903674887,2.3126803858122349,1.2760000000000001E-4,1.7219,2,3.76611E-4,704.00695650122941,769.21417236639559,1014.04,1,1,1,793,866,1142,341,372,491,0.44961911757899953,0.53450205086206759,0.92809038496658691,0.7,15.5,16.8,27.5,null,5820,null,0.8,null,null,0,10,11.1,21.85,null,1,1,1,793,866,1142,null,0,0,0,1]
["16520",null,null,1,65,40.5,20,21.5,0,26,30,47.8,5155.2000000000007,5696.5662496175182,6224.1991397456159,8205.24,"N/A",1,1,1,{"$error":"#VALUE!"},3135,3425,4516,{"$error":"#VALUE!"},539,589,777,{"$error":"#VALUE!"},1.1361924409547537,1.3549053645263462,2.3482610423175871,1.2760000000000001E-4,1.7219,2,3.76611E-4,704.00695650122941,769.21417236639559,1014.04,1,1,1,793,866,1142,341,372,491,0.45823595244158355,0.54451163173855688,0.9442329009868623,0.9,15.5,16.8,27.5,null,6444,null,0.8,null,null,0,10,11.1,21.85,null,1,1,1,793,866,1142,null,0,0,0,1]
["13521",null,null,1,35,40.5,21,21.5,0,26,30,47.8,4059.2000000000003,8102.8384881891643,8440.3982243391856,12317.96,"N/A",1,1,1,{"$error":"#VALUE!"},4459,4645,6779,{"$error":"#VALUE!"},767,799,1166,{"$error":"#VALUE!"},3.0600606960231373,3.3195524438574866,7.0476193599440684,1.2760000000000001E-4,1.7219,4,5.1420100000000005E-4,1051.0569439418873,1094.8433905300585,1597.82,1,1,1,1184,1233,1799,509,530,774,1.3527269998032128,1.4660776442894849,3.1159250733500912,{"$f":"ROUND(IF(G295=10,$CO$92*E295,IF(G295=11,$CO$93*E295,IF(G295=15,$CO$94*E295,IF(G295=16,$CO$95*E295,IF(G295=20,$CO$96*E295,IF(G295=21,$CO$97*E295,)))))),1)","v":0.9},15.5,16.8,27.5,null,5074,null,0.8,null,null,0,10,11.1,21.85,null,1,1,1,1184,1233,1799,null,0,0,0,1]
["15021",null,null,1,50,40.5,21,21.5,0,26,30,47.8,4957.6000000000004,8102.8384881891643,8440.3982243391856,12317.96,"N/A",1,1,1,{"$error":"#VALUE!"},4459,4645,6779,{"$error":"#VALUE!"},767,799,1166,{"$error":"#VALUE!"},3.1296523466670236,3.3942185149990061,7.1907643769357685,1.2760000000000001E-4,1.7219,4,5.1420100000000005E-4,1051.0569439418873,1094.8433905300585,1597.82,1,1,1,1184,1233,1799,509,530,774,1.3870768897421053,1.5029039895342555,3.1866139468296719,1.3,15.5,16.8,27.5,null,6197,null,0.8,null,null,0,10,11.1,21.85,null,1,1,1,1184,1233,1799,null,0,0,0,1]
["16521",null,null,1,65,40.5,21,21.5,0,26,30,47.8,5817.6,8102.8384881891643,8440.3982243391856,12317.96,"N/A",1,1,1,{"$error":"#VALUE!"},4459,4645,6779,{"$error":"#VALUE!"},767,799,1166,{"$error":"#VALUE!"},3.1992439973109099,3.4688845861405251,7.3339093939274678,1.2760000000000001E-4,1.7219,4,5.1420100000000005E-4,{"$f":"AK296*(1-(($E297-50)*0.005))","v":972.22767314624582},{"$f":"AL296*(1-(($E297-50)*0.005))","v":1012.7301362403042},{"$f":"AM296*(1-(($E297-50)*0.005))","v":1477.9835},1,1,1,1095,1141,1664,471,491,716,1.2192767252673662,1.3237562693039249,2.7918874870783177,1.7,15.5,16.8,27.5,null,7272,null,0.8,null,null,0,10,11.1,21.85,null,1,1,1,1095,1141,1664,null,0,0,0,1]
["13510",null,null,1,35,40.5,10,11.5,0,26,30,47.2,1939.5,3860.4188735925432,4228.9855673527691,5636.58,"N/A",1,1,1,{"$error":"#VALUE!"},2125,2327,3102,{"$error":"#VALUE!"},366,400,534,{"$error":"#VALUE!"},0.52705619337958887,0.62828034550826228,1.1128591201743359,3.969E-4,1.7345999999999999,2,3.6734700000000002E-4,535.19789031294818,586.29496640731588,781.44,1,1,1,603,660,880,259,284,378,0.26609045383776742,0.31922391162689634,0.5617763004761499,0.2,14.8,16.600000000000001,28,null,2155,null,0.9,null,null,0,10.4,12.2,21.85,null,1,1,1,603,660,880,null,0,0,0,1]
["15010",null,null,1,50,40.5,10,11.5,0,26,30,47.2,2323.8000000000002,3860.4188735925432,4228.9855673527691,5636.58,"N/A",1,1,1,{"$error":"#VALUE!"},2125,2327,3102,{"$error":"#VALUE!"},366,400,534,{"$error":"#VALUE!"},0.55968812032569715,0.66634848835408422,1.175696995718561,3.969E-4,1.7345999999999999,2,3.6734700000000002E-4,535.19789031294818,586.29496640731588,781.44,1,1,1,603,660,880,259,284,378,0.28400221130560771,0.34024012271910242,0.59628635975703581,0.3,14.8,16.600000000000001,28,null,2582,null,0.9,null,null,0,10.4,12.2,21.85,null,1,1,1,603,660,880,null,0,0,0,1]
["16510",null,null,1,65,40.5,10,11.5,0,26,30,47.2,2615.4,3860.4188735925432,4228.9855673527691,5636.58,"N/A",1,1,1,{"$error":"#VALUE!"},2125,2327,3102,{"$error":"#VALUE!"},366,400,534,{"$error":"#VALUE!"},0.59232004727180543,0.70441663119990616,1.2385348712627864,3.969E-4,1.7345999999999999,2,3.6734700000000002E-4,535.19789031294818,586.29496640731588,781.44,1,1,1,603,660,880,259,284,378,0.30191396877344806,0.36125633381130845,0.63079641903792172,0.4,14.8,16.600000000000001,28,null,2906,null,0.9,null,null,0,10.4,12.2,21.85,null,1,1,1,603,660,880,null,0,0,0,1]
["13511",null,null,1,35,40.5,11,11.5,0,26,30,47.2,1951.6000000000001,5237.9452617275747,5738.028861571599,7647.9,"N/A",1,1,1,{"$error":"#VALUE!"},2883,3158,4209,{"$error":"#VALUE!"},496,543,724,{"$error":"#VALUE!"},1.536434295146724,1.8370884409914405,3.2427164359696983,3.969E-4,1.7345999999999999,4,5.7428799999999995E-4,877,961,1281,1,1,1,988,1082,1443,425,465,620,1.1327165233232905,1.3526874116433598,2.3870350893711576,0.5,14.8,16.600000000000001,28,null,2870,null,0.68,null,null,0,10.4,12.2,21.85,null,1,1,1,988,1082,1443,null,0,0,0,1]
["15011",null,null,1,50,40.5,11,11.5,0,26,30,47.2,2261.6800000000003,5237.9452617275747,5738.028861571599,7647.9,"N/A",1,1,1,{"$error":"#VALUE!"},2883,3158,4209,{"$error":"#VALUE!"},496,543,724,{"$error":"#VALUE!"},1.6470052197013294,1.9664610121374413,3.4558053921060803,3.969E-4,1.7345999999999999,4,5.7428799999999995E-4,877,961,1281,1,1,1,988,1082,1443,425,465,620,1.2172953903062689,1.4515478011118261,2.5498675739423886,0.7,14.8,16.600000000000001,28,null,3326,null,0.68,null,null,0,10.4,12.2,21.85,null,1,1,1,988,1082,1443,null,0,0,0,1]
["16511",null,null,1,65,40.5,11,11.5,0,26,30,47.2,2518.04,5237.9452617275747,5738.028861571599,7647.9,"N/A",1,1,1,{"$error":"#VALUE!"},2883,3158,4209,{"$error":"#VALUE!"},496,543,724,{"$error":"#VALUE!"},1.7575761442559346,2.0958335832834418,3.6688943482424623,3.969E-4,1.7345999999999999,4,5.7428799999999995E-4,{"$f":"AK302*(1-(($E303-50)*0.005))","v":811.22500000000002},{"$f":"AL302*(1-(($E303-50)*0.005))","v":888.92500000000007},{"$f":"AM302*(1-(($E303-50)*0.005))","v":1184.925},1,1,1,914,1001,1334,393,430,574,1.1183293964479009,1.3317815798317174,2.3348346649270568,0.9,14.8,16.600000000000001,28,null,3703,null,0.68,null,null,0,10.4,12.2,21.85,null,1,1,1,914,1001,1334,null,0,0,0,1]
["13515",null,null,1,35,40.5,15,16.5,0,26,30,48.1,2822.4,4729.715265656896,4901.7743245246338,7188.36,"N/A",1,1,1,{"$error":"#VALUE!"},2603,2698,3956,{"$error":"#VALUE!"},448,464,680,{"$error":"#VALUE!"},0.93967624559169705,1.0076708735304059,2.1570646946973606,2.0829999999999999E-4,1.724,2,4.6182900000000003E-4,645.62512273636446,669.11187505864359,981.24,1,1,1,727,754,1105,313,324,475,0.46027088625135254,0.49301915408740354,1.0557900411796077,0.4,16.399999999999999,17.7,29.7,null,3528,null,0.8,null,null,0,10,10.9,21.85,null,1,1,1,727,754,1105,null,0,0,0,1]
["15015",null,null,1,50,40.5,15,16.5,0,26,30,48.1,3329.6000000000004,4729.715265656896,4901.7743245246338,7188.36,"N/A",1,1,1,{"$error":"#VALUE!"},2603,2698,3956,{"$error":"#VALUE!"},448,464,680,{"$error":"#VALUE!"},0.96247126133555416,1.0318874975356527,2.2038685864090306,2.0829999999999999E-4,1.724,2,4.6182900000000003E-4,645.62512273636446,669.11187505864359,981.24,1,1,1,727,754,1105,313,324,475,0.47255531705345388,0.5060573108360954,1.0810048908552929,0.5,16.399999999999999,17.7,29.7,null,4162,null,0.8,null,null,0,10,10.9,21.85,null,1,1,1,727,754,1105,null,0,0,0,1]
["16515",null,null,1,65,40.5,15,16.5,0,26,30,48.1,3690.4,4729.715265656896,4901.7743245246338,7188.36,"N/A",1,1,1,{"$error":"#VALUE!"},2603,2698,3956,{"$error":"#VALUE!"},448,464,680,{"$error":"#VALUE!"},0.98526627707941128,1.0561041215408995,2.250672478120701,2.0829999999999999E-4,1.724,2,4.6182900000000003E-4,645.62512273636446,669.11187505864359,981.24,1,1,1,727,754,1105,313,324,475,0.48483974785555528,0.51909546758478731,1.1062197405309782,0.7,16.399999999999999,17.7,29.7,null,4613,null,0.8,null,null,0,10,10.9,21.85,null,1,1,1,727,754,1105,null,0,0,0,1]
["13516",null,null,1,35,40.5,16,16.5,0,26,30,48.1,2599.6400000000003,6916.3686790875245,7167.9744986485921,10511.7,"N/A",1,1,1,{"$error":"#VALUE!"},3806,3945,5785,{"$error":"#VALUE!"},655,679,995,{"$error":"#VALUE!"},5.9764495815398293,6.4211623330501659,13.761041320793508,2.0829999999999999E-4,1.724,4,1.392796E-3,1059,1098,1610,1,1,1,1193,1237,1813,513,532,780,3.6711824794323578,3.9473084230242503,8.4671551549406292,0.7,16.399999999999999,17.7,29.7,null,3823,null,0.68,null,null,0,10,10.9,21.85,null,1,1,1,1193,1237,1813,null,0,0,0,1]
["15016",null,null,1,50,40.5,16,16.5,0,26,30,48.1,3097.4,6916.3686790875245,7167.9744986485921,10511.7,"N/A",1,1,1,{"$error":"#VALUE!"},3806,3945,5785,{"$error":"#VALUE!"},655,679,995,{"$error":"#VALUE!"},6.0642035159960148,6.5145329195676656,13.941473330822763,2.0829999999999999E-4,1.724,4,1.392796E-3,1059,1098,1610,1,1,1,1193,1237,1813,{"$f":"ROUND(AQ308*3600/(4186*ABS($AM$1-$AM$2)),0)","v":513},{"$f":"ROUND(AR308*3600/(4186*ABS($AM$1-$AM$2)),0)","v":532},{"$f":"ROUND(AS308*3600/(4186*ABS($AM$1-$AM$2)),0)","v":780},3.7287674213963076,4.0086194019114236,8.5857423211206996,1,16.399999999999999,17.7,29.7,null,4555,null,0.68,null,null,0,10,10.9,21.85,null,1,1,1,1193,1237,1813,null,0,0,0,1]
["16516",null,null,1,65,40.5,16,16.5,0,26,30,48.1,3546.2000000000003,6916.3686790875245,7167.9744986485921,10511.7,"N/A",1,1,1,{"$error":"#VALUE!"},3806,3945,5785,{"$error":"#VALUE!"},655,679,995,{"$error":"#VALUE!"},6.1519574504522012,6.6079035060851652,14.121905340852017,2.0829999999999999E-4,1.724,4,1.392796E-3,{"$f":"AK308*(1-(($E309-50)*0.005))","v":979.57500000000005},{"$f":"AL308*(1-(($E309-50)*0.005))","v":1015.6500000000001},{"$f":"AM308*(1-(($E309-50)*0.005))","v":1489.25},1,1,1,1103,1144,1677,474,492,721,3.2361919983726364,3.484776634539291,7.4448243258682085,1.3,16.399999999999999,17.7,29.7,null,5215,null,0.68,null,null,0,10,10.9,21.85,null,1,1,1,1103,1144,1677,null,0,0,0,1]
["13520",null,null,1,35,40.5,20,21.5,0,26,30,48.1,3955.2000000000003,6176.0620183272586,6765.7106634844222,9017.64,"N/A",1,1,1,{"$error":"#VALUE!"},3399,3723,4963,{"$error":"#VALUE!"},585,640,854,{"$error":"#VALUE!"},1.2930535062449018,1.5467359836284296,2.7492484012035212,1.2760000000000001E-4,1.7219,2,3.76611E-4,763.26517311676128,836.13657141043336,1114.44,1,1,1,860,942,1255,370,405,540,0.51888832945982821,0.62129442154773762,1.1023482865853123,0.5,16.399999999999999,17.7,29.7,null,4944,null,0.8,null,null,0,10,10.9,21.85,null,1,1,1,860,942,1255,null,0,0,0,1]
["15020",null,null,1,50,40.5,20,21.5,0,26,30,48.1,4656,6176.0620183272586,6765.7106634844222,9017.64,"N/A",1,1,1,{"$error":"#VALUE!"},3399,3723,4963,{"$error":"#VALUE!"},585,640,854,{"$error":"#VALUE!"},1.3148789805579368,1.5722136298044704,2.7911157357122991,1.2760000000000001E-4,1.7219,2,3.76611E-4,763.26517311676128,836.13657141043336,1114.44,1,1,1,860,942,1255,370,405,540,0.52880542628494576,0.63288152299390588,1.1213637458852972,0.7,16.399999999999999,17.7,29.7,null,5820,null,0.8,null,null,0,10,10.9,21.85,null,1,1,1,860,942,1255,null,0,0,0,{"$f":"IF(SUM(BV311:BX311)=0,1,0)","v":1}]
["16520",null,null,1,65,40.5,20,21.5,0,26,30,48.1,5155.2000000000007,6176.0620183272586,6765.7106634844222,9017.64,"N/A",1,1,1,{"$error":"#VALUE!"},3399,3723,4963,{"$error":"#VALUE!"},585,640,854,{"$error":"#VALUE!"},1.3367044548709721,1.5976912759805113,2.832983070221077,1.2760000000000001E-4,1.7219,2,3.76611E-4,763.26517311676128,836.13657141043336,1114.44,1,1,1,860,942,1255,370,405,540,0.53872252311006341,0.64446862444007391,1.1403792051852817,0.9,16.399999999999999,17.7,29.7,null,6444,null,0.8,null,null,0,10,10.9,21.85,null,1,1,1,860,942,1255,null,0,0,0,1]
["13521",null,null,1,35,40.5,21,21.5,0,26,30,48.1,4059.2000000000003,8907.2895892451361,9231.3217513746804,13537.56,"N/A",1,1,1,{"$error":"#VALUE!"},4902,5080,7450,{"$error":"#VALUE!"},843,874,1281,{"$error":"#VALUE!"},3.6935379711231957,3.9689728559420545,8.5002305343045492,1.2760000000000001E-4,1.7219,4,5.1420100000000005E-4,1155.4060454399644,1197.4377673560793,1756.02,1,1,1,1301,1349,1978,559,580,851,1.6300783251051609,1.7542444973503548,3.76367271392543,0.9,16.399999999999999,17.7,29.7,null,5074,null,0.8,null,null,0,10,10.9,21.85,null,1,1,1,1301,1349,1978,null,0,0,0,1]
["15021",null,null,1,50,40.5,21,21.5,0,26,30,48.1,4957.6000000000004,8907.2895892451361,9231.3217513746804,13537.56,"N/A",1,1,1,{"$error":"#VALUE!"},4902,5080,7450,{"$error":"#VALUE!"},843,874,1281,{"$error":"#VALUE!"},3.7754241302904257,4.0561126514254919,8.6685432188628617,1.2760000000000001E-4,1.7219,4,5.1420100000000005E-4,1155.4060454399644,1197.4377673560793,1756.02,1,1,1,1301,1349,1978,559,580,851,1.6704425291085792,1.7972550143142052,3.8469015286795298,1.3,16.399999999999999,17.7,29.7,null,6197,null,0.8,null,null,0,10,10.9,21.85,null,1,1,1,1301,1349,1978,null,0,0,0,1]
["16521",null,null,1,65,40.5,21,21.5,0,26,30,48.1,5817.6,8907.2895892451361,9231.3217513746804,13537.56,"N/A",1,1,1,{"$error":"#VALUE!"},4902,5080,7450,{"$error":"#VALUE!"},843,874,1281,{"$error":"#VALUE!"},3.8573102894576552,4.1432524469089289,8.8368559034211742,1.2760000000000001E-4,1.7219,4,5.1420100000000005E-4,{"$f":"AK314*(1-(($E315-50)*0.005))","v":1068.750592031967},{"$f":"AL314*(1-(($E315-50)*0.005))","v":1107.6299348043735},{"$f":"AM314*(1-(($E315-50)*0.005))","v":1624.3185000000001},1,1,1,1204,1247,1829,518,536,786,1.4715542134072619,1.5743923428313906,3.3580375334824821,1.7,16.399999999999999,17.7,29.7,null,7272,null,0.8,null,null,0,10,10.9,21.85,null,1,1,1,1204,1247,1829,null,0,0,0,1]
["13510",null,null,1,35,40.5,10,11.5,0,26,30,47.8,2262.6,4178.1784000000007,4608.2849999999999,6144.38,"N/A",1,1,1,{"$error":"#VALUE!"},2299,2536,3381,{"$error":"#VALUE!"},395,436,582,{"$error":"#VALUE!"},0.61284198687872204,0.74505535368651088,1.3196001613683386,3.969E-4,1.7345999999999999,2,3.6734700000000002E-4,579.25120000000004,638.88,851.84,1,1,1,652,719,959,280,309,412,0.31040082911703132,0.37714241839066115,0.66610921000884138,0.2,16.2,18.600000000000001,31.4,null,{"$f":"(BE334/(F334-102))*(F316-102)","v":2514},null,0.9,null,null,0,10.199999999999999,11.9,21.85,null,1,1,1,652,719,959,null,0,0,0,1]
["15010",null,null,1,50,40.5,10,11.5,0,26,30,47.8,2711.7000000000003,4178.1784000000007,4608.2849999999999,6144.38,"N/A",1,1,1,{"$error":"#VALUE!"},2299,2536,3381,{"$error":"#VALUE!"},395,436,582,{"$error":"#VALUE!"},0.65008851109987886,0.78926140195998973,1.392556635737711,3.969E-4,1.7345999999999999,2,3.6734700000000002E-4,579.25120000000004,638.88,851.84,1,1,1,652,719,959,280,309,412,0.33090625295952986,0.40147064249410369,0.7061801140106192,0.3,16.2,18.600000000000001,31.4,null,3013,null,0.9,null,null,0,10.199999999999999,11.9,21.85,null,1,1,1,652,719,959,null,0,0,0,1]
["16510",null,null,1,65,40.5,10,11.5,0,26,30,47.8,3051.9,4178.1784000000007,4608.2849999999999,6144.38,"N/A",1,1,1,{"$error":"#VALUE!"},2299,2536,3381,{"$error":"#VALUE!"},395,436,582,{"$error":"#VALUE!"},0.68733503532103568,0.83346745023346858,1.4655131101070837,3.969E-4,1.7345999999999999,2,3.6734700000000002E-4,579.25120000000004,638.88,851.84,1,1,1,652,719,959,280,309,412,0.35141167680202845,0.42579886659754623,0.74625101801239691,0.4,16.2,18.600000000000001,31.4,null,3391,null,0.9,null,null,0,10.199999999999999,11.9,21.85,null,1,1,1,652,719,959,null,0,0,0,1]
["13511",null,null,1,35,40.5,11,11.5,0,26,30,47.8,2277.3200000000002,5669.0920000000006,6252.6749999999993,8336.9,"N/A",1,1,1,{"$error":"#VALUE!"},3120,3441,4588,{"$error":"#VALUE!"},537,592,789,{"$error":"#VALUE!"},1.7972272841676733,2.1788163556396083,3.8432688665465742,3.969E-4,1.7345999999999999,4,5.7428799999999995E-4,949.51120000000003,1047.2549999999999,1396.34,1,1,1,1069,1179,1573,460,507,676,1.3241355216189312,1.6044172960147869,2.8316835944039918,0.5,16.2,18.600000000000001,31.4,null,3349,null,0.68,null,null,0,10.199999999999999,11.9,21.85,null,1,1,1,1069,1179,1573,null,0,0,0,1]
["15011",null,null,1,50,40.5,11,11.5,0,26,30,47.8,2639.0800000000004,5669.0920000000006,6252.6749999999993,8336.9,"N/A",1,1,1,{"$error":"#VALUE!"},3120,3441,4588,{"$error":"#VALUE!"},537,592,789,{"$error":"#VALUE!"},1.9241302642905427,2.3291055157701974,4.0906281389321384,3.969E-4,1.7345999999999999,4,5.7428799999999995E-4,949.51120000000003,1047.2549999999999,1396.34,1,1,1,1069,1179,1573,460,507,676,1.42115929475893,1.7192763490127385,3.0208674027595199,0.7,16.2,18.600000000000001,31.4,null,3881,null,0.68,null,null,0,10.199999999999999,11.9,21.85,null,1,1,1,1069,1179,1573,null,0,0,0,1]
["16511",null,null,1,65,40.5,11,11.5,0,26,30,47.8,2937.6000000000004,5669.0920000000006,6252.6749999999993,8336.9,"N/A",1,1,1,{"$error":"#VALUE!"},3120,3441,4588,{"$error":"#VALUE!"},537,592,789,{"$error":"#VALUE!"},2.0510332444134116,2.4793946759007865,4.3379874113177026,3.969E-4,1.7345999999999999,4,5.7428799999999995E-4,{"$f":"AK320*(1-(($E321-50)*0.005))","v":878.29786000000001},{"$f":"AL320*(1-(($E321-50)*0.005))","v":968.71087499999999},{"$f":"AM320*(1-(($E321-50)*0.005))","v":1291.6144999999999},1,1,1,989,1091,1455,425,469,626,1.3018742572892474,1.5764262795205095,2.7640285013714583,0.9,16.2,18.600000000000001,31.4,null,4320,null,0.68,null,null,0,10.199999999999999,11.9,21.85,null,1,1,1,989,1091,1455,null,0,0,0,1]
["13515",null,null,1,35,40.5,15,16.5,0,26,30,48.1,3292.8,4942.1733310961072,5121.9619484404784,7511.2599999999993,"N/A",1,1,1,{"$error":"#VALUE!"},2720,2819,4134,{"$error":"#VALUE!"},468,485,711,{"$error":"#VALUE!"},1.0250393354211038,1.1005053018582078,2.3573619185371655,2.0829999999999999E-4,1.724,2,4.6182900000000003E-4,653.91552727192982,677.70396216321694,993.84,1,1,1,736,763,1119,316,328,481,0.46909104104849375,0.50520557046832537,1.0825082836665039,0.4,16.399999999999999,17.7,29.7,null,4116,null,0.8,null,null,0,10,10.9,21.85,null,1,1,1,736,763,1119,null,0,0,0,1]
["15015",null,null,1,50,40.5,15,16.5,0,26,30,48.1,3884,4942.1733310961072,5121.9619484404784,7511.2599999999993,"N/A",1,1,1,{"$error":"#VALUE!"},2720,2819,4134,{"$error":"#VALUE!"},468,485,711,{"$error":"#VALUE!"},1.0496169908388007,1.1266422789794759,2.4079047760825287,2.0829999999999999E-4,1.724,2,4.6182900000000003E-4,653.91552727192982,677.70396216321694,993.84,1,1,1,736,763,1119,316,328,481,0.48157916299021247,0.51852246949904768,1.1082747410672107,0.5,16.399999999999999,17.7,29.7,null,4855,null,0.8,null,null,0,10,10.9,21.85,null,1,1,1,736,763,1119,null,0,0,0,1]
["16515",null,null,1,65,40.5,15,16.5,0,26,30,48.1,4305.6000000000004,4942.1733310961072,5121.9619484404784,7511.2599999999993,"N/A",1,1,1,{"$error":"#VALUE!"},2720,2819,4134,{"$error":"#VALUE!"},468,485,711,{"$error":"#VALUE!"},1.0741946462564975,1.1527792561007437,2.4584476336278915,2.0829999999999999E-4,1.724,2,4.6182900000000003E-4,653.91552727192982,677.70396216321694,993.84,1,1,1,736,763,1119,316,328,481,0.49406728493193125,0.53183936852976998,1.1340411984679173,0.7,16.399999999999999,17.7,29.7,null,5382,null,0.8,null,null,0,10,10.9,21.85,null,1,1,1,736,763,1119,null,0,0,0,1]
["13516",null,null,1,35,40.5,16,16.5,0,26,30,48.1,3032.8,7342.4691534710291,7609.5768181679023,11159.300000000001,"N/A",1,1,1,{"$error":"#VALUE!"},4041,4188,6141,{"$error":"#VALUE!"},695,720,1056,{"$error":"#VALUE!"},6.7264843301704147,7.2177171574635857,15.495499402925979,2.0829999999999999E-4,1.724,4,1.392796E-3,1068.8700133353962,1107.7538502516963,1624.5,1,1,1,1204,1248,1829,518,537,786,3.7428786713223694,4.0216334078883387,8.5975707050256478,0.7,16.399999999999999,17.7,29.7,null,4460,null,0.68,null,null,0,10,10.9,21.85,null,1,1,1,1204,1248,1829,null,0,0,0,1]
["15016",null,null,1,50,40.5,16,16.5,0,26,30,48.1,3613.5200000000004,7342.4691534710291,7609.5768181679023,11159.300000000001,"N/A",1,1,1,{"$error":"#VALUE!"},4041,4188,6141,{"$error":"#VALUE!"},695,720,1056,{"$error":"#VALUE!"},6.823680331687707,7.3210189410147404,15.695422601288003,2.0829999999999999E-4,1.724,4,1.392796E-3,1068.8700133353962,1107.7538502516963,1624.5,1,1,1,1204,1248,1829,518,537,786,3.8014346308343856,4.0839411859901391,8.7177348956000529,1,16.399999999999999,17.7,29.7,null,5314,null,0.68,null,null,0,10,10.9,21.85,null,1,1,1,1204,1248,1829,null,0,0,0,1]
["16516",null,null,1,65,40.5,16,16.5,0,26,30,48.1,4137.12,7342.4691534710291,7609.5768181679023,11159.300000000001,"N/A",1,1,1,{"$error":"#VALUE!"},4041,4188,6141,{"$error":"#VALUE!"},695,720,1056,{"$error":"#VALUE!"},6.9208763332049994,7.4243207245658951,15.895345799650027,2.0829999999999999E-4,1.724,4,1.392796E-3,{"$f":"AK326*(1-(($E327-50)*0.005))","v":988.70476233524153},{"$f":"AL326*(1-(($E327-50)*0.005))","v":1024.6723114828192},{"$f":"AM326*(1-(($E327-50)*0.005))","v":1502.6625000000001},1,1,1,1113,1154,1692,479,496,728,3.3043256065997064,3.54125992909999,7.5891373673718938,1.3,16.399999999999999,17.7,29.7,null,6084,null,0.68,null,null,0,10,10.9,21.85,null,1,1,1,1113,1154,1692,null,0,0,0,1]
["13520",null,null,1,35,40.5,20,21.5,0,26,30,48.1,4614.4000000000005,6444.5232000000005,7107.93,9477.24,"N/A",1,1,1,{"$error":"#VALUE!"},3547,3912,5216,{"$error":"#VALUE!"},610,673,897,{"$error":"#VALUE!"},1.4055553062630124,1.7098182151220112,3.0322141236893234,1.2760000000000001E-4,1.7219,2,3.76611E-4,768.42720000000008,847.53,1130.04,1,1,1,865,954,1273,372,410,547,0.52449246998557841,0.63667416547971534,1.1310171163267424,0.5,16.399999999999999,17.7,29.7,null,5768,null,0.8,null,null,0,10,10.9,21.85,null,1,1,1,865,954,1273,null,0,0,0,1]
["15020",null,null,1,50,40.5,20,21.5,0,26,30,48.1,5432,6444.5232000000005,7107.93,9477.24,"N/A",1,1,1,{"$error":"#VALUE!"},3547,3912,5216,{"$error":"#VALUE!"},610,673,897,{"$error":"#VALUE!"},1.4290114950127781,1.7375998080752715,3.0777770188731517,1.2760000000000001E-4,1.7219,2,3.76611E-4,768.42720000000008,847.53,1130.04,1,1,1,865,954,1273,372,410,547,0.53450205086206759,0.64850868220280911,1.1504590018679142,0.7,16.399999999999999,17.7,29.7,null,6790,null,0.8,null,null,0,10,10.9,21.85,null,1,1,1,865,954,1273,null,0,0,0,1]
["16520",null,null,1,65,40.5,20,21.5,0,26,30,48.1,6014.4000000000005,6444.5232000000005,7107.93,9477.24,"N/A",1,1,1,{"$error":"#VALUE!"},3547,3912,5216,{"$error":"#VALUE!"},610,673,897,{"$error":"#VALUE!"},1.4524676837625445,1.7653814010285318,3.1233399140569795,1.2760000000000001E-4,1.7219,2,3.76611E-4,768.42720000000008,847.53,1130.04,1,1,1,865,954,1273,372,410,547,0.54451163173855688,0.66034319892590276,1.1699008874090857,0.9,16.399999999999999,17.7,29.7,null,7518,null,0.8,null,null,0,10,10.9,21.85,null,1,1,1,865,954,1273,null,0,0,0,1]
["13521",null,null,1,35,40.5,21,21.5,0,26,30,48.1,4735.2,9234.8263652613623,9570.7750567366256,14035.359999999999,"N/A",1,1,1,{"$error":"#VALUE!"},5082,5267,7724,{"$error":"#VALUE!"},874,906,1329,{"$error":"#VALUE!"},3.9689728559420545,4.263647987759378,9.1466527020301616,1.2760000000000001E-4,1.7219,4,5.1420100000000005E-4,1167.5126679363457,1209.9849719689844,1774.42,1,1,1,1315,1363,1998,565,586,859,1.6650909698349654,1.7905546142927466,3.8344650266159528,0.9,16.399999999999999,17.7,29.7,null,5919,null,0.8,null,null,0,10,10.9,21.85,null,1,1,1,1315,1363,1998,null,0,0,0,1]
["15021",null,null,1,50,40.5,21,21.5,0,26,30,48.1,5784,9234.8263652613623,9570.7750567366256,14035.359999999999,"N/A",1,1,1,{"$error":"#VALUE!"},5082,5267,7724,{"$error":"#VALUE!"},874,906,1329,{"$error":"#VALUE!"},4.0561126514254919,4.3563538172301879,9.3259714364779978,1.2760000000000001E-4,1.7219,4,5.1420100000000005E-4,1167.5126679363457,1209.9849719689844,1774.42,1,1,1,1315,1363,1998,565,586,859,1.70620406966261,1.8343341252043579,3.9190456397874232,1.3,16.399999999999999,17.7,29.7,null,7230,null,0.8,null,null,0,10,10.9,21.85,null,1,1,1,1315,1363,1998,null,0,0,0,1]
["16521",null,null,1,65,40.5,21,21.5,0,26,30,48.1,6787.2000000000007,9234.8263652613623,9570.7750567366256,14035.359999999999,"N/A",1,1,1,{"$error":"#VALUE!"},5082,5267,7724,{"$error":"#VALUE!"},874,906,1329,{"$error":"#VALUE!"},4.1432524469089289,4.4490596467009969,9.5052901709258339,1.2760000000000001E-4,1.7219,4,5.1420100000000005E-4,{"$f":"AK332*(1-(($E333-50)*0.005))","v":1079.9492178411199},{"$f":"AL332*(1-(($E333-50)*0.005))","v":1119.2360990713107},{"$f":"AM332*(1-(($E333-50)*0.005))","v":1641.3385000000001},1,1,1,1216,1260,1848,523,542,795,1.4997749071360018,1.6094368996795227,3.4345875454077182,1.7,16.399999999999999,17.7,29.7,null,8484,null,0.8,null,null,0,10,10.9,21.85,null,1,1,1,1216,1260,1848,null,0,0,0,1]
["13510",null,null,1,35,40.5,10,11.5,0,26,30,47.8,2262.6,4331.3824000000004,4782.2249168521384,6369.68,"N/A",1,1,1,{"$error":"#VALUE!"},2384,2632,3505,{"$error":"#VALUE!"},410,453,603,{"$error":"#VALUE!"},0.65972825565484805,0.80362677040106723,1.4155400043945847,3.969E-4,1.7345999999999999,2,3.6734700000000002E-4,587.68320000000006,648.85364133524638,864.24,1,1,1,662,731,973,{"$f":"ROUND(AQ334*3600/(4186*ABS($AM$1-$AM$2)),0)","v":285},{"$f":"ROUND(AR334*3600/(4186*ABS($AM$1-$AM$2)),0)","v":314},{"$f":"ROUND(AS334*3600/(4186*ABS($AM$1-$AM$2)),0)","v":418},0.32144882327303359,0.38929975778842879,0.68543477916057016,0.2,16.2,18.600000000000001,31.4,null,2514,null,0.9,null,null,0,10.199999999999999,11.9,21.85,null,1,1,1,662,731,973,null,0,0,0,1]
["15010",null,null,1,50,40.5,10,11.5,0,26,30,47.8,2711.7000000000003,4331.3824000000004,4782.2249168521384,6369.68,"N/A",1,1,1,{"$error":"#VALUE!"},2384,2632,3505,{"$error":"#VALUE!"},410,453,603,{"$error":"#VALUE!"},0.69946234895206738,0.85086529997072791,1.493123052619719,3.969E-4,1.7345999999999999,2,3.6734700000000002E-4,587.68320000000006,648.85364133524638,864.24,1,1,1,662,731,973,285,314,418,0.34259356201432023,0.41431487815068285,0.72652332842719902,0.3,16.2,18.600000000000001,31.4,null,3013,null,0.9,null,null,0,10.199999999999999,11.9,21.85,null,1,1,1,662,731,973,null,0,0,0,1]
["16510",null,null,1,65,40.5,10,11.5,0,26,30,47.8,3051.9,4331.3824000000004,4782.2249168521384,6369.68,"N/A",1,1,1,{"$error":"#VALUE!"},2384,2632,3505,{"$error":"#VALUE!"},410,453,603,{"$error":"#VALUE!"},0.73919644224928682,0.89810382954038859,1.5707061008448535,3.969E-4,1.7345999999999999,2,3.6734700000000002E-4,587.68320000000006,648.85364133524638,864.24,1,1,1,662,731,973,285,314,418,0.36373830075560687,0.43932999851293686,0.76761187769382766,0.4,16.2,18.600000000000001,31.4,null,3391,null,0.9,null,null,0,10.199999999999999,11.9,21.85,null,1,1,1,662,731,973,null,0,0,0,1]
["13511",null,null,1,35,40.5,11,11.5,0,26,30,47.8,2277.3200000000002,5976.8600000000006,6598.9760720588583,8789.5,"N/A",1,1,1,{"$error":"#VALUE!"},3289,3632,4837,{"$error":"#VALUE!"},566,625,832,{"$error":"#VALUE!"},1.9938988075252815,2.4252069893760551,4.2683127516946202,3.969E-4,1.7345999999999999,4,5.7428799999999995E-4,956,1056,1406,1,1,1,1077,1189,1583,463,511,681,1.3412304839994262,1.629499555790014,2.8732121390077174,0.5,16.2,18.600000000000001,31.4,null,3349,null,0.68,null,null,0,10.199999999999999,11.9,21.85,null,1,1,1,1077,1189,1583,null,0,0,0,1]
["15011",null,null,1,50,40.5,11,11.5,0,26,30,47.8,2639.0800000000004,5976.8600000000006,6598.9760720588583,8789.5,"N/A",1,1,1,{"$error":"#VALUE!"},3289,3632,4837,{"$error":"#VALUE!"},566,625,832,{"$error":"#VALUE!"},2.132924096518642,2.5903240326110466,4.5395219074303137,3.969E-4,1.7345999999999999,4,5.7428799999999995E-4,956,1056,1406,1,1,1,1077,1189,1583,463,511,681,1.4393544768153193,1.7459350305567238,3.0648297429601326,0.7,16.2,18.600000000000001,31.4,null,3881,null,0.68,null,null,0,10.199999999999999,11.9,21.85,null,1,1,1,1077,1189,1583,null,0,0,0,1]
["16511",null,null,1,65,40.5,11,11.5,0,26,30,47.8,2937.6000000000004,5976.8600000000006,6598.9760720588583,8789.5,"N/A",1,1,1,{"$error":"#VALUE!"},3289,3632,4837,{"$error":"#VALUE!"},566,625,832,{"$error":"#VALUE!"},2.2719493855120021,2.7554410758460381,4.8107310631660081,3.969E-4,1.7345999999999999,4,5.7428799999999995E-4,{"$f":"AK338*(1-(($E339-50)*0.005))","v":884.30000000000007},{"$f":"AL338*(1-(($E339-50)*0.005))","v":976.80000000000007},{"$f":"AM338*(1-(($E339-50)*0.005))","v":1300.55},1,1,1,996,1100,1465,428,473,630,1.319778854388741,1.6026558384299066,2.7985089179641403,0.9,16.2,18.600000000000001,31.4,null,4320,null,0.68,null,null,0,10.199999999999999,11.9,21.85,null,1,1,1,996,1100,1465,null,0,0,0,1]
["13515",null,null,1,35,40.5,15,16.5,0,26,30,48.9,3292.8,5583.9635634029,5708.9475468201636,8483.56,"N/A",1,1,1,{"$error":"#VALUE!"},3073,3142,4669,{"$error":"#VALUE!"},529,540,803,{"$error":"#VALUE!"},1.3082309055266454,1.3629570753282891,3.0039701396871172,2.0829999999999999E-4,1.724,2,4.6182900000000003E-4,762.23344503523219,779.29426056038062,1158.04,1,1,1,858,878,1304,369,378,561,0.63866045194365628,0.67003868893271479,1.470537753786568,0.4,19.3,20.399999999999999,34.5,null,4116,null,0.8,null,null,0,10,10.6,21.85,null,1,1,1,858,878,1304,null,0,0,0,1]
["15015",null,null,1,50,40.5,15,16.5,0,26,30,48.9,3884,5583.9635634029,5708.9475468201636,8483.56,"N/A",1,1,1,{"$error":"#VALUE!"},3073,3142,4669,{"$error":"#VALUE!"},529,540,803,{"$error":"#VALUE!"},1.3385889769886199,1.3944116228585968,3.0663100539172023,2.0829999999999999E-4,1.724,2,4.6182900000000003E-4,762.23344503523219,779.29426056038062,1158.04,1,1,1,858,878,1304,369,378,561,0.6549755637986,0.68704587500546821,1.5041307370183896,0.5,19.3,20.399999999999999,34.5,null,4855,null,0.8,null,null,0,10,10.6,21.85,null,1,1,1,858,878,1304,null,0,0,0,1]
["16515",null,null,1,65,40.5,15,16.5,0,26,30,48.9,4305.6000000000004,5583.9635634029,5708.9475468201636,8483.56,"N/A",1,1,1,{"$error":"#VALUE!"},3073,3142,4669,{"$error":"#VALUE!"},529,540,803,{"$error":"#VALUE!"},1.3689470484505946,1.425866170388904,3.1286499681472879,2.0829999999999999E-4,1.724,2,4.6182900000000003E-4,762.23344503523219,779.29426056038062,1158.04,1,1,1,858,878,1304,369,378,561,0.67129067565354383,0.70405306107822163,1.5377237202502108,0.7,19.3,20.399999999999999,34.5,null,5382,null,0.8,null,null,0,10,10.6,21.85,null,1,1,1,858,878,1304,null,0,0,0,1]
["13516",null,null,1,35,40.5,16,16.5,0,26,30,48.9,3032.8,8165.5551181941737,8348.321999442087,12405.7,"N/A",1,1,1,{"$error":"#VALUE!"},4494,4594,6827,{"$error":"#VALUE!"},773,790,1174,{"$error":"#VALUE!"},8.3162609795219709,8.6850670509324548,19.142213574132278,2.0829999999999999E-4,1.724,4,1.392796E-3,1250,1278,1900,1,1,1,1408,1439,2140,605,619,920,5.1011185657950628,5.3392424935956937,11.769330341041693,0.7,19.3,20.399999999999999,34.5,null,4460,null,0.68,null,null,0,10,10.6,21.85,null,1,1,1,1408,1439,2140,null,0,0,0,1]
["15016",null,null,1,50,40.5,16,16.5,0,26,30,48.9,3613.5200000000004,8165.5551181941737,8348.321999442087,12405.7,"N/A",1,1,1,{"$error":"#VALUE!"},4494,4594,6827,{"$error":"#VALUE!"},773,790,1174,{"$error":"#VALUE!"},8.4330193549336983,8.806287447766767,19.382193212805685,2.0829999999999999E-4,1.724,4,1.392796E-3,1250,1278,1900,1,1,1,1408,1439,2140,605,619,920,5.1776452439322451,5.4188476637414897,11.92695959147011,1,19.3,20.399999999999999,34.5,null,5314,null,0.68,null,null,0,10,10.6,21.85,null,1,1,1,1408,1439,2140,null,0,0,0,1]
["16516",null,null,1,65,40.5,16,16.5,0,26,30,48.9,4137.12,8165.5551181941737,8348.321999442087,12405.7,"N/A",1,1,1,{"$error":"#VALUE!"},4494,4594,6827,{"$error":"#VALUE!"},773,790,1174,{"$error":"#VALUE!"},8.5497777303454239,8.9275078446010792,19.622172851479093,2.0829999999999999E-4,1.724,4,1.392796E-3,{"$f":"AK344*(1-(($E345-50)*0.005))","v":1156.25},{"$f":"AL344*(1-(($E345-50)*0.005))","v":1182.1500000000001},{"$f":"AM344*(1-(($E345-50)*0.005))","v":1757.5},1,1,1,1302,1331,1979,560,572,851,4.5063967148469724,4.7002218376767955,10.349772103762232,1.3,19.3,20.399999999999999,34.5,null,6084,null,0.68,null,null,0,10,10.6,21.85,null,1,1,1,1302,1331,1979,null,0,0,0,1]
["13520",null,null,1,35,40.5,20,21.5,0,26,30,48.9,4614.4000000000005,7236.8592000000008,7990.1253664397382,10642.44,"N/A",1,1,1,{"$error":"#VALUE!"},3983,4397,5857,{"$error":"#VALUE!"},685,756,1007,{"$error":"#VALUE!"},1.771142225212722,2.1560304081722008,3.8190039841927472,1.2760000000000001E-4,1.7219,2,3.76611E-4,894.36320000000012,987.455178225689,1315.24,1,1,1,1007,1112,1481,433,478,637,0.70983639932338238,0.86445401011520862,1.5323146407431509,0.5,19.3,20.399999999999999,34.5,null,5768,null,0.8,null,null,0,10,10.6,21.85,null,1,1,1,1007,1112,1481,null,0,0,0,1]
["15020",null,null,1,50,40.5,20,21.5,0,26,30,48.9,5432,7236.8592000000008,7990.1253664397382,10642.44,"N/A",1,1,1,{"$error":"#VALUE!"},3983,4397,5857,{"$error":"#VALUE!"},685,756,1007,{"$error":"#VALUE!"},1.7997822638712575,2.189971412136813,3.8746090616615922,1.2760000000000001E-4,1.7219,2,3.76611E-4,894.36320000000012,987.455178225689,1315.24,1,1,1,1007,1112,1481,433,478,637,0.72283709264074802,0.87986763906181664,1.5575869945719987,0.7,19.3,20.399999999999999,34.5,null,6790,null,0.8,null,null,0,10,10.6,21.85,null,1,1,1,1007,1112,1481,null,0,0,0,1]
["16520",null,null,1,65,40.5,20,21.5,0,26,30,48.9,{"$f":"IF($N348-($BE348*$BG348)>100,$BE348*$BG348,$N348-95)","v":6014.4000000000005},7236.8592000000008,7990.1253664397382,10642.44,"N/A",1,1,1,{"$f":"ROUND(M348*POWER(CF_heat,Q348),0)","v":{"$error":"#VALUE!"}},{"$f":"ROUND(N348*POWER(CF_heat,R348),0)","v":3983},{"$f":"ROUND(O348*POWER(CF_heat,S348),0)","v":4397},{"$f":"ROUND(P348*POWER(CF_heat,T348),0)","v":5857},{"$error":"#VALUE!"},685,756,1007,{"$error":"#VALUE!"},1.828422302529793,2.2239124161014256,3.9302141391304373,{"$f":"IF($G348=$CO$103,CP$103,IF($G348=$CO$104,CP$104,IF($G348=$CO$105,CP$105,IF($G348=$CO$107,CP$107,IF($G348=$CO$108,CP$108,IF($G348=$CO$109,CP$109,IF($G348=$CO$111,CP$111,IF($G348=$CO$112,CP$112,IF($G348=$CO$113,CP$113,IF($G348=$CO$115,CP$115,IF($G348=$CO$116,CP$116,IF($G348=$CO$117,CP$117,IF($G348=$CO$119,CP$119,IF($G348=$CO$120,CP$120,))))))))))))))","v":1.2760000000000001E-4},{"$f":"IF($G348=$CO$103,CQ$103,IF($G348=$CO$104,CQ$104,IF($G348=$CO$105,CQ$105,IF($G348=$CO$107,CQ$107,IF($G348=$CO$108,CQ$108,IF($G348=$CO$109,CQ$109,IF($G348=$CO$111,CQ$111,IF($G348=$CO$112,CQ$112,IF($G348=$CO$113,CQ$113,IF($G348=$CO$115,CQ$115,IF($G348=$CO$116,CQ$116,IF($G348=$CO$117,CQ$117,IF($G348=$CO$119,CQ$119,IF($G348=$CO$120,CQ$120,))))))))))))))","v":1.7219},{"$f":"IF($G348=$CO$103,CR$103,IF($G348=$CO$104,CR$104,IF($G348=$CO$105,CR$105,IF($G348=$CO$107,CR$107,IF($G348=$CO$108,CR$108,IF($G348=$CO$109,CR$109,IF($G348=$CO$111,CR$111,IF($G348=$CO$112,CR$112,IF($G348=$CO$113,CR$113,IF($G348=$CO$115,CR$115,IF($G348=$CO$116,CR$116,IF($G348=$CO$117,CR$117,IF($G348=$CO$119,CR$119,IF($G348=$CO$120,CR$120,))))))))))))))","v":2},{"$f":"IF($G348=$CO$103,CS$103,IF($G348=$CO$104,CS$104,IF($G348=$CO$105,CS$105,IF($G348=$CO$107,CS$107,IF($G348=$CO$108,CS$108,IF($G348=$CO$109,CS$109,IF($G348=$CO$111,CS$111,IF($G348=$CO$112,CS$112,IF($G348=$CO$113,CS$113,IF($G348=$CO$115,CS$115,IF($G348=$CO$116,CS$116,IF($G348=$CO$117,CS$117,IF($G348=$CO$119,CS$119,IF($G348=$CO$120,CS$120,))))))))))))))","v":3.76611E-4},894.36320000000012,987.455178225689,1315.24,1,1,1,{"$f":"ROUND(AK348*POWER(CF_cool,AN348),0)","v":1007},1112,{"$f":"ROUND(AM348*POWER(CF_cool,AP348),0)","v":1481},433,478,637,0.735837785958114,0.89528126800842489,1.5828593484008466,0.9,19.3,20.399999999999999,34.5,null,7518,null,{"$f":"IF(G348=10,0.9,IF(G348=11,0.68,IF(G348=15,0.8,IF(G348=16,0.68,IF(G348=20,0.8,IF(G348=21,0.8))))))","v":0.8},null,null,0,10,10.6,21.85,null,1,1,1,{"$f":"AQ348/BO348","v":1007},1112,1481,null,{"$f":"BR348-AQ348","v":0},{"$f":"BS348-AR348","v":0},{"$f":"BT348-AS348","v":0},1]
[{"$f":"CONCATENATE(D349,E349,G349)","v":"13521"},null,null,1,35,40.5,21,21.5,0,26,30,48.9,4735.2,10516.06232539558,10751.439821034392,15976.76,"N/A",1,1,1,{"$error":"#VALUE!"},5787,5917,8793,{"$error":"#VALUE!"},995,1018,1512,{"$f":"(($AG349*(Y349^$AH349)*((($F349-14.4)*$AI349)/100))+($AJ349*(Y349^2)))*0.0098","v":{"$error":"#VALUE!"}},{"$f":"(($AG349*(Z349^$AH349)*((($E349-14.4)*$AI349)/100))+($AJ349*(Z349^2)))*0.0098","v":5.1385123248993674},{"$f":"(($AG349*(AA349^$AH349)*((($E349-14.4)*$AI349)/100))+($AJ349*(AA349^2)))*0.0098","v":5.3778252402480353},{"$f":"(($AG349*(AB349^$AH349)*((($E349-14.4)*$AI349)/100))+($AJ349*(AB349^2)))*0.0098","v":11.827788387422299},1.2760000000000001E-4,1.7219,4,5.1420100000000005E-4,1364.0874548028703,1394.6193667494595,2072.42,1,1,1,1536,1571,2334,660,676,1004,{"$f":"(($AG349*(AT349^$AH349)*((($E349-14.4)*$AI349)/100))+($AJ349*(AT349^2)))*0.0098","v":2.2688488230746486},{"$f":"(($AG349*(AU349^$AH349)*((($E349-14.4)*$AI349)/100))+($AJ349*(AU349^2)))*0.0098","v":2.3796730785253928},{"$f":"(($AG349*(AV349^$AH349)*((($E349-14.4)*$AI349)/100))+($AJ349*(AV349^2)))*0.0098","v":5.2315097746760069},0.9,19.3,20.399999999999999,34.5,null,5919,null,0.8,null,null,0,10,10.6,21.85,null,1,1,1,1536,{"$f":"AR349/BP349","v":1571},{"$f":"AS349/BQ349","v":2334},null,0,0,0,1]
["15021",null,null,1,50,40.5,21,21.5,0,26,30,48.9,5784,10516.06232539558,10751.439821034392,15976.76,"N/A",1,1,1,{"$error":"#VALUE!"},5787,5917,8793,{"$f":"ROUND(U350*3600/(4186*ABS($O$1-$O$2)),0)","v":{"$error":"#VALUE!"}},995,1018,1512,{"$error":"#VALUE!"},5.247450366395265,5.491135412407866,12.051711142886694,1.2760000000000001E-4,1.7219,4,5.1420100000000005E-4,1364.0874548028703,1394.6193667494595,2072.42,1,1,1,1536,1571,2334,660,676,1004,2.3225768266144411,2.4356634328947568,5.3421500583356245,1.3,19.3,20.399999999999999,34.5,null,7230,null,0.8,null,null,0,10,10.6,21.85,null,{"$f":"IF((237.3*LN(($AQ$1*EXP(17.27*($AM$3/($AM$3+237.3))))))/(17.27-LN(($AQ$1*EXP(17.27*($AM$3/($AM$3+237.3))))))<(($AM$1+$AM$2)/2),1,IF(1/(1+((2258*((0.622/((101325/(1*611*EXP(17.27*((($AM$1+$AM$2)/2)/((($AM$1+$AM$2)/2)+237.3))))))-1)*1000-(0.622/((101325/($AQ$1*611*EXP(17.27*($AM$3/($AM$3+237.3))))))-1)*1000))/(1005*((($AM$1+$AM$2)/2)-$AM$3))))>1,1,1/(1+((2258*((0.622/((101325/(1*611*EXP(17.27*((($AM$1+$AM$2)/2)/((($AM$1+$AM$2)/2)+237.3))))))-1)*1000-(0.622/((101325/($AQ$1*611*EXP(17.27*($AM$3/($AM$3+237.3))))))-1)*1000))/(1005*((($AM$1+$AM$2)/2)-$AM$3))))))","v":1},1,1,1536,1571,2334,null,0,0,0,1]
["16521",null,null,1,65,40.5,21,21.5,0,26,30,48.9,6787.2000000000007,10516.06232539558,10751.439821034392,15976.76,"N/A",1,1,1,{"$error":"#VALUE!"},5787,5917,8793,{"$f":"ROUND(U351*3600/(4186*ABS($O$1-$O$2)),0)","v":{"$error":"#VALUE!"}},{"$f":"ROUND(V351*3600/(4186*ABS($O$1-$O$2)),0)","v":995},{"$f":"ROUND(W351*3600/(4186*ABS($O$1-$O$2)),0)","v":1018},{"$f":"ROUND(X351*3600/(4186*ABS($O$1-$O$2)),0)","v":1512},{"$error":"#VALUE!"},5.3563884078911617,5.6044455845676975,12.275633898351085,1.2760000000000001E-4,1.7219,4,5.1420100000000005E-4,{"$f":"AK350*(1-(($E351-50)*0.005))","v":1261.7808956926551},{"$f":"AL350*(1-(($E351-50)*0.005))","v":1290.0229142432502},{"$f":"AM350*(1-(($E351-50)*0.005))","v":1916.9885000000002},1,1,1,1421,1453,2159,{"$f":"ROUND(AQ351*3600/(4186*ABS($AM$1-$AM$2)),0)","v":611},{"$f":"ROUND(AR351*3600/(4186*ABS($AM$1-$AM$2)),0)","v":625},{"$f":"ROUND(AS351*3600/(4186*ABS($AM$1-$AM$2)),0)","v":928},2.0399259690503277,2.1334367653975472,4.6655702338542486,1.7,19.3,20.399999999999999,34.5,null,8484,null,0.8,null,null,0,10,10.6,21.85,null,1,1,1,1421,1453,2159,null,0,0,0,1]
["22010",null,null,2,20,40.5,10,11.5,0,26,30,38.799999999999997,255.6,649,695,812,"N/A",1,1,1,{"$error":"#VALUE!"},357,382,447,{"$f":"ROUND(U352*3600/(4186*ABS($O$1-$O$2)),0)","v":{"$error":"#VALUE!"}},{"$f":"ROUND(V352*3600/(4186*ABS($O$1-$O$2)),0)","v":61},{"$f":"ROUND(W352*3600/(4186*ABS($O$1-$O$2)),0)","v":66},{"$f":"ROUND(X352*3600/(4186*ABS($O$1-$O$2)),0)","v":77},{"$error":"#VALUE!"},1.3940052642461747E-2,1.6305777236939472E-2,2.2159918661809021E-2,3.969E-4,1.7345999999999999,2,3.6734700000000002E-4,90.020119234756137,96.328259324977694,112.64,1,1,1,101,108,127,{"$f":"ROUND(AQ352*3600/(4186*ABS($AM$1-$AM$2)),0)","v":43},{"$f":"ROUND(AR352*3600/(4186*ABS($AM$1-$AM$2)),0)","v":46},{"$f":"ROUND(AS352*3600/(4186*ABS($AM$1-$AM$2)),0)","v":55},6.9532528367044454E-3,7.9512926066565657E-3,1.1344946209640126E-2,0.1,3.6,4.0999999999999996,5.0999999999999996,null,284,null,0.9,null,null,0,14.2,16.2,21.85,null,1,1,1,101,108,127,null,0,0,0,{"$f":"IF(SUM(BV352:BX352)=0,1,0)","v":1}]
["22010",null,null,2,20,40.5,10,11.5,0,26,30,40,306.90000000000003,841.69225687813923,901.35950941531064,1066.3800000000001,"N/A",1,1,1,{"$error":"#VALUE!"},463,496,587,{"$error":"#VALUE!"},80,85,101,{"$error":"#VALUE!"},2.391141895510291E-2,2.6978048710132096E-2,3.8029238921730574E-2,3.969E-4,1.7345999999999999,2,3.6734700000000002E-4,116.68990721587436,124.96201154556491,147.84,1,1,1,131,141,166,56,61,71,1.175899006137841E-2,1.3940052642461747E-2,1.8856067256442188E-2,0.1,4.8,5.4,6.8,null,341,null,0.9,null,null,0,13.6,15.6,21.85,null,1,1,1,131,141,166,null,0,0,0,1]
["22015",null,null,2,20,40.5,15,16.5,0,26,30,41.1,498.40000000000003,957.19258357509659,1027.5250511543745,1359.96,"N/A",1,1,1,{"$error":"#VALUE!"},527,565,748,{"$error":"#VALUE!"},91,97,129,{"$error":"#VALUE!"},3.802433421530417E-2,4.3193015038494049E-2,7.631082889084044E-2,2.0829999999999999E-4,1.724,2,4.6182900000000003E-4,{"$f":"AK42","v":423.65815696218516},140.26129481477255,185.64,1,1,1,477,158,209,205,68,90,0.19241300667017019,2.1257770780047845E-2,3.7194855053067626E-2,0.2,4.8,5.5,7.2,null,623,null,0.8,null,null,0,12.3,14.4,21.85,null,1,1,1,477,158,209,null,0,0,0,1]
["22020",null,null,2,20,40.5,20,21.5,0,26,30,41.1,668.80000000000007,1346.575008837732,1442.0332127786496,1706.04,"N/A",1,1,1,{"$error":"#VALUE!"},741,794,939,{"$error":"#VALUE!"},127,137,162,{"$error":"#VALUE!"},6.0115981806803116E-2,6.9941531480908412E-2,9.7754049863802928E-2,1.2760000000000001E-4,1.7219,2,3.76611E-4,166.41571994991173,178.21286873827722,210.84,1,1,1,187,201,237,80,86,102,2.3886029440430702E-2,2.7597195357840672E-2,3.8801583747134293E-2,0.3,4.8,5.5,7.2,null,836,null,0.8,null,null,0,12.3,14.4,21.85,null,1,1,1,187,201,237,null,0,0,0,1]
["22010",null,null,2,20,40.5,10,11.5,0,26,30,41,358.2,1029.7403904507714,1104.2859635902939,1320.28,"N/A",1,1,1,{"$error":"#VALUE!"},567,608,727,{"$error":"#VALUE!"},98,105,125,{"$error":"#VALUE!"},3.5813504596005852E-2,4.1086632720166709E-2,5.8139850545067283E-2,3.969E-4,1.7345999999999999,2,3.6734700000000002E-4,142.7603849699376,153.09517888293954,183.04,1,1,1,161,172,206,69,74,89,1.7813809193348479E-2,2.0474795851792363E-2,2.9564029111706837E-2,0.1,5.5,5.9,7.9,null,398,null,0.9,null,null,0,13.2,15.1,21.85,null,1,1,1,161,172,206,null,0,0,0,1]
["22015",null,null,2,20,40.5,15,16.5,0,26,30,41.1,581.6,1070.8273541699666,1149.5094620994566,1521.41,"N/A",1,1,1,{"$error":"#VALUE!"},589,633,837,{"$error":"#VALUE!"},101,109,144,{"$error":"#VALUE!"},4.6821457122334979E-2,5.4516648848508015E-2,9.5052244808710634E-2,2.0829999999999999E-4,1.724,2,4.6182900000000003E-4,135.09481491470635,145.02129350758159,191.94,1,1,1,152,163,216,65,70,93,1.9427237802741637E-2,2.2523831215572443E-2,3.9710694348632572E-2,0.2,5.0999999999999996,5.6,7.2,null,727,null,0.8,null,null,0,12.3,14.4,21.85,null,1,1,1,152,163,216,null,0,0,0,1]
["22020",null,null,2,20,40.5,20,21.5,0,26,30,41.1,780.80000000000007,1509.840819712653,1619.1421060355642,1935.84,"N/A",1,1,1,{"$error":"#VALUE!"},831,891,1065,{"$error":"#VALUE!"},143,153,183,{"$error":"#VALUE!"},7.6193310087246363E-2,8.7206961686259771E-2,0.12470235554294035,1.2760000000000001E-4,1.7219,2,3.76611E-4,170.52628152222005,182.87112058001478,218.64000000000001,1,1,1,192,206,246,83,89,106,2.5708166056769666E-2,2.9553112837258533E-2,4.1899890270699756E-2,0.3,5.0999999999999996,5.6,7.2,null,976,null,0.8,null,null,0,12.3,14.4,21.85,null,1,1,1,192,206,246,null,0,0,0,1]
["22010",null,null,2,20,40.5,10,11.5,0,26,30,41.8,408.6,1214.2269940407766,1304.1433704057049,1574.18,"N/A",1,1,1,{"$error":"#VALUE!"},668,718,866,{"$error":"#VALUE!"},115,123,149,{"$error":"#VALUE!"},4.9245361534335307E-2,5.6302109027642405E-2,8.2486527704310933E-2,3.969E-4,1.7345999999999999,2,3.6734700000000002E-4,168.33710197020613,180.80286190736828,218.24,1,1,1,190,204,246,82,88,106,2.5115954301255381E-2,2.8906479745751071E-2,4.1869385751201776E-2,{"$f":"ROUND(IF(G359=10,$CO$92*E359,IF(G359=11,$CO$93*E359,IF(G359=15,$CO$94*E359,IF(G359=16,$CO$95*E359,IF(G359=20,$CO$96*E359,IF(G359=21,$CO$97*E359,)))))),1)","v":0.1},6.3,6.8,9.1,null,454,null,0.9,null,null,0,12.8,14.7,21.85,null,1,1,1,190,204,246,null,0,0,0,1]
["22015",null,null,2,20,40.5,15,16.5,0,26,30,42.4,664,1395.33740436932,1496.2563490716184,2007.56,"N/A",1,1,1,{"$error":"#VALUE!"},768,823,1105,{"$error":"#VALUE!"},132,142,190,{"$error":"#VALUE!"},7.989485216258764E-2,9.2434763620915156E-2,0.16532542968204461,2.0829999999999999E-4,1.724,2,4.6182900000000003E-4,190.46915773046311,204.24499885412456,274.04000000000002,1,1,1,215,230,309,92,99,133,3.8862947396323656E-2,4.4988971819281257E-2,8.1107778798505184E-2,0.2,6,6.7,9,null,830,null,0.8,null,null,0,11.8,13.7,21.85,null,1,1,1,215,230,309,null,0,0,0,1]
["22020",null,null,2,20,40.5,20,21.5,0,26,30,42.4,892,1942.5718983039128,2086.4239348515057,2518.44,"N/A",1,1,1,{"$error":"#VALUE!"},1069,1148,1386,{"$error":"#VALUE!"},184,197,238,{"$error":"#VALUE!"},0.12606726002346491,0.14448643482488038,0.21079288343689315,1.2760000000000001E-4,1.7219,2,3.76611E-4,240.07166246887351,257.84953601562182,311.24,1,1,1,270,290,351,116,125,151,5.0165681536251325E-2,5.8239990805368382E-2,8.4944832405477885E-2,0.3,6,6.7,9,null,1115,null,0.8,null,null,0,11.8,13.7,21.85,null,1,1,1,270,290,351,null,0,0,0,1]
["22010",null,null,2,20,40.5,10,11.5,0,26,30,42.4,459.90000000000003,1395.6272192501513,1501.3000140389001,1828.08,"N/A",1,1,1,{"$error":"#VALUE!"},768,826,1006,{"$error":"#VALUE!"},132,142,173,{"$error":"#VALUE!"},6.4803583786946894E-2,7.4948090469834763E-2,0.11106519690981584,3.969E-4,1.7345999999999999,2,3.6734700000000002E-4,193.48593193227777,208.13611852764589,253.44,1,1,1,218,234,285,94,101,123,3.2962295956139864E-2,3.8029238921730574E-2,5.6302109027642405E-2,0.1,6.7,7.4,10.3,null,511,null,0.9,null,null,0,12.5,14.7,21.85,null,1,1,1,218,234,285,null,0,0,0,1]
["22015",null,null,2,20,40.5,15,16.5,0,26,30,43.3,747.2,1597.9167676946356,1711.9130538160239,2331.36,"N/A",1,1,1,{"$error":"#VALUE!"},879,942,1283,{"$error":"#VALUE!"},151,162,221,{"$error":"#VALUE!"},0.10450083543272748,0.12025181098233793,0.22356756204049055,2.0829999999999999E-4,1.724,2,4.6182900000000003E-4,218.12205414485143,233.68300487544244,318.24,1,1,1,246,263,358,106,113,154,5.1562471170784309E-2,5.8583371886714163E-2,0.10868708357749891,0.2,7,7.7,10.7,null,934,null,0.8,null,null,0,11.3,13.2,21.85,null,1,1,1,246,263,358,null,0,0,0,1]
["22020",null,null,2,20,40.5,20,21.5,0,26,30,43.3,1004,2232.7836804230465,2401.8435041457315,2924.64,"N/A",1,1,1,{"$error":"#VALUE!"},1229,1322,1610,{"$error":"#VALUE!"},211,227,277,{"$error":"#VALUE!"},0.16572515545793029,0.19177898240723035,0.28543951527028133,1.2760000000000001E-4,1.7219,2,3.76611E-4,275.93732338069162,296.83048721840407,361.44,1,1,1,311,334,407,134,144,175,6.691589052112859E-2,7.7261262473759154E-2,0.11405033367067537,0.3,7,7.7,10.7,null,1255,null,0.8,null,null,0,11.3,13.2,21.85,null,1,1,1,311,334,407,null,0,0,0,1]
["22010",null,null,2,20,40.5,10,11.5,0,26,30,43,511.2,1574.3905475253332,1696.1265760133244,2081.98,"N/A",1,1,1,{"$error":"#VALUE!"},866,933,1146,{"$error":"#VALUE!"},149,160,197,{"$error":"#VALUE!"},8.2486527704310933E-2,9.5059973434209619E-2,0.14387254764384422,3.969E-4,1.7345999999999999,2,3.6734700000000002E-4,218.26918973175157,235.14633901405676,288.64,1,1,1,246,265,325,106,114,140,4.1869385751201776E-2,4.8396373420924246E-2,7.2860388077998176E-2,0.1,7.8,8.6999999999999993,12.2,null,568,null,0.9,null,null,0,12.3,14.1,21.85,null,1,1,1,246,265,325,null,0,0,0,1]
["22015",null,null,2,20,40.5,15,16.5,0,26,30,44.1,830.40000000000009,1798.7737222599399,1926.0891717740149,2655.16,"N/A",1,1,1,{"$error":"#VALUE!"},990,1060,1461,{"$error":"#VALUE!"},170,182,251,{"$error":"#VALUE!"},0.13240034201193682,0.15171764157756853,0.28827226921723342,2.0829999999999999E-4,1.724,2,4.6182900000000003E-4,245.53983484833029,262.91890485611941,362.44,1,1,1,277,296,408,119,127,175,6.4957330361565049E-2,7.396711215027689E-2,0.14028961018358313,0.2,7,7.7,10.7,null,1038,null,0.8,null,null,0,10.9,12.8,21.85,null,1,1,1,277,296,408,null,0,0,0,1]
["22020",null,null,2,20,40.5,20,21.5,0,26,30,44.1,1115.2,2518.7768428703835,2713.5353098724395,3330.84,"N/A",1,1,1,{"$error":"#VALUE!"},1386,1493,1833,{"$error":"#VALUE!"},238,257,315,{"$error":"#VALUE!"},0.21079288343689315,0.24574962467373901,0.36902472991692864,1.2760000000000001E-4,1.7219,2,3.76611E-4,311.2816285378957,335.35074484391049,411.64,1,1,1,351,378,464,151,163,200,8.4944832405477885E-2,9.8963068901187834E-2,0.14891513745935636,0.3,7,7.7,10.7,null,1394,null,0.8,null,null,0,10.9,12.8,21.85,null,1,1,1,351,378,464,null,0,0,0,1]
["22010",null,null,2,20,40.5,10,11.5,0,26,30,43.5,562.5,1766.3893947845202,1902.9712804051933,2335.88,"N/A",1,1,1,{"$error":"#VALUE!"},972,1047,1286,{"$error":"#VALUE!"},167,180,221,{"$error":"#VALUE!"},0.10352397195387243,0.12019732265303297,0.18090580865553893,3.969E-4,1.7345999999999999,2,3.6734700000000002E-4,244.88738360147738,263.82272182064906,323.83999999999997,1,1,1,276,297,365,119,128,157,5.2714886079881125E-2,6.0951617917344596E-2,9.154270598899665E-2,0.1,8.4,9.3000000000000007,14,null,625,null,0.9,null,null,0,12,13.9,21.85,null,1,1,1,276,297,365,null,0,0,0,1]
["22015",null,null,2,20,40.5,15,16.5,0,26,30,44.1,913.6,1908.1501882577959,2043.2071973479594,2816.6099999999997,"N/A",1,1,1,{"$error":"#VALUE!"},1050,1124,1550,{"$error":"#VALUE!"},181,193,267,{"$error":"#VALUE!"},0.15005770569784746,0.17057881495823132,0.32613550459634444,2.0829999999999999E-4,1.724,2,4.6182900000000003E-4,249.80785427097814,267.48901053042016,368.74,1,1,1,281,301,415,121,129,178,6.7155010345067934E-2,7.631082889084044E-2,0.14513261736052138,0.2,7.9,8.8000000000000007,12.5,null,1142,null,0.8,null,null,0,10.9,12.8,21.85,null,1,1,1,281,301,415,null,0,0,0,1]
["22020",null,null,2,20,40.5,20,21.5,0,26,30,44.1,1226.4000000000001,2692.551301713082,2900.746468081386,3560.6400000000003,"N/A",1,1,1,{"$error":"#VALUE!"},1482,1596,1960,{"$error":"#VALUE!"},255,275,337,{"$error":"#VALUE!"},0.24194384355720402,0.28133699706387344,0.42231132998962256,1.2760000000000001E-4,1.7219,2,3.76611E-4,317.17997831584631,341.70517057946222,419.44,1,1,1,357,385,472,154,166,203,8.8349163192026847E-2,0.10263466853115126,0.15341063328601545,0.3,7.9,8.8000000000000007,12.5,null,1533,null,0.8,null,null,0,10.9,12.8,21.85,null,1,1,1,357,385,472,null,0,0,0,1]
["22010",null,null,2,20,40.5,10,11.5,0,26,30,44,613.80000000000007,1924.9914127028867,2079.6202422788024,2589.7800000000002,"N/A",1,1,1,{"$error":"#VALUE!"},1059,1144,1425,{"$error":"#VALUE!"},182,197,245,{"$error":"#VALUE!"},0.12287256370937766,0.14387254764384422,0.22216260821703476,3.969E-4,1.7345999999999999,2,3.6734700000000002E-4,266.87553260000635,288.31284965818764,359.04,1,1,1,301,325,404,129,140,174,6.1903580441085952E-2,7.2860388077998176E-2,0.11234776386126105,0.1,8.9,9.9,14.8,null,682,null,0.9,null,null,0,11.8,13.7,21.85,null,1,1,1,301,325,404,null,0,0,0,1]
["22015",null,null,2,20,40.5,15,16.5,0,26,30,44.8,996.80000000000007,2216.9073865755149,2373.9948983307781,3302.76,"N/A",1,1,1,{"$error":"#VALUE!"},1220,1307,1818,{"$error":"#VALUE!"},210,225,313,{"$error":"#VALUE!"},0.2018980900554769,0.23172086086867641,0.44798645544925114,2.0829999999999999E-4,1.724,2,4.6182900000000003E-4,302.61675876046246,324.05983479376272,450.84,1,1,1,341,365,508,147,157,218,9.9046898065083294E-2,0.11295543794663157,0.21754830742859316,0.2,8.6999999999999993,9.8000000000000007,14.3,null,1246,null,0.8,null,null,0,10.6,12.5,21.85,null,1,1,1,341,365,508,null,0,0,0,1]
["22020",null,null,2,20,40.5,20,21.5,0,26,30,44.8,1338.4,3079.6829926739365,3327.0647594078355,4143.24,"N/A",1,1,1,{"$error":"#VALUE!"},1695,1831,2280,{"$error":"#VALUE!"},292,315,392,{"$error":"#VALUE!"},0.3171541783861101,0.36902472991692864,0.57123075264922385,1.2760000000000001E-4,1.7219,2,3.76611E-4,380.60090160569081,411.17343900116532,512.04,1,1,1,429,463,577,184,199,248,0.12606726002346491,0.14743148170798948,0.22885730587829292,0.3,8.6999999999999993,9.8000000000000007,14.3,null,1673,null,0.8,null,null,0,10.6,12.5,21.85,null,1,1,1,429,463,577,null,0,0,0,1]
["22010",null,null,2,20,40.5,10,11.5,0,26,30,44.8,715.5,2267.7915432376717,2456.1428225151312,3097.58,"N/A",1,1,1,{"$error":"#VALUE!"},1248,1352,1705,{"$error":"#VALUE!"},215,233,293,{"$error":"#VALUE!"},0.17125144985203794,0.20100640150555299,0.31733880517733237,3.969E-4,1.7345999999999999,2,3.6734700000000002E-4,314.40040300104783,340.51290804463417,429.44,1,1,1,354,383,484,152,165,208,8.5827498378028749E-2,0.10106896963566342,0.16032170632249268,0.1,10.1,11.2,17.5,null,795,null,0.9,null,null,0,11.5,13.3,21.85,null,1,1,1,354,383,484,null,0,0,0,1]
["22015",null,null,2,20,40.5,15,16.5,0,26,30,45.4,1162.4000000000001,2628.9846104428207,2815.4584574952669,3950.36,"N/A",1,1,1,{"$error":"#VALUE!"},1447,1549,2174,{"$error":"#VALUE!"},249,266,374,{"$error":"#VALUE!"},0.28370341026506996,0.32370070290534592,0.63930213338758168,2.0829999999999999E-4,1.724,2,4.6182900000000003E-4,358.86695423586366,384.32138301819265,539.24,1,1,1,404,433,607,174,186,261,0.13869351521347084,0.15844858118350544,0.31166339016507694,0.2,9.6,10.5,16.100000000000001,null,1453,null,0.8,null,null,0,10.4,12.2,21.85,null,1,1,1,404,433,607,null,0,0,0,1]
["22020",null,null,2,20,40.5,20,21.5,0,26,30,45.4,1561.6000000000001,3628.1091959950468,3929.4415695377957,4955.6400000000003,"N/A",1,1,1,{"$error":"#VALUE!"},1997,2163,2727,{"$error":"#VALUE!"},343,372,469,{"$error":"#VALUE!"},0.43746700268692279,0.51448288910908924,0.8173985044408747,1.2760000000000001E-4,1.7219,2,3.76611E-4,448.37784746172167,485.61784045001809,612.44000000000005,1,1,1,505,547,690,217,235,297,0.17527272538612743,0.20551823655769708,0.32809661260662543,0.3,9.6,10.5,16.100000000000001,null,1952,null,0.8,null,null,0,10.4,12.2,21.85,null,1,1,1,505,547,690,null,0,0,0,1]
["22010",null,null,2,20,40.5,10,11.5,0,26,30,45.5,818.1,2603.9362232520607,2826.6988006529018,3605.38,"N/A",1,1,1,{"$error":"#VALUE!"},1433,1556,1984,{"$error":"#VALUE!"},246,268,341,{"$error":"#VALUE!"},0.22397326675520079,0.26566169486917329,0.4293872569027134,3.969E-4,1.7345999999999999,2,3.6734700000000002E-4,361.00257998610687,391.88577307200529,499.84,1,1,1,407,441,563,175,190,242,0.11363767198120171,0.13386709167137487,0.2167746066382924,0.1,11,12.4,19.2,null,909,null,0.9,null,null,0,11.2,13,21.85,null,1,1,1,407,441,563,null,0,0,0,1]
["22015",null,null,2,20,40.5,15,16.5,0,26,30,46.4,1328.8000000000002,3021.1783832091446,3225.6120441880121,4597.96,"N/A",1,1,1,{"$error":"#VALUE!"},1663,1775,2530,{"$error":"#VALUE!"},286,305,435,{"$error":"#VALUE!"},0.37412811723560641,0.42541007511350465,0.86450689521344959,2.0829999999999999E-4,1.724,2,4.6182900000000003E-4,412.40297880742492,440.30899429620177,627.64,1,1,1,464,496,707,200,213,304,0.18315586126640099,0.20769854577612726,0.42262902515742079,0.2,11.5,12.8,19.600000000000001,null,1661,null,0.8,null,null,0,10,11.8,21.85,null,1,1,1,464,496,707,null,0,0,0,1]
["22020",null,null,2,20,40.5,20,21.5,0,26,30,46.4,1784,4165.887726998767,4522.2727563025155,5768.04,"N/A",1,1,1,{"$error":"#VALUE!"},2293,2489,3174,{"$error":"#VALUE!"},394,428,546,{"$error":"#VALUE!"},0.57706866461251716,0.68085076141876699,1.1075183664020378,1.2760000000000001E-4,1.7219,2,3.76611E-4,514.83890668473202,558.88255136973487,712.84,1,1,1,580,629,803,249,270,345,0.23070455414743166,0.27121051868128804,0.44257822115540385,0.3,11.5,12.8,19.600000000000001,null,2230,null,0.8,null,null,0,10,11.8,21.85,null,1,1,1,580,629,803,null,0,0,0,1]
["22010",null,null,2,20,40.5,10,11.5,0,26,30,46,919.80000000000007,2970.6878039917879,3224.8253922941558,4113.18,"N/A",1,1,1,{"$error":"#VALUE!"},1635,1775,2264,{"$error":"#VALUE!"},281,305,389,{"$error":"#VALUE!"},0.29196249274712649,0.34376962097660574,0.55829672314552836,3.969E-4,1.7345999999999999,2,3.6734700000000002E-4,411.84801378696699,447.08095237792156,570.24,1,1,1,464,503,642,200,216,276,0.14827065283192908,0.17284217695575513,0.28170030080860647,0.1,12.2,13.7,22,null,1022,null,0.9,null,null,0,10.9,12.7,21.85,null,1,1,1,464,503,642,null,0,0,0,1]
["22015",null,null,2,20,40.5,15,16.5,0,26,30,46.4,1494.4,3233.3460619053994,3452.1364439366635,4920.8599999999997,"N/A",1,1,1,{"$error":"#VALUE!"},1779,1900,2708,{"$error":"#VALUE!"},306,327,466,{"$error":"#VALUE!"},0.42820023576746141,0.4888980884978914,0.9919397563630874,2.0829999999999999E-4,1.724,2,4.6182900000000003E-4,420.6820520547858,449.14828645115074,640.24,1,1,1,474,506,721,204,218,310,0.19054334219665572,0.21754830742859316,0.43945198430246563,0.2,11.5,12.8,19.600000000000001,null,1868,null,0.8,null,null,0,10,11.8,21.85,null,1,1,1,474,506,721,null,0,0,0,1]
["22020",null,null,2,20,40.5,20,21.5,0,26,30,46.4,2007.2,4497.8275192555193,4882.6094666576164,6227.64,"N/A",1,1,1,{"$error":"#VALUE!"},2475,2687,3427,{"$error":"#VALUE!"},426,462,589,{"$error":"#VALUE!"},0.67450868044862111,0.79320328586865096,1.2886561420497737,1.2760000000000001E-4,1.7219,2,3.76611E-4,526.1057925837863,571.11330132956857,728.44,1,1,1,592,643,820,255,276,353,0.24194384355720402,0.28338454714312983,0.46331972697024287,0.3,11.5,12.8,19.600000000000001,null,2509,null,0.8,null,null,0,10,11.8,21.85,null,1,1,1,592,643,820,null,0,0,0,1]
["22010",null,null,2,20,40.5,10,11.5,0,26,30,46.5,1022.4,3259.5785648750903,3552.8677924068675,4620.9799999999996,"N/A",1,1,1,{"$error":"#VALUE!"},1794,1955,2543,{"$error":"#VALUE!"},309,336,437,{"$error":"#VALUE!"},0.35281419428721855,0.41692866634328235,0.70405781979247939,3.969E-4,1.7345999999999999,2,3.6734700000000002E-4,451.89903695786995,492.55985148767917,640.64,1,1,1,509,555,721,219,239,310,0.1776583573878695,0.2114525690764133,0.35509364090571999,0.1,13.4,14.8,24,null,1136,null,0.9,null,null,0,10.7,12.5,21.85,null,1,1,1,509,555,721,null,0,0,0,1]
["22015",null,null,2,20,40.5,15,16.5,0,26,30,47.1,1660.8000000000002,3875.4624109054007,4083.4735576056296,5893.16,"N/A",1,1,1,{"$error":"#VALUE!"},2133,2247,3243,{"$error":"#VALUE!"},367,386,558,{"$error":"#VALUE!"},0.61562637626527317,0.68092739029702742,1.4216358448122461,2.0829999999999999E-4,1.724,2,4.6182900000000003E-4,529.01617838795164,557.41053504066974,804.44,1,1,1,596,628,906,256,270,390,0.2998539095283087,0.33349458681376992,0.69509390314666275,0.2,13.2,14.7,23.5,null,2076,null,0.8,null,null,0,10,11.4,21.85,null,1,1,1,596,628,906,null,0,0,0,1]
["22020",null,null,2,20,40.5,20,21.5,0,26,30,47.1,2230.4,5214.8121821672385,5684.028740747025,7392.84,"N/A",1,1,1,{"$error":"#VALUE!"},2870,3128,4069,{"$error":"#VALUE!"},494,538,700,{"$error":"#VALUE!"},0.90677517448438782,1.0753302754502359,1.8195846447034252,1.2760000000000001E-4,1.7219,2,3.76611E-4,644.46964929787134,702.45751547390614,913.64,1,1,1,726,791,1029,312,340,442,0.36203649558837003,0.42985579437034477,0.72607567108579452,0.3,13.2,14.7,23.5,null,2788,null,0.8,null,null,0,10,11.4,21.85,null,1,1,1,726,791,1029,null,0,0,0,1]
["22010",null,null,2,20,40.5,10,11.5,0,26,30,46.9,1125,3560.7045070849035,3890.5075371280445,5128.78,"N/A",1,1,1,{"$error":"#VALUE!"},1960,2141,2823,{"$error":"#VALUE!"},337,368,486,{"$error":"#VALUE!"},0.41940574773453543,0.49982477391130709,0.87022918830871054,3.969E-4,1.7345999999999999,2,3.6734700000000002E-4,493.64631212835212,539.36930014536108,711.04,1,1,1,556,607,801,239,261,344,0.2114525690764133,0.25201252127452961,0.43695022897442981,0.1,13.4,14.8,24,null,1250,null,0.9,null,null,0,10.5,12.3,21.85,null,1,1,1,556,607,801,null,0,0,0,1]
["22015",null,null,2,20,40.5,15,16.5,0,26,30,47.8,1827.2,4302.5567439745028,4481.7988603493422,6540.76,"N/A",1,1,1,{"$error":"#VALUE!"},2368,2467,3600,{"$error":"#VALUE!"},407,424,619,{"$error":"#VALUE!"},0.75692712356252656,0.82139203473141464,1.7490172741567487,2.0829999999999999E-4,1.724,2,4.6182900000000003E-4,587.31626956044784,611.78353807115786,892.84,1,1,1,661,689,1006,284,296,433,0.36892135646019958,0.40070861708363226,0.85658588149708736,0.2,15.5,16.8,27.5,null,2284,null,0.8,null,null,0,10,11.1,21.85,null,1,1,1,661,689,1006,null,0,0,0,1]
["22020",null,null,2,20,40.5,20,21.5,0,26,30,47.8,2453.6,5696.5662496175182,6224.1991397456159,8205.24,"N/A",1,1,1,{"$error":"#VALUE!"},3135,3425,4516,{"$error":"#VALUE!"},539,589,777,{"$error":"#VALUE!"},1.0793278454410598,1.2886561420497737,2.2415190728015313,1.2760000000000001E-4,1.7219,2,3.76611E-4,704.00695650122941,769.21417236639559,1014.04,1,1,1,793,866,1142,341,372,491,0.43238544785383137,0.51448288910908924,0.89580535292603602,0.3,15.5,16.8,27.5,null,3067,null,0.8,null,null,0,10,11.1,21.85,null,1,1,1,793,866,1142,null,0,0,0,1]
["22010",null,null,2,20,40.5,10,11.5,0,26,30,47.2,1226.7,3860.4188735925432,4228.9855673527691,5636.58,"N/A",1,1,1,{"$error":"#VALUE!"},2125,2327,3102,{"$error":"#VALUE!"},366,400,534,{"$error":"#VALUE!"},0.49442426643348042,0.59021220266244012,1.0500212446301107,3.969E-4,1.7345999999999999,2,3.6734700000000002E-4,535.19789031294818,586.29496640731588,781.44,1,1,1,603,660,880,259,284,378,0.24817869636992704,0.29820770053469026,0.52726624119526411,0.1,14.8,16.600000000000001,28,null,1363,null,0.9,null,null,0,10.4,12.2,21.85,null,1,1,1,603,660,880,null,0,0,0,1]
["22015",null,null,2,20,40.5,15,16.5,0,26,30,48.1,1992.8000000000002,4729.715265656896,4901.7743245246338,7188.36,"N/A",1,1,1,{"$error":"#VALUE!"},2603,2698,3956,{"$error":"#VALUE!"},448,464,680,{"$error":"#VALUE!"},0.91688122984784015,0.98345424952515881,2.1102608029856902,2.0829999999999999E-4,1.724,2,4.6182900000000003E-4,645.62512273636446,669.11187505864359,981.24,1,1,1,727,754,1105,313,324,475,0.44798645544925114,0.47998099733871163,1.0305751915039225,0.2,16.399999999999999,17.7,29.7,null,2491,null,0.8,null,null,0,10,10.9,21.85,null,1,1,1,727,754,1105,null,0,0,0,1]
["22020",null,null,2,20,40.5,20,21.5,0,26,30,48.1,2676.8,6176.0620183272586,6765.7106634844222,9017.64,"N/A",1,1,1,{"$error":"#VALUE!"},3399,3723,4963,{"$error":"#VALUE!"},585,640,854,{"$error":"#VALUE!"},1.2712280319318665,1.5212583374523887,2.7073810666947438,1.2760000000000001E-4,1.7219,2,3.76611E-4,763.26517311676128,836.13657141043336,1114.44,1,1,1,860,942,1255,370,405,540,0.50897123263471056,0.60970732010156947,1.0833328272853275,0.3,16.399999999999999,17.7,29.7,null,3346,null,0.8,null,null,0,10,10.9,21.85,null,1,1,1,860,942,1255,null,0,0,0,1]
["22010",null,null,2,20,40.5,10,11.5,0,26,30,47.8,1329.3,4178.1784000000007,4608.2849999999999,6144.38,"N/A",1,1,1,{"$error":"#VALUE!"},2299,2536,3381,{"$error":"#VALUE!"},395,436,582,{"$error":"#VALUE!"},0.57559546265756523,0.70084930541303214,1.2466436869989657,3.969E-4,1.7345999999999999,2,3.6734700000000002E-4,579.25120000000004,638.88,851.84,1,1,1,652,719,959,280,309,412,0.28989540527453278,0.35281419428721855,0.62603830600706367,0.1,16.2,18.600000000000001,31.4,null,1477,null,0.9,null,null,0,10.199999999999999,11.9,21.85,null,1,1,1,652,719,959,null,0,0,0,1]
["22015",null,null,2,20,40.5,15,16.5,0,26,30,47.8,2159.2000000000003,5669.0920000000006,6252.6749999999993,8336.9,"N/A",1,1,1,{"$error":"#VALUE!"},3120,3441,4588,{"$error":"#VALUE!"},537,592,789,{"$error":"#VALUE!"},1.3167670208754696,1.5999334214197569,2.8400613087700988,2.0829999999999999E-4,1.724,2,4.6182900000000003E-4,949.51120000000003,1047.2549999999999,1396.34,1,1,1,1069,1179,1573,460,507,676,0.9665924872527959,1.1739176536349283,2.0855353662946929,0.2,16.2,18.600000000000001,31.4,null,2699,null,0.8,null,null,0,10,10.9,21.85,null,1,1,1,1069,1179,1573,null,0,0,0,1]
["22020",null,null,2,20,40.5,20,21.5,0,26,30,48.1,2899.2000000000003,6444.5232000000005,7107.93,9477.24,"N/A",1,1,1,{"$error":"#VALUE!"},3547,3912,5216,{"$error":"#VALUE!"},610,673,897,{"$error":"#VALUE!"},1.382099117513246,1.6820366221687504,2.986651228505496,1.2760000000000001E-4,1.7219,2,3.76611E-4,768.42720000000008,847.53,1130.04,1,1,1,865,954,1273,372,410,547,0.51448288910908924,0.62483964875662168,1.1115752307855706,0.3,16.399999999999999,17.7,29.7,null,3624,null,0.8,null,null,0,10,10.9,21.85,null,1,1,1,865,954,1273,null,0,0,0,1]
["22010",null,null,2,20,40.5,10,11.5,0,26,30,47.8,1431.9,4331.3824000000004,4782.2249168521384,6369.68,"N/A",1,1,1,{"$error":"#VALUE!"},2384,2632,3505,{"$error":"#VALUE!"},410,453,603,{"$error":"#VALUE!"},0.6199941623576285,0.75638824083140666,1.3379569561694504,3.969E-4,1.7345999999999999,2,3.6734700000000002E-4,587.68320000000006,648.85364133524638,864.24,1,1,1,662,731,973,285,314,418,0.30030408453174701,0.36428463742617484,0.64434622989394141,0.1,16.2,18.600000000000001,31.4,null,1591,null,0.9,null,null,0,10.199999999999999,11.9,21.85,null,1,1,1,662,731,973,null,0,0,0,1]
["22015",null,null,2,20,40.5,15,16.5,0,26,30,48.9,2324.8000000000002,5583.9635634029,5708.9475468201636,8483.56,"N/A",1,1,1,{"$error":"#VALUE!"},3073,3142,4669,{"$error":"#VALUE!"},529,540,803,{"$error":"#VALUE!"},1.2778728340646706,1.3315025277979815,2.9416302254570317,2.0829999999999999E-4,1.724,2,4.6182900000000003E-4,762.23344503523219,779.29426056038062,1158.04,1,1,1,858,878,1304,369,378,561,0.62234534008871234,0.65303150285996137,1.4369447705547467,0.2,19.3,20.399999999999999,34.5,null,2906,null,0.8,null,null,0,10,10.6,21.85,null,1,1,1,858,878,1304,null,0,0,0,{"$f":"IF(SUM(BV396:BX396)=0,1,0)","v":1}]
["22020",null,null,2,20,40.5,20,21.5,0,26,30,48.9,3122.4,7236.8592000000008,7990.1253664397382,10642.44,"N/A",1,1,1,{"$error":"#VALUE!"},3983,4397,5857,{"$error":"#VALUE!"},685,756,1007,{"$error":"#VALUE!"},1.7425021865541863,2.1220894042075886,3.7633989067239022,1.2760000000000001E-4,1.7219,2,3.76611E-4,894.36320000000012,987.455178225689,1315.24,1,1,1,1007,1112,1481,433,478,637,0.69683570600601641,0.84904038116860037,1.507042286914303,0.3,19.3,20.399999999999999,34.5,null,3903,null,0.8,null,null,0,10,10.6,21.85,null,1,1,1,1007,1112,1481,null,0,0,0,1]
["23510",null,null,2,35,40.5,10,11.5,0,26,30,{"$f":"L28","v":30.9},353.7,{"$f":"N28","v":531.08388557633521},{"$f":"O28","v":593.58512937132184},603.75006004579984,"N/A",1,1,1,{"$error":"#VALUE!"},292,327,332,{"$f":"ROUND(U398*3600/(4186*ABS($O$1-$O$2)),0)","v":{"$error":"#VALUE!"}},{"$f":"ROUND(V398*3600/(4186*ABS($O$1-$O$2)),0)","v":50},{"$f":"ROUND(W398*3600/(4186*ABS($O$1-$O$2)),0)","v":56},{"$f":"ROUND(X398*3600/(4186*ABS($O$1-$O$2)),0)","v":57},{"$error":"#VALUE!"},1.04185290018858E-2,1.3016279828642004E-2,1.3476913991529805E-2,3.969E-4,1.7345999999999999,2,3.6734700000000002E-4,{"$f":"AK28","v":165.20424789047323},176.57489050514062,177.91653591149998,1,1,1,186,199,200,{"$f":"ROUND(AQ398*3600/(4186*ABS($AM$1-$AM$2)),0)","v":80},{"$f":"ROUND(AR398*3600/(4186*ABS($AM$1-$AM$2)),0)","v":86},{"$f":"ROUND(AS398*3600/(4186*ABS($AM$1-$AM$2)),0)","v":86},2.6245566584842853E-2,3.0259608463987071E-2,3.0259608463987071E-2,0.2,{"$f":"BA28","v":3.9679986421707194},{"$f":"BB28","v":4.5178326885793867},4.5714285714165594,null,393,null,0.9,null,null,0,{"$f":"BK352","v":14.2},{"$f":"BL352","v":16.2},21.85,null,1,1,1,186,199,200,null,0,0,0,1]
["23511",null,null,2,35,40.5,11,11.5,0,26,30,{"$f":"L31","v":34.1},373.32000000000005,{"$f":"N31","v":935.32547182659778},{"$f":"O31","v":1110.0611142564405},1207.5001200914996,"N/A",1,1,1,{"$error":"#VALUE!"},515,611,665,{"$error":"#VALUE!"},89,105,114,{"$error":"#VALUE!"},5.2292973215257423E-2,7.2324124733726472E-2,8.4992411910571233E-2,3.969E-4,1.7345999999999999,4,5.7428799999999995E-4,{"$f":"AK31","v":300.29050466265068},{"$f":"AL31","v":340.16723702600746},355.83342865509996,1,1,1,338,383,401,145,165,172,0.13631553267179172,0.17572806626630944,0.19068641611268464,0.5,{"$f":"BA31","v":5.9780026167653464},{"$f":"BB31","v":7.4233571946386645},9.1428571428331189,null,549,null,0.68,null,null,0,{"$f":"BK398","v":14.2},{"$f":"BL398","v":16.2},21.85,null,1,1,1,338,383,401,null,0,0,0,1]
["23510",null,null,2,35,40.5,10,11.5,0,26,30,{"$f":"L34","v":35.700000000000003},423.90000000000003,{"$f":"N34","v":1207.0334759379862},{"$f":"O34","v":1516.5744309458671},1725.0000695802999,"N/A",1,1,1,{"$error":"#VALUE!"},664,835,949,{"$error":"#VALUE!"},114,144,163,{"$error":"#VALUE!"},5.2710924197685624E-2,8.3535482731822847E-2,0.10666545804658314,3.969E-4,1.7345999999999999,2,3.6734700000000002E-4,{"$f":"AK34","v":394.39770977261941},471.83893086262736,508.33346945329998,1,1,1,444,531,572,191,228,246,0.14583552431625305,0.20686112649286295,0.24035441973448859,0.2,{"$f":"BA34","v":6.7571565954453261},{"$f":"BB34","v":9.1626629443522205},12.571428571395538,null,471,null,0.9,null,null,0,{"$f":"BK353","v":13.6},{"$f":"BL353","v":15.6},21.85,null,1,1,1,444,531,572,null,0,0,0,1]
["23511",null,null,2,35,40.5,11,11.5,0,26,30,{"$f":"L38","v":33.090224995745899},406.68729763289474,{"$f":"N38","v":501.68729763289474},{"$f":"O38","v":555.77632661287191},594.33322034629998,"N/A",1,1,1,{"$error":"#VALUE!"},276,306,327,{"$error":"#VALUE!"},47,53,56,{"$error":"#VALUE!"},1.4980629508396447E-2,1.894791250599594E-2,2.1102834140484004E-2,3.969E-4,1.7345999999999999,4,5.7428799999999995E-4,{"$f":"AK38","v":155.20317033289641},166.95712862891477,173.66676877119997,1,1,1,175,188,196,75,81,84,3.7389751017445565E-2,4.3476227207639315E-2,4.6688655605045412E-2,0.5,{"$f":"BA38","v":7.3986314326901308},{"$f":"BB38","v":8.7271451789060368},8.2333333333332721,null,659,null,0.68,null,null,0,{"$f":"BK400","v":13.6},{"$f":"BL400","v":15.6},21.85,null,1,1,1,175,188,196,null,0,0,0,1]
["23515",null,null,2,35,40.5,15,16.5,0,26,30,{"$f":"L42","v":37.845112497945742},632,{"$f":"N42","v":1342.8565496471372},{"$f":"O42","v":1479.2041741051935},1783.0000725201999,"N/A",1,1,1,{"$error":"#VALUE!"},739,814,981,{"$error":"#VALUE!"},127,140,169,{"$error":"#VALUE!"},7.6561256958697144E-2,9.2922529282656083E-2,0.13509519876869558,2.0829999999999999E-4,1.724,2,4.6182900000000003E-4,{"$f":"AK42","v":423.65815696218516},459.33483713745414,520.99989462940005,1,1,1,477,517,587,205,222,252,0.1983354410411618,0.23238658167248857,0.29902415337065863,0.4,{"$f":"BA42","v":16.558116316654743},{"$f":"BB42","v":18.743964042758314},24.699999999999815,null,790,null,0.8,null,null,0,{"$f":"BK354","v":12.3},{"$f":"BL354","v":14.4},21.85,null,1,1,1,477,517,587,null,0,0,0,1]
["23516",null,null,2,35,40.5,16,16.5,0,26,30,{"$f":"L46","v":40.056009280461275},663,{"$f":"N46","v":2098.7535249748012},{"$f":"O46","v":2346.283578214222},2971.6665132128001,"N/A",1,1,1,{"$error":"#VALUE!"},1155,1291,1635,{"$error":"#VALUE!"},199,222,281,{"$error":"#VALUE!"},0.55598478769154958,0.69135893582657715,1.1057867316334493,2.0829999999999999E-4,1.724,4,1.392796E-3,{"$f":"AK46","v":666.37413296082809},735.27644638729532,868.33343196880026,1,1,1,750,828,978,323,356,421,1.4596494671686426,1.7719956964571038,2.4754811629880153,0.7,{"$f":"BA46","v":23.634238992326342},{"$f":"BB46","v":27.471445963687056},41.166666666666359,null,975,null,0.68,null,null,0,{"$f":"BK402","v":12.3},{"$f":"BL402","v":14.4},21.85,null,1,1,1,750,828,978,null,0,0,0,1]
["23520",null,null,2,35,40.5,20,21.5,0,26,30,{"$f":"L50","v":32.373251667884233},864.80000000000007,{"$f":"N50","v":1000.4309288239419},{"$f":"O50","v":1061.187807521588},1097.4999097588002,"N/A",1,1,1,{"$error":"#VALUE!"},551,584,604,{"$error":"#VALUE!"},95,100,104,{"$error":"#VALUE!"},3.4619797182334329E-2,3.8339320693459807E-2,4.145101384521227E-2,1.2760000000000001E-4,1.7219,2,3.76611E-4,{"$f":"AK50","v":292.16724503036227},314.02254794707267,330.49996828450003,1,1,1,329,354,372,141,152,160,7.596306340939292E-2,8.8215640267144887E-2,9.7699665091036975E-2,0.5,{"$f":"BA50","v":9},{"$f":"BB50","v":9.8000000000000007},12,null,1081,null,0.8,null,null,0,{"$f":"BK403","v":12.3},14.4,21.85,null,1,1,1,329,354,372,null,0,0,0,1]
["23521",null,null,2,35,40.5,21,21.5,0,26,30,{"$f":"L54","v":37},997.6,{"$f":"N54","v":2118.863344509703},{"$f":"O54","v":2307.0129959469905},2560.8333795178,"N/A",1,1,1,{"$error":"#VALUE!"},1166,1270,1409,{"$error":"#VALUE!"},201,218,242,{"$error":"#VALUE!"},0.21311276817222599,0.25043599645471354,0.30822674630171631,1.2760000000000001E-4,1.7219,4,5.1420100000000005E-4,{"$f":"AK54","v":620.15764298983106},673.08261214058791,771.16667805049997,1,1,1,698,758,868,300,326,373,0.47250802859482222,0.55744630110318327,0.72871501920321213,0.9,{"$f":"BA54","v":16.899999999999999},{"$f":"BB54","v":18.899999999999999},30,null,1247,null,0.8,null,null,0,{"$f":"BK404","v":12.3},14.4,21.85,null,1,1,1,698,758,868,null,0,0,0,1]
["23510",null,null,2,35,40.5,10,11.5,0,26,30,{"$f":"L58","v":38.698993895071602},495,{"$f":"N58","v":3189.1985120369991},{"$f":"O58","v":3467.5380197005534},4024.1665924761992,"N/A",1,1,1,{"$error":"#VALUE!"},1755,1908,2215,{"$error":"#VALUE!"},302,328,381,{"$error":"#VALUE!"},0.36044328125517644,0.42435681118641,0.57062785731763044,3.969E-4,1.7345999999999999,2,3.6734700000000002E-4,{"$f":"AK58","v":939.70165429861254},1011.3773530871895,1211.8333878163999,1,1,1,1058,1139,1365,455,490,587,0.81066200187469606,0.9386994515422441,1.3421399633499036,0.2,{"$f":"BA58","v":22.7},{"$f":"BB58","v":24.7},45,null,550,null,0.9,null,null,0,{"$f":"BK356","v":13.2},{"$f":"BL356","v":15.1},21.85,null,1,1,1,1058,1139,1365,null,0,0,0,1]
["23511",null,null,2,35,40.5,11,11.5,0,26,30,{"$f":"L62","v":41},522.92000000000007,{"$f":"N62","v":1397.1861540381678},{"$f":"O62","v":1498.3320774196782},1791.4,"N/A",1,1,1,{"$error":"#VALUE!"},769,825,986,{"$error":"#VALUE!"},132,142,170,{"$error":"#VALUE!"},0.11334472324419503,0.13082922026344146,0.18635108830540642,3.969E-4,1.7345999999999999,4,5.7428799999999995E-4,{"$f":"AK62","v":234.01347195356249},250.95431311209123,300.04000000000002,1,1,1,264,283,338,114,122,145,8.4992411910571233E-2,9.7097608150567657E-2,0.13631553267179172,0.5,{"$f":"BA62","v":5.5},{"$f":"BB62","v":5.9},7.9,null,769,null,0.68,null,null,0,{"$f":"BK406","v":13.2},{"$f":"BL406","v":15.1},21.85,null,1,1,1,264,283,338,null,0,0,0,1]
["23515",null,null,2,35,40.5,15,16.5,0,26,30,{"$f":"L66","v":41.1},737.6,{"$f":"N66","v":1070.8273541699666},{"$f":"O66","v":1149.5094620994566},1521.41,"N/A",1,1,1,{"$error":"#VALUE!"},589,633,837,{"$error":"#VALUE!"},101,109,144,{"$error":"#VALUE!"},4.8569236653053655E-2,5.6509890174333069E-2,9.8273710694899818E-2,2.0829999999999999E-4,1.724,2,4.6182900000000003E-4,{"$f":"AK66","v":135.09481491470635},145.02129350758159,191.94,1,1,1,152,163,216,65,70,93,2.0244759385978153E-2,2.345276684657006E-2,4.1226701338362669E-2,0.4,{"$f":"BA66","v":5.0999999999999996},{"$f":"BB66","v":5.6},7.2,null,922,null,0.8,null,null,0,{"$f":"BK357","v":12.3},{"$f":"BL357","v":14.4},21.85,null,1,1,1,152,163,216,null,0,0,0,1]
["23516",null,null,2,35,40.5,16,16.5,0,26,30,{"$f":"L70","v":41.1},773.84,{"$f":"N70","v":1627.62717250317},{"$f":"O70","v":1747.2217424001376},2312.5,"N/A",1,1,1,{"$error":"#VALUE!"},896,962,1273,{"$error":"#VALUE!"},154,165,219,{"$error":"#VALUE!"},0.33364328371428481,0.38279377197938957,0.67286813701791259,2.0829999999999999E-4,1.724,4,1.392796E-3,{"$f":"AK70","v":219.59769851718443},235.73326859625641,312,1,1,1,247,265,351,106,114,151,0.15858225642717025,0.18330250073527798,0.32082280821925219,0.7,{"$f":"BA70","v":5.0999999999999996},{"$f":"BB70","v":5.6},7.2,null,1138,null,0.68,null,null,0,{"$f":"BK408","v":12.3},{"$f":"BL408","v":14.4},21.85,null,1,1,1,247,265,351,null,0,0,0,1]
["23520",null,null,2,35,40.5,20,21.5,0,26,30,{"$f":"L74","v":41.1},1008.8000000000001,{"$f":"N74","v":1509.840819712653},{"$f":"O74","v":1619.1421060355642},1935.84,"N/A",1,1,1,{"$error":"#VALUE!"},831,891,1065,{"$error":"#VALUE!"},143,153,183,{"$error":"#VALUE!"},7.8122927136477713E-2,8.9374756532848446E-2,0.12765297047706625,1.2760000000000001E-4,1.7219,2,3.76611E-4,{"$f":"AK74","v":170.52628152222005},182.87112058001478,218.64000000000001,1,1,1,192,206,246,83,89,106,2.6464404188652701E-2,3.0405923569736745E-2,4.3052207815074114E-2,0.5,{"$f":"BA74","v":5.0999999999999996},{"$f":"BB74","v":5.6},7.2,null,1261,null,0.8,null,null,0,{"$f":"BK409","v":12.3},14.4,21.85,null,1,1,1,192,206,246,null,0,0,0,1]
["23521",null,null,2,35,40.5,21,21.5,0,26,30,{"$f":"L78","v":41.1},1164,{"$f":"N78","v":1977.8291945358951},{"$f":"O78","v":2123.1558613833213},2810.06,"N/A",1,1,1,{"$error":"#VALUE!"},1088,1168,1546,{"$error":"#VALUE!"},187,201,266,{"$error":"#VALUE!"},0.18462651102864869,0.21311276817222599,0.37198298091223903,1.2760000000000001E-4,1.7219,4,5.1420100000000005E-4,{"$f":"AK78","v":240.30463534531125},257.96170693632649,341.42,1,1,1,271,291,385,117,125,166,7.2732766625888928E-2,8.2941130791281681E-2,0.14571121666438436,0.9,{"$f":"BA78","v":5.0999999999999996},{"$f":"BB78","v":5.6},7.2,null,1455,null,0.8,null,null,0,{"$f":"BK410","v":12.3},14.4,21.85,null,1,1,1,271,291,385,null,0,0,0,1]
["23510",null,null,2,35,40.5,10,11.5,0,26,30,{"$f":"L82","v":41.8},{"$f":"IF($N412-($BE412*$BG412)>100,$BE412*$BG412,$N412-95)","v":565.20000000000005},{"$f":"N82","v":1214.2269940407766},{"$f":"O82","v":1304.1433704057049},1574.18,"N/A",1,1,1,{"$f":"ROUND(M412*POWER(CF_heat,Q412),0)","v":{"$error":"#VALUE!"}},{"$f":"ROUND(N412*POWER(CF_heat,R412),0)","v":668},{"$f":"ROUND(O412*POWER(CF_heat,S412),0)","v":718},{"$f":"ROUND(P412*POWER(CF_heat,T412),0)","v":866},{"$error":"#VALUE!"},115,123,149,{"$error":"#VALUE!"},5.3625772961126326E-2,6.1224519608648838E-2,8.935147694639381E-2,{"$f":"IF($G412=$CO$103,CP$103,IF($G412=$CO$104,CP$104,IF($G412=$CO$105,CP$105,IF($G412=$CO$107,CP$107,IF($G412=$CO$108,CP$108,IF($G412=$CO$109,CP$109,IF($G412=$CO$111,CP$111,IF($G412=$CO$112,CP$112,IF($G412=$CO$113,CP$113,IF($G412=$CO$115,CP$115,IF($G412=$CO$116,CP$116,IF($G412=$CO$117,CP$117,IF($G412=$CO$119,CP$119,IF($G412=$CO$120,CP$120,))))))))))))))","v":3.969E-4},{"$f":"IF($G412=$CO$103,CQ$103,IF($G412=$CO$104,CQ$104,IF($G412=$CO$105,CQ$105,IF($G412=$CO$107,CQ$107,IF($G412=$CO$108,CQ$108,IF($G412=$CO$109,CQ$109,IF($G412=$CO$111,CQ$111,IF($G412=$CO$112,CQ$112,IF($G412=$CO$113,CQ$113,IF($G412=$CO$115,CQ$115,IF($G412=$CO$116,CQ$116,IF($G412=$CO$117,CQ$117,IF($G412=$CO$119,CQ$119,IF($G412=$CO$120,CQ$120,))))))))))))))","v":1.7345999999999999},{"$f":"IF($G412=$CO$103,CR$103,IF($G412=$CO$104,CR$104,IF($G412=$CO$105,CR$105,IF($G412=$CO$107,CR$107,IF($G412=$CO$108,CR$108,IF($G412=$CO$109,CR$109,IF($G412=$CO$111,CR$111,IF($G412=$CO$112,CR$112,IF($G412=$CO$113,CR$113,IF($G412=$CO$115,CR$115,IF($G412=$CO$116,CR$116,IF($G412=$CO$117,CR$117,IF($G412=$CO$119,CR$119,IF($G412=$CO$120,CR$120,))))))))))))))","v":2},{"$f":"IF($G412=$CO$103,CS$103,IF($G412=$CO$104,CS$104,IF($G412=$CO$105,CS$105,IF($G412=$CO$107,CS$107,IF($G412=$CO$108,CS$108,IF($G412=$CO$109,CS$109,IF($G412=$CO$111,CS$111,IF($G412=$CO$112,CS$112,IF($G412=$CO$113,CS$113,IF($G412=$CO$115,CS$115,IF($G412=$CO$116,CS$116,IF($G412=$CO$117,CS$117,IF($G412=$CO$119,CS$119,IF($G412=$CO$120,CS$120,))))))))))))))","v":3.6734700000000002E-4},{"$f":"AK82","v":168.33710197020613},180.80286190736828,218.24,1,1,1,{"$f":"ROUND(AK412*POWER(CF_cool,AN412),0)","v":190},204,{"$f":"ROUND(AM412*POWER(CF_cool,AP412),0)","v":246},82,88,106,2.7552249658903728E-2,3.166025233329859E-2,4.567236524120652E-2,0.2,{"$f":"BA82","v":6.3},{"$f":"BB82","v":6.8},9.1,null,628,null,{"$f":"IF(G412=10,0.9,IF(G412=11,0.68,IF(G412=15,0.8,IF(G412=16,0.68,IF(G412=20,0.8,IF(G412=21,0.8))))))","v":0.9},null,null,0,{"$f":"BK359","v":12.8},{"$f":"BL359","v":14.7},21.85,null,1,1,1,{"$f":"AQ412/BO412","v":190},204,246,null,{"$f":"BR412-AQ412","v":0},{"$f":"BS412-AR412","v":0},{"$f":"BT412-AS412","v":0},1]
[{"$f":"CONCATENATE(D413,E413,G413)","v":"23511"},null,null,2,35,40.5,11,11.5,0,26,30,{"$f":"L86","v":41.8},597.04000000000008,{"$f":"N86","v":1647.5037394527276},{"$f":"O86","v":1769.505282019556},2135.9,"N/A",1,1,1,{"$error":"#VALUE!"},907,974,1175,{"$error":"#VALUE!"},156,168,202,{"$f":"(($AG413*(Y413^$AH413)*((($F413-14.4)*$AI413)/100))+($AJ413*(Y413^2)))*0.0098","v":{"$error":"#VALUE!"}},{"$f":"(($AG413*(Z413^$AH413)*((($E413-14.4)*$AI413)/100))+($AJ413*(Z413^2)))*0.0098","v":0.15738226376391512},{"$f":"(($AG413*(AA413^$AH413)*((($E413-14.4)*$AI413)/100))+($AJ413*(AA413^2)))*0.0098","v":0.18206496476299452},{"$f":"(($AG413*(AB413^$AH413)*((($E413-14.4)*$AI413)/100))+($AJ413*(AB413^2)))*0.0098","v":0.26161245729300475},3.969E-4,1.7345999999999999,4,5.7428799999999995E-4,{"$f":"AK86","v":276},296,358,1,1,1,311,333,403,134,143,173,{"$f":"(($AG413*(AT413^$AH413)*((($E413-14.4)*$AI413)/100))+($AJ413*(AT413^2)))*0.0098","v":0.1167427037158299},{"$f":"(($AG413*(AU413^$AH413)*((($E413-14.4)*$AI413)/100))+($AJ413*(AU413^2)))*0.0098","v":0.13264564159016839},{"$f":"(($AG413*(AV413^$AH413)*((($E413-14.4)*$AI413)/100))+($AJ413*(AV413^2)))*0.0098","v":0.1928725275595165},0.5,{"$f":"BA86","v":6.3},{"$f":"BB86","v":6.8},9.1,null,878,null,0.68,null,null,0,{"$f":"BK412","v":12.8},{"$f":"BL412","v":14.7},21.85,null,1,1,1,311,{"$f":"AR413/BP413","v":333},{"$f":"AS413/BQ413","v":403},null,0,0,0,1]
["23515",null,null,2,35,40.5,15,16.5,0,26,30,{"$f":"L90","v":42.4},843.2,{"$f":"N90","v":1395.33740436932},{"$f":"O90","v":1496.2563490716184},2007.56,"N/A",1,1,1,{"$error":"#VALUE!"},768,823,1105,{"$error":"#VALUE!"},132,142,190,{"$error":"#VALUE!"},8.2667572435233122E-2,9.5579481617652146E-2,0.17052069591966401,2.0829999999999999E-4,1.724,2,4.6182900000000003E-4,{"$f":"AK90","v":190.46915773046311},204.24499885412456,274.04000000000002,1,1,1,215,230,309,92,99,133,4.0350960702190575E-2,4.6677513073963194E-2,8.391681172182261E-2,0.4,{"$f":"BA90","v":6},{"$f":"BB90","v":6.7},9,null,1054,null,0.8,null,null,0,{"$f":"BK360","v":11.8},{"$f":"BL360","v":13.7},21.85,null,{"$f":"IF((237.3*LN(($AQ$1*EXP(17.27*($AM$3/($AM$3+237.3))))))/(17.27-LN(($AQ$1*EXP(17.27*($AM$3/($AM$3+237.3))))))<(($AM$1+$AM$2)/2),1,IF(1/(1+((2258*((0.622/((101325/(1*611*EXP(17.27*((($AM$1+$AM$2)/2)/((($AM$1+$AM$2)/2)+237.3))))))-1)*1000-(0.622/((101325/($AQ$1*611*EXP(17.27*($AM$3/($AM$3+237.3))))))-1)*1000))/(1005*((($AM$1+$AM$2)/2)-$AM$3))))>1,1,1/(1+((2258*((0.622/((101325/(1*611*EXP(17.27*((($AM$1+$AM$2)/2)/((($AM$1+$AM$2)/2)+237.3))))))-1)*1000-(0.622/((101325/($AQ$1*611*EXP(17.27*($AM$3/($AM$3+237.3))))))-1)*1000))/(1005*((($AM$1+$AM$2)/2)-$AM$3))))))","v":1},1,1,215,230,309,null,0,0,0,1]
["23516",null,null,2,35,40.5,16,16.5,0,26,30,{"$f":"L94","v":42.4},884.00000000000011,{"$f":"N94","v":2040.4331716148024},{"$f":"O94","v":2188.0092071816284},2935.7,"N/A",1,1,1,{"$error":"#VALUE!"},1123,1204,1616,{"$error":"#VALUE!"},193,207,278,{"$error":"#VALUE!"},0.5230868472949447,0.60140469558543708,1.0823830201740816,2.0829999999999999E-4,1.724,4,1.392796E-3,{"$f":"AK94","v":312},335,450,1,1,1,351,377,507,151,162,218,0.32082280821925219,0.36905530292280042,0.66676008304939238,0.7,{"$f":"BA94","v":6},{"$f":"BB94","v":6.7},9,null,1300,null,0.68,null,null,0,{"$f":"BK414","v":11.8},{"$f":"BL414","v":13.7},21.85,null,1,1,1,351,377,507,null,0,0,0,1]
["23520",null,null,2,35,40.5,20,21.5,0,26,30,{"$f":"L98","v":42.4},1152.8,{"$f":"N98","v":1942.5718983039128},{"$f":"O98","v":2086.4239348515057},2518.44,"N/A",1,1,1,{"$error":"#VALUE!"},1069,1148,1386,{"$error":"#VALUE!"},184,197,238,{"$error":"#VALUE!"},0.12904569288060302,0.14783639311420288,0.21543189940214263,1.2760000000000001E-4,1.7219,2,3.76611E-4,{"$f":"AK98","v":240.07166246887351},257.84953601562182,311.24,1,1,1,270,290,351,116,125,151,5.1511505374067373E-2,5.9770610708140839E-2,8.7064063952829396E-2,0.5,{"$f":"BA98","v":6},{"$f":"BB98","v":6.7},9,null,1441,null,0.8,null,null,0,{"$f":"BK415","v":11.8},13.7,21.85,null,1,1,1,270,290,351,null,0,0,0,1]
["23521",null,null,2,35,40.5,21,21.5,0,26,30,{"$f":"L102","v":42.4},1329.6000000000001,{"$f":"N102","v":2627.7848955664344},{"$f":"O102","v":2817.8416357747774},3780.76,"N/A",1,1,1,{"$error":"#VALUE!"},1446,1551,2081,{"$error":"#VALUE!"},249,267,358,{"$error":"#VALUE!"},0.32620628357280429,0.37476888666198083,0.67157580846894804,1.2760000000000001E-4,1.7219,4,5.1420100000000005E-4,{"$f":"AK102","v":340.86222571220884},365.51537125251701,490.42,1,1,1,384,412,552,165,177,237,0.14397233255417841,0.16552440029557403,0.295694913339206,0.9,{"$f":"BA102","v":6},{"$f":"BB102","v":6.7},9,null,1662,null,0.8,null,null,0,{"$f":"BK416","v":11.8},13.7,21.85,null,1,1,1,384,412,552,null,0,0,0,1]
["23510",null,null,2,35,40.5,10,11.5,0,26,30,{"$f":"L106","v":42.4},636.30000000000007,{"$f":"N106","v":1395.6272192501513},{"$f":"O106","v":1501.3000140389001},1828.08,"N/A",1,1,1,{"$error":"#VALUE!"},768,826,1006,{"$error":"#VALUE!"},132,142,173,{"$error":"#VALUE!"},7.0367440927697533E-2,8.1263300393320734E-2,0.11996014053235826,3.969E-4,1.7345999999999999,2,3.6734700000000002E-4,{"$f":"AK106","v":193.48593193227777},208.13611852764589,253.44,1,1,1,218,234,285,94,101,123,3.6049860209371648E-2,4.1526469639044605E-2,6.1224519608648838E-2,0.2,{"$f":"BA106","v":6.7},{"$f":"BB106","v":7.4},10.3,null,707,null,0.9,null,null,0,{"$f":"BK362","v":12.5},{"$f":"BL362","v":14.7},21.85,null,1,1,1,218,234,285,null,0,0,0,1]
["23511",null,null,2,35,40.5,11,11.5,0,26,30,{"$f":"L110","v":42.4},671.84,{"$f":"N110","v":1893.6336235985709},{"$f":"O110","v":2037.0140009310799},2480.4,"N/A",1,1,1,{"$error":"#VALUE!"},1042,1121,1365,{"$error":"#VALUE!"},179,193,235,{"$error":"#VALUE!"},0.20624736166940191,0.23917491471202376,0.35236879653621589,3.969E-4,1.7345999999999999,4,5.7428799999999995E-4,{"$f":"AK110","v":317.16301910489852},341.17767156378318,415.44,1,1,1,357,384,468,154,165,201,0.1534409498542397,0.17572806626630944,0.25907036203823502,0.5,{"$f":"BA110","v":6.7},{"$f":"BB110","v":7.4},10.3,null,988,null,0.68,null,null,0,{"$f":"BK418","v":12.5},{"$f":"BL418","v":14.7},21.85,null,1,1,1,357,384,468,null,0,0,0,1]
["23515",null,null,2,35,40.5,15,16.5,0,26,30,{"$f":"L114","v":43.3},948,{"$f":"N114","v":1597.9167676946356},{"$f":"O114","v":1711.9130538160239},2331.36,"N/A",1,1,1,{"$error":"#VALUE!"},879,942,1283,{"$error":"#VALUE!"},151,162,221,{"$error":"#VALUE!"},0.10799700797342608,0.12419856886860027,0.23030925361626872,2.0829999999999999E-4,1.724,2,4.6182900000000003E-4,{"$f":"AK114","v":218.12205414485143},233.68300487544244,318.24,1,1,1,246,263,358,106,113,154,5.3462078830385139E-2,6.0704387360591382E-2,0.11230386549794243,0.4,{"$f":"BA114","v":7},{"$f":"BB114","v":7.7},10.7,null,1185,null,0.8,null,null,0,{"$f":"BK363","v":11.3},{"$f":"BL363","v":13.2},21.85,null,1,1,1,246,263,358,null,0,0,0,1]
["23516",null,null,2,35,40.5,16,16.5,0,26,30,{"$f":"L118","v":43.3},994.84,{"$f":"N118","v":2336.669516687492},{"$f":"O118","v":2503.3688418217644},3409.2,"N/A",1,1,1,{"$error":"#VALUE!"},1286,1378,1876,{"$error":"#VALUE!"},221,237,323,{"$error":"#VALUE!"},0.68516756400093737,0.78756176334310279,1.4596494671686426,2.0829999999999999E-4,1.724,4,1.392796E-3,{"$f":"AK118","v":357.77938745479025},383.30357134546551,522,1,1,1,403,432,588,173,186,253,0.42065334570208385,0.485970375699047,0.8970633022753115,0.7,{"$f":"BA118","v":7},{"$f":"BB118","v":7.7},10.7,null,1463,null,0.68,null,null,0,{"$f":"BK420","v":11.3},{"$f":"BL420","v":13.2},21.85,null,1,1,1,403,432,588,null,0,0,0,1]
["23520",null,null,2,35,40.5,20,21.5,0,26,30,{"$f":"L122","v":43.3},1296.8000000000002,{"$f":"N122","v":2232.7836804230465},{"$f":"O122","v":2401.8435041457315},2924.64,"N/A",1,1,1,{"$error":"#VALUE!"},1229,1322,1610,{"$error":"#VALUE!"},211,227,277,{"$error":"#VALUE!"},0.16949549067435069,0.19605499453499028,0.29146377820978486,1.2760000000000001E-4,1.7219,2,3.76611E-4,{"$f":"AK122","v":275.93732338069162},296.83048721840407,361.44,1,1,1,311,334,407,134,144,175,6.8641171193437309E-2,7.921417315132831E-2,0.11678236214123439,0.5,{"$f":"BA122","v":7},{"$f":"BB122","v":7.7},10.7,null,1621,null,0.8,null,null,0,{"$f":"BK421","v":11.3},13.2,21.85,null,1,1,1,311,334,407,null,0,0,0,1]
["23521",null,null,2,35,40.5,21,21.5,0,26,30,{"$f":"L126","v":43.3},1496,{"$f":"N126","v":3009.2947651024979},{"$f":"O126","v":3223.9795559512399},4390.5600000000004,"N/A",1,1,1,{"$error":"#VALUE!"},1656,1774,2416,{"$error":"#VALUE!"},285,305,416,{"$error":"#VALUE!"},0.42668462836053289,0.48829956265728197,0.90538745260162146,1.2760000000000001E-4,1.7219,4,5.1420100000000005E-4,{"$f":"AK126","v":390.34964893343317},418.19741370243202,569.52,1,1,1,440,471,641,189,203,276,0.18857147589551504,0.21734820258027088,0.40030771697794076,{"$f":"ROUND(IF(G423=10,$CO$92*E423,IF(G423=11,$CO$93*E423,IF(G423=15,$CO$94*E423,IF(G423=16,$CO$95*E423,IF(G423=20,$CO$96*E423,IF(G423=21,$CO$97*E423,)))))),1)","v":0.9},{"$f":"BA126","v":7},{"$f":"BB126","v":7.7},10.7,null,1870,null,0.8,null,null,0,{"$f":"BK422","v":11.3},13.2,21.85,null,1,1,1,440,471,641,null,0,0,0,1]
["23510",null,null,2,35,40.5,10,11.5,0,26,30,{"$f":"L130","v":43},706.5,{"$f":"N130","v":1574.3905475253332},{"$f":"O130","v":1696.1265760133244},2081.98,"N/A",1,1,1,{"$error":"#VALUE!"},866,933,1146,{"$error":"#VALUE!"},149,160,197,{"$error":"#VALUE!"},8.935147694639381E-2,0.10282771827584251,0.15501573788967696,3.969E-4,1.7345999999999999,2,3.6734700000000002E-4,{"$f":"AK130","v":218.26918973175157},235.14633901405676,288.64,1,1,1,246,265,325,106,114,140,4.567236524120652E-2,5.2710924197685624E-2,7.9022110358350439E-2,0.2,{"$f":"BA130","v":7.8},{"$f":"BB130","v":8.6999999999999993},12.2,null,785,null,0.9,null,null,0,{"$f":"BK365","v":12.3},{"$f":"BL365","v":14.1},21.85,null,1,1,1,246,265,325,null,0,0,0,1]
["23511",null,null,2,35,40.5,11,11.5,0,26,30,{"$f":"L134","v":43},746.6400000000001,{"$f":"N134","v":2136.1856779144437},{"$f":"O134","v":2301.3611872256411},2824.9,"N/A",1,1,1,{"$error":"#VALUE!"},1176,1267,1555,{"$error":"#VALUE!"},202,218,267,{"$error":"#VALUE!"},0.26161245729300475,0.30395169684660706,0.45307946927971943,3.969E-4,1.7345999999999999,4,5.7428799999999995E-4,{"$f":"AK134","v":358},385,473,1,1,1,403,434,533,173,187,229,0.1928725275595165,0.2247684830685665,0.33487703195914881,0.5,{"$f":"BA134","v":7.8},{"$f":"BB134","v":8.6999999999999993},12.2,null,1098,null,0.68,null,null,0,{"$f":"BK424","v":12.3},{"$f":"BL424","v":14.1},21.85,null,1,1,1,403,434,533,null,0,0,0,1]
["23515",null,null,2,35,40.5,15,16.5,0,26,30,{"$f":"L138","v":44.1},1053.6000000000001,{"$f":"N138","v":1798.7737222599399},{"$f":"O138","v":1926.0891717740149},2655.16,"N/A",1,1,1,{"$error":"#VALUE!"},990,1060,1461,{"$error":"#VALUE!"},170,182,251,{"$error":"#VALUE!"},0.13668909013319613,0.15654155687248419,0.29666830143071582,2.0829999999999999E-4,1.724,2,4.6182900000000003E-4,{"$f":"AK138","v":245.53983484833029},262.91890485611941,362.44,1,1,1,277,296,408,119,127,175,6.7276217233078611E-2,7.6561256958697144E-2,0.14479813221550225,0.4,{"$f":"BA138","v":7},{"$f":"BB138","v":7.7},10.7,null,1317,null,0.8,null,null,0,{"$f":"BK366","v":10.9},{"$f":"BL366","v":12.8},21.85,null,1,1,1,277,296,408,null,0,0,0,1]
["23516",null,null,2,35,40.5,16,16.5,0,26,30,{"$f":"L142","v":44.1},1105,{"$f":"N142","v":2630.3871448118639},{"$f":"O142","v":2816.5633812075234},3882.7,"N/A",1,1,1,{"$error":"#VALUE!"},1448,1550,2137,{"$error":"#VALUE!"},249,267,368,{"$error":"#VALUE!"},0.86902172370862862,0.99870571314277667,1.8930594669174214,2.0829999999999999E-4,1.724,4,1.392796E-3,{"$f":"AK142","v":403},431,595,1,1,1,454,485,670,195,209,288,0.53394167462582565,0.61303749208448999,1.1613663300935326,0.7,{"$f":"BA142","v":7},{"$f":"BB142","v":7.7},10.7,null,1625,null,0.68,null,null,0,{"$f":"BK426","v":10.9},{"$f":"BL426","v":12.8},21.85,null,1,1,1,454,485,670,null,0,0,0,1]
["23520",null,null,2,35,40.5,20,21.5,0,26,30,{"$f":"L146","v":44.1},1440.8000000000002,{"$f":"N146","v":2518.7768428703835},{"$f":"O146","v":2713.5353098724395},3330.84,"N/A",1,1,1,{"$error":"#VALUE!"},1386,1493,1833,{"$error":"#VALUE!"},238,257,315,{"$error":"#VALUE!"},0.21543189940214263,0.25104457450821849,0.37654163293995196,1.2760000000000001E-4,1.7219,2,3.76611E-4,{"$f":"AK146","v":311.2816285378957},335.35074484391049,411.64,1,1,1,351,378,464,151,163,200,8.7064063952829396E-2,0.10138055419490523,0.15235341993977525,0.5,{"$f":"BA146","v":7},{"$f":"BB146","v":7.7},10.7,null,1801,null,0.8,null,null,0,{"$f":"BK427","v":10.9},12.8,21.85,null,1,1,1,351,378,464,null,0,0,0,1]
["23521",null,null,2,35,40.5,21,21.5,0,26,30,{"$f":"L150","v":44.1},1662.4,{"$f":"N150","v":3387.5608889256064},{"$f":"O150","v":3627.3291443724347},5000.3599999999997,"N/A",1,1,1,{"$error":"#VALUE!"},1864,1996,2752,{"$error":"#VALUE!"},321,343,473,{"$error":"#VALUE!"},0.54056933329896706,0.61676038829208923,1.168984865934876,1.2760000000000001E-4,1.7219,4,5.1420100000000005E-4,{"$f":"AK150","v":439.41631078060919},470.51776864522725,648.62,1,1,1,495,530,730,213,228,314,0.2391475477684335,0.27379021405204484,0.51737568135301271,0.9,{"$f":"BA150","v":7},{"$f":"BB150","v":7.7},10.7,null,2078,null,0.8,null,null,0,{"$f":"BK428","v":10.9},12.8,21.85,null,1,1,1,495,530,730,null,0,0,0,1]
["23510",null,null,2,35,40.5,10,11.5,0,26,30,{"$f":"L154","v":43.5},777.6,{"$f":"N154","v":1766.3893947845202},{"$f":"O154","v":1902.9712804051933},2335.88,"N/A",1,1,1,{"$error":"#VALUE!"},972,1047,1286,{"$error":"#VALUE!"},167,180,221,{"$error":"#VALUE!"},0.11189063772299504,0.12972581340222847,0.19450807477412543,3.969E-4,1.7345999999999999,2,3.6734700000000002E-4,{"$f":"AK154","v":244.88738360147738},263.82272182064906,323.83999999999997,1,1,1,276,297,365,119,128,157,5.7362951035098413E-2,6.6226282435946207E-2,9.9059557416487698E-2,0.2,{"$f":"BA154","v":8.4},{"$f":"BB154","v":9.3000000000000007},14,null,864,null,0.9,null,null,0,{"$f":"BK368","v":12},{"$f":"BL368","v":13.9},21.85,null,1,1,1,276,297,365,null,0,0,0,1]
["23511",null,null,2,35,40.5,11,11.5,0,26,30,{"$f":"L158","v":43.5},821.44,{"$f":"N158","v":2396.6961264405954},{"$f":"O158","v":2582.0149905458411},3169.4,"N/A",1,1,1,{"$error":"#VALUE!"},1319,1421,1744,{"$error":"#VALUE!"},227,244,300,{"$error":"#VALUE!"},0.32914420487260215,0.37943088557683924,0.57000376955187726,3.969E-4,1.7345999999999999,4,5.7428799999999995E-4,{"$f":"AK158","v":401.42051232401269},432.4594048025981,530.84,1,1,1,452,487,598,194,209,257,0.24161892743390734,0.27975017202110158,0.42026576675192007,0.5,{"$f":"BA158","v":8.4},{"$f":"BB158","v":9.3000000000000007},14,null,1208,null,0.68,null,null,0,{"$f":"BK430","v":12},{"$f":"BL430","v":13.9},21.85,null,1,1,1,452,487,598,null,0,0,0,1]
["23515",null,null,2,35,40.5,15,16.5,0,26,30,{"$f":"L162","v":44.1},1159.2,{"$f":"N162","v":1908.1501882577959},{"$f":"O162","v":2043.2071973479594},2816.6099999999997,"N/A",1,1,1,{"$error":"#VALUE!"},1050,1124,1550,{"$error":"#VALUE!"},181,193,267,{"$error":"#VALUE!"},0.15483601725583168,0.17591630897367236,0.33547540004958837,2.0829999999999999E-4,1.724,2,4.6182900000000003E-4,{"$f":"AK162","v":249.80785427097814},267.48901053042016,368.74,1,1,1,281,301,415,121,129,178,6.9541494629535613E-2,7.8975804637198763E-2,0.14977521113120368,0.4,{"$f":"BA162","v":7.9},{"$f":"BB162","v":8.8000000000000007},12.5,null,1449,null,0.8,null,null,0,{"$f":"BK366","v":10.9},{"$f":"BL366","v":12.8},21.85,null,1,1,1,281,301,415,null,0,0,0,1]
["23516",null,null,2,35,40.5,16,16.5,0,26,30,{"$f":"L166","v":44.1},1215.8400000000001,{"$f":"N166","v":2849.7497938679544},{"$f":"O166","v":3051.4523045945984},4206.5,"N/A",1,1,1,{"$error":"#VALUE!"},1568,1679,2315,{"$error":"#VALUE!"},270,289,398,{"$error":"#VALUE!"},1.0211938469827355,1.1694172308234554,2.2131750009167157,2.0829999999999999E-4,1.724,4,1.392796E-3,{"$f":"AK166","v":407.83296705301524},436.69898665540194,602,1,1,1,459,492,678,197,212,292,0.54490765659496276,0.6306950305616138,1.1937363608572948,0.7,{"$f":"BA166","v":7.9},{"$f":"BB166","v":8.8000000000000007},12.5,null,1788,null,0.68,null,null,0,{"$f":"BK432","v":10.9},{"$f":"BL432","v":12.8},21.85,null,1,1,1,459,492,678,null,0,0,0,1]
["23520",null,null,2,35,40.5,20,21.5,0,26,30,{"$f":"L170","v":44.1},1584.8000000000002,{"$f":"N170","v":2692.551301713082},{"$f":"O170","v":2900.746468081386},3560.6400000000003,"N/A",1,1,1,{"$error":"#VALUE!"},1482,1596,1960,{"$error":"#VALUE!"},255,275,337,{"$error":"#VALUE!"},0.24716804050953625,0.2872865587304988,0.43075485766307609,1.2760000000000001E-4,1.7219,2,3.76611E-4,{"$f":"AK170","v":317.17997831584631},341.70517057946222,419.44,1,1,1,357,385,472,154,166,203,9.0541412461384474E-2,0.10512927544459219,0.15693820159623539,0.5,{"$f":"BA170","v":7.9},{"$f":"BB170","v":8.8000000000000007},12.5,null,1981,null,0.8,null,null,0,{"$f":"BK433","v":10.9},12.8,21.85,null,1,1,1,357,385,472,null,0,0,0,1]
["23521",null,null,2,35,40.5,21,21.5,0,26,30,{"$f":"L174","v":44.1},1828.8000000000002,{"$f":"N174","v":3556.1815292902165},{"$f":"O174","v":3807.8845891872675},5249.2599999999993,"N/A",1,1,1,{"$error":"#VALUE!"},1957,2096,2889,{"$error":"#VALUE!"},337,361,497,{"$error":"#VALUE!"},0.59548503102595229,0.68281776826160223,1.2899954566489635,1.2760000000000001E-4,1.7219,4,5.1420100000000005E-4,{"$f":"AK174","v":445.64897406447591},477.19157375690452,657.82,1,1,1,502,537,741,216,231,319,0.24588951980337115,0.28099854091334819,0.53389089406281531,0.9,{"$f":"BA174","v":7.9},{"$f":"BB174","v":8.8000000000000007},12.5,null,2286,null,0.8,null,null,0,{"$f":"BK434","v":10.9},12.8,21.85,null,1,1,1,502,537,741,null,0,0,0,1]
["23510",null,null,2,35,40.5,10,11.5,0,26,30,{"$f":"L178","v":44},847.80000000000007,{"$f":"N178","v":1924.9914127028867},{"$f":"O178","v":2079.6202422788024},2589.7800000000002,"N/A",1,1,1,{"$error":"#VALUE!"},1059,1144,1425,{"$error":"#VALUE!"},182,197,245,{"$error":"#VALUE!"},0.13258544898163924,0.15501573788967696,0.23842842661534219,3.969E-4,1.7345999999999999,2,3.6734700000000002E-4,{"$f":"AK178","v":266.87553260000635},288.31284965818764,359.04,1,1,1,301,325,404,129,140,174,6.7249929878101883E-2,7.9022110358350439E-2,0.12133208268892461,0.2,{"$f":"BA178","v":8.9},{"$f":"BB178","v":9.9},14.8,null,942,null,0.9,null,null,0,{"$f":"BK371","v":11.8},{"$f":"BL371","v":13.7},21.85,null,1,1,1,301,325,404,null,0,0,0,1]
["23511",null,null,2,35,40.5,11,11.5,0,26,30,{"$f":"L182","v":44},896.24,{"$f":"N182","v":2611.8926414972211},{"$f":"O182","v":2821.6982019103875},3513.9,"N/A",1,1,1,{"$error":"#VALUE!"},1437,1553,1934,{"$error":"#VALUE!"},247,267,333,{"$error":"#VALUE!"},0.38867131849456993,0.45307946927971943,0.70016501384775931,3.969E-4,1.7345999999999999,4,5.7428799999999995E-4,{"$f":"AK182","v":437},473,589,1,1,1,492,533,663,212,229,285,0.28770718363871023,0.33487703195914881,0.5152136685160672,0.5,{"$f":"BA182","v":8.9},{"$f":"BB182","v":9.9},14.8,null,1318,null,0.68,null,null,0,{"$f":"BK436","v":11.8},{"$f":"BL436","v":13.7},21.85,null,1,1,1,492,533,663,null,0,0,0,1]
["23515",null,null,2,35,40.5,15,16.5,0,26,30,{"$f":"L186","v":44.8},1264,{"$f":"N186","v":2216.9073865755149},{"$f":"O186","v":2373.9948983307781},3302.76,"N/A",1,1,1,{"$error":"#VALUE!"},1220,1307,1818,{"$error":"#VALUE!"},210,225,313,{"$error":"#VALUE!"},0.20807174943621862,0.23867429366423817,0.46027088625135254,2.0829999999999999E-4,1.724,2,4.6182900000000003E-4,{"$f":"AK186","v":302.61675876046246},324.05983479376272,450.84,1,1,1,341,365,508,147,157,218,0.10238493920959209,0.11669454243100187,0.22413300139589623,0.4,{"$f":"BA186","v":8.6999999999999993},{"$f":"BB186","v":9.8000000000000007},14.3,null,1580,null,0.8,null,null,0,{"$f":"BK372","v":10.6},{"$f":"BL372","v":12.5},21.85,null,1,1,1,341,365,508,null,0,0,0,1]
["23516",null,null,2,35,40.5,16,16.5,0,26,30,{"$f":"L190","v":44.8},1326,{"$f":"N190","v":3241.8333772189817},{"$f":"O190","v":3471.5459677567114},4829.7,"N/A",1,1,1,{"$error":"#VALUE!"},1784,1911,2658,{"$error":"#VALUE!"},307,329,457,{"$error":"#VALUE!"},1.3190762863889032,1.5141943395007591,2.9154581992296937,2.0829999999999999E-4,1.724,4,1.392796E-3,{"$f":"AK190","v":496},532,740,1,1,1,559,599,833,240,258,358,0.80755198904584913,0.93273975234355333,1.7918958696064049,0.7,{"$f":"BA190","v":8.6999999999999993},{"$f":"BB190","v":9.8000000000000007},14.3,null,1950,null,0.68,null,null,0,{"$f":"BK438","v":10.6},{"$f":"BL438","v":12.5},21.85,null,1,1,1,559,599,833,null,0,0,0,1]
["23520",null,null,2,35,40.5,20,21.5,0,26,30,{"$f":"L194","v":44.8},1728.8000000000002,{"$f":"N194","v":3079.6829926739365},{"$f":"O194","v":3327.0647594078355},4143.24,"N/A",1,1,1,{"$error":"#VALUE!"},1695,1831,2280,{"$error":"#VALUE!"},292,315,392,{"$error":"#VALUE!"},0.32375109108319056,0.37654163293995196,0.58218486733678754,1.2760000000000001E-4,1.7219,2,3.76611E-4,{"$f":"AK194","v":380.60090160569081},411.17343900116532,512.04,1,1,1,429,463,577,184,199,248,0.12904569288060302,0.1508402157442113,0.23383701934372039,0.5,{"$f":"BA194","v":8.6999999999999993},{"$f":"BB194","v":9.8000000000000007},14.3,null,2161,null,0.8,null,null,0,{"$f":"BK439","v":10.6},12.5,21.85,null,1,1,1,429,463,577,null,0,0,0,1]
["23521",null,null,2,35,40.5,21,21.5,0,26,30,{"$f":"L198","v":44.8},1995.2,{"$f":"N198","v":4175.015825613802},{"$f":"O198","v":4470.8526528786542},6219.96,"N/A",1,1,1,{"$error":"#VALUE!"},2298,2460,3423,{"$error":"#VALUE!"},395,423,589,{"$error":"#VALUE!"},0.81672134881150071,0.93595403333817506,1.808848669875462,1.2760000000000001E-4,1.7219,4,5.1420100000000005E-4,{"$f":"AK198","v":541.56076058716258},579.9351342123673,806.82,1,1,1,610,653,909,262,281,391,0.36094285515737579,0.41485810238350951,0.80034858004817044,0.9,{"$f":"BA198","v":8.6999999999999993},{"$f":"BB198","v":9.8000000000000007},14.3,null,2494,null,0.8,null,null,0,{"$f":"BK440","v":10.6},12.5,21.85,null,1,1,1,610,653,909,null,0,0,0,1]
["23510",null,null,2,35,40.5,10,11.5,0,26,30,{"$f":"L202","v":44.8},989.1,{"$f":"N202","v":2267.7915432376717},{"$f":"O202","v":2456.1428225151312},3097.58,"N/A",1,1,1,{"$error":"#VALUE!"},1248,1352,1705,{"$error":"#VALUE!"},215,233,293,{"$error":"#VALUE!"},0.18421954480838962,0.21591524685953425,0.33952368107357966,3.969E-4,1.7345999999999999,2,3.6734700000000002E-4,{"$f":"AK202","v":314.40040300104783},340.51290804463417,429.44,1,1,1,354,383,484,152,165,208,9.2933974759177168E-2,0.10926259454815473,0.17256620729774091,0.2,{"$f":"BA202","v":10.1},{"$f":"BB202","v":11.2},17.5,null,1099,null,0.9,null,null,0,{"$f":"BK374","v":11.5},{"$f":"BL374","v":13.3},21.85,null,1,1,1,354,383,484,null,0,0,0,1]
["23511",null,null,2,35,40.5,11,11.5,0,26,30,{"$f":"L206","v":44.8},1045.1600000000001,{"$f":"N206","v":3077.015307780141},{"$f":"O206","v":3332.5766142436496},4202.8999999999996,"N/A",1,1,1,{"$error":"#VALUE!"},1693,1834,2313,{"$error":"#VALUE!"},291,315,398,{"$error":"#VALUE!"},0.5368013533165763,0.62752872184884423,0.99515657223191623,3.969E-4,1.7345999999999999,4,5.7428799999999995E-4,{"$f":"AK206","v":515},558,704,1,1,1,580,628,793,249,270,341,0.39489262091130506,0.46316119227577629,0.73370960660966256,0.5,{"$f":"BA206","v":10.1},{"$f":"BB206","v":11.2},17.5,null,1537,null,0.68,null,null,0,{"$f":"BK442","v":11.5},{"$f":"BL442","v":13.3},21.85,null,1,1,1,580,628,793,null,0,0,0,1]
["23515",null,null,2,35,40.5,15,16.5,0,26,30,{"$f":"L210","v":45.4},1475.2,{"$f":"N210","v":2628.9846104428207},{"$f":"O210","v":2815.4584574952669},3950.36,"N/A",1,1,1,{"$error":"#VALUE!"},1447,1549,2174,{"$error":"#VALUE!"},249,266,374,{"$error":"#VALUE!"},0.29198443867811436,0.33298037311109374,0.65600024049931827,2.0829999999999999E-4,1.724,2,4.6182900000000003E-4,{"$f":"AK210","v":358.86695423586366},384.32138301819265,539.24,1,1,1,404,433,607,174,186,261,0.14315771378741057,0.16345672643432352,0.32064439303171161,0.4,{"$f":"BA210","v":9.6},{"$f":"BB210","v":10.5},16.100000000000001,null,1844,null,0.8,null,null,0,{"$f":"BK375","v":10.4},{"$f":"BL375","v":12.2},21.85,null,1,1,1,404,433,607,null,0,0,0,1]
["23516",null,null,2,35,40.5,16,16.5,0,26,30,{"$f":"L214","v":45.4},1547,{"$f":"N214","v":3844.4231409656436},{"$f":"O214","v":4117.1080284867467},5776.7,"N/A",1,1,1,{"$error":"#VALUE!"},2116,2266,3179,{"$error":"#VALUE!"},364,390,547,{"$error":"#VALUE!"},1.8522614917738778,2.1253728423690181,4.1723585425209979,2.0829999999999999E-4,1.724,4,1.392796E-3,{"$f":"AK214","v":589},630,885,1,1,1,663,709,997,285,305,429,1.1373800616365293,1.3020037644254268,2.5701524224562435,0.7,{"$f":"BA214","v":9.6},{"$f":"BB214","v":10.5},16.100000000000001,null,2275,null,0.68,null,null,0,{"$f":"BK444","v":10.4},{"$f":"BL444","v":12.2},21.85,null,1,1,1,663,709,997,null,0,0,0,1]
["23520",null,null,2,35,40.5,20,21.5,0,26,30,{"$f":"L218","v":45.4},1936.8000000000002,{"$f":"N218","v":3628.1091959950468},{"$f":"O218","v":3929.4415695377957},4955.6400000000003,"N/A",1,1,1,{"$error":"#VALUE!"},1997,2163,2727,{"$error":"#VALUE!"},343,372,469,{"$error":"#VALUE!"},0.44617104412814457,0.52449246998557841,0.83231581470446792,1.2760000000000001E-4,1.7219,2,3.76611E-4,{"$f":"AK218","v":448.37784746172167},485.61784045001809,612.44000000000005,1,1,1,505,547,690,217,235,297,0.17922956111450436,0.21005702308277846,0.3348892328470508,0.5,{"$f":"BA218","v":9.6},{"$f":"BB218","v":10.5},16.100000000000001,null,2421,null,0.8,null,null,0,{"$f":"BK445","v":10.4},12.2,21.85,null,1,1,1,505,547,690,null,0,0,0,1]
["23521",null,null,2,35,40.5,21,21.5,0,26,30,{"$f":"L222","v":45.4},2327.2000000000003,{"$f":"N222","v":4951.0649025572329},{"$f":"O222","v":5302.2438770247491},7439.56,"N/A",1,1,1,{"$error":"#VALUE!"},2725,2918,4094,{"$error":"#VALUE!"},469,502,704,{"$error":"#VALUE!"},1.1493937072351359,1.3159532540008114,2.579952418802915,1.2760000000000001E-4,1.7219,4,5.1420100000000005E-4,{"$f":"AK222","v":642.22570316870622},687.77876463210498,965.02,1,1,1,723,775,1087,311,333,467,0.50759059850492894,0.58150810029261768,1.1396599866470469,0.9,{"$f":"BA222","v":9.6},{"$f":"BB222","v":10.5},16.100000000000001,null,2909,null,0.8,null,null,0,{"$f":"BK446","v":10.4},12.2,21.85,null,1,1,1,723,775,1087,null,0,0,0,1]
["23510",null,null,2,35,40.5,10,11.5,0,26,30,{"$f":"L226","v":45.5},1130.4000000000001,{"$f":"N226","v":2603.9362232520607},{"$f":"O226","v":2826.6988006529018},3605.38,"N/A",1,1,1,{"$error":"#VALUE!"},1433,1556,1984,{"$error":"#VALUE!"},246,268,341,{"$error":"#VALUE!"},0.24035441973448859,0.28466683355160177,0.45825043672623134,3.969E-4,1.7345999999999999,2,3.6734700000000002E-4,{"$f":"AK226","v":361.00257998610687},391.88577307200529,499.84,1,1,1,407,441,563,175,190,242,0.12271174414067054,0.14433245777327183,0.23269649458443267,0.2,{"$f":"BA226","v":11},{"$f":"BB226","v":12.4},19.2,null,1256,null,0.9,null,null,0,{"$f":"BK377","v":11.2},{"$f":"BL377","v":13},21.85,null,1,1,1,407,441,563,null,0,0,0,1]
["23511",null,null,2,35,40.5,11,11.5,0,26,30,{"$f":"L229","v":45.5},1194.76,{"$f":"N229","v":3533.107636511756},{"$f":"O229","v":3835.359341571188},4891.8999999999996,"N/A",1,1,1,{"$error":"#VALUE!"},1944,2111,2692,{"$error":"#VALUE!"},334,363,463,{"$error":"#VALUE!"},0.7043156392256017,0.82995740062081447,1.3412304839994262,3.969E-4,1.7345999999999999,4,5.7428799999999995E-4,{"$f":"AK229","v":592},642,819,1,1,1,667,723,922,287,311,396,0.52236090383248246,0.61192147681836073,0.98531742093480079,0.5,{"$f":"BA229","v":11},{"$f":"BB229","v":12.4},19.2,null,1757,null,0.68,null,null,0,{"$f":"BK448","v":11.2},{"$f":"BL448","v":13},21.85,null,1,1,1,667,723,922,null,0,0,0,1]
["23515",null,null,2,35,40.5,15,16.5,0,26,30,{"$f":"L232","v":46.4},1685.6000000000001,{"$f":"N232","v":3021.1783832091446},{"$f":"O232","v":3225.6120441880121},4597.96,"N/A",1,1,1,{"$error":"#VALUE!"},1663,1775,2530,{"$error":"#VALUE!"},286,305,435,{"$error":"#VALUE!"},0.38464317448312363,0.43715822620771344,0.88617356075393949,2.0829999999999999E-4,1.724,2,4.6182900000000003E-4,{"$f":"AK232","v":412.40297880742492},440.30899429620177,627.64,1,1,1,464,496,707,200,213,304,0.18883146822997504,0.2140250388466467,0.43431084914908369,0.4,{"$f":"BA232","v":11.5},{"$f":"BB232","v":12.8},19.600000000000001,null,2107,null,0.8,null,null,0,{"$f":"BK378","v":10},{"$f":"BL378","v":11.8},21.85,null,1,1,1,464,496,707,null,0,0,0,1]
["23516",null,null,2,35,40.5,16,16.5,0,26,30,{"$f":"L235","v":46.4},1768.0000000000002,{"$f":"N235","v":4417.9368883555589},{"$f":"O235","v":4716.8848144627045},6723.7,"N/A",1,1,1,{"$error":"#VALUE!"},2431,2596,3700,{"$error":"#VALUE!"},418,447,636,{"$error":"#VALUE!"},2.4404363996509892,2.7896426911943943,5.6356800124490993,2.0829999999999999E-4,1.724,4,1.392796E-3,{"$f":"AK235","v":676},722,1030,1,1,1,761,813,1160,327,350,499,1.4959018203401577,1.7129603156263848,3.4741138500001796,0.7,{"$f":"BA235","v":11.5},{"$f":"BB235","v":12.8},19.600000000000001,null,2600,null,0.68,null,null,0,{"$f":"BK450","v":10},{"$f":"BL450","v":11.8},21.85,null,1,1,1,761,813,1160,null,0,0,0,1]
["23520",null,null,2,35,40.5,20,21.5,0,26,30,{"$f":"L238","v":46.4},2305.6,{"$f":"N238","v":4165.887726998767},{"$f":"O238","v":4522.2727563025155},5768.04,"N/A",1,1,1,{"$error":"#VALUE!"},2293,2489,3174,{"$error":"#VALUE!"},394,428,546,{"$error":"#VALUE!"},0.58811919057247375,0.69359403569617806,1.1268990912696391,1.2760000000000001E-4,1.7219,2,3.76611E-4,{"$f":"AK238","v":514.83890668473202},558.88255136973487,712.84,1,1,1,580,629,803,249,270,345,0.23571889278930214,0.27697504027402392,0.45136983703148575,0.5,{"$f":"BA238","v":11.5},{"$f":"BB238","v":12.8},19.600000000000001,null,2882,null,0.8,null,null,0,{"$f":"BK451","v":10},11.8,21.85,null,1,1,1,580,629,803,null,0,0,0,1]
["23521",null,null,2,35,40.5,21,21.5,0,26,30,{"$f":"L241","v":46.4},2660,{"$f":"N241","v":5689.6682460807178},{"$f":"O241","v":6074.6702425752001},8659.16,"N/A",1,1,1,{"$error":"#VALUE!"},3131,3343,4765,{"$error":"#VALUE!"},539,575,820,{"$error":"#VALUE!"},1.5160473458027823,1.7242692221864393,3.4955637559883712,1.2760000000000001E-4,1.7219,4,5.1420100000000005E-4,{"$f":"AK241","v":738.0333851508442},787.97378843505794,1123.22,1,1,1,831,887,1265,357,381,544,0.66784914417043373,0.76013921556347797,1.5441688349303584,0.9,{"$f":"BA241","v":11.5},{"$f":"BB241","v":12.8},19.600000000000001,null,3325,null,0.8,null,null,0,{"$f":"BK452","v":10},11.8,21.85,null,1,1,1,831,887,1265,null,0,0,0,1]
["23510",null,null,2,35,40.5,10,11.5,0,26,30,{"$f":"L244","v":46},1271.7,{"$f":"N244","v":2970.6878039917879},{"$f":"O244","v":3224.8253922941558},4113.18,"N/A",1,1,1,{"$error":"#VALUE!"},1635,1775,2264,{"$error":"#VALUE!"},281,305,389,{"$error":"#VALUE!"},0.31259511427532233,0.36755417051662098,0.59456734551944379,3.969E-4,1.7345999999999999,2,3.6734700000000002E-4,{"$f":"AK244","v":411.84801378696699},447.08095237792156,570.24,1,1,1,464,503,642,200,216,276,0.15970983720316775,0.18591507596152784,0.3017002698345167,0.2,{"$f":"BA244","v":12.2},{"$f":"BB244","v":13.7},22,null,1413,null,0.9,null,null,0,{"$f":"BK380","v":10.9},{"$f":"BL380","v":12.7},21.85,null,1,1,1,464,503,642,null,0,0,0,1]
["23511",null,null,2,35,40.5,11,11.5,0,26,30,{"$f":"L247","v":46},1343.68,{"$f":"N247","v":4030.7284303866513},{"$f":"O247","v":4375.55079813051},5580.9,"N/A",1,1,1,{"$error":"#VALUE!"},2218,2408,3071,{"$error":"#VALUE!"},382,414,528,{"$error":"#VALUE!"},0.91779780599469374,1.0756103551763327,1.7382473399979994,3.969E-4,1.7345999999999999,4,5.7428799999999995E-4,{"$f":"AK247","v":675.10313623602258},732.85712932403612,934.74,1,1,1,760,825,1053,327,355,453,0.67551602197799432,0.7942796578120439,1.2846693432329346,0.5,{"$f":"BA247","v":12.2},{"$f":"BB247","v":13.7},22,null,1976,null,0.68,null,null,0,{"$f":"BK454","v":10.9},{"$f":"BL454","v":12.7},21.85,null,1,1,1,760,825,1053,null,0,0,0,1]
["23515",null,null,2,35,40.5,15,16.5,0,26,30,{"$f":"L250","v":46.4},1896.8000000000002,{"$f":"N250","v":3233.3460619053994},{"$f":"O250","v":3452.1364439366635},4920.8599999999997,"N/A",1,1,1,{"$error":"#VALUE!"},1779,1900,2708,{"$error":"#VALUE!"},306,327,466,{"$error":"#VALUE!"},0.4400148715967328,0.50214506988027896,1.0163366156163574,2.0829999999999999E-4,1.724,2,4.6182900000000003E-4,{"$f":"AK250","v":420.6820520547858},449.14828645115074,640.24,1,1,1,474,506,721,204,218,310,0.1964160583291264,0.22413300139589623,0.45153413255906993,0.4,{"$f":"BA250","v":11.5},{"$f":"BB250","v":12.8},19.600000000000001,null,2371,null,0.8,null,null,0,{"$f":"BK381","v":10},{"$f":"BL381","v":11.8},21.85,null,1,1,1,474,506,721,null,0,0,0,1]
["23516",null,null,2,35,40.5,16,16.5,0,26,30,{"$f":"L253","v":46.4},1989.0000000000002,{"$f":"N253","v":4843.4549704976926},{"$f":"O253","v":5171.1963699821436},7371.3,"N/A",1,1,1,{"$error":"#VALUE!"},2666,2846,4057,{"$error":"#VALUE!"},459,490,698,{"$error":"#VALUE!"},2.9409535408891267,3.3502913831027592,6.7845200680201634,2.0829999999999999E-4,1.724,4,1.392796E-3,{"$f":"AK253","v":686.3088894339993},732.7492584003295,1044.5,1,1,1,773,825,1176,332,355,506,1.5418410384177337,1.7620871802382805,3.571970119608272,0.7,{"$f":"BA253","v":11.5},{"$f":"BB253","v":12.8},19.600000000000001,null,2925,null,0.68,null,null,0,{"$f":"BK456","v":10},{"$f":"BL456","v":11.8},21.85,null,1,1,1,773,825,1176,null,0,0,0,1]
["23520",null,null,2,35,40.5,20,21.5,0,26,30,{"$f":"L256","v":46.4},2593.6000000000004,{"$f":"N256","v":4497.8275192555193},{"$f":"O256","v":4882.6094666576164},6227.64,"N/A",1,1,1,{"$error":"#VALUE!"},2475,2687,3427,{"$error":"#VALUE!"},426,462,589,{"$error":"#VALUE!"},0.68714959202671311,0.80773928949039431,1.3107392162086311,1.2760000000000001E-4,1.7219,2,3.76611E-4,{"$f":"AK256","v":526.1057925837863},571.11330132956857,728.44,1,1,1,592,643,820,255,276,353,0.24716804050953625,0.28937141059937038,0.47246530732750064,0.5,{"$f":"BA256","v":11.5},{"$f":"BB256","v":12.8},19.600000000000001,null,3242,null,0.8,null,null,0,{"$f":"BK457","v":10},11.8,21.85,null,1,1,1,592,643,820,null,0,0,0,1]
["23521",null,null,2,35,40.5,21,21.5,0,26,30,{"$f":"L259","v":46.4},2992,{"$f":"N259","v":6016.7573462820046},{"$f":"O259","v":6423.892435808023},9156.9599999999991,"N/A",1,1,1,{"$error":"#VALUE!"},3311,3535,5039,{"$error":"#VALUE!"},569,608,867,{"$error":"#VALUE!"},1.6886386984146051,1.9268627036814636,3.9059148765639562,1.2760000000000001E-4,1.7219,4,5.1420100000000005E-4,{"$f":"AK259","v":750.12346036921247},800.88196110577712,1141.6200000000001,1,1,1,845,902,1286,363,388,553,0.69036404527734596,0.78817738281338978,1.5954364390870561,0.9,{"$f":"BA259","v":11.5},{"$f":"BB259","v":12.8},19.600000000000001,null,3740,null,0.8,null,null,0,{"$f":"BK458","v":10},11.8,21.85,null,1,1,1,845,902,1286,null,0,0,0,1]
["23510",null,null,2,35,40.5,10,11.5,0,26,30,{"$f":"L262","v":46.5},1413,{"$f":"N262","v":3259.5785648750903},{"$f":"O262","v":3552.8677924068675},4620.9799999999996,"N/A",1,1,1,{"$error":"#VALUE!"},1794,1955,2543,{"$error":"#VALUE!"},309,336,437,{"$error":"#VALUE!"},0.37714241839066115,0.44506169832278875,0.74843988732215638,3.969E-4,1.7345999999999999,2,3.6734700000000002E-4,{"$f":"AK262","v":451.89903695786995},492.55985148767917,640.64,1,1,1,509,555,721,219,239,310,0.1910478090251985,0.22703364444377036,0.37955859602818431,0.2,{"$f":"BA262","v":13.4},{"$f":"BB262","v":14.8},24,null,1570,null,0.9,null,null,0,{"$f":"BK383","v":10.7},{"$f":"BL383","v":12.5},21.85,null,1,1,1,509,555,721,null,0,0,0,{"$f":"IF(SUM(BV460:BX460)=0,1,0)","v":1}]
["23511",null,null,2,35,40.5,11,11.5,0,26,30,{"$f":"L265","v":46.5},1493.2800000000002,{"$f":"N265","v":4422.7050634086982},{"$f":"O265","v":4820.649682883678},6269.9,"N/A",1,1,1,{"$error":"#VALUE!"},2434,2653,3451,{"$error":"#VALUE!"},419,456,594,{"$error":"#VALUE!"},1.1013865283327828,1.3015110587951046,2.1933770401604238,3.969E-4,1.7345999999999999,4,5.7428799999999995E-4,{"$f":"AK265","v":741},807,1050,1,1,1,835,909,1182,359,391,508,0.81202162512208953,0.96093114480488517,1.6106698049963359,0.5,{"$f":"BA265","v":13.4},{"$f":"BB265","v":14.8},24,null,2196,null,0.68,null,null,0,{"$f":"BK460","v":10.7},{"$f":"BL460","v":12.5},21.85,null,1,1,1,835,909,1182,null,0,0,0,1]
["23515",null,null,2,35,40.5,15,16.5,0,26,30,{"$f":"L268","v":47.1},2107.2000000000003,{"$f":"N268","v":3875.4624109054007},{"$f":"O268","v":4083.4735576056296},5893.16,"N/A",1,1,1,{"$error":"#VALUE!"},2133,2247,3243,{"$f":"ROUND(U462*3600/(4186*ABS($O$1-$O$2)),0)","v":{"$error":"#VALUE!"}},{"$f":"ROUND(V462*3600/(4186*ABS($O$1-$O$2)),0)","v":367},{"$f":"ROUND(W462*3600/(4186*ABS($O$1-$O$2)),0)","v":386},{"$f":"ROUND(X462*3600/(4186*ABS($O$1-$O$2)),0)","v":558},{"$error":"#VALUE!"},0.6317893361531477,0.69855985867335058,1.4549197257143336,2.0829999999999999E-4,1.724,2,4.6182900000000003E-4,{"$f":"AK268","v":529.01617838795164},557.41053504066974,804.44,1,1,1,596,628,906,{"$f":"ROUND(AQ462*3600/(4186*ABS($AM$1-$AM$2)),0)","v":256},{"$f":"ROUND(AR462*3600/(4186*ABS($AM$1-$AM$2)),0)","v":270},{"$f":"ROUND(AS462*3600/(4186*ABS($AM$1-$AM$2)),0)","v":390},0.30854035905627836,0.34301613851136781,0.71304256116450926,0.4,{"$f":"BA268","v":13.2},{"$f":"BB268","v":14.7},23.5,null,2634,null,0.8,null,null,0,{"$f":"BK384","v":10},{"$f":"BL384","v":11.4},21.85,null,1,1,1,596,628,906,null,0,0,0,1]
["23516",null,null,2,35,40.5,16,16.5,0,26,30,{"$f":"L271","v":47.1},2210,{"$f":"N271","v":5667.1755761695722},{"$f":"O271","v":5971.3549398587584},8617.7000000000007,"N/A",1,1,1,{"$error":"#VALUE!"},3119,3286,4743,{"$error":"#VALUE!"},536,565,816,{"$error":"#VALUE!"},4.0067130717920145,4.4506358213417645,9.2645693516049086,2.0829999999999999E-4,1.724,4,1.392796E-3,{"$f":"AK271","v":868},914,1320,1,1,1,978,1029,1487,421,442,639,2.4754811629880153,2.7277732378507742,5.6888221058768238,0.7,{"$f":"BA271","v":13.2},{"$f":"BB271","v":14.7},23.5,null,3250,null,0.68,null,null,0,{"$f":"BK462","v":10},{"$f":"BL462","v":11.4},21.85,null,1,1,1,978,1029,1487,null,0,0,0,1]
["23520",null,null,2,35,40.5,20,21.5,0,26,30,{"$f":"L274","v":47.1},2881.6000000000004,{"$f":"N274","v":5214.8121821672385},{"$f":"O274","v":5684.028740747025},7392.84,"N/A",1,1,1,{"$error":"#VALUE!"},2870,3128,4069,{"$error":"#VALUE!"},494,538,700,{"$error":"#VALUE!"},0.92308789660114099,1.0942246275940823,1.8493130983733144,1.2760000000000001E-4,1.7219,2,3.76611E-4,{"$f":"AK274","v":644.46964929787134},702.45751547390614,913.64,1,1,1,726,791,1029,312,340,442,0.36943055269150393,0.43842916407662524,0.73954514428202989,0.5,{"$f":"BA274","v":13.2},{"$f":"BB274","v":14.7},23.5,null,3602,null,0.8,null,null,0,{"$f":"BK463","v":10},11.4,21.85,null,1,1,1,726,791,1029,null,0,0,0,1]
["23521",null,null,2,35,40.5,21,21.5,0,26,30,{"$f":"L277","v":47.1},3324.8,{"$f":"N277","v":7298.5082710627348},{"$f":"O277","v":7690.2476078687869},11098.36,"N/A",1,1,1,{"$error":"#VALUE!"},4017,4232,6108,{"$error":"#VALUE!"},691,728,1051,{"$error":"#VALUE!"},2.4859626693342887,2.7580384336232586,5.7306719492597047,1.2760000000000001E-4,1.7219,4,5.1420100000000005E-4,{"$f":"AK277","v":946.7235228616961},997.53785795739748,1439.62,1,1,1,1066,1123,1621,458,483,697,1.0963686129774604,1.218684397531322,2.5291265539698817,0.9,{"$f":"BA277","v":13.2},{"$f":"BB277","v":14.7},23.5,null,4156,null,0.8,null,null,0,{"$f":"BK464","v":10},11.4,21.85,null,1,1,1,1066,1123,1621,null,0,0,0,1]
["23510",null,null,2,35,40.5,10,11.5,0,26,30,{"$f":"L280","v":46.9},1554.3,{"$f":"N280","v":3560.7045070849035},{"$f":"O280","v":3890.5075371280445},5128.78,"N/A",1,1,1,{"$error":"#VALUE!"},1960,2141,2823,{"$error":"#VALUE!"},337,368,486,{"$error":"#VALUE!"},0.44768417521614812,0.53276662924230811,0.92359556310632773,3.969E-4,1.7345999999999999,2,3.6734700000000002E-4,{"$f":"AK280","v":493.64631212835212},539.36930014536108,711.04,1,1,1,556,607,801,239,261,344,0.22703364444377036,0.27016487949398399,0.4662552949730811,0.2,{"$f":"BA280","v":13.4},{"$f":"BB280","v":14.8},24,null,1727,null,0.9,null,null,0,{"$f":"BK386","v":10.5},{"$f":"BL386","v":12.3},21.85,null,1,1,1,556,607,801,null,0,0,0,1]
["23511",null,null,2,35,40.5,11,11.5,0,26,30,{"$f":"L283","v":46.9},1642.88,{"$f":"N283","v":4831.2827990970827},{"$f":"O283","v":5278.770565343093},6958.9,"N/A",1,1,1,{"$error":"#VALUE!"},2659,2905,3830,{"$error":"#VALUE!"},457,500,659,{"$error":"#VALUE!"},1.3071490852137135,1.5609868198500723,2.6927271125664731,3.969E-4,1.7345999999999999,4,5.7428799999999995E-4,{"$f":"AK283","v":809.18727868766814},884.1366084769129,1165.54,1,1,1,911,996,1313,392,428,565,0.96578421468132103,1.1485445466414241,1.9869487635424359,0.5,{"$f":"BA283","v":13.4},{"$f":"BB283","v":14.8},24,null,2416,null,0.68,null,null,0,{"$f":"BK466","v":10.5},{"$f":"BL466","v":12.3},21.85,null,1,1,1,911,996,1313,null,0,0,0,1]
["23515",null,null,2,35,40.5,15,16.5,0,26,30,{"$f":"L286","v":47.8},2317.6,{"$f":"N286","v":4302.5567439745028},{"$f":"O286","v":4481.7988603493422},6540.76,"N/A",1,1,1,{"$error":"#VALUE!"},2368,2467,3600,{"$error":"#VALUE!"},407,424,619,{"$error":"#VALUE!"},0.77624579969661556,0.84212280013913232,1.7888198592296469,2.0829999999999999E-4,1.724,2,4.6182900000000003E-4,{"$f":"AK286","v":587.31626956044784},611.78353807115786,892.84,1,1,1,661,689,1006,284,296,433,0.37930996588430549,0.4118655163062187,0.87808109354160713,0.4,{"$f":"BA286","v":15.5},{"$f":"BB286","v":16.8},27.5,null,2897,null,0.8,null,null,0,{"$f":"BK387","v":10},{"$f":"BL387","v":11.1},21.85,null,1,1,1,661,689,1006,null,0,0,0,1]
["23516",null,null,2,35,40.5,16,16.5,0,26,30,{"$f":"L289","v":47.8},2431,{"$f":"N289","v":6291.7251954043459},{"$f":"O289","v":6553.83496101116},9564.7000000000007,"N/A",1,1,1,{"$error":"#VALUE!"},3463,3607,5264,{"$error":"#VALUE!"},596,620,905,{"$error":"#VALUE!"},4.9509013893275364,5.356458762786759,11.389629062161569,2.0829999999999999E-4,1.724,4,1.392796E-3,{"$f":"AK289","v":963.35813446001066},1003.4910975149082,1464.5,1,1,1,1085,1130,1649,467,486,709,3.0440423120853457,3.2959788116117843,6.9994462814049454,0.7,{"$f":"BA289","v":15.5},{"$f":"BB289","v":16.8},27.5,null,3575,null,0.68,null,null,0,{"$f":"BK468","v":10},{"$f":"BL468","v":11.1},21.85,null,1,1,1,1085,1130,1649,null,0,0,0,1]
["23520",null,null,2,35,40.5,20,21.5,0,26,30,{"$f":"L292","v":47.8},3169.6000000000004,{"$f":"N292","v":5696.5662496175182},{"$f":"O292","v":6224.1991397456159},8205.24,"N/A",1,1,1,{"$error":"#VALUE!"},3135,3425,4516,{"$error":"#VALUE!"},539,589,777,{"$error":"#VALUE!"},1.098282710612291,1.3107392162086311,2.2770997293068831,1.2760000000000001E-4,1.7219,2,3.76611E-4,{"$f":"AK292","v":704.00695650122941},769.21417236639559,1014.04,1,1,1,793,866,1142,341,372,491,0.44100228271641545,0.52449246998557841,0.91194786894631152,0.5,{"$f":"BA292","v":15.5},{"$f":"BB292","v":16.8},27.5,null,3962,null,0.8,null,null,0,{"$f":"BK469","v":10},11.1,21.85,null,1,1,1,793,866,1142,null,0,0,0,1]
["23521",null,null,2,35,40.5,21,21.5,0,26,30,{"$f":"L295","v":47.8},3657.6000000000004,{"$f":"N295","v":8102.8384881891643},{"$f":"O295","v":8440.3982243391856},12317.96,"N/A",1,1,1,{"$error":"#VALUE!"},4459,4645,6779,{"$error":"#VALUE!"},767,799,1166,{"$error":"#VALUE!"},3.0600606960231373,3.3195524438574866,7.0476193599440684,1.2760000000000001E-4,1.7219,4,5.1420100000000005E-4,{"$f":"AK295","v":1051.0569439418873},1094.8433905300585,1597.82,1,1,1,1184,1233,1799,509,530,774,1.3527269998032128,1.4660776442894849,3.1159250733500912,0.9,{"$f":"BA295","v":15.5},{"$f":"BB295","v":16.8},27.5,null,4572,null,0.8,null,null,0,{"$f":"BK470","v":10},11.1,21.85,null,1,1,1,1184,1233,1799,null,0,0,0,1]
["23510",null,null,2,35,40.5,10,11.5,0,26,30,{"$f":"L298","v":47.2},1695.6000000000001,{"$f":"N298","v":3860.4188735925432},{"$f":"O298","v":4228.9855673527691},5636.58,"N/A",1,1,1,{"$error":"#VALUE!"},2125,2327,3102,{"$error":"#VALUE!"},366,400,534,{"$error":"#VALUE!"},0.52705619337958887,0.62828034550826228,1.1128591201743359,3.969E-4,1.7345999999999999,2,3.6734700000000002E-4,{"$f":"AK298","v":535.19789031294818},586.29496640731588,781.44,1,1,1,603,660,880,259,284,378,0.26609045383776742,0.31922391162689634,0.5617763004761499,0.2,{"$f":"BA298","v":14.8},{"$f":"BB298","v":16.600000000000001},28,null,1884,null,0.9,null,null,0,{"$f":"BK389","v":10.4},{"$f":"BL389","v":12.2},21.85,null,1,1,1,603,660,880,null,0,0,0,1]
["23511",null,null,2,35,40.5,11,11.5,0,26,30,{"$f":"L301","v":47.2},1791.8000000000002,{"$f":"N301","v":5237.9452617275747},{"$f":"O301","v":5738.028861571599},7647.9,"N/A",1,1,1,{"$error":"#VALUE!"},2883,3158,4209,{"$error":"#VALUE!"},496,543,724,{"$error":"#VALUE!"},1.536434295146724,1.8370884409914405,3.2427164359696983,3.969E-4,1.7345999999999999,4,5.7428799999999995E-4,{"$f":"AK301","v":877},961,1281,1,1,1,988,1082,1443,425,465,620,1.1327165233232905,1.3526874116433598,2.3870350893711576,0.5,{"$f":"BA301","v":14.8},{"$f":"BB301","v":16.600000000000001},28,null,2635,null,0.68,null,null,0,{"$f":"BK472","v":10.4},{"$f":"BL472","v":12.2},21.85,null,1,1,1,988,1082,1443,null,0,0,0,1]
["23515",null,null,2,35,40.5,15,16.5,0,26,30,{"$f":"L304","v":48.1},2528.8000000000002,{"$f":"N304","v":4729.715265656896},{"$f":"O304","v":4901.7743245246338},7188.36,"N/A",1,1,1,{"$error":"#VALUE!"},2603,2698,3956,{"$error":"#VALUE!"},448,464,680,{"$error":"#VALUE!"},0.93967624559169705,1.0076708735304059,2.1570646946973606,2.0829999999999999E-4,1.724,2,4.6182900000000003E-4,{"$f":"AK304","v":645.62512273636446},669.11187505864359,981.24,1,1,1,727,754,1105,313,324,475,0.46027088625135254,0.49301915408740354,1.0557900411796077,0.4,{"$f":"BA304","v":16.399999999999999},{"$f":"BB304","v":17.7},29.7,null,3161,null,0.8,null,null,0,{"$f":"BK390","v":10},{"$f":"BL390","v":10.9},21.85,null,1,1,1,727,754,1105,null,0,0,0,1]
["23516",null,null,2,35,40.5,16,16.5,0,26,30,{"$f":"L307","v":48.1},2652,{"$f":"N307","v":6916.3686790875245},{"$f":"O307","v":7167.9744986485921},10511.7,"N/A",1,1,1,{"$error":"#VALUE!"},3806,3945,5785,{"$error":"#VALUE!"},655,679,995,{"$error":"#VALUE!"},5.9764495815398293,6.4211623330501659,13.761041320793508,2.0829999999999999E-4,1.724,4,1.392796E-3,{"$f":"AK307","v":1059},1098,1610,1,1,1,1193,1237,1813,513,532,780,3.6711824794323578,3.9473084230242503,8.4671551549406292,0.7,{"$f":"BA307","v":16.399999999999999},{"$f":"BB307","v":17.7},29.7,null,3900,null,0.68,null,null,0,{"$f":"BK474","v":10},{"$f":"BL474","v":10.9},21.85,null,1,1,1,1193,1237,1813,null,0,0,0,1]
["23520",null,null,2,35,40.5,20,21.5,0,26,30,{"$f":"L310","v":48.1},{"$f":"IF($N476-($BE476*$BG476)>100,$BE476*$BG476,$N476-95)","v":3457.6000000000004},{"$f":"N310","v":6176.0620183272586},{"$f":"O310","v":6765.7106634844222},9017.64,"N/A",1,1,1,{"$f":"ROUND(M476*POWER(CF_heat,Q476),0)","v":{"$error":"#VALUE!"}},{"$f":"ROUND(N476*POWER(CF_heat,R476),0)","v":3399},{"$f":"ROUND(O476*POWER(CF_heat,S476),0)","v":3723},{"$f":"ROUND(P476*POWER(CF_heat,T476),0)","v":4963},{"$error":"#VALUE!"},585,640,854,{"$error":"#VALUE!"},1.2930535062449018,1.5467359836284296,2.7492484012035212,{"$f":"IF($G476=$CO$103,CP$103,IF($G476=$CO$104,CP$104,IF($G476=$CO$105,CP$105,IF($G476=$CO$107,CP$107,IF($G476=$CO$108,CP$108,IF($G476=$CO$109,CP$109,IF($G476=$CO$111,CP$111,IF($G476=$CO$112,CP$112,IF($G476=$CO$113,CP$113,IF($G476=$CO$115,CP$115,IF($G476=$CO$116,CP$116,IF($G476=$CO$117,CP$117,IF($G476=$CO$119,CP$119,IF($G476=$CO$120,CP$120,))))))))))))))","v":1.2760000000000001E-4},{"$f":"IF($G476=$CO$103,CQ$103,IF($G476=$CO$104,CQ$104,IF($G476=$CO$105,CQ$105,IF($G476=$CO$107,CQ$107,IF($G476=$CO$108,CQ$108,IF($G476=$CO$109,CQ$109,IF($G476=$CO$111,CQ$111,IF($G476=$CO$112,CQ$112,IF($G476=$CO$113,CQ$113,IF($G476=$CO$115,CQ$115,IF($G476=$CO$116,CQ$116,IF($G476=$CO$117,CQ$117,IF($G476=$CO$119,CQ$119,IF($G476=$CO$120,CQ$120,))))))))))))))","v":1.7219},{"$f":"IF($G476=$CO$103,CR$103,IF($G476=$CO$104,CR$104,IF($G476=$CO$105,CR$105,IF($G476=$CO$107,CR$107,IF($G476=$CO$108,CR$108,IF($G476=$CO$109,CR$109,IF($G476=$CO$111,CR$111,IF($G476=$CO$112,CR$112,IF($G476=$CO$113,CR$113,IF($G476=$CO$115,CR$115,IF($G476=$CO$116,CR$116,IF($G476=$CO$117,CR$117,IF($G476=$CO$119,CR$119,IF($G476=$CO$120,CR$120,))))))))))))))","v":2},{"$f":"IF($G476=$CO$103,CS$103,IF($G476=$CO$104,CS$104,IF($G476=$CO$105,CS$105,IF($G476=$CO$107,CS$107,IF($G476=$CO$108,CS$108,IF($G476=$CO$109,CS$109,IF($G476=$CO$111,CS$111,IF($G476=$CO$112,CS$112,IF($G476=$CO$113,CS$113,IF($G476=$CO$115,CS$115,IF($G476=$CO$116,CS$116,IF($G476=$CO$117,CS$117,IF($G476=$CO$119,CS$119,IF($G476=$CO$120,CS$120,))))))))))))))","v":3.76611E-4},{"$f":"AK310","v":763.26517311676128},836.13657141043336,1114.44,1,1,1,{"$f":"ROUND(AK476*POWER(CF_cool,AN476),0)","v":860},942,{"$f":"ROUND(AM476*POWER(CF_cool,AP476),0)","v":1255},370,405,540,0.51888832945982821,0.62129442154773762,1.1023482865853123,0.5,{"$f":"BA310","v":16.399999999999999},{"$f":"BB310","v":17.7},29.7,null,4322,null,{"$f":"IF(G476=10,0.9,IF(G476=11,0.68,IF(G476=15,0.8,IF(G476=16,0.68,IF(G476=20,0.8,IF(G476=21,0.8))))))","v":0.8},null,null,0,{"$f":"BK475","v":10},10.9,21.85,null,1,1,1,{"$f":"AQ476/BO476","v":860},942,1255,null,{"$f":"BR476-AQ476","v":0},{"$f":"BS476-AR476","v":0},{"$f":"BT476-AS476","v":0},1]
[{"$f":"CONCATENATE(D477,E477,G477)","v":"23521"},null,null,2,35,40.5,21,21.5,0,26,30,{"$f":"L313","v":48.1},3989.6000000000004,{"$f":"N313","v":8907.2895892451361},{"$f":"O313","v":9231.3217513746804},13537.56,"N/A",1,1,1,{"$error":"#VALUE!"},4902,5080,7450,{"$error":"#VALUE!"},843,874,1281,{"$f":"(($AG477*(Y477^$AH477)*((($F477-14.4)*$AI477)/100))+($AJ477*(Y477^2)))*0.0098","v":{"$error":"#VALUE!"}},{"$f":"(($AG477*(Z477^$AH477)*((($E477-14.4)*$AI477)/100))+($AJ477*(Z477^2)))*0.0098","v":3.6935379711231957},{"$f":"(($AG477*(AA477^$AH477)*((($E477-14.4)*$AI477)/100))+($AJ477*(AA477^2)))*0.0098","v":3.9689728559420545},{"$f":"(($AG477*(AB477^$AH477)*((($E477-14.4)*$AI477)/100))+($AJ477*(AB477^2)))*0.0098","v":8.5002305343045492},1.2760000000000001E-4,1.7219,4,5.1420100000000005E-4,{"$f":"AK313","v":1155.4060454399644},1197.4377673560793,1756.02,1,1,1,1301,1349,1978,559,580,851,{"$f":"(($AG477*(AT477^$AH477)*((($E477-14.4)*$AI477)/100))+($AJ477*(AT477^2)))*0.0098","v":1.6300783251051609},{"$f":"(($AG477*(AU477^$AH477)*((($E477-14.4)*$AI477)/100))+($AJ477*(AU477^2)))*0.0098","v":1.7542444973503548},{"$f":"(($AG477*(AV477^$AH477)*((($E477-14.4)*$AI477)/100))+($AJ477*(AV477^2)))*0.0098","v":3.76367271392543},0.9,{"$f":"BA313","v":16.399999999999999},{"$f":"BB313","v":17.7},29.7,null,4987,null,0.8,null,null,0,{"$f":"BK476","v":10},10.9,21.85,null,1,1,1,1301,{"$f":"AR477/BP477","v":1349},{"$f":"AS477/BQ477","v":1978},null,0,0,0,1]
["23510",null,null,2,35,40.5,10,11.5,0,26,30,{"$f":"L316","v":47.8},1836.9,{"$f":"N316","v":4178.1784000000007},{"$f":"O316","v":4608.2849999999999},6144.38,"N/A",1,1,1,{"$error":"#VALUE!"},2299,2536,3381,{"$error":"#VALUE!"},395,436,582,{"$error":"#VALUE!"},0.61284198687872204,0.74505535368651088,1.3196001613683386,3.969E-4,1.7345999999999999,2,3.6734700000000002E-4,{"$f":"AK316","v":579.25120000000004},638.88,851.84,1,1,1,652,719,959,280,309,412,0.31040082911703132,0.37714241839066115,0.66610921000884138,0.2,{"$f":"BA316","v":16.2},{"$f":"BB316","v":18.600000000000001},31.4,null,2041,null,0.9,null,null,0,{"$f":"BK392","v":10.199999999999999},{"$f":"BL392","v":11.9},21.85,null,{"$f":"IF((237.3*LN(($AQ$1*EXP(17.27*($AM$3/($AM$3+237.3))))))/(17.27-LN(($AQ$1*EXP(17.27*($AM$3/($AM$3+237.3))))))<(($AM$1+$AM$2)/2),1,IF(1/(1+((2258*((0.622/((101325/(1*611*EXP(17.27*((($AM$1+$AM$2)/2)/((($AM$1+$AM$2)/2)+237.3))))))-1)*1000-(0.622/((101325/($AQ$1*611*EXP(17.27*($AM$3/($AM$3+237.3))))))-1)*1000))/(1005*((($AM$1+$AM$2)/2)-$AM$3))))>1,1,1/(1+((2258*((0.622/((101325/(1*611*EXP(17.27*((($AM$1+$AM$2)/2)/((($AM$1+$AM$2)/2)+237.3))))))-1)*1000-(0.622/((101325/($AQ$1*611*EXP(17.27*($AM$3/($AM$3+237.3))))))-1)*1000))/(1005*((($AM$1+$AM$2)/2)-$AM$3))))))","v":1},1,1,652,719,959,null,0,0,0,1]
["23511",null,null,2,35,40.5,11,11.5,0,26,30,{"$f":"L319","v":47.8},1941.4,{"$f":"N319","v":5669.0920000000006},{"$f":"O319","v":6252.6749999999993},8336.9,"N/A",1,1,1,{"$error":"#VALUE!"},3120,3441,4588,{"$error":"#VALUE!"},537,592,789,{"$error":"#VALUE!"},1.7972272841676733,2.1788163556396083,3.8432688665465742,3.969E-4,1.7345999999999999,4,5.7428799999999995E-4,{"$f":"AK319","v":949.51120000000003},1047.2549999999999,1396.34,1,1,1,1069,1179,1573,460,507,676,1.3241355216189312,1.6044172960147869,2.8316835944039918,0.5,{"$f":"BA319","v":16.2},{"$f":"BB319","v":18.600000000000001},31.4,null,2855,null,0.68,null,null,0,{"$f":"BK478","v":10.199999999999999},{"$f":"BL478","v":11.9},21.85,null,1,1,1,1069,1179,1573,null,0,0,0,1]
["23515",null,null,2,35,40.5,15,16.5,0,26,30,{"$f":"L322","v":48.1},2739.2000000000003,{"$f":"N322","v":4942.1733310961072},{"$f":"O322","v":5121.9619484404784},7511.2599999999993,"N/A",1,1,1,{"$error":"#VALUE!"},2720,2819,4134,{"$error":"#VALUE!"},468,485,711,{"$error":"#VALUE!"},1.0250393354211038,1.1005053018582078,2.3573619185371655,2.0829999999999999E-4,1.724,2,4.6182900000000003E-4,{"$f":"AK322","v":653.91552727192982},677.70396216321694,993.84,1,1,1,736,763,1119,316,328,481,0.46909104104849375,0.50520557046832537,1.0825082836665039,0.4,{"$f":"BA322","v":16.399999999999999},{"$f":"BB322","v":17.7},29.7,null,3424,null,0.8,null,null,0,{"$f":"BK393","v":10},{"$f":"BL393","v":10.9},21.85,null,1,1,1,736,763,1119,null,0,0,0,1]
["23516",null,null,2,35,40.5,16,16.5,0,26,30,{"$f":"L325","v":48.1},2893.4,{"$f":"N325","v":7342.4691534710291},{"$f":"O325","v":7609.5768181679023},11159.300000000001,"N/A",1,1,1,{"$error":"#VALUE!"},4041,4188,6141,{"$error":"#VALUE!"},695,720,1056,{"$error":"#VALUE!"},6.7264843301704147,7.2177171574635857,15.495499402925979,2.0829999999999999E-4,1.724,4,1.392796E-3,{"$f":"AK325","v":1068.8700133353962},1107.7538502516963,1624.5,1,1,1,1204,1248,1829,518,537,786,3.7428786713223694,4.0216334078883387,8.5975707050256478,0.7,{"$f":"BA325","v":16.399999999999999},{"$f":"BB325","v":17.7},29.7,null,4255,null,0.68,null,null,0,{"$f":"BK480","v":10},{"$f":"BL480","v":10.9},21.85,null,1,1,1,1204,1248,1829,null,0,0,0,1]
["23520",null,null,2,35,40.5,20,21.5,0,26,30,{"$f":"L328","v":48.1},3746.4,{"$f":"N328","v":6444.5232000000005},{"$f":"O328","v":7107.93},9477.24,"N/A",1,1,1,{"$error":"#VALUE!"},3547,3912,5216,{"$error":"#VALUE!"},610,673,897,{"$error":"#VALUE!"},1.4055553062630124,1.7098182151220112,3.0322141236893234,1.2760000000000001E-4,1.7219,2,3.76611E-4,{"$f":"AK328","v":768.42720000000008},847.53,1130.04,1,1,1,865,954,1273,372,410,547,0.52449246998557841,0.63667416547971534,1.1310171163267424,0.5,{"$f":"BA328","v":16.399999999999999},{"$f":"BB328","v":17.7},29.7,null,4683,null,0.8,null,null,0,{"$f":"BK481","v":10},10.9,21.85,null,1,1,1,865,954,1273,null,0,0,0,1]
["23521",null,null,2,35,40.5,21,21.5,0,26,30,{"$f":"L331","v":48.1},4322.4000000000005,{"$f":"N331","v":9234.8263652613623},{"$f":"O331","v":9570.7750567366256},14035.359999999999,"N/A",1,1,1,{"$error":"#VALUE!"},5082,5267,7724,{"$error":"#VALUE!"},874,906,1329,{"$error":"#VALUE!"},3.9689728559420545,4.263647987759378,9.1466527020301616,1.2760000000000001E-4,1.7219,4,5.1420100000000005E-4,{"$f":"AK331","v":1167.5126679363457},1209.9849719689844,1774.42,1,1,1,1315,1363,1998,565,586,859,1.6650909698349654,1.7905546142927466,3.8344650266159528,0.9,{"$f":"BA331","v":16.399999999999999},{"$f":"BB331","v":17.7},29.7,null,5403,null,0.8,null,null,0,{"$f":"BK482","v":10},10.9,21.85,null,1,1,1,1315,1363,1998,null,0,0,0,1]
["23510",null,null,2,35,40.5,10,11.5,0,26,30,{"$f":"L334","v":47.8},1978.2,{"$f":"N334","v":4331.3824000000004},{"$f":"O334","v":4782.2249168521384},6369.68,"N/A",1,1,1,{"$error":"#VALUE!"},2384,2632,3505,{"$error":"#VALUE!"},410,453,603,{"$error":"#VALUE!"},0.65972825565484805,0.80362677040106723,1.4155400043945847,3.969E-4,1.7345999999999999,2,3.6734700000000002E-4,{"$f":"AK334","v":587.68320000000006},648.85364133524638,864.24,1,1,1,662,731,973,285,314,418,0.32144882327303359,0.38929975778842879,0.68543477916057016,0.2,{"$f":"BA334","v":16.2},{"$f":"BB334","v":18.600000000000001},31.4,null,2198,null,0.9,null,null,0,{"$f":"BK395","v":10.199999999999999},{"$f":"BL395","v":11.9},21.85,null,1,1,1,662,731,973,null,0,0,0,1]
["23511",null,null,2,35,40.5,11,11.5,0,26,30,{"$f":"L337","v":47.8},2090.3200000000002,{"$f":"N337","v":5976.8600000000006},{"$f":"O337","v":6598.9760720588583},8789.5,"N/A",1,1,1,{"$error":"#VALUE!"},3289,3632,4837,{"$error":"#VALUE!"},566,625,832,{"$error":"#VALUE!"},1.9938988075252815,2.4252069893760551,4.2683127516946202,3.969E-4,1.7345999999999999,4,5.7428799999999995E-4,{"$f":"AK337","v":956},1056,1406,1,1,1,1077,1189,1583,463,511,681,1.3412304839994262,1.629499555790014,2.8732121390077174,0.5,{"$f":"BA337","v":16.2},{"$f":"BB337","v":18.600000000000001},31.4,null,3074,null,0.68,null,null,0,{"$f":"BK484","v":10.199999999999999},{"$f":"BL484","v":11.9},21.85,null,1,1,1,1077,1189,1583,null,0,0,0,1]
["23515",null,null,2,35,40.5,15,16.5,0,26,30,{"$f":"L340","v":48.9},2950.4,{"$f":"N340","v":5583.9635634029},{"$f":"O340","v":5708.9475468201636},8483.56,"N/A",1,1,1,{"$error":"#VALUE!"},3073,3142,4669,{"$error":"#VALUE!"},529,540,803,{"$error":"#VALUE!"},1.3082309055266454,1.3629570753282891,3.0039701396871172,2.0829999999999999E-4,1.724,2,4.6182900000000003E-4,{"$f":"AK340","v":762.23344503523219},779.29426056038062,1158.04,1,1,1,858,878,1304,369,378,561,0.63866045194365628,0.67003868893271479,1.470537753786568,0.4,{"$f":"BA340","v":19.3},{"$f":"BB340","v":20.399999999999999},34.5,null,3688,null,0.8,null,null,0,{"$f":"BK396","v":10},{"$f":"BL396","v":10.6},21.85,null,1,1,1,858,878,1304,null,0,0,0,1]
["23516",null,null,2,35,40.5,16,16.5,0,26,30,{"$f":"L343","v":48.9},3094,{"$f":"N343","v":8165.5551181941737},{"$f":"O343","v":8348.321999442087},12405.7,"N/A",1,1,1,{"$error":"#VALUE!"},4494,4594,6827,{"$error":"#VALUE!"},773,790,1174,{"$error":"#VALUE!"},8.3162609795219709,8.6850670509324548,19.142213574132278,2.0829999999999999E-4,1.724,4,1.392796E-3,{"$f":"AK343","v":1250},1278,1900,1,1,1,1408,1439,2140,605,619,920,5.1011185657950628,5.3392424935956937,11.769330341041693,{"$f":"ROUND(IF(G487=10,$CO$92*E487,IF(G487=11,$CO$93*E487,IF(G487=15,$CO$94*E487,IF(G487=16,$CO$95*E487,IF(G487=20,$CO$96*E487,IF(G487=21,$CO$97*E487,)))))),1)","v":0.7},{"$f":"BA343","v":19.3},{"$f":"BB343","v":20.399999999999999},34.5,null,4550,null,0.68,null,null,0,{"$f":"BK486","v":10},{"$f":"BL486","v":10.6},21.85,null,1,1,1,1408,1439,2140,null,0,0,0,1]
["23520",null,null,2,35,40.5,20,21.5,0,26,30,{"$f":"L346","v":48.9},4034.4,{"$f":"N346","v":7236.8592000000008},{"$f":"O346","v":7990.1253664397382},10642.44,"N/A",1,1,1,{"$error":"#VALUE!"},3983,4397,5857,{"$error":"#VALUE!"},685,756,1007,{"$error":"#VALUE!"},1.771142225212722,2.1560304081722008,3.8190039841927472,1.2760000000000001E-4,1.7219,2,3.76611E-4,{"$f":"AK346","v":894.36320000000012},987.455178225689,1315.24,1,1,1,1007,1112,1481,433,478,637,0.70983639932338238,0.86445401011520862,1.5323146407431509,0.5,{"$f":"BA346","v":19.3},{"$f":"BB346","v":20.399999999999999},34.5,null,5043,null,0.8,null,null,0,{"$f":"BK487","v":10},10.6,21.85,null,1,1,1,1007,1112,1481,null,0,0,0,1]
["23521",null,null,2,35,40.5,21,21.5,0,26,30,{"$f":"L351","v":48.9},4654.4000000000005,{"$f":"N351","v":10516.06232539558},10751.439821034392,15976.76,"N/A",1,1,1,{"$error":"#VALUE!"},5787,5917,8793,{"$error":"#VALUE!"},995,1018,1512,{"$error":"#VALUE!"},5.1385123248993674,5.3778252402480353,11.827788387422299,1.2760000000000001E-4,1.7219,4,5.1420100000000005E-4,{"$f":"AK351","v":1261.7808956926551},1290.0229142432502,1916.9885000000002,1,1,1,1421,1453,2159,611,625,928,1.9458362100713587,2.0356041197814125,4.4723383195393982,0.9,{"$f":"BA351","v":19.3},{"$f":"BB351","v":20.399999999999999},34.5,null,5818,null,0.8,null,null,0,{"$f":"BK488","v":10},10.6,21.85,null,1,1,1,1421,1453,2159,null,0,0,0,1]
["25010",null,null,2,50,40.5,10,11.5,0,26,30,38.799999999999997,433.8,649,695,812,"N/A",1,1,1,{"$error":"#VALUE!"},357,382,447,{"$error":"#VALUE!"},61,66,77,{"$error":"#VALUE!"},1.6856751266721096E-2,1.9649569861972367E-2,2.6528749578285899E-2,3.969E-4,1.7345999999999999,2,3.6734700000000002E-4,90.020119234756137,96.328259324977694,112.64,1,1,1,101,108,127,43,46,55,8.5435299472639802E-3,9.7389247694595928E-3,1.3782148323783661E-2,0.3,3.6,4.0999999999999996,5.0999999999999996,null,482,null,0.9,null,null,0,14.2,16.2,21.85,null,1,1,1,101,108,127,null,0,0,0,1]
["25011",null,null,2,50,40.5,11,11.5,0,26,30,38.799999999999997,445.40000000000003,881.02076921515595,942.75810617769378,1102.4000000000001,"N/A",1,1,1,{"$error":"#VALUE!"},485,519,607,{"$error":"#VALUE!"},83,89,104,{"$error":"#VALUE!"},5.0581449721562158E-2,5.7909532281901183E-2,7.8337473292542523E-2,3.969E-4,1.7345999999999999,4,5.7428799999999995E-4,147.56138863197239,157.90172054122763,184.64,1,1,1,166,178,208,71,77,89,3.7378477580393518E-2,4.3737236851371791E-2,5.7909532281901183E-2,0.7,3.6,4.0999999999999996,5.0999999999999996,null,655,null,0.68,null,null,0,14.2,16.2,21.85,null,1,1,1,166,178,208,null,0,0,0,1]
["25010",null,null,2,50,40.5,10,11.5,0,26,30,40,520.20000000000005,841.69225687813923,901.35950941531064,1066.3800000000001,"N/A",1,1,1,{"$error":"#VALUE!"},463,496,587,{"$error":"#VALUE!"},80,85,101,{"$error":"#VALUE!"},2.8579714214582792E-2,3.2164000719768313E-2,4.5023700356358637E-2,3.969E-4,1.7345999999999999,2,3.6734700000000002E-4,116.68990721587436,124.96201154556491,147.84,1,1,1,131,141,166,56,61,71,1.4273569595905599E-2,1.6856751266721096E-2,2.265141135559676E-2,0.3,4.8,5.4,6.8,null,578,null,0.9,null,null,0,13.6,15.6,21.85,null,1,1,1,131,141,166,null,0,0,0,1]
["25011",null,null,2,50,40.5,11,11.5,0,26,30,40,533.80000000000007,1142.0361657917249,1222.9946868592929,1446.9,"N/A",1,1,1,{"$error":"#VALUE!"},629,673,796,{"$error":"#VALUE!"},108,116,137,{"$error":"#VALUE!"},8.4291610929428482E-2,9.6837644233039491E-2,0.13380143219840204,3.969E-4,1.7345999999999999,4,5.7428799999999995E-4,191,205,242,1,1,1,215,231,273,92,99,117,6.1754568296514663E-2,7.119439866217929E-2,9.8465594127498932E-2,0.7,4.8,5.4,6.8,null,785,null,0.68,null,null,0,13.6,15.6,21.85,null,1,1,1,215,231,273,null,0,0,0,1]
["25015",null,null,2,50,40.5,15,16.5,0,26,30,41.1,736,957.19258357509659,1027.5250511543745,1359.96,"N/A",1,1,1,{"$error":"#VALUE!"},527,565,748,{"$error":"#VALUE!"},91,97,129,{"$error":"#VALUE!"},4.0944812331933665E-2,4.6453341327926473E-2,8.1640780383557099E-2,2.0829999999999999E-4,1.724,2,4.6182900000000003E-4,{"$f":"AK42","v":423.65815696218516},140.26129481477255,185.64,1,1,1,477,158,209,205,68,90,0.2042578754121534,2.3025077633161313E-2,4.0060224873072779E-2,0.5,4.8,5.5,7.2,null,920,null,0.8,null,null,0,12.3,14.4,21.85,null,1,1,1,477,158,209,null,0,0,0,1]
["25016",null,null,2,50,40.5,16,16.5,0,26,30,41.1,796.28000000000009,1399.7241764138612,1502.5729206967153,1988.7,"N/A",1,1,1,{"$error":"#VALUE!"},770,827,1094,{"$error":"#VALUE!"},132,142,188,{"$error":"#VALUE!"},0.25098833843335722,0.29015344582237829,0.50663880820302065,2.0829999999999999E-4,1.724,4,1.392796E-3,214,230,305,1,1,1,241,259,343,104,111,147,0.15635742887817136,0.17793679206203214,0.31079447051980175,1,4.8,5.5,7.2,null,1171,null,0.68,null,null,0,12.3,14.4,21.85,null,1,1,1,241,259,343,null,0,0,0,1]
["25020",null,null,2,50,40.5,20,21.5,0,26,30,41.1,1017.6,1346.575008837732,1442.0332127786496,1706.04,"N/A",1,1,1,{"$error":"#VALUE!"},741,794,939,{"$error":"#VALUE!"},127,137,162,{"$error":"#VALUE!"},6.3262046345748349E-2,7.3526184673989151E-2,0.10253805793846148,1.2760000000000001E-4,1.7219,2,3.76611E-4,166.41571994991173,178.21286873827722,210.84,1,1,1,187,201,237,80,86,102,2.5305605442738032E-2,2.9205028156272878E-2,4.0958516653925137E-2,0.7,4.8,5.5,7.2,null,1272,null,0.8,null,null,0,12.3,14.4,21.85,null,1,1,1,187,201,237,null,0,0,0,1]
["25021",null,null,2,50,40.5,21,21.5,0,26,30,41.1,1230.4000000000001,1802.6437228662567,1935.0981352499616,2561.16,"N/A",1,1,1,{"$error":"#VALUE!"},992,1065,1410,{"$error":"#VALUE!"},171,183,243,{"$error":"#VALUE!"},0.15981222050346897,0.18276234298618435,0.32038038319001882,1.2760000000000001E-4,1.7219,4,5.1420100000000005E-4,233.82931859416351,251.01059773412922,332.22,1,1,1,263,283,374,113,122,161,7.0451520676393764E-2,8.1970707928894049E-2,0.14185395296776526,1.3,4.8,5.5,7.2,null,1538,null,0.8,null,null,0,12.3,14.4,21.85,null,1,1,1,263,283,374,null,0,0,0,1]
["25010",null,null,2,50,40.5,10,11.5,0,26,30,41,607.5,1029.7403904507714,1104.2859635902939,1320.28,"N/A",1,1,1,{"$error":"#VALUE!"},567,608,727,{"$error":"#VALUE!"},98,105,125,{"$error":"#VALUE!"},4.2451534061751471E-2,4.8568558283559771E-2,6.8263999670427677E-2,3.969E-4,1.7345999999999999,2,3.6734700000000002E-4,142.7603849699376,153.09517888293954,183.04,1,1,1,161,172,206,69,74,89,2.1425628854501055E-2,2.455261317068002E-2,3.5180588178350597E-2,0.3,5.5,5.9,7.9,null,675,null,0.9,null,null,0,13.2,15.1,21.85,null,1,1,1,161,172,206,null,0,0,0,1]
["25011",null,null,2,50,40.5,11,11.5,0,26,30,41,622.88,1397.1861540381678,1498.3320774196782,1791.4,"N/A",1,1,1,{"$error":"#VALUE!"},769,825,986,{"$error":"#VALUE!"},132,142,170,{"$error":"#VALUE!"},0.1244724375256963,0.14345964011041337,0.20360927345982857,3.969E-4,1.7345999999999999,4,5.7428799999999995E-4,234.01347195356249,250.95431311209123,300.04000000000002,1,1,1,264,283,338,114,122,145,9.3621513464093989E-2,0.1068040082104956,0.14941239799591194,0.7,5.5,5.9,7.9,null,916,null,0.68,null,null,0,13.2,15.1,21.85,null,1,1,1,264,283,338,null,0,0,0,1]
["25015",null,null,2,50,40.5,15,16.5,0,26,30,41.1,858.40000000000009,1070.8273541699666,1149.5094620994566,1521.41,"N/A",1,1,1,{"$error":"#VALUE!"},589,633,837,{"$error":"#VALUE!"},101,109,144,{"$error":"#VALUE!"},5.0317016183772344E-2,5.8503131500158123E-2,0.101495176581089,2.0829999999999999E-4,1.724,2,4.6182900000000003E-4,135.09481491470635,145.02129350758159,191.94,1,1,1,152,163,216,65,70,93,2.1062280969214673E-2,2.4381702477567675E-2,4.2742708328092759E-2,0.5,5.0999999999999996,5.6,7.2,null,1073,null,0.8,null,null,0,12.3,14.4,21.85,null,1,1,1,152,163,216,null,0,0,0,1]
["25016",null,null,2,50,40.5,16,16.5,0,26,30,41.1,928.88000000000011,1627.62717250317,1747.2217424001376,2312.5,"N/A",1,1,1,{"$error":"#VALUE!"},896,962,1273,{"$error":"#VALUE!"},154,165,219,{"$error":"#VALUE!"},0.34087684755517184,0.39094098207603256,0.68614184472357698,2.0829999999999999E-4,1.724,4,1.392796E-3,219.59769851718443,235.73326859625641,312,1,1,1,247,265,351,106,114,151,0.16238147174637194,0.18760945797203377,0.32781515330064936,1,5.0999999999999996,5.6,7.2,null,1366,null,0.68,null,null,0,12.3,14.4,21.85,null,1,1,1,247,265,351,null,0,0,0,1]
["25020",null,null,2,50,40.5,20,21.5,0,26,30,41.1,1187.2,1509.840819712653,1619.1421060355642,1935.84,"N/A",1,1,1,{"$error":"#VALUE!"},831,891,1065,{"$error":"#VALUE!"},143,153,183,{"$error":"#VALUE!"},8.0052544185709062E-2,9.154255137943712E-2,0.13060358541119216,1.2760000000000001E-4,1.7219,2,3.76611E-4,170.52628152222005,182.87112058001478,218.64000000000001,1,1,1,192,206,246,83,89,106,2.722064232053574E-2,3.1258734302214958E-2,4.4204525359448472E-2,0.7,5.0999999999999996,5.6,7.2,null,1484,null,0.8,null,null,0,12.3,14.4,21.85,null,1,1,1,192,206,246,null,0,0,0,1]
["25010",null,null,2,50,40.5,10,11.5,0,26,30,41.8,693.9,1214.2269940407766,1304.1433704057049,1574.18,"N/A",1,1,1,{"$error":"#VALUE!"},668,718,866,{"$error":"#VALUE!"},115,123,149,{"$error":"#VALUE!"},5.8006184387917333E-2,6.614693018965527E-2,9.6216426188476686E-2,3.969E-4,1.7345999999999999,2,3.6734700000000002E-4,168.33710197020613,180.80286190736828,218.24,1,1,1,190,204,246,82,88,106,2.9988545016552074E-2,3.4414024920846102E-2,4.947534473121127E-2,0.3,6.3,6.8,9.1,null,771,null,0.9,null,null,0,12.8,14.7,21.85,null,1,1,1,190,204,246,null,0,0,0,1]
["25011",null,null,2,50,40.5,11,11.5,0,26,30,41.8,711.96,1647.5037394527276,1769.505282019556,2135.9,"N/A",1,1,1,{"$error":"#VALUE!"},907,974,1175,{"$error":"#VALUE!"},156,168,202,{"$error":"#VALUE!"},0.17225025694657178,0.19897248457760222,0.28488913055761989,3.969E-4,1.7345999999999999,4,5.7428799999999995E-4,276,296,358,1,1,1,311,333,403,134,143,173,0.12816449995473517,0.1454307470750483,0.21066241480460138,0.7,6.3,6.8,9.1,null,1047,null,0.68,null,null,0,12.8,14.7,21.85,null,1,1,1,311,333,403,null,0,0,0,1]
["25016",null,null,2,50,40.5,16,16.5,0,26,30,42.4,1061.48,2040.4331716148024,2188.0092071816284,2935.7,"N/A",1,1,1,{"$error":"#VALUE!"},1123,1204,1616,{"$error":"#VALUE!"},193,207,278,{"$error":"#VALUE!"},0.53376183532582666,0.61344949221619227,1.1024092789703548,2.0829999999999999E-4,1.724,4,1.392796E-3,312,335,450,1,1,1,351,377,507,151,162,218,0.32781515330064936,0.37694881869532509,0.6799294709839987,1,6,6.7,9,null,1561,null,0.68,null,null,0,11.8,13.7,21.85,null,1,1,1,351,377,507,null,0,0,0,1]
["25020",null,null,2,50,40.5,20,21.5,0,26,30,42.4,1356.8000000000002,1942.5718983039128,2086.4239348515057,2518.44,"N/A",1,1,1,{"$error":"#VALUE!"},1069,1148,1386,{"$error":"#VALUE!"},184,197,238,{"$error":"#VALUE!"},0.13202412573774117,0.15118635140352535,0.22007091536739209,1.2760000000000001E-4,1.7219,2,3.76611E-4,240.07166246887351,257.84953601562182,311.24,1,1,1,270,290,351,116,125,151,5.2857329211883422E-2,6.1301230610913297E-2,8.9183295500180879E-2,0.7,6,6.7,9,null,1696,null,0.8,null,null,0,11.8,13.7,21.85,null,1,1,1,270,290,351,null,0,0,0,1]
["25010",null,null,2,50,40.5,10,11.5,0,26,30,42.4,781.2,1395.6272192501513,1501.3000140389001,1828.08,"N/A",1,1,1,{"$error":"#VALUE!"},768,826,1006,{"$error":"#VALUE!"},132,142,173,{"$error":"#VALUE!"},7.5931298068448158E-2,8.7578510316806676E-2,0.12885508415490071,3.969E-4,1.7345999999999999,2,3.6734700000000002E-4,193.48593193227777,208.13611852764589,253.44,1,1,1,218,234,285,94,101,123,3.9137424462603425E-2,4.5023700356358637E-2,6.614693018965527E-2,0.3,6.7,7.4,10.3,null,868,null,0.9,null,null,0,12.5,14.7,21.85,null,1,1,1,218,234,285,null,0,0,0,1]
["25011",null,null,2,50,40.5,11,11.5,0,26,30,42.4,801.04000000000008,1893.6336235985709,2037.0140009310799,2480.4,"N/A",1,1,1,{"$error":"#VALUE!"},1042,1121,1365,{"$error":"#VALUE!"},179,193,235,{"$error":"#VALUE!"},0.22512107231333536,0.26068222660602169,0.38263184956744106,3.969E-4,1.7345999999999999,4,5.7428799999999995E-4,317.16301910489852,341.17767156378318,415.44,1,1,1,357,384,468,154,165,201,0.16797986049684144,0.19211531609129209,0.28214751911772651,0.7,6.7,7.4,10.3,null,1178,null,0.68,null,null,0,12.5,14.7,21.85,null,1,1,1,357,384,468,null,0,0,0,1]
["25016",null,null,2,50,40.5,16,16.5,0,26,30,43.3,1194.0800000000002,2336.669516687492,2503.3688418217644,3409.2,"N/A",1,1,1,{"$error":"#VALUE!"},1286,1378,1876,{"$error":"#VALUE!"},221,237,323,{"$error":"#VALUE!"},0.69865094715249376,0.80277188698963409,1.4855871839929942,2.0829999999999999E-4,1.724,4,1.392796E-3,357.77938745479025,383.30357134546551,522,1,1,1,403,432,588,173,186,253,0.4294934640216595,0.49598666620068316,0.9140867050433541,1,7,7.7,10.7,null,1756,null,0.68,null,null,0,11.3,13.2,21.85,null,1,1,1,403,432,588,null,0,0,0,1]
["25020",null,null,2,50,40.5,20,21.5,0,26,30,43.3,1526.4,2232.7836804230465,2401.8435041457315,2924.64,"N/A",1,1,1,{"$error":"#VALUE!"},1229,1322,1610,{"$error":"#VALUE!"},211,227,277,{"$error":"#VALUE!"},0.17326582589077111,0.20033100666275019,0.2974880411492884,1.2760000000000001E-4,1.7219,2,3.76611E-4,275.93732338069162,296.83048721840407,361.44,1,1,1,311,334,407,134,144,175,7.0366451865746013E-2,8.1167083828897452E-2,0.11951439061179341,0.7,7,7.7,10.7,null,1908,null,0.8,null,null,0,11.3,13.2,21.85,null,1,1,1,311,334,407,null,0,0,0,1]
["25010",null,null,2,50,40.5,10,11.5,0,26,30,43,867.6,1574.3905475253332,1696.1265760133244,2081.98,"N/A",1,1,1,{"$error":"#VALUE!"},866,933,1146,{"$error":"#VALUE!"},149,160,197,{"$error":"#VALUE!"},9.6216426188476686E-2,0.11059546311747542,0.1661589281355097,3.969E-4,1.7345999999999999,2,3.6734700000000002E-4,218.26918973175157,235.14633901405676,288.64,1,1,1,246,265,325,106,114,140,4.947534473121127E-2,5.7025474974446995E-2,8.5183832638702703E-2,0.3,7.8,8.6999999999999993,12.2,null,964,null,0.9,null,null,0,12.3,14.1,21.85,null,1,1,1,246,265,325,null,0,0,0,1]
["25011",null,null,2,50,40.5,11,11.5,0,26,30,43,890.12000000000012,2136.1856779144437,2301.3611872256411,2824.9,"N/A",1,1,1,{"$error":"#VALUE!"},1176,1267,1555,{"$error":"#VALUE!"},202,218,267,{"$error":"#VALUE!"},0.28488913055761989,0.33051885241141804,0.49084406666281616,3.969E-4,1.7345999999999999,4,5.7428799999999995E-4,358,385,473,1,1,1,403,434,533,173,187,229,0.21066241480460138,0.2451292848377169,0.3638124027946455,0.7,7.8,8.6999999999999993,12.2,null,1309,null,0.68,null,null,0,12.3,14.1,21.85,null,1,1,1,403,434,533,null,0,0,0,1]
["25016",null,null,2,50,40.5,16,16.5,0,26,30,44.1,1326.68,2630.3871448118639,2816.5633812075234,3882.7,"N/A",1,1,1,{"$error":"#VALUE!"},1448,1550,2137,{"$error":"#VALUE!"},249,267,368,{"$error":"#VALUE!"},0.88558378053471742,1.0173855040492645,1.925537388988942,2.0829999999999999E-4,1.724,4,1.392796E-3,403,431,595,1,1,1,454,485,670,195,209,288,0.54480808909608713,0.62528362005028371,1.1826506238835808,1,7,7.7,10.7,null,1951,null,0.68,null,null,0,10.9,12.8,21.85,null,1,1,1,454,485,670,null,0,0,0,1]
["25020",null,null,2,50,40.5,20,21.5,0,26,30,44.1,1696,2518.7768428703835,2713.5353098724395,3330.84,"N/A",1,1,1,{"$error":"#VALUE!"},1386,1493,1833,{"$error":"#VALUE!"},238,257,315,{"$error":"#VALUE!"},0.22007091536739209,0.25633952434269802,0.38405853596297518,1.2760000000000001E-4,1.7219,2,3.76611E-4,311.2816285378957,335.35074484391049,411.64,1,1,1,351,378,464,151,163,200,8.9183295500180879E-2,0.10379803948862265,0.15579170242019411,0.7,7,7.7,10.7,null,2120,null,0.8,null,null,0,10.9,12.8,21.85,null,1,1,1,351,378,464,null,0,0,0,1]
["25011",null,null,2,50,40.5,11,11.5,0,26,30,43.5,979.2,2396.6961264405954,2582.0149905458411,3169.4,"N/A",1,1,1,{"$error":"#VALUE!"},1319,1421,1744,{"$error":"#VALUE!"},227,244,300,{"$error":"#VALUE!"},0.35764263105439981,0.4117325438077416,0.61622834738091425,3.969E-4,1.7345999999999999,4,5.7428799999999995E-4,401.42051232401269,432.4594048025981,530.84,1,1,1,452,487,598,194,209,257,0.26331990538597583,0.30444375859879691,0.45561080213127936,0.7,8.4,9.3000000000000007,14,null,1440,null,0.68,null,null,0,12,13.9,21.85,null,1,1,1,452,487,598,null,0,0,0,1]
["25015",null,null,2,50,40.5,15,16.5,0,26,30,44.1,1348.8000000000002,1908.1501882577959,2043.2071973479594,2816.6099999999997,"N/A",1,1,1,{"$error":"#VALUE!"},1050,1124,1550,{"$error":"#VALUE!"},181,193,267,{"$error":"#VALUE!"},0.15961432881381588,0.18125380298911337,0.34481529550283235,2.0829999999999999E-4,1.724,2,4.6182900000000003E-4,249.80785427097814,267.48901053042016,368.74,1,1,1,281,301,415,121,129,178,7.1927978914003279E-2,8.1640780383557099E-2,0.15441780490188597,0.5,7.9,8.8000000000000007,12.5,null,1686,null,0.8,null,null,0,10.9,12.8,21.85,null,1,1,1,281,301,415,null,0,0,0,{"$f":"IF(SUM(BV524:BX524)=0,1,0)","v":1}]
["25020",null,null,2,50,40.5,20,21.5,0,26,30,44.1,1865.6000000000001,2692.551301713082,2900.746468081386,3560.6400000000003,"N/A",1,1,1,{"$error":"#VALUE!"},1482,1596,1960,{"$f":"ROUND(U526*3600/(4186*ABS($O$1-$O$2)),0)","v":{"$error":"#VALUE!"}},{"$f":"ROUND(V526*3600/(4186*ABS($O$1-$O$2)),0)","v":255},{"$f":"ROUND(W526*3600/(4186*ABS($O$1-$O$2)),0)","v":275},{"$f":"ROUND(X526*3600/(4186*ABS($O$1-$O$2)),0)","v":337},{"$error":"#VALUE!"},0.25239223746186851,0.29323612039712416,0.43919838533652961,1.2760000000000001E-4,1.7219,2,3.76611E-4,317.17997831584631,341.70517057946222,419.44,1,1,1,357,385,472,{"$f":"ROUND(AQ526*3600/(4186*ABS($AM$1-$AM$2)),0)","v":154},{"$f":"ROUND(AR526*3600/(4186*ABS($AM$1-$AM$2)),0)","v":166},{"$f":"ROUND(AS526*3600/(4186*ABS($AM$1-$AM$2)),0)","v":203},9.2733661730742101E-2,0.10762388235803309,0.16046576990645536,0.7,7.9,8.8000000000000007,12.5,null,2332,null,0.8,null,null,0,10.9,12.8,21.85,null,1,1,1,357,385,472,null,0,0,0,1]
["25021",null,null,2,50,40.5,21,21.5,0,26,30,44.1,2256,3556.1815292902165,3807.8845891872675,5249.2599999999993,"N/A",1,1,1,{"$error":"#VALUE!"},1957,2096,2889,{"$error":"#VALUE!"},337,361,497,{"$error":"#VALUE!"},0.61237208637285934,0.70182853580223492,1.3229628087271896,1.2760000000000001E-4,1.7219,4,5.1420100000000005E-4,445.64897406447591,477.19157375690452,657.82,1,1,1,502,537,741,216,231,319,0.25374050059068026,0.28981169713826199,0.54925492516355467,1.3,7.9,8.8000000000000007,12.5,null,2820,null,0.8,null,null,0,10.9,12.8,21.85,null,1,1,1,502,537,741,null,0,0,0,1]
["25011",null,null,2,50,40.5,11,11.5,0,26,30,44,1068.28,2611.8926414972211,2821.6982019103875,3513.9,"N/A",1,1,1,{"$error":"#VALUE!"},1437,1553,1934,{"$error":"#VALUE!"},247,267,333,{"$error":"#VALUE!"},0.42166498346517917,0.49084406666281616,0.75556251719787515,3.969E-4,1.7345999999999999,4,5.7428799999999995E-4,437,473,589,1,1,1,492,533,663,212,229,285,0.31301884254146045,0.3638124027946455,0.55750314599864048,0.7,8.9,9.9,14.8,null,1571,null,0.68,null,null,0,11.8,13.7,21.85,null,1,1,1,492,533,663,null,0,0,0,1]
["25015",null,null,2,50,40.5,15,16.5,0,26,30,44.8,1472,2216.9073865755149,2373.9948983307781,3302.76,"N/A",1,1,1,{"$error":"#VALUE!"},1220,1307,1818,{"$error":"#VALUE!"},210,225,313,{"$error":"#VALUE!"},0.21424540881696033,0.24562772645979991,0.47255531705345388,2.0829999999999999E-4,1.724,2,4.6182900000000003E-4,302.61675876046246,324.05983479376272,450.84,1,1,1,341,365,508,147,157,218,0.1057229803541009,0.12043364691537217,0.23071769536319933,0.5,8.6999999999999993,9.8000000000000007,14.3,null,1840,null,0.8,null,null,0,10.6,12.5,21.85,null,1,1,1,341,365,508,null,0,0,0,1]
["25020",null,null,2,50,40.5,20,21.5,0,26,30,44.8,2035.2,3079.6829926739365,3327.0647594078355,4143.24,"N/A",1,1,1,{"$error":"#VALUE!"},1695,1831,2280,{"$error":"#VALUE!"},292,315,392,{"$error":"#VALUE!"},0.33034800378027102,0.38405853596297518,0.59313898202435134,1.2760000000000001E-4,1.7219,2,3.76611E-4,380.60090160569081,411.17343900116532,512.04,1,1,1,429,463,577,184,199,248,0.13202412573774117,0.1542489497804331,0.23881673280914789,0.7,8.6999999999999993,9.8000000000000007,14.3,null,2544,null,0.8,null,null,0,10.6,12.5,21.85,null,1,1,1,429,463,577,null,0,0,0,1]
["25021",null,null,2,50,40.5,21,21.5,0,26,30,44.8,2461.6000000000004,4175.015825613802,4470.8526528786542,6219.96,"N/A",1,1,1,{"$error":"#VALUE!"},2298,2460,3423,{"$error":"#VALUE!"},395,423,589,{"$error":"#VALUE!"},0.83891907752497197,0.96093006746000131,1.8530148181931771,1.2760000000000001E-4,1.7219,4,5.1420100000000005E-4,541.56076058716258,579.9351342123673,806.82,1,1,1,610,653,909,262,281,391,0.37189000326866878,0.42720777408669608,0.82216066392271181,1.3,8.6999999999999993,9.8000000000000007,14.3,null,3077,null,0.8,null,null,0,10.6,12.5,21.85,null,1,1,1,610,653,909,null,0,0,0,1]
["25011",null,null,2,50,40.5,11,11.5,0,26,30,44.8,1246.44,3077.015307780141,3332.5766142436496,4202.8999999999996,"N/A",1,1,1,{"$error":"#VALUE!"},1693,1834,2313,{"$error":"#VALUE!"},291,315,398,{"$error":"#VALUE!"},0.58064707307058816,0.67783566302033271,1.0706337411510787,3.969E-4,1.7345999999999999,4,5.7428799999999995E-4,515,558,704,1,1,1,580,628,793,249,270,341,0.42835107049060483,0.50166485197172994,0.79143596625669854,0.7,10.1,11.2,17.5,null,1833,null,0.68,null,null,0,11.5,13.3,21.85,null,1,1,1,580,628,793,null,0,0,0,1]
["25015",null,null,2,50,40.5,15,16.5,0,26,30,45.4,1716.8000000000002,2628.9846104428207,2815.4584574952669,3950.36,"N/A",1,1,1,{"$error":"#VALUE!"},1447,1549,2174,{"$error":"#VALUE!"},249,266,374,{"$error":"#VALUE!"},0.30026546709115881,0.34226004331684162,0.67269834761105474,2.0829999999999999E-4,1.724,2,4.6182900000000003E-4,358.86695423586366,384.32138301819265,539.24,1,1,1,404,433,607,174,186,261,0.14762191236135028,0.1684648716851416,0.32962539589834622,0.5,9.6,10.5,16.100000000000001,null,2146,null,0.8,null,null,0,10.4,12.2,21.85,null,1,1,1,404,433,607,null,0,0,0,1]
["25020",null,null,2,50,40.5,20,21.5,0,26,30,45.4,2374.4,3628.1091959950468,3929.4415695377957,4955.6400000000003,"N/A",1,1,1,{"$error":"#VALUE!"},1997,2163,2727,{"$error":"#VALUE!"},343,372,469,{"$error":"#VALUE!"},0.4548750855693664,0.53450205086206759,0.84723312496806091,1.2760000000000001E-4,1.7219,2,3.76611E-4,448.37784746172167,485.61784045001809,612.44000000000005,1,1,1,505,547,690,217,235,297,0.18318639684288138,0.21459580960785987,0.34168185308747612,0.7,9.6,10.5,16.100000000000001,null,2968,null,0.8,null,null,0,10.4,12.2,21.85,null,1,1,1,505,547,690,null,0,0,0,1]
["25021",null,null,2,50,40.5,21,21.5,0,26,30,45.4,2872,4951.0649025572329,5302.2438770247491,7439.56,"N/A",1,1,1,{"$error":"#VALUE!"},2725,2918,4094,{"$error":"#VALUE!"},469,502,704,{"$error":"#VALUE!"},1.1792283277623221,1.3494937693320814,2.6399955541471729,1.2760000000000001E-4,1.7219,4,5.1420100000000005E-4,642.22570316870622,687.77876463210498,965.02,1,1,1,723,775,1087,311,333,467,0.52229719288293552,0.59805149859874707,1.1692758731530035,1.3,9.6,10.5,16.100000000000001,null,3590,null,0.8,null,null,0,10.4,12.2,21.85,null,1,1,1,723,775,1087,null,0,0,0,1]
[{"$f":"CONCATENATE(D541,E541,G541)","v":"25011"},null,null,2,50,40.5,11,11.5,0,26,30,45.5,1423.92,3533.107636511756,3835.359341571188,4891.8999999999996,"N/A",1,1,1,{"$error":"#VALUE!"},1944,2111,2692,{"$error":"#VALUE!"},334,363,463,{"$f":"(($AG541*(Y541^$AH541)*((($F541-14.4)*$AI541)/100))+($AJ541*(Y541^2)))*0.0098","v":{"$error":"#VALUE!"}},{"$f":"(($AG541*(Z541^$AH541)*((($E541-14.4)*$AI541)/100))+($AJ541*(Z541^2)))*0.0098","v":0.760002026874535},{"$f":"(($AG541*(AA541^$AH541)*((($E541-14.4)*$AI541)/100))+($AJ541*(AA541^2)))*0.0098","v":0.89429612658820368},{"$f":"(($AG541*(AB541^$AH541)*((($E541-14.4)*$AI541)/100))+($AJ541*(AB541^2)))*0.0098","v":1.4393544768153193},3.969E-4,1.7345999999999999,4,5.7428799999999995E-4,592,642,819,1,1,1,667,723,922,287,311,396,{"$f":"(($AG541*(AT541^$AH541)*((($E541-14.4)*$AI541)/100))+($AJ541*(AT541^2)))*0.0098","v":0.5651664815753582},{"$f":"(($AG541*(AU541^$AH541)*((($E541-14.4)*$AI541)/100))+($AJ541*(AU541^2)))*0.0098","v":0.66112549788726427},{"$f":"(($AG541*(AV541^$AH541)*((($E541-14.4)*$AI541)/100))+($AJ541*(AV541^2)))*0.0098","v":1.0601379017040249},0.7,11,12.4,19.2,null,2094,null,0.68,null,null,0,11.2,13,21.85,null,1,1,1,667,{"$f":"AR541/BP541","v":723},{"$f":"AS541/BQ541","v":922},null,0,0,0,1]
["25015",null,null,2,50,40.5,15,16.5,0,26,30,46.4,1962.4,3021.1783832091446,3225.6120441880121,4597.96,"N/A",1,1,1,{"$error":"#VALUE!"},1663,1775,2530,{"$error":"#VALUE!"},286,305,435,{"$error":"#VALUE!"},0.3951582317306408,0.44890637730192223,0.90784022629442929,2.0829999999999999E-4,1.724,2,4.6182900000000003E-4,412.40297880742492,440.30899429620177,627.64,1,1,1,464,496,707,200,213,304,0.19450707519354907,0.22035153191716619,0.44599267314074653,0.5,11.5,12.8,19.600000000000001,null,2453,null,0.8,null,null,0,10,11.8,21.85,null,{"$f":"IF((237.3*LN(($AQ$1*EXP(17.27*($AM$3/($AM$3+237.3))))))/(17.27-LN(($AQ$1*EXP(17.27*($AM$3/($AM$3+237.3))))))<(($AM$1+$AM$2)/2),1,IF(1/(1+((2258*((0.622/((101325/(1*611*EXP(17.27*((($AM$1+$AM$2)/2)/((($AM$1+$AM$2)/2)+237.3))))))-1)*1000-(0.622/((101325/($AQ$1*611*EXP(17.27*($AM$3/($AM$3+237.3))))))-1)*1000))/(1005*((($AM$1+$AM$2)/2)-$AM$3))))>1,1,1/(1+((2258*((0.622/((101325/(1*611*EXP(17.27*((($AM$1+$AM$2)/2)/((($AM$1+$AM$2)/2)+237.3))))))-1)*1000-(0.622/((101325/($AQ$1*611*EXP(17.27*($AM$3/($AM$3+237.3))))))-1)*1000))/(1005*((($AM$1+$AM$2)/2)-$AM$3))))))","v":1},1,1,464,496,707,null,0,0,0,1]
["25020",null,null,2,50,40.5,20,21.5,0,26,30,46.4,2713.6000000000004,4165.887726998767,4522.2727563025155,5768.04,"N/A",1,1,1,{"$error":"#VALUE!"},2293,2489,3174,{"$error":"#VALUE!"},394,428,546,{"$error":"#VALUE!"},0.59916971653243023,0.70633730997358934,1.1462798161372405,1.2760000000000001E-4,1.7219,2,3.76611E-4,514.83890668473202,558.88255136973487,712.84,1,1,1,580,629,803,249,270,345,0.24073323143117262,0.28273956186675986,0.4601614529075676,0.7,11.5,12.8,19.600000000000001,null,3392,null,0.8,null,null,0,10,11.8,21.85,null,1,1,1,580,629,803,null,0,0,0,1]
["25021",null,null,2,50,40.5,21,21.5,0,26,30,46.4,3281.6000000000004,5689.6682460807178,6074.6702425752001,8659.16,"N/A",1,1,1,{"$error":"#VALUE!"},3131,3343,4765,{"$error":"#VALUE!"},539,575,820,{"$error":"#VALUE!"},1.5539570761452448,1.7666432807263224,3.5736409276886412,1.2760000000000001E-4,1.7219,4,5.1420100000000005E-4,738.0333851508442,787.97378843505794,1123.22,1,1,1,831,887,1265,357,381,544,0.68649865314875924,0.78099961961130182,1.5826861269188717,1.3,11.5,12.8,19.600000000000001,null,4102,null,0.8,null,null,0,10,11.8,21.85,null,1,1,1,831,887,1265,null,0,0,0,1]
["25011",null,null,2,50,40.5,11,11.5,0,26,30,46,1602.0800000000002,4030.7284303866513,4375.55079813051,5580.9,"N/A",1,1,1,{"$error":"#VALUE!"},2218,2408,3071,{"$error":"#VALUE!"},382,414,528,{"$error":"#VALUE!"},0.98808974674500472,1.1564281910301673,1.8614838035196497,3.969E-4,1.7345999999999999,4,5.7428799999999995E-4,675.10313623602258,732.85712932403612,934.74,1,1,1,760,825,1053,327,355,453,0.72919360554721357,0.85617878513149337,1.3791464023722557,0.7,12.2,13.7,22,null,2356,null,0.68,null,null,0,10.9,12.7,21.85,null,1,1,1,760,825,1053,null,0,0,0,1]
["25015",null,null,2,50,40.5,15,16.5,0,26,30,46.4,2207.2000000000003,3233.3460619053994,3452.1364439366635,4920.8599999999997,"N/A",1,1,1,{"$error":"#VALUE!"},1779,1900,2708,{"$error":"#VALUE!"},306,327,466,{"$error":"#VALUE!"},0.45182950742600431,0.51539205126266663,1.0407334748696271,2.0829999999999999E-4,1.724,2,4.6182900000000003E-4,420.6820520547858,449.14828645115074,640.24,1,1,1,474,506,721,204,218,310,0.2022887744615971,0.23071769536319933,0.46361628081567424,0.5,11.5,12.8,19.600000000000001,null,2759,null,0.8,null,null,0,10,11.8,21.85,null,1,1,1,474,506,721,null,0,0,0,1]
["25020",null,null,2,50,40.5,20,21.5,0,26,30,46.4,3052.8,4497.8275192555193,4882.6094666576164,6227.64,"N/A",1,1,1,{"$error":"#VALUE!"},2475,2687,3427,{"$error":"#VALUE!"},426,462,589,{"$error":"#VALUE!"},0.6997905036048051,0.82227529311213776,1.3328222903674887,1.2760000000000001E-4,1.7219,2,3.76611E-4,526.1057925837863,571.11330132956857,728.44,1,1,1,592,643,820,255,276,353,0.25239223746186851,0.29535827405561094,0.48161088768475835,0.7,11.5,12.8,19.600000000000001,null,3816,null,0.8,null,null,0,10,11.8,21.85,null,1,1,1,592,643,820,null,0,0,0,1]
["25021",null,null,2,50,40.5,21,21.5,0,26,30,46.4,3692,6016.7573462820046,6423.892435808023,9156.9599999999991,"N/A",1,1,1,{"$error":"#VALUE!"},3311,3535,5039,{"$error":"#VALUE!"},569,608,867,{"$error":"#VALUE!"},1.7302542650142207,1.9735105474200048,3.9918564072230018,1.2760000000000001E-4,1.7219,4,5.1420100000000005E-4,750.12346036921247,800.88196110577712,1141.6200000000001,1,1,1,845,902,1286,363,388,553,0.70955653064225821,0.80970209478585797,1.6350575277172912,{"$f":"ROUND(IF(G551=10,$CO$92*E551,IF(G551=11,$CO$93*E551,IF(G551=15,$CO$94*E551,IF(G551=16,$CO$95*E551,IF(G551=20,$CO$96*E551,IF(G551=21,$CO$97*E551,)))))),1)","v":1.3},11.5,12.8,19.600000000000001,null,4615,null,0.8,null,null,0,10,11.8,21.85,null,1,1,1,845,902,1286,null,0,0,0,1]
["25011",null,null,2,50,40.5,11,11.5,0,26,30,46.5,1780.2400000000002,4422.7050634086982,4820.649682883678,6269.9,"N/A",1,1,1,{"$error":"#VALUE!"},2434,2653,3451,{"$error":"#VALUE!"},419,456,594,{"$error":"#VALUE!"},1.1839049417549063,1.3970760537189189,2.3445480076123828,3.969E-4,1.7345999999999999,4,5.7428799999999995E-4,741,807,1050,1,1,1,835,909,1182,359,391,508,0.87513555972477619,1.034120551797957,1.725922110114833,0.7,13.4,14.8,24,null,2618,null,0.68,null,null,0,10.7,12.5,21.85,null,1,1,1,835,909,1182,null,0,0,0,1]
["25015",null,null,2,50,40.5,15,16.5,0,26,30,47.1,2452.8000000000002,3875.4624109054007,4083.4735576056296,5893.16,"N/A",1,1,1,{"$error":"#VALUE!"},2133,2247,3243,{"$error":"#VALUE!"},367,386,558,{"$error":"#VALUE!"},0.647952296041022,0.71619232704967384,1.488203606616421,2.0829999999999999E-4,1.724,2,4.6182900000000003E-4,529.01617838795164,557.41053504066974,804.44,1,1,1,596,628,906,256,270,390,0.31722680858424807,0.35253769020896569,0.73099121918235577,0.5,13.2,14.7,23.5,null,3066,null,0.8,null,null,0,10,11.4,21.85,null,1,1,1,596,628,906,null,0,0,0,1]
["25020",null,null,2,50,40.5,20,21.5,0,26,30,47.1,3392,5214.8121821672385,5684.028740747025,7392.84,"N/A",1,1,1,{"$error":"#VALUE!"},2870,3128,4069,{"$error":"#VALUE!"},494,538,700,{"$error":"#VALUE!"},0.93940061871789404,1.1131189797379286,1.8790415520432036,1.2760000000000001E-4,1.7219,2,3.76611E-4,644.46964929787134,702.45751547390614,913.64,1,1,1,726,791,1029,312,340,442,0.37682460979463789,0.44700253378290578,0.75301461747826526,0.7,13.2,14.7,23.5,null,4240,null,0.8,null,null,0,10,11.4,21.85,null,1,1,1,726,791,1029,null,0,0,0,1]
["25021",null,null,2,50,40.5,21,21.5,0,26,30,47.1,4102.4000000000005,7298.5082710627348,7690.2476078687869,11098.36,"N/A",1,1,1,{"$error":"#VALUE!"},4017,4232,6108,{"$error":"#VALUE!"},691,728,1051,{"$error":"#VALUE!"},2.5441093931647418,2.8216494042592233,5.8503806499950723,1.2760000000000001E-4,1.7219,4,5.1420100000000005E-4,946.7235228616961,997.53785795739748,1439.62,1,1,1,1066,1123,1621,458,483,697,1.1250085637422129,1.2500689951471875,2.5881453738254745,1.3,13.2,14.7,23.5,null,5128,null,0.8,null,null,0,10,11.4,21.85,null,1,1,1,1066,1123,1621,null,0,0,0,1]
["25011",null,null,2,50,40.5,11,11.5,0,26,30,46.9,1958.4,4831.2827990970827,5278.770565343093,6958.9,"N/A",1,1,1,{"$error":"#VALUE!"},2659,2905,3830,{"$error":"#VALUE!"},457,500,659,{"$error":"#VALUE!"},1.4030778971040876,1.6731090673137174,2.8737348188810903,3.969E-4,1.7345999999999999,4,5.7428799999999995E-4,809.18727868766814,884.1366084769129,1165.54,1,1,1,911,996,1313,392,428,565,1.0392986180364576,1.2341617005150827,2.125548263228676,0.7,13.4,14.8,24,null,2880,null,0.68,null,null,0,10.5,12.3,21.85,null,1,1,1,911,996,1313,null,0,0,0,1]
["25015",null,null,2,50,40.5,15,16.5,0,26,30,47.8,2698.4,4302.5567439745028,4481.7988603493422,6540.76,"N/A",1,1,1,{"$error":"#VALUE!"},2368,2467,3600,{"$error":"#VALUE!"},407,424,619,{"$error":"#VALUE!"},0.79556447583070444,0.86285356554685,1.8286224443025452,2.0829999999999999E-4,1.724,2,4.6182900000000003E-4,587.31626956044784,611.78353807115786,892.84,1,1,1,661,689,1006,284,296,433,0.38969857530841151,0.4230224155288051,0.89957630558612678,0.5,15.5,16.8,27.5,null,3373,null,0.8,null,null,0,10,11.1,21.85,null,1,1,1,661,689,1006,null,0,0,0,1]
["25020",null,null,2,50,40.5,20,21.5,0,26,30,47.8,3731.2000000000003,5696.5662496175182,6224.1991397456159,8205.24,"N/A",1,1,1,{"$error":"#VALUE!"},3135,3425,4516,{"$error":"#VALUE!"},539,589,777,{"$error":"#VALUE!"},1.1172375757835222,1.3328222903674887,2.3126803858122349,1.2760000000000001E-4,1.7219,2,3.76611E-4,704.00695650122941,769.21417236639559,1014.04,1,1,1,793,866,1142,341,372,491,0.44961911757899953,0.53450205086206759,0.92809038496658691,0.7,15.5,16.8,27.5,null,4664,null,0.8,null,null,0,10,11.1,21.85,null,1,1,1,793,866,1142,null,0,0,0,1]
["25021",null,null,2,50,40.5,21,21.5,0,26,30,47.8,4512.8,8102.8384881891643,8440.3982243391856,12317.96,"N/A",1,1,1,{"$error":"#VALUE!"},4459,4645,6779,{"$error":"#VALUE!"},767,799,1166,{"$error":"#VALUE!"},3.1296523466670236,3.3942185149990061,7.1907643769357685,1.2760000000000001E-4,1.7219,4,5.1420100000000005E-4,1051.0569439418873,1094.8433905300585,1597.82,1,1,1,1184,1233,1799,509,530,774,1.3870768897421053,1.5029039895342555,3.1866139468296719,1.3,15.5,16.8,27.5,null,5641,null,0.8,null,null,0,10,11.1,21.85,null,1,1,1,1184,1233,1799,null,0,0,0,1]
["25015",null,null,2,50,40.5,15,16.5,0,26,30,48.1,2943.2000000000003,4729.715265656896,4901.7743245246338,7188.36,"N/A",1,1,1,{"$error":"#VALUE!"},2603,2698,3956,{"$error":"#VALUE!"},448,464,680,{"$error":"#VALUE!"},0.96247126133555416,1.0318874975356527,2.2038685864090306,2.0829999999999999E-4,1.724,2,4.6182900000000003E-4,645.62512273636446,669.11187505864359,981.24,1,1,1,727,754,1105,313,324,475,0.47255531705345388,0.5060573108360954,1.0810048908552929,0.5,16.399999999999999,17.7,29.7,null,3679,null,0.8,null,null,0,10,10.9,21.85,null,1,1,1,727,754,1105,null,0,0,0,1]
["25016",null,null,2,50,40.5,16,16.5,0,26,30,48.1,3183.76,6916.3686790875245,7167.9744986485921,10511.7,"N/A",1,1,1,{"$error":"#VALUE!"},3806,3945,5785,{"$error":"#VALUE!"},655,679,995,{"$error":"#VALUE!"},6.0642035159960148,6.5145329195676656,13.941473330822763,2.0829999999999999E-4,1.724,4,1.392796E-3,1059,1098,1610,1,1,1,1193,1237,1813,513,532,780,3.7287674213963076,4.0086194019114236,8.5857423211206996,1,16.399999999999999,17.7,29.7,null,4682,null,0.68,null,null,0,10,10.9,21.85,null,1,1,1,1193,1237,1813,null,0,0,0,1]
["25021",null,null,2,50,40.5,21,21.5,0,26,30,48.1,4923.2000000000007,8907.2895892451361,9231.3217513746804,13537.56,"N/A",1,1,1,{"$error":"#VALUE!"},4902,5080,7450,{"$error":"#VALUE!"},843,874,1281,{"$error":"#VALUE!"},3.7754241302904257,4.0561126514254919,8.6685432188628617,1.2760000000000001E-4,1.7219,4,5.1420100000000005E-4,1155.4060454399644,1197.4377673560793,1756.02,1,1,1,1301,1349,1978,559,580,851,1.6704425291085792,1.7972550143142052,3.8469015286795298,1.3,16.399999999999999,17.7,29.7,null,6154,null,0.8,null,null,0,10,10.9,21.85,null,1,1,1,1301,1349,1978,null,0,0,0,1]
["25010",null,null,2,50,40.5,10,11.5,0,26,30,47.8,2255.4,4178.1784000000007,4608.2849999999999,6144.38,"N/A",1,1,1,{"$error":"#VALUE!"},2299,2536,3381,{"$error":"#VALUE!"},395,436,582,{"$error":"#VALUE!"},0.65008851109987886,0.78926140195998973,1.392556635737711,3.969E-4,1.7345999999999999,2,3.6734700000000002E-4,579.25120000000004,638.88,851.84,1,1,1,652,719,959,280,309,412,0.33090625295952986,0.40147064249410369,0.7061801140106192,0.3,16.2,18.600000000000001,31.4,null,2506,null,0.9,null,null,0,10.199999999999999,11.9,21.85,null,1,1,1,652,719,959,null,0,0,0,1]
["25015",null,null,2,50,40.5,15,16.5,0,26,30,48.1,3188.8,4942.1733310961072,5121.9619484404784,7511.2599999999993,"N/A",1,1,1,{"$error":"#VALUE!"},2720,2819,4134,{"$error":"#VALUE!"},468,485,711,{"$error":"#VALUE!"},1.0496169908388007,1.1266422789794759,2.4079047760825287,2.0829999999999999E-4,1.724,2,4.6182900000000003E-4,653.91552727192982,677.70396216321694,993.84,1,1,1,736,763,1119,316,328,481,0.48157916299021247,0.51852246949904768,1.1082747410672107,0.5,16.399999999999999,17.7,29.7,null,3986,null,0.8,null,null,0,10,10.9,21.85,null,1,1,1,736,763,1119,null,0,0,0,1]
["25016",null,null,2,50,40.5,16,16.5,0,26,30,48.1,3449.6400000000003,7342.4691534710291,7609.5768181679023,11159.300000000001,"N/A",1,1,1,{"$error":"#VALUE!"},4041,4188,6141,{"$error":"#VALUE!"},695,720,1056,{"$error":"#VALUE!"},6.823680331687707,7.3210189410147404,15.695422601288003,2.0829999999999999E-4,1.724,4,1.392796E-3,1068.8700133353962,1107.7538502516963,1624.5,1,1,1,1204,1248,1829,518,537,786,3.8014346308343856,4.0839411859901391,8.7177348956000529,1,16.399999999999999,17.7,29.7,null,5073,null,0.68,null,null,0,10,10.9,21.85,null,1,1,1,1204,1248,1829,null,0,0,0,1]
["25021",null,null,2,50,40.5,21,21.5,0,26,30,48.1,5332.8,9234.8263652613623,9570.7750567366256,14035.359999999999,"N/A",1,1,1,{"$error":"#VALUE!"},5082,5267,7724,{"$error":"#VALUE!"},874,906,1329,{"$error":"#VALUE!"},4.0561126514254919,4.3563538172301879,9.3259714364779978,1.2760000000000001E-4,1.7219,4,5.1420100000000005E-4,1167.5126679363457,1209.9849719689844,1774.42,1,1,1,1315,1363,1998,565,586,859,1.70620406966261,1.8343341252043579,3.9190456397874232,1.3,16.399999999999999,17.7,29.7,null,6666,null,0.8,null,null,0,10,10.9,21.85,null,1,1,1,1315,1363,1998,null,0,0,0,1]
["25010",null,null,2,50,40.5,10,11.5,0,26,30,47.8,2429.1,4331.3824000000004,4782.2249168521384,6369.68,"N/A",1,1,1,{"$error":"#VALUE!"},2384,2632,3505,{"$error":"#VALUE!"},410,453,603,{"$error":"#VALUE!"},0.69946234895206738,0.85086529997072791,1.493123052619719,3.969E-4,1.7345999999999999,2,3.6734700000000002E-4,587.68320000000006,648.85364133524638,864.24,1,1,1,662,731,973,285,314,418,0.34259356201432023,0.41431487815068285,0.72652332842719902,0.3,16.2,18.600000000000001,31.4,null,2699,null,0.9,null,null,0,10.199999999999999,11.9,21.85,null,1,1,1,662,731,973,null,0,0,0,1]
["25015",null,null,2,50,40.5,15,16.5,0,26,30,48.9,3433.6000000000004,5583.9635634029,5708.9475468201636,8483.56,"N/A",1,1,1,{"$error":"#VALUE!"},3073,3142,4669,{"$error":"#VALUE!"},529,540,803,{"$error":"#VALUE!"},1.3385889769886199,1.3944116228585968,3.0663100539172023,2.0829999999999999E-4,1.724,2,4.6182900000000003E-4,762.23344503523219,779.29426056038062,1158.04,1,1,1,858,878,1304,369,378,561,0.6549755637986,0.68704587500546821,1.5041307370183896,0.5,19.3,20.399999999999999,34.5,null,4292,null,0.8,null,null,0,10,10.6,21.85,null,1,1,1,858,878,1304,null,0,0,0,1]
["25016",null,null,2,50,40.5,16,16.5,0,26,30,48.9,3714.84,8165.5551181941737,8348.321999442087,12405.7,"N/A",1,1,1,{"$error":"#VALUE!"},4494,4594,6827,{"$error":"#VALUE!"},773,790,1174,{"$error":"#VALUE!"},8.4330193549336983,8.806287447766767,19.382193212805685,2.0829999999999999E-4,1.724,4,1.392796E-3,1250,1278,1900,1,1,1,1408,1439,2140,605,619,920,5.1776452439322451,5.4188476637414897,11.92695959147011,1,19.3,20.399999999999999,34.5,null,5463,null,0.68,null,null,0,10,10.6,21.85,null,1,1,1,1408,1439,2140,null,0,0,0,1]
["25021",null,null,2,50,40.5,21,21.5,0,26,30,48.1,5743.2000000000007,10516.06232539558,10751.439821034392,15976.76,"N/A",1,1,1,{"$error":"#VALUE!"},5787,5917,8793,{"$error":"#VALUE!"},995,1018,1512,{"$error":"#VALUE!"},5.247450366395265,5.491135412407866,12.051711142886694,1.2760000000000001E-4,1.7219,4,5.1420100000000005E-4,1261.7808956926551,1290.0229142432502,1916.9885000000002,1,1,1,1421,1453,2159,611,625,928,1.9928810895608433,2.0845204425894801,4.5689542766968234,1.3,19.3,20.399999999999999,34.5,null,7179,null,0.8,null,null,0,10,10.6,21.85,null,1,1,1,1421,1453,2159,null,0,0,0,1]
["26510",null,null,2,65,40.5,10,11.5,0,26,30,38.799999999999997,504.90000000000003,649,695,812,"N/A",1,1,1,{"$error":"#VALUE!"},357,382,447,{"$error":"#VALUE!"},61,66,77,{"$error":"#VALUE!"},1.831510057885077E-2,2.1321466174488813E-2,2.8713165036524338E-2,3.969E-4,1.7345999999999999,2,3.6734700000000002E-4,{"$f":"AK490","v":90.020119234756137},{"$f":"AL490","v":96.328259324977694},112.64,1,1,1,101,108,127,43,46,55,9.3386685025437476E-3,1.0632740850861105E-2,1.5000749380855426E-2,0.4,3.6,4.0999999999999996,5.0999999999999996,null,561,null,0.9,null,null,0,14.2,16.2,21.85,null,1,1,1,101,108,127,null,0,0,0,1]
["26510",null,null,2,65,40.5,10,11.5,0,26,30,40,605.70000000000005,841.69225687813923,901.35950941531064,1066.3800000000001,"N/A",1,1,1,{"$error":"#VALUE!"},463,496,587,{"$error":"#VALUE!"},80,85,101,{"$error":"#VALUE!"},3.0913861844322724E-2,3.4756976724586414E-2,4.8520931073672668E-2,3.969E-4,1.7345999999999999,2,3.6734700000000002E-4,{"$f":"AK492","v":116.68990721587436},{"$f":"AL492","v":124.96201154556491},147.84,1,1,1,131,141,166,56,61,71,1.5530859363169194E-2,1.831510057885077E-2,2.4549083405174046E-2,0.4,4.8,5.4,6.8,null,673,null,0.9,null,null,0,13.6,15.6,21.85,null,1,1,1,131,141,166,null,0,0,0,1]
["26511",null,null,2,65,40.5,11,11.5,0,26,30,40,605.20000000000005,1142.0361657917249,1222.9946868592929,1446.9,"N/A",1,1,1,{"$error":"#VALUE!"},629,673,796,{"$error":"#VALUE!"},108,116,137,{"$error":"#VALUE!"},9.2148222301266319E-2,0.10573103249932018,0.14567042648469503,3.969E-4,1.7345999999999999,4,5.7428799999999995E-4,{"$f":"AK493*(1-(($E585-50)*0.005))","v":176.67500000000001},{"$f":"AL493*(1-(($E585-50)*0.005))","v":189.625},223.85000000000002,1,1,1,199,214,252,86,92,108,5.9477339469932597E-2,6.7703579547742754E-2,9.2148222301266319E-2,0.9,4.8,5.4,6.8,null,890,null,0.68,null,null,0,13.6,15.6,21.85,null,1,1,1,199,214,252,null,0,0,0,1]
["26516",null,null,2,65,40.5,16,16.5,0,26,30,41.1,908.48,1399.7241764138612,1502.5729206967153,1988.7,"N/A",1,1,1,{"$error":"#VALUE!"},770,827,1094,{"$error":"#VALUE!"},132,142,188,{"$error":"#VALUE!"},0.25653377897864815,0.29644288181585227,0.51684149907148436,2.0829999999999999E-4,1.724,4,1.392796E-3,{"$f":"AK495*(1-(($E587-50)*0.005))","v":197.95000000000002},{"$f":"AL495*(1-(($E587-50)*0.005))","v":212.75},282.125,1,1,1,223,240,318,96,103,137,0.13659630272969558,0.15700361119438658,0.27613051502319141,1.3,4.8,5.5,7.2,null,1336,null,0.68,null,null,0,12.3,14.4,21.85,null,1,1,1,223,240,318,null,0,0,0,1]
["26520",null,null,2,65,40.5,20,21.5,0,26,30,41.1,1148,1346.575008837732,1442.0332127786496,1706.04,"N/A",1,1,1,{"$error":"#VALUE!"},741,794,939,{"$error":"#VALUE!"},127,137,162,{"$error":"#VALUE!"},6.4835078615220976E-2,7.531851127052952E-2,0.10493006197579074,1.2760000000000001E-4,1.7219,2,3.76611E-4,{"$f":"AK496","v":166.41571994991173},{"$f":"AL496","v":178.21286873827722},210.84,1,1,1,187,201,237,80,86,102,2.6015393443891699E-2,3.0008944555488973E-2,4.2036983107320555E-2,0.9,4.8,5.5,7.2,null,1435,null,0.8,null,null,0,12.3,14.4,21.85,null,1,1,1,187,201,237,null,0,0,0,{"$f":"IF(SUM(BV588:BX588)=0,1,0)","v":1}]
["26510",null,null,2,65,40.5,10,11.5,0,26,30,41,706.5,1029.7403904507714,1104.2859635902939,1320.28,"N/A",1,1,1,{"$error":"#VALUE!"},567,608,727,{"$f":"ROUND(U590*3600/(4186*ABS($O$1-$O$2)),0)","v":{"$error":"#VALUE!"}},{"$f":"ROUND(V590*3600/(4186*ABS($O$1-$O$2)),0)","v":98},{"$f":"ROUND(W590*3600/(4186*ABS($O$1-$O$2)),0)","v":105},{"$f":"ROUND(X590*3600/(4186*ABS($O$1-$O$2)),0)","v":125},{"$error":"#VALUE!"},4.5770548794624284E-2,5.2309521065256298E-2,7.3326074233107871E-2,3.969E-4,1.7345999999999999,2,3.6734700000000002E-4,{"$f":"AK498","v":142.7603849699376},{"$f":"AL498","v":153.09517888293954},183.04,1,1,1,161,172,206,{"$f":"ROUND(AQ590*3600/(4186*ABS($AM$1-$AM$2)),0)","v":69},{"$f":"ROUND(AR590*3600/(4186*ABS($AM$1-$AM$2)),0)","v":74},{"$f":"ROUND(AS590*3600/(4186*ABS($AM$1-$AM$2)),0)","v":89},2.3231538685077345E-2,2.6591521830123845E-2,3.798886771167248E-2,0.4,5.5,5.9,7.9,null,785,null,0.9,null,null,0,13.2,15.1,21.85,null,1,1,1,161,172,206,null,0,0,0,1]
["26511",null,null,2,65,40.5,11,11.5,0,26,30,41,705.84,1397.1861540381678,1498.3320774196782,1791.4,"N/A",1,1,1,{"$error":"#VALUE!"},769,825,986,{"$error":"#VALUE!"},132,142,170,{"$error":"#VALUE!"},0.13560015180719756,0.15609005995738529,0.22086745861425072,3.969E-4,1.7345999999999999,4,5.7428799999999995E-4,{"$f":"AK499*(1-(($E591-50)*0.005))","v":216.46246155704532},{"$f":"AL499*(1-(($E591-50)*0.005))","v":232.13273962868439},277.53700000000003,1,1,1,244,261,313,105,112,135,8.7287975860512582E-2,9.8826638113981513E-2,0.14160035651935457,0.9,5.5,5.9,7.9,null,1038,null,0.68,null,null,0,13.2,15.1,21.85,null,1,1,1,244,261,313,null,0,0,0,1]
["26516",null,null,2,65,40.5,16,16.5,0,26,30,41.1,1060.1200000000001,1627.62717250317,1747.2217424001376,2312.5,"N/A",1,1,1,{"$error":"#VALUE!"},896,962,1273,{"$error":"#VALUE!"},154,165,219,{"$error":"#VALUE!"},0.34811041139605886,0.39908819217267549,0.69941555242924147,2.0829999999999999E-4,1.724,4,1.392796E-3,{"$f":"AK501*(1-(($E593-50)*0.005))","v":203.12787112839561},{"$f":"AL501*(1-(($E593-50)*0.005))","v":218.05327345153719},288.60000000000002,1,1,1,229,246,325,98,106,140,0.14228321402146105,0.16618068706557357,0.28823208064217454,1.3,5.0999999999999996,5.6,7.2,null,1559,null,0.68,null,null,0,12.3,14.4,21.85,null,1,1,1,229,246,325,null,0,0,0,1]
["26520",null,null,2,65,40.5,20,21.5,0,26,30,41.1,1339.2,1509.840819712653,1619.1421060355642,1935.84,"N/A",1,1,1,{"$error":"#VALUE!"},831,891,1065,{"$error":"#VALUE!"},143,153,183,{"$error":"#VALUE!"},8.1982161234940412E-2,9.3710346226025795E-2,0.13355420034531809,1.2760000000000001E-4,1.7219,2,3.76611E-4,{"$f":"AK502","v":170.52628152222005},{"$f":"AL502","v":182.87112058001478},218.64000000000001,1,1,1,192,206,246,83,89,106,2.7976880452418775E-2,3.211154503469317E-2,4.535684290382283E-2,0.9,5.0999999999999996,5.6,7.2,null,1674,null,0.8,null,null,0,12.3,14.4,21.85,null,1,1,1,192,206,246,null,0,0,0,1]
["26510",null,null,2,65,40.5,10,11.5,0,26,30,41.8,807.30000000000007,1214.2269940407766,1304.1433704057049,1574.18,"N/A",1,1,1,{"$error":"#VALUE!"},668,718,866,{"$error":"#VALUE!"},115,123,149,{"$error":"#VALUE!"},6.2386595814708339E-2,7.106934077066171E-2,0.10308137543055956,3.969E-4,1.7345999999999999,2,3.6734700000000002E-4,{"$f":"AK504","v":168.33710197020613},{"$f":"AL504","v":180.80286190736828},218.24,1,1,1,190,204,246,82,88,106,3.2424840374200417E-2,3.7167797508393614E-2,5.327832422121602E-2,0.4,6.3,6.8,9.1,null,897,null,0.9,null,null,0,12.8,14.7,21.85,null,1,1,1,190,204,246,null,0,0,0,1]
["26511",null,null,2,65,40.5,11,11.5,0,26,30,41.8,806.48,1647.5037394527276,1769.505282019556,2135.9,"N/A",1,1,1,{"$error":"#VALUE!"},907,974,1175,{"$error":"#VALUE!"},156,168,202,{"$error":"#VALUE!"},0.18711825012922845,0.21588000439220995,0.30816580382223502,3.969E-4,1.7345999999999999,4,5.7428799999999995E-4,{"$f":"AK505*(1-(($E597-50)*0.005))","v":255.3},{"$f":"AL505*(1-(($E597-50)*0.005))","v":273.8},331.15000000000003,1,1,1,288,308,373,124,132,160,0.1202160734262524,0.13560015180719756,0.1964837586382166,0.9,6.3,6.8,9.1,null,1186,null,0.68,null,null,0,12.8,14.7,21.85,null,1,1,1,288,308,373,null,0,0,0,1]
["26516",null,null,2,65,40.5,16,16.5,0,26,30,42.4,1211.76,2040.4331716148024,2188.0092071816284,2935.7,"N/A",1,1,1,{"$error":"#VALUE!"},1123,1204,1616,{"$error":"#VALUE!"},193,207,278,{"$error":"#VALUE!"},0.54443682335670873,0.62549428884694735,1.1224355377666277,2.0829999999999999E-4,1.724,4,1.392796E-3,{"$f":"AK507*(1-(($E599-50)*0.005))","v":288.60000000000002},{"$f":"AL507*(1-(($E599-50)*0.005))","v":309.875},416.25,1,1,1,325,349,469,140,150,202,0.28823208064217454,0.33043037098606459,0.59590411031211266,1.3,6,6.7,9,null,1782,null,0.68,null,null,0,11.8,13.7,21.85,null,1,1,1,325,349,469,null,0,0,0,1]
["26520",null,null,2,65,40.5,20,21.5,0,26,30,42.4,1530.4,1942.5718983039128,2086.4239348515057,2518.44,"N/A",1,1,1,{"$error":"#VALUE!"},1069,1148,1386,{"$error":"#VALUE!"},184,197,238,{"$error":"#VALUE!"},0.13500255859487931,0.15453630969284785,0.22470993133264158,1.2760000000000001E-4,1.7219,2,3.76611E-4,{"$f":"AK508","v":240.07166246887351},{"$f":"AL508","v":257.84953601562182},311.24,1,1,1,270,290,351,116,125,151,5.4203153049699471E-2,6.2831850513685755E-2,9.1302527047532375E-2,0.9,6,6.7,9,null,1913,null,0.8,null,null,0,11.8,13.7,21.85,null,1,1,1,270,290,351,null,0,0,0,1]
["26510",null,null,2,65,40.5,10,11.5,0,26,30,42.4,908.1,1395.6272192501513,1501.3000140389001,1828.08,"N/A",1,1,1,{"$error":"#VALUE!"},768,826,1006,{"$error":"#VALUE!"},132,142,173,{"$error":"#VALUE!"},8.1495155209198783E-2,9.3893720240292647E-2,0.13775002777744313,3.969E-4,1.7345999999999999,2,3.6734700000000002E-4,{"$f":"AK510","v":193.48593193227777},{"$f":"AL510","v":208.13611852764589},253.44,1,1,1,218,234,285,94,101,123,4.2224988715835209E-2,4.8520931073672668E-2,7.106934077066171E-2,0.4,6.7,7.4,10.3,null,1009,null,0.9,null,null,0,12.5,14.7,21.85,null,1,1,1,218,234,285,null,0,0,0,1]
["26511",null,null,2,65,40.5,11,11.5,0,26,30,42.4,907.80000000000007,1893.6336235985709,2037.0140009310799,2480.4,"N/A",1,1,1,{"$error":"#VALUE!"},1042,1121,1365,{"$error":"#VALUE!"},179,193,235,{"$error":"#VALUE!"},0.24399478295726876,0.2821895385000196,0.41289490259866624,3.969E-4,1.7345999999999999,4,5.7428799999999995E-4,{"$f":"AK511*(1-(($E603-50)*0.005))","v":293.37579267203114},{"$f":"AL511*(1-(($E603-50)*0.005))","v":315.58934619649943},384.28200000000004,1,1,1,330,355,433,142,153,186,0.15609005995738529,0.18023986613095133,0.26275497997531416,0.9,6.7,7.4,10.3,null,1335,null,0.68,null,null,0,12.5,14.7,21.85,null,1,1,1,330,355,433,null,0,0,0,1]
[{"$f":"CONCATENATE(D605,E605,G605)","v":"26516"},null,null,2,65,40.5,16,16.5,0,26,30,43.3,1362.72,2336.669516687492,2503.3688418217644,3409.2,"N/A",1,1,1,{"$error":"#VALUE!"},1286,1378,1876,{"$error":"#VALUE!"},221,237,323,{"$f":"(($AG605*(Y605^$AH605)*((($F605-14.4)*$AI605)/100))+($AJ605*(Y605^2)))*0.0098","v":{"$error":"#VALUE!"}},{"$f":"(($AG605*(Z605^$AH605)*((($E605-14.4)*$AI605)/100))+($AJ605*(Z605^2)))*0.0098","v":0.71213433030405016},{"$f":"(($AG605*(AA605^$AH605)*((($E605-14.4)*$AI605)/100))+($AJ605*(AA605^2)))*0.0098","v":0.81798201063616538},{"$f":"(($AG605*(AB605^$AH605)*((($E605-14.4)*$AI605)/100))+($AJ605*(AB605^2)))*0.0098","v":1.5115249008173457},2.0829999999999999E-4,1.724,4,1.392796E-3,{"$f":"AK513*(1-(($E605-50)*0.005))","v":330.94593339568098},{"$f":"AL513*(1-(($E605-50)*0.005))","v":354.55580349455562},482.85,1,1,1,373,399,544,160,172,234,{"$f":"(($AG605*(AT605^$AH605)*((($E605-14.4)*$AI605)/100))+($AJ605*(AT605^2)))*0.0098","v":0.37548791852687663},{"$f":"(($AG605*(AU605^$AH605)*((($E605-14.4)*$AI605)/100))+($AJ605*(AU605^2)))*0.0098","v":0.43332798881027862},{"$f":"(($AG605*(AV605^$AH605)*((($E605-14.4)*$AI605)/100))+($AJ605*(AV605^2)))*0.0098","v":0.79758084281372033},1.3,7,7.7,10.7,null,2004,null,0.68,null,null,0,11.3,13.2,21.85,null,1,1,1,373,{"$f":"AR605/BP605","v":399},{"$f":"AS605/BQ605","v":544},null,0,0,0,1]
["26520",null,null,2,65,40.5,20,21.5,0,26,30,43.3,1721.6000000000001,2232.7836804230465,2401.8435041457315,2924.64,"N/A",1,1,1,{"$error":"#VALUE!"},1229,1322,1610,{"$error":"#VALUE!"},211,227,277,{"$error":"#VALUE!"},0.17703616110719153,0.2046070187905101,0.30351230408879193,1.2760000000000001E-4,1.7219,2,3.76611E-4,{"$f":"AK514","v":275.93732338069162},{"$f":"AL514","v":296.83048721840407},361.44,1,1,1,311,334,407,134,144,175,7.2091732538054731E-2,8.3119994506466621E-2,0.12224641908235243,0.9,7,7.7,10.7,null,2152,null,0.8,null,null,0,11.3,13.2,21.85,null,{"$f":"IF((237.3*LN(($AQ$1*EXP(17.27*($AM$3/($AM$3+237.3))))))/(17.27-LN(($AQ$1*EXP(17.27*($AM$3/($AM$3+237.3))))))<(($AM$1+$AM$2)/2),1,IF(1/(1+((2258*((0.622/((101325/(1*611*EXP(17.27*((($AM$1+$AM$2)/2)/((($AM$1+$AM$2)/2)+237.3))))))-1)*1000-(0.622/((101325/($AQ$1*611*EXP(17.27*($AM$3/($AM$3+237.3))))))-1)*1000))/(1005*((($AM$1+$AM$2)/2)-$AM$3))))>1,1,1/(1+((2258*((0.622/((101325/(1*611*EXP(17.27*((($AM$1+$AM$2)/2)/((($AM$1+$AM$2)/2)+237.3))))))-1)*1000-(0.622/((101325/($AQ$1*611*EXP(17.27*($AM$3/($AM$3+237.3))))))-1)*1000))/(1005*((($AM$1+$AM$2)/2)-$AM$3))))))","v":1},1,1,311,334,407,null,0,0,0,1]
["26511",null,null,2,65,40.5,11,11.5,0,26,30,43,1008.44,2136.1856779144437,2301.3611872256411,2824.9,"N/A",1,1,1,{"$error":"#VALUE!"},1176,1267,1555,{"$error":"#VALUE!"},202,218,267,{"$error":"#VALUE!"},0.30816580382223502,0.35708600797622903,0.52860866404591289,3.969E-4,1.7345999999999999,4,5.7428799999999995E-4,{"$f":"AK517*(1-(($E609-50)*0.005))","v":331.15000000000003},{"$f":"AL517*(1-(($E609-50)*0.005))","v":356.125},437.52500000000003,1,1,1,373,401,493,160,172,212,0.1964837586382166,0.22591020460455546,0.33833050144421067,0.9,7.8,8.6999999999999993,12.2,null,1483,null,0.68,null,null,0,12.3,14.1,21.85,null,1,1,1,373,401,493,null,0,0,0,1]
["26515",null,null,2,65,40.5,15,16.5,0,26,30,44.1,1372,1798.7737222599399,1926.0891717740149,2655.16,"N/A",1,1,1,{"$error":"#VALUE!"},990,1060,1461,{"$error":"#VALUE!"},170,182,251,{"$error":"#VALUE!"},0.14526658637571474,0.16618938746231551,0.31346036585768061,2.0829999999999999E-4,1.724,2,4.6182900000000003E-4,{"$f":"AK518","v":245.53983484833029},{"$f":"AL518","v":262.91890485611941},362.44,1,1,1,277,296,408,119,127,175,7.1913990976105693E-2,8.1749546575537652E-2,0.15381517627934049,0.7,7,7.7,10.7,null,1715,null,0.8,null,null,0,10.9,12.8,21.85,null,1,1,1,277,296,408,null,0,0,0,1]
["26520",null,null,2,65,40.5,20,21.5,0,26,30,44.1,1912.8000000000002,2518.7768428703835,2713.5353098724395,3330.84,"N/A",1,1,1,{"$error":"#VALUE!"},1386,1493,1833,{"$error":"#VALUE!"},238,257,315,{"$error":"#VALUE!"},0.22470993133264158,0.2616344741771775,0.39157543898599839,1.2760000000000001E-4,1.7219,2,3.76611E-4,{"$f":"AK520","v":311.2816285378957},{"$f":"AL520","v":335.35074484391049},411.64,1,1,1,351,378,464,151,163,200,9.1302527047532375E-2,0.10621552478234005,0.15922998490061299,0.9,7,7.7,10.7,null,2391,null,0.8,null,null,0,10.9,12.8,21.85,null,1,1,1,351,378,464,null,0,0,0,1]
["26521",null,null,2,65,40.5,21,21.5,0,26,30,44.1,2404,3387.5608889256064,3627.3291443724347,5000.3599999999997,"N/A",1,1,1,{"$error":"#VALUE!"},1864,1996,2752,{"$error":"#VALUE!"},321,343,473,{"$error":"#VALUE!"},0.57162987398416165,0.65157655405697634,1.2295330879018795,1.2760000000000001E-4,1.7219,4,5.1420100000000005E-4,{"$f":"AK521*(1-(($E613-50)*0.005))","v":406.46008747206355},{"$f":"AL521*(1-(($E613-50)*0.005))","v":435.22893599683522},599.97350000000006,1,1,1,458,490,676,197,211,291,0.21816619269349569,0.24978607359258309,0.47096697823266437,1.7,7,7.7,10.7,null,3005,null,0.8,null,null,0,10.9,12.8,21.85,null,1,1,1,458,490,676,null,0,0,0,1]
["26511",null,null,2,65,40.5,11,11.5,0,26,30,43.5,1109.0800000000002,2396.6961264405954,2582.0149905458411,3169.4,"N/A",1,1,1,{"$error":"#VALUE!"},1319,1421,1744,{"$error":"#VALUE!"},227,244,300,{"$error":"#VALUE!"},0.38614105723619752,0.44403420203864397,0.66245292520995125,3.969E-4,1.7345999999999999,4,5.7428799999999995E-4,{"$f":"AK523*(1-(($E615-50)*0.005))","v":371.31397389971175},{"$f":"AL523*(1-(($E615-50)*0.005))","v":400.02494944240328},491.02700000000004,1,1,1,418,451,553,180,194,238,0.24663347668123881,0.28502088333804432,0.42315225954135194,{"$f":"ROUND(IF(G615=10,$CO$92*E615,IF(G615=11,$CO$93*E615,IF(G615=15,$CO$94*E615,IF(G615=16,$CO$95*E615,IF(G615=20,$CO$96*E615,IF(G615=21,$CO$97*E615,)))))),1)","v":0.9},8.4,9.3000000000000007,14,null,1631,null,0.68,null,null,0,12,13.9,21.85,null,1,1,1,418,451,553,null,0,0,0,1]
["26515",null,null,2,65,40.5,15,16.5,0,26,30,44.1,1509.6000000000001,1908.1501882577959,2043.2071973479594,2816.6099999999997,"N/A",1,1,1,{"$error":"#VALUE!"},1050,1124,1550,{"$error":"#VALUE!"},181,193,267,{"$error":"#VALUE!"},0.16439264037180013,0.1865912970045544,0.35415519095607628,2.0829999999999999E-4,1.724,2,4.6182900000000003E-4,{"$f":"AK524","v":249.80785427097814},{"$f":"AL524","v":267.48901053042016},368.74,1,1,1,281,301,415,121,129,178,7.4314463198470959E-2,8.4305756129915421E-2,0.15906039867256827,0.7,7.9,8.8000000000000007,12.5,null,1887,null,0.8,null,null,0,10.9,12.8,21.85,null,1,1,1,281,301,415,null,0,0,0,1]
["26520",null,null,2,65,40.5,20,21.5,0,26,30,44.1,2104,2692.551301713082,2900.746468081386,3560.6400000000003,"N/A",1,1,1,{"$error":"#VALUE!"},1482,1596,1960,{"$error":"#VALUE!"},255,275,337,{"$error":"#VALUE!"},0.25761643441420073,0.29918568206374946,0.44764191300998307,1.2760000000000001E-4,1.7219,2,3.76611E-4,{"$f":"AK526","v":317.17997831584631},{"$f":"AL526","v":341.70517057946222},419.44,1,1,1,357,385,472,154,166,203,9.4925911000099727E-2,0.110118489271474,0.16399333821667533,0.9,7.9,8.8000000000000007,12.5,null,2630,null,0.8,null,null,0,10.9,12.8,21.85,null,1,1,1,357,385,472,null,0,0,0,1]
["26521",null,null,2,65,40.5,21,21.5,0,26,30,44.1,2644.8,3556.1815292902165,3807.8845891872675,5249.2599999999993,"N/A",1,1,1,{"$error":"#VALUE!"},1957,2096,2889,{"$error":"#VALUE!"},337,361,497,{"$error":"#VALUE!"},0.62925914171976627,0.72083930334286761,1.3559301608054155,1.2760000000000001E-4,1.7219,4,5.1420100000000005E-4,{"$f":"AK527*(1-(($E619-50)*0.005))","v":412.22530100964025},{"$f":"AL527*(1-(($E619-50)*0.005))","v":441.4022057251367},608.48350000000005,1,1,1,464,497,685,200,214,295,0.22476373780122599,0.25683696002271367,0.48383120531550317,1.7,7.9,8.8000000000000007,12.5,null,3306,null,0.8,null,null,0,10.9,12.8,21.85,null,1,1,1,464,497,685,null,0,0,0,1]
["26511",null,null,2,65,40.5,11,11.5,0,26,30,44,1210.4000000000001,2611.8926414972211,2821.6982019103875,3513.9,"N/A",1,1,1,{"$error":"#VALUE!"},1437,1553,1934,{"$error":"#VALUE!"},247,267,333,{"$error":"#VALUE!"},0.4546586484357884,0.52860866404591289,0.81096002054799121,3.969E-4,1.7345999999999999,4,5.7428799999999995E-4,{"$f":"AK529*(1-(($E621-50)*0.005))","v":404.22500000000002},{"$f":"AL529*(1-(($E621-50)*0.005))","v":437.52500000000003},544.82500000000005,1,1,1,455,493,614,196,212,264,0.29072477321351514,0.33833050144421067,0.51717061431639011,0.9,8.9,9.9,14.8,null,1780,null,0.68,null,null,0,11.8,13.7,21.85,null,1,1,1,455,493,614,null,0,0,0,1]
["26515",null,null,2,65,40.5,15,16.5,0,26,30,44.8,1646.4,2216.9073865755149,2373.9948983307781,3302.76,"N/A",1,1,1,{"$error":"#VALUE!"},1220,1307,1818,{"$error":"#VALUE!"},210,225,313,{"$error":"#VALUE!"},0.22041906819770207,0.25258115925536168,0.48483974785555528,2.0829999999999999E-4,1.724,2,4.6182900000000003E-4,{"$f":"AK530","v":302.61675876046246},{"$f":"AL530","v":324.05983479376272},450.84,1,1,1,341,365,508,147,157,218,0.1090610214986097,0.12417275139974246,0.23730238933050243,0.7,8.6999999999999993,9.8000000000000007,14.3,null,2058,null,0.8,null,null,0,10.6,12.5,21.85,null,1,1,1,341,365,508,null,0,0,0,1]
["26520",null,null,2,65,40.5,20,21.5,0,26,30,44.8,2295.2000000000003,3079.6829926739365,3327.0647594078355,4143.24,"N/A",1,1,1,{"$error":"#VALUE!"},1695,1831,2280,{"$error":"#VALUE!"},292,315,392,{"$error":"#VALUE!"},0.33694491647735159,0.39157543898599839,0.60409309671191502,1.2760000000000001E-4,1.7219,2,3.76611E-4,{"$f":"AK532","v":380.60090160569081},{"$f":"AL532","v":411.17343900116532},512.04,1,1,1,429,463,577,184,199,248,0.13500255859487931,0.1576576838166549,0.24379644627457539,0.9,8.6999999999999993,9.8000000000000007,14.3,null,2869,null,0.8,null,null,0,10.6,12.5,21.85,null,1,1,1,429,463,577,null,0,0,0,1]
["26521",null,null,2,65,40.5,21,21.5,0,26,30,44.8,2884.8,4175.015825613802,4470.8526528786542,6219.96,"N/A",1,1,1,{"$error":"#VALUE!"},2298,2460,3423,{"$error":"#VALUE!"},395,423,589,{"$error":"#VALUE!"},0.86111680623844333,0.98590610158182779,1.8971809665108921,1.2760000000000001E-4,1.7219,4,5.1420100000000005E-4,{"$f":"AK533*(1-(($E625-50)*0.005))","v":500.94370354312542},{"$f":"AL533*(1-(($E625-50)*0.005))","v":536.43999914643973},746.30850000000009,1,1,1,564,604,840,243,260,361,0.32999658220820105,0.37709219972223568,0.72083930334286761,1.7,8.6999999999999993,9.8000000000000007,14.3,null,3606,null,0.8,null,null,0,10.6,12.5,21.85,null,1,1,1,564,604,840,null,0,0,0,1]
["26511",null,null,2,65,40.5,11,11.5,0,26,30,44.8,1411.68,3077.015307780141,3332.5766142436496,4202.8999999999996,"N/A",1,1,1,{"$error":"#VALUE!"},1693,1834,2313,{"$error":"#VALUE!"},291,315,398,{"$error":"#VALUE!"},0.62449279282460002,0.7281426041918212,1.1461109100702409,3.969E-4,1.7345999999999999,4,5.7428799999999995E-4,{"$f":"AK535*(1-(($E627-50)*0.005))","v":476.375},{"$f":"AL535*(1-(($E627-50)*0.005))","v":516.15},651.20000000000005,1,1,1,536,581,733,230,250,315,0.39607157488876904,0.4654053206234649,0.7281426041918212,0.9,10.1,11.2,17.5,null,2076,null,0.68,null,null,0,11.5,13.3,21.85,null,1,1,1,536,581,733,null,0,0,0,1]
["26515",null,null,2,65,40.5,15,16.5,0,26,30,45.4,1920.8000000000002,2628.9846104428207,2815.4584574952669,3950.36,"N/A",1,1,1,{"$error":"#VALUE!"},1447,1549,2174,{"$error":"#VALUE!"},249,266,374,{"$error":"#VALUE!"},0.30854649550420327,0.35153971352258945,0.68939645472279121,2.0829999999999999E-4,1.724,2,4.6182900000000003E-4,{"$f":"AK536","v":358.86695423586366},{"$f":"AL536","v":384.32138301819265},539.24,1,1,1,404,433,607,174,186,261,0.15208611093529001,0.17347301693595968,0.33860639876498094,0.7,9.6,10.5,16.100000000000001,null,2401,null,0.8,null,null,0,10.4,12.2,21.85,null,1,1,1,404,433,607,null,0,0,0,1]
["26520",null,null,2,65,40.5,20,21.5,0,26,30,45.4,2677.6000000000004,3628.1091959950468,3929.4415695377957,4955.6400000000003,"N/A",1,1,1,{"$error":"#VALUE!"},1997,2163,2727,{"$error":"#VALUE!"},343,372,469,{"$error":"#VALUE!"},0.46357912701058818,0.54451163173855688,0.86215043523165402,1.2760000000000001E-4,1.7219,2,3.76611E-4,{"$f":"AK538","v":448.37784746172167},{"$f":"AL538","v":485.61784045001809},612.44000000000005,1,1,1,505,547,690,217,235,297,0.18714323257125834,0.21913459613294126,0.34847447332790144,0.9,9.6,10.5,16.100000000000001,null,3347,null,0.8,null,null,0,10.4,12.2,21.85,null,1,1,1,505,547,690,null,0,0,0,1]
["26521",null,null,2,65,40.5,21,21.5,0,26,30,45.4,3365.6000000000004,4951.0649025572329,5302.2438770247491,7439.56,"N/A",1,1,1,{"$error":"#VALUE!"},2725,2918,4094,{"$error":"#VALUE!"},469,502,704,{"$error":"#VALUE!"},1.2090629482895083,1.3830342846633519,2.7000386894914308,1.2760000000000001E-4,1.7219,4,5.1420100000000005E-4,{"$f":"AK539*(1-(($E631-50)*0.005))","v":594.05877543105328},{"$f":"AL539*(1-(($E631-50)*0.005))","v":636.19535728469714},892.64350000000002,1,1,1,669,716,1005,288,308,432,0.46143144785036827,0.5268248960568247,1.0277928603713331,1.7,9.6,10.5,16.100000000000001,null,4207,null,0.8,null,null,0,10.4,12.2,21.85,null,1,1,1,669,716,1005,null,0,0,0,1]
["26511",null,null,2,65,40.5,11,11.5,0,26,30,45.5,1613.64,3533.107636511756,3835.359341571188,4891.8999999999996,"N/A",1,1,1,{"$error":"#VALUE!"},1944,2111,2692,{"$error":"#VALUE!"},334,363,463,{"$error":"#VALUE!"},0.81568841452346841,0.95863485255559289,1.5374784696312123,3.969E-4,1.7345999999999999,4,5.7428799999999995E-4,{"$f":"AK541*(1-(($E633-50)*0.005))","v":547.6},{"$f":"AL541*(1-(($E633-50)*0.005))","v":593.85},757.57500000000005,1,1,1,617,669,853,265,288,367,0.52096976067905243,0.61208201305415344,0.97923388823486845,0.9,11,12.4,19.2,null,2373,null,0.68,null,null,0,11.2,13,21.85,null,1,1,1,617,669,853,null,0,0,0,1]
["26515",null,null,2,65,40.5,15,16.5,0,26,30,46.4,2195.2000000000003,3021.1783832091446,3225.6120441880121,4597.96,"N/A",1,1,1,{"$error":"#VALUE!"},1663,1775,2530,{"$error":"#VALUE!"},286,305,435,{"$error":"#VALUE!"},0.40567328897815791,0.46065452839613102,0.92950689183491919,2.0829999999999999E-4,1.724,2,4.6182900000000003E-4,{"$f":"AK542","v":412.40297880742492},{"$f":"AL542","v":440.30899429620177},627.64,1,1,1,464,496,707,200,213,304,0.20018268215712315,0.22667802498768563,0.45767449713240937,0.7,11.5,12.8,19.600000000000001,null,2744,null,0.8,null,null,0,10,11.8,21.85,null,1,1,1,464,496,707,null,0,0,0,1]
["26520",null,null,2,65,40.5,20,21.5,0,26,30,46.4,3060.8,4165.887726998767,4522.2727563025155,5768.04,"N/A",1,1,1,{"$error":"#VALUE!"},2293,2489,3174,{"$error":"#VALUE!"},394,428,546,{"$error":"#VALUE!"},0.61022024249238682,0.71908058425100041,1.165660541004842,1.2760000000000001E-4,1.7219,2,3.76611E-4,{"$f":"AK544","v":514.83890668473202},{"$f":"AL544","v":558.88255136973487},712.84,1,1,1,580,629,803,249,270,345,0.2457475700730431,0.28850408345949569,0.46895306878364951,0.9,11.5,12.8,19.600000000000001,null,3826,null,0.8,null,null,0,10,11.8,21.85,null,1,1,1,580,629,803,null,0,0,0,1]
["26521",null,null,2,65,40.5,21,21.5,0,26,30,46.4,3846.4,5689.6682460807178,6074.6702425752001,8659.16,"N/A",1,1,1,{"$error":"#VALUE!"},3131,3343,4765,{"$error":"#VALUE!"},539,575,820,{"$error":"#VALUE!"},1.5918668064877077,1.8090173392662052,3.6517180993889111,1.2760000000000001E-4,1.7219,4,5.1420100000000005E-4,{"$f":"AK545*(1-(($E637-50)*0.005))","v":682.68088126453097},{"$f":"AL545*(1-(($E637-50)*0.005))","v":728.87575430242862},1038.9785000000002,1,1,1,769,821,1170,331,353,503,0.60732699591675265,0.68962809175183226,1.3884870199733848,1.7,11.5,12.8,19.600000000000001,null,4808,null,0.8,null,null,0,10,11.8,21.85,null,1,1,1,769,821,1170,null,0,0,0,1]
["26511",null,null,2,65,40.5,11,11.5,0,26,30,46,1814.92,4030.7284303866513,4375.55079813051,5580.9,"N/A",1,1,1,{"$error":"#VALUE!"},2218,2408,3071,{"$error":"#VALUE!"},382,414,528,{"$error":"#VALUE!"},1.0583816874953158,1.2372460268840018,1.9847202670413,3.969E-4,1.7345999999999999,4,5.7428799999999995E-4,{"$f":"AK547*(1-(($E639-50)*0.005))","v":624.4704010183209},{"$f":"AL547*(1-(($E639-50)*0.005))","v":677.89284462473347},864.6345,1,1,1,703,763,974,302,328,419,0.67103666201411338,0.78751913661772699,1.2664233551770299,0.9,12.2,13.7,22,null,2669,null,0.68,null,null,0,10.9,12.7,21.85,null,1,1,1,703,763,974,null,0,0,0,1]
["26515",null,null,2,65,40.5,15,16.5,0,26,30,46.4,2469.6000000000004,3233.3460619053994,3452.1364439366635,4920.8599999999997,"N/A",1,1,1,{"$error":"#VALUE!"},1779,1900,2708,{"$error":"#VALUE!"},306,327,466,{"$error":"#VALUE!"},0.4636441432552757,0.52863903264505419,1.065130334122897,2.0829999999999999E-4,1.724,2,4.6182900000000003E-4,{"$f":"AK548","v":420.6820520547858},{"$f":"AL548","v":449.14828645115074},640.24,1,1,1,474,506,721,204,218,310,0.2081614905940678,0.23730238933050243,0.47569842907227855,0.7,11.5,12.8,19.600000000000001,null,3087,null,0.8,null,null,0,10,11.8,21.85,null,1,1,1,474,506,721,null,0,0,0,1]
["26520",null,null,2,65,40.5,20,21.5,0,26,30,46.4,3443.2000000000003,4497.8275192555193,4882.6094666576164,6227.64,"N/A",1,1,1,{"$error":"#VALUE!"},2475,2687,3427,{"$error":"#VALUE!"},426,462,589,{"$error":"#VALUE!"},0.7124314151828971,0.8368112967338811,1.3549053645263462,1.2760000000000001E-4,1.7219,2,3.76611E-4,{"$f":"AK550","v":526.1057925837863},{"$f":"AL550","v":571.11330132956857},728.44,1,1,1,592,643,820,255,276,353,0.25761643441420073,0.30134513751185149,0.49075646804201611,0.9,11.5,12.8,19.600000000000001,null,4304,null,0.8,null,null,0,10,11.8,21.85,null,1,1,1,592,643,820,null,0,0,0,1]
["26521",null,null,2,65,40.5,21,21.5,0,26,30,46.4,4327.2,6016.7573462820046,6423.892435808023,9156.9599999999991,"N/A",1,1,1,{"$error":"#VALUE!"},3311,3535,5039,{"$error":"#VALUE!"},569,608,867,{"$error":"#VALUE!"},1.7718698316138359,2.0201583911585459,4.077797937882047,1.2760000000000001E-4,1.7219,4,5.1420100000000005E-4,{"$f":"AK551*(1-(($E643-50)*0.005))","v":693.86420084152155},{"$f":"AL551*(1-(($E643-50)*0.005))","v":740.81581402284382},1055.9985000000001,1,1,1,781,834,1189,336,359,511,0.62557702646109581,0.71297235078844323,1.4324917771370005,1.7,11.5,12.8,19.600000000000001,null,5409,null,0.8,null,null,0,10,11.8,21.85,null,1,1,1,781,834,1189,null,0,0,0,1]
["26511",null,null,2,65,40.5,11,11.5,0,26,30,46.5,2016.88,4422.7050634086982,4820.649682883678,6269.9,"N/A",1,1,1,{"$error":"#VALUE!"},2434,2653,3451,{"$error":"#VALUE!"},419,456,594,{"$error":"#VALUE!"},1.2664233551770299,1.4926410486427331,2.4957189750643418,3.969E-4,1.7345999999999999,4,5.7428799999999995E-4,{"$f":"AK553*(1-(($E645-50)*0.005))","v":685.42500000000007},{"$f":"AL553*(1-(($E645-50)*0.005))","v":746.47500000000002},971.25,1,1,1,772,841,1094,332,362,470,0.80624503000945258,0.95351847689788571,1.5829638467104097,0.9,13.4,14.8,24,null,2966,null,0.68,null,null,0,10.7,12.5,21.85,null,1,1,1,772,841,1094,null,0,0,0,1]
["26515",null,null,2,65,40.5,15,16.5,0,26,30,47.1,2744,3875.4624109054007,4083.4735576056296,5893.16,"N/A",1,1,1,{"$error":"#VALUE!"},2133,2247,3243,{"$error":"#VALUE!"},367,386,558,{"$error":"#VALUE!"},0.66411525592889653,0.7338247954259971,1.5214874875185085,2.0829999999999999E-4,1.724,2,4.6182900000000003E-4,{"$f":"AK554","v":529.01617838795164},{"$f":"AL554","v":557.41053504066974},804.44,1,1,1,596,628,906,256,270,390,0.32591325811221783,0.36205924190656352,0.74893987720020228,0.7,13.2,14.7,23.5,null,3430,null,0.8,null,null,0,10,11.4,21.85,null,1,1,1,596,628,906,null,0,0,0,1]
["26520",null,null,2,65,40.5,20,21.5,0,26,30,47.1,3825.6000000000004,5214.8121821672385,5684.028740747025,7392.84,"N/A",1,1,1,{"$error":"#VALUE!"},2870,3128,4069,{"$error":"#VALUE!"},494,538,700,{"$error":"#VALUE!"},0.95571334083464721,1.1320133318817749,1.9087700057130927,1.2760000000000001E-4,1.7219,2,3.76611E-4,{"$f":"AK556","v":644.46964929787134},{"$f":"AL556","v":702.45751547390614},913.64,1,1,1,726,791,1029,312,340,442,0.38421866689777184,0.45557590348918631,0.76648409067450052,0.9,13.2,14.7,23.5,null,4782,null,0.8,null,null,0,10,11.4,21.85,null,1,1,1,726,791,1029,null,0,0,0,1]
["26521",null,null,2,65,40.5,21,21.5,0,26,30,47.1,4808,7298.5082710627348,7690.2476078687869,11098.36,"N/A",1,1,1,{"$error":"#VALUE!"},4017,4232,6108,{"$error":"#VALUE!"},691,728,1051,{"$error":"#VALUE!"},2.6022561169951941,2.8852603748951879,5.9700893507304391,1.2760000000000001E-4,1.7219,4,5.1420100000000005E-4,{"$f":"AK557*(1-(($E649-50)*0.005))","v":875.71925864706895},{"$f":"AL557*(1-(($E649-50)*0.005))","v":922.72251861059272},1331.6485,1,1,1,986,1039,1500,424,447,645,0.99051753638372675,1.0995228351021635,2.270628630495529,1.7,13.2,14.7,23.5,null,6010,null,0.8,null,null,0,10,11.4,21.85,null,1,1,1,986,1039,1500,null,0,0,0,1]
["26515",null,null,2,65,40.5,15,16.5,0,26,30,47.8,3018.4,4302.5567439745028,4481.7988603493422,6540.76,"N/A",1,1,1,{"$error":"#VALUE!"},2368,2467,3600,{"$error":"#VALUE!"},407,424,619,{"$error":"#VALUE!"},0.81488315196479333,0.88358433095456757,1.8684250293754432,2.0829999999999999E-4,1.724,2,4.6182900000000003E-4,{"$f":"AK560","v":587.31626956044784},{"$f":"AL560","v":611.78353807115786},892.84,1,1,1,661,689,1006,284,296,433,0.40008718473251742,0.43417931475139154,0.92107151763064654,0.7,15.5,16.8,27.5,null,3773,null,0.8,null,null,0,10,11.1,21.85,null,1,1,1,661,689,1006,null,0,0,0,{"$f":"IF(SUM(BV652:BX652)=0,1,0)","v":1}]
["26516",null,null,2,65,40.5,16,16.5,0,26,30,47.8,3331.32,6291.7251954043459,6553.83496101116,9564.7000000000007,"N/A",1,1,1,{"$error":"#VALUE!"},3463,3607,5264,{"$error":"#VALUE!"},596,620,905,{"$error":"#VALUE!"},5.100050663242202,5.5161127850199039,11.696078438775503,2.0829999999999999E-4,1.724,4,1.392796E-3,{"$f":"AK561*(1-(($E653-50)*0.005))","v":891.10627437550988},{"$f":"AL561*(1-(($E653-50)*0.005))","v":928.2292652012901},1354.6625000000001,1,1,1,1004,1045,1526,432,449,656,2.6917498835719216,2.9061155199881616,6.1706313967857547,1.3,15.5,16.8,27.5,null,4899,null,0.68,null,null,0,10,11.1,21.85,null,1,1,1,1004,1045,1526,null,0,0,0,1]
["26521",null,null,2,65,40.5,21,21.5,0,26,30,47.8,5288.8,8102.8384881891643,8440.3982243391856,12317.96,"N/A",1,1,1,{"$error":"#VALUE!"},4459,4645,6779,{"$error":"#VALUE!"},767,799,1166,{"$error":"#VALUE!"},3.1992439973109099,3.4688845861405251,7.3339093939274678,1.2760000000000001E-4,1.7219,4,5.1420100000000005E-4,{"$f":"AK563*(1-(($E655-50)*0.005))","v":972.22767314624582},{"$f":"AL563*(1-(($E655-50)*0.005))","v":1012.7301362403042},1477.9835,1,1,1,1095,1141,1664,471,491,716,1.2192767252673662,1.3237562693039249,2.7918874870783177,1.7,15.5,16.8,27.5,null,6611,null,0.8,null,null,0,10,11.1,21.85,null,1,1,1,1095,1141,1664,null,0,0,0,1]
["26510",null,null,2,65,40.5,10,11.5,0,26,30,47.2,2421,3860.4188735925432,4228.9855673527691,5636.58,"N/A",1,1,1,{"$error":"#VALUE!"},2125,2327,3102,{"$error":"#VALUE!"},366,400,534,{"$error":"#VALUE!"},0.59232004727180543,0.70441663119990616,1.2385348712627864,3.969E-4,1.7345999999999999,2,3.6734700000000002E-4,{"$f":"AK564","v":535.19789031294818},{"$f":"AL564","v":586.29496640731588},781.44,1,1,1,603,660,880,259,284,378,0.30191396877344806,0.36125633381130845,0.63079641903792172,0.4,14.8,16.600000000000001,28,null,2690,null,0.9,null,null,0,10.4,12.2,21.85,null,1,1,1,603,660,880,null,0,0,0,1]
["26515",null,null,2,65,40.5,15,16.5,0,26,30,48.1,3292.8,4729.715265656896,4901.7743245246338,7188.36,"N/A",1,1,1,{"$error":"#VALUE!"},2603,2698,3956,{"$error":"#VALUE!"},448,464,680,{"$error":"#VALUE!"},0.98526627707941128,1.0561041215408995,2.250672478120701,2.0829999999999999E-4,1.724,2,4.6182900000000003E-4,{"$f":"AK566","v":645.62512273636446},{"$f":"AL566","v":669.11187505864359},981.24,1,1,1,727,754,1105,313,324,475,0.48483974785555528,0.51909546758478731,1.1062197405309782,0.7,16.399999999999999,17.7,29.7,null,4116,null,0.8,null,null,0,10,10.9,21.85,null,1,1,1,727,754,1105,null,0,0,0,1]
["26516",null,null,2,65,40.5,16,16.5,0,26,30,48.1,3634.6000000000004,6916.3686790875245,7167.9744986485921,10511.7,"N/A",1,1,1,{"$error":"#VALUE!"},3806,3945,5785,{"$error":"#VALUE!"},655,679,995,{"$error":"#VALUE!"},6.1519574504522012,6.6079035060851652,14.121905340852017,2.0829999999999999E-4,1.724,4,1.392796E-3,{"$f":"AK567*(1-(($E659-50)*0.005))","v":979.57500000000005},{"$f":"AL567*(1-(($E659-50)*0.005))","v":1015.6500000000001},1489.25,1,1,1,1103,1144,1677,474,492,721,3.2361919983726364,3.484776634539291,7.4448243258682085,1.3,16.399999999999999,17.7,29.7,null,5345,null,0.68,null,null,0,10,10.9,21.85,null,1,1,1,1103,1144,1677,null,0,0,0,1]
["26521",null,null,2,65,40.5,21,21.5,0,26,30,48.1,5769.6,8907.2895892451361,9231.3217513746804,13537.56,"N/A",1,1,1,{"$error":"#VALUE!"},4902,5080,7450,{"$error":"#VALUE!"},843,874,1281,{"$error":"#VALUE!"},3.8573102894576552,4.1432524469089289,8.8368559034211742,1.2760000000000001E-4,1.7219,4,5.1420100000000005E-4,{"$f":"AK569*(1-(($E661-50)*0.005))","v":1068.750592031967},{"$f":"AL569*(1-(($E661-50)*0.005))","v":1107.6299348043735},1624.3185000000001,1,1,1,1204,1247,1829,518,536,786,1.4715542134072619,1.5743923428313906,3.3580375334824821,1.7,16.399999999999999,17.7,29.7,null,7212,null,0.8,null,null,0,10,10.9,21.85,null,1,1,1,1204,1247,1829,null,0,0,0,1]
["26510",null,null,2,65,40.5,10,11.5,0,26,30,47.8,2623.5,4178.1784000000007,4608.2849999999999,6144.38,"N/A",1,1,1,{"$error":"#VALUE!"},2299,2536,3381,{"$error":"#VALUE!"},395,436,582,{"$error":"#VALUE!"},0.68733503532103568,0.83346745023346858,1.4655131101070837,3.969E-4,1.7345999999999999,2,3.6734700000000002E-4,{"$f":"AK570","v":579.25120000000004},{"$f":"AL570","v":638.88},851.84,1,1,1,652,719,959,280,309,412,0.35141167680202845,0.42579886659754623,0.74625101801239691,0.4,16.2,18.600000000000001,31.4,null,2915,null,0.9,null,null,0,10.199999999999999,11.9,21.85,null,1,1,1,652,719,959,null,0,0,0,1]
["26515",null,null,2,65,40.5,15,16.5,0,26,30,48.1,3567.2000000000003,4942.1733310961072,5121.9619484404784,7511.2599999999993,"N/A",1,1,1,{"$error":"#VALUE!"},2720,2819,4134,{"$error":"#VALUE!"},468,485,711,{"$error":"#VALUE!"},1.0741946462564975,1.1527792561007437,2.4584476336278915,2.0829999999999999E-4,1.724,2,4.6182900000000003E-4,{"$f":"AK572","v":653.91552727192982},{"$f":"AL572","v":677.70396216321694},993.84,1,1,1,736,763,1119,316,328,481,0.49406728493193125,0.53183936852976998,1.1340411984679173,0.7,16.399999999999999,17.7,29.7,null,4459,null,0.8,null,null,0,10,10.9,21.85,null,1,1,1,736,763,1119,null,0,0,0,1]
["26516",null,null,2,65,40.5,16,16.5,0,26,30,48.1,3937.2000000000003,7342.4691534710291,7609.5768181679023,11159.300000000001,"N/A",1,1,1,{"$error":"#VALUE!"},4041,4188,6141,{"$error":"#VALUE!"},695,720,1056,{"$error":"#VALUE!"},6.9208763332049994,7.4243207245658951,15.895345799650027,2.0829999999999999E-4,1.724,4,1.392796E-3,{"$f":"AK573*(1-(($E665-50)*0.005))","v":988.70476233524153},{"$f":"AL573*(1-(($E665-50)*0.005))","v":1024.6723114828192},1502.6625000000001,1,1,1,1113,1154,1692,479,496,728,3.3043256065997064,3.54125992909999,7.5891373673718938,1.3,16.399999999999999,17.7,29.7,null,5790,null,0.68,null,null,0,10,10.9,21.85,null,1,1,1,1113,1154,1692,null,0,0,0,1]
["26521",null,null,2,65,40.5,21,21.5,0,26,30,48.1,6250.4000000000005,9234.8263652613623,9570.7750567366256,14035.359999999999,"N/A",1,1,1,{"$error":"#VALUE!"},5082,5267,7724,{"$error":"#VALUE!"},874,906,1329,{"$error":"#VALUE!"},4.1432524469089289,4.4490596467009969,9.5052901709258339,1.2760000000000001E-4,1.7219,4,5.1420100000000005E-4,{"$f":"AK575*(1-(($E667-50)*0.005))","v":1079.9492178411199},{"$f":"AL575*(1-(($E667-50)*0.005))","v":1119.2360990713107},1641.3385000000001,1,1,1,1216,1260,1848,523,542,795,1.4997749071360018,1.6094368996795227,3.4345875454077182,1.7,16.399999999999999,17.7,29.7,null,7813,null,0.8,null,null,0,10,10.9,21.85,null,1,1,1,1216,1260,1848,null,0,0,0,1]
["26510",null,null,2,65,40.5,10,11.5,0,26,30,47.8,{"$f":"IF($N668-($BE668*$BG668)>100,$BE668*$BG668,$N668-95)","v":2825.1},4331.3824000000004,4782.2249168521384,6369.68,"N/A",1,1,1,{"$f":"ROUND(M668*POWER(CF_heat,Q668),0)","v":{"$error":"#VALUE!"}},{"$f":"ROUND(N668*POWER(CF_heat,R668),0)","v":2384},{"$f":"ROUND(O668*POWER(CF_heat,S668),0)","v":2632},{"$f":"ROUND(P668*POWER(CF_heat,T668),0)","v":3505},{"$error":"#VALUE!"},410,453,603,{"$error":"#VALUE!"},0.73919644224928682,0.89810382954038859,1.5707061008448535,{"$f":"IF($G668=$CO$103,CP$103,IF($G668=$CO$104,CP$104,IF($G668=$CO$105,CP$105,IF($G668=$CO$107,CP$107,IF($G668=$CO$108,CP$108,IF($G668=$CO$109,CP$109,IF($G668=$CO$111,CP$111,IF($G668=$CO$112,CP$112,IF($G668=$CO$113,CP$113,IF($G668=$CO$115,CP$115,IF($G668=$CO$116,CP$116,IF($G668=$CO$117,CP$117,IF($G668=$CO$119,CP$119,IF($G668=$CO$120,CP$120,))))))))))))))","v":3.969E-4},{"$f":"IF($G668=$CO$103,CQ$103,IF($G668=$CO$104,CQ$104,IF($G668=$CO$105,CQ$105,IF($G668=$CO$107,CQ$107,IF($G668=$CO$108,CQ$108,IF($G668=$CO$109,CQ$109,IF($G668=$CO$111,CQ$111,IF($G668=$CO$112,CQ$112,IF($G668=$CO$113,CQ$113,IF($G668=$CO$115,CQ$115,IF($G668=$CO$116,CQ$116,IF($G668=$CO$117,CQ$117,IF($G668=$CO$119,CQ$119,IF($G668=$CO$120,CQ$120,))))))))))))))","v":1.7345999999999999},{"$f":"IF($G668=$CO$103,CR$103,IF($G668=$CO$104,CR$104,IF($G668=$CO$105,CR$105,IF($G668=$CO$107,CR$107,IF($G668=$CO$108,CR$108,IF($G668=$CO$109,CR$109,IF($G668=$CO$111,CR$111,IF($G668=$CO$112,CR$112,IF($G668=$CO$113,CR$113,IF($G668=$CO$115,CR$115,IF($G668=$CO$116,CR$116,IF($G668=$CO$117,CR$117,IF($G668=$CO$119,CR$119,IF($G668=$CO$120,CR$120,))))))))))))))","v":2},{"$f":"IF($G668=$CO$103,CS$103,IF($G668=$CO$104,CS$104,IF($G668=$CO$105,CS$105,IF($G668=$CO$107,CS$107,IF($G668=$CO$108,CS$108,IF($G668=$CO$109,CS$109,IF($G668=$CO$111,CS$111,IF($G668=$CO$112,CS$112,IF($G668=$CO$113,CS$113,IF($G668=$CO$115,CS$115,IF($G668=$CO$116,CS$116,IF($G668=$CO$117,CS$117,IF($G668=$CO$119,CS$119,IF($G668=$CO$120,CS$120,))))))))))))))","v":3.6734700000000002E-4},{"$f":"AK576","v":587.68320000000006},{"$f":"AL576","v":648.85364133524638},864.24,1,1,1,{"$f":"ROUND(AK668*POWER(CF_cool,AN668),0)","v":662},731,{"$f":"ROUND(AM668*POWER(CF_cool,AP668),0)","v":973},285,314,418,0.36373830075560687,0.43932999851293686,0.76761187769382766,0.4,16.2,18.600000000000001,31.4,null,3139,null,{"$f":"IF(G668=10,0.9,IF(G668=11,0.68,IF(G668=15,0.8,IF(G668=16,0.68,IF(G668=20,0.8,IF(G668=21,0.8))))))","v":0.9},null,null,0,10.199999999999999,11.9,21.85,null,1,1,1,{"$f":"AQ668/BO668","v":662},731,973,null,{"$f":"BR668-AQ668","v":0},{"$f":"BS668-AR668","v":0},{"$f":"BT668-AS668","v":0},1]
["26515",null,null,2,65,40.5,15,16.5,0,26,30,48.9,3841.6000000000004,5583.9635634029,5708.9475468201636,8483.56,"N/A",1,1,1,{"$error":"#VALUE!"},3073,3142,4669,{"$error":"#VALUE!"},529,540,803,{"$error":"#VALUE!"},1.3689470484505946,1.425866170388904,3.1286499681472879,2.0829999999999999E-4,1.724,2,4.6182900000000003E-4,{"$f":"AK578","v":762.23344503523219},{"$f":"AL578","v":779.29426056038062},1158.04,1,1,1,858,878,1304,369,378,561,0.67129067565354383,0.70405306107822163,1.5377237202502108,0.7,19.3,20.399999999999999,34.5,null,4802,null,0.8,null,null,0,10,10.6,21.85,null,{"$f":"IF((237.3*LN(($AQ$1*EXP(17.27*($AM$3/($AM$3+237.3))))))/(17.27-LN(($AQ$1*EXP(17.27*($AM$3/($AM$3+237.3))))))<(($AM$1+$AM$2)/2),1,IF(1/(1+((2258*((0.622/((101325/(1*611*EXP(17.27*((($AM$1+$AM$2)/2)/((($AM$1+$AM$2)/2)+237.3))))))-1)*1000-(0.622/((101325/($AQ$1*611*EXP(17.27*($AM$3/($AM$3+237.3))))))-1)*1000))/(1005*((($AM$1+$AM$2)/2)-$AM$3))))>1,1,1/(1+((2258*((0.622/((101325/(1*611*EXP(17.27*((($AM$1+$AM$2)/2)/((($AM$1+$AM$2)/2)+237.3))))))-1)*1000-(0.622/((101325/($AQ$1*611*EXP(17.27*($AM$3/($AM$3+237.3))))))-1)*1000))/(1005*((($AM$1+$AM$2)/2)-$AM$3))))))","v":1},1,1,858,878,1304,null,0,0,0,1]
["26516",null,null,2,65,40.5,16,16.5,0,26,30,48.9,4240.4800000000005,8165.5551181941737,8348.321999442087,12405.7,"N/A",1,1,1,{"$error":"#VALUE!"},4494,4594,6827,{"$error":"#VALUE!"},773,790,1174,{"$error":"#VALUE!"},8.5497777303454239,8.9275078446010792,19.622172851479093,2.0829999999999999E-4,1.724,4,1.392796E-3,{"$f":"AK579*(1-(($E671-50)*0.005))","v":1156.25},{"$f":"AL579*(1-(($E671-50)*0.005))","v":1182.1500000000001},1757.5,1,1,1,1302,1331,1979,560,572,851,4.5063967148469724,4.7002218376767955,10.349772103762232,1.3,19.3,20.399999999999999,34.5,null,6236,null,0.68,null,null,0,10,10.6,21.85,null,1,1,1,1302,1331,1979,null,0,0,0,1]
["26521",null,null,2,65,40.5,21,21.5,0,26,30,48.1,6731.2000000000007,10516.06232539558,10751.439821034392,15976.76,"N/A",1,1,1,{"$error":"#VALUE!"},5787,5917,8793,{"$error":"#VALUE!"},995,1018,1512,{"$error":"#VALUE!"},5.3563884078911617,5.6044455845676975,12.275633898351085,1.2760000000000001E-4,1.7219,4,5.1420100000000005E-4,{"$f":"AK581*(1-(($E673-50)*0.005))","v":1167.147328515706},{"$f":"AL581*(1-(($E673-50)*0.005))","v":1193.2711956750065},1773.2143625000003,1,1,1,1314,1344,1997,565,578,859,1.7473171694902547,1.82773440928624,4.0036262529588935,1.7,19.3,20.399999999999999,34.5,null,8414,null,0.8,null,null,0,10,10.6,21.85,null,1,1,1,1314,1344,1997,null,0,0,0,1]
["29510",null,null,2,95,40.5,10,11.5,0,26,30,40,746.69225687813923,841.69225687813923,901.35950941531064,1066.3800000000001,"N/A",1,1,1,{"$error":"#VALUE!"},463,496,587,{"$error":"#VALUE!"},80,85,101,{"$error":"#VALUE!"},3.5582157103802602E-2,3.994292873422263E-2,5.5515392508300732E-2,3.969E-4,1.7345999999999999,2,3.6734700000000002E-4,{"$f":"AK492","v":116.68990721587436},{"$f":"AL492","v":124.96201154556491},147.84,1,1,1,131,141,166,56,61,71,1.8045438897696383E-2,2.1231799203110118E-2,2.8344427504328615E-2,0.6,4.8,5.4,6.8,null,838,null,0.9,null,null,0,{"$f":"BK584","v":13.6},{"$f":"BL584","v":15.6},21.85,null,1,1,1,131,141,166,null,0,0,0,1]
["29515",null,null,2,95,40.5,15,16.5,0,26,30,41.1,862.19258357509659,957.19258357509659,1027.5250511543745,1359.96,"N/A",1,1,1,{"$error":"#VALUE!"},527,565,748,{"$error":"#VALUE!"},91,97,129,{"$error":"#VALUE!"},4.5325529506877904E-2,5.1343830762075104E-2,8.9635707622632066E-2,2.0829999999999999E-4,1.724,2,4.6182900000000003E-4,{"$f":"AK494","v":423.65815696218516},{"$f":"AL494","v":140.26129481477255},185.64,1,1,1,477,158,209,205,68,90,0.22202517852512815,2.5676037912831511E-2,4.4358279603080496E-2,1,4.8,5.5,7.2,null,1210,null,0.8,null,null,0,12.3,14.4,21.85,null,1,1,1,477,158,209,null,0,0,0,1]
["29516",null,null,2,95,40.5,16,16.5,0,26,30,41.1,1093.44,1399.7241764138612,1502.5729206967153,1988.7,"N/A",1,1,1,{"$error":"#VALUE!"},770,827,1094,{"$error":"#VALUE!"},132,142,188,{"$error":"#VALUE!"},0.26762466006923008,0.30902175380280023,0.53724688080841176,2.0829999999999999E-4,1.724,4,1.392796E-3,{"$f":"AK495*(1-(($E677-50)*0.005))","v":165.85},{"$f":"AL495*(1-(($E677-50)*0.005))","v":178.25},236.375,1,1,1,187,201,266,80,86,114,9.9923335883671499E-2,0.11518689388715295,0.20053032968230117,1.9,4.8,5.5,7.2,null,1608,null,0.68,null,null,0,12.3,14.4,21.85,null,1,1,1,187,201,266,null,0,0,0,1]
["29521",null,null,2,95,40.5,21,21.5,0,26,30,41.1,1707.6437228662567,1802.6437228662567,1935.0981352499616,2561.16,"N/A",1,1,1,{"$error":"#VALUE!"},992,1065,1410,{"$error":"#VALUE!"},171,183,243,{"$error":"#VALUE!"},0.17556456705333143,0.20046603259093984,0.34922898024456522,1.2760000000000001E-4,1.7219,4,5.1420100000000005E-4,{"$f":"AK497*(1-(($E679-50)*0.005))","v":181.21772191047671},{"$f":"AL497*(1-(($E679-50)*0.005))","v":194.53321324395014},257.47050000000002,1,1,1,204,219,290,88,94,125,4.8011608932490103E-2,5.4595435748421843E-2,9.518609001346133E-2,{"$f":"ROUND(IF(G679=10,$CO$92*E679,IF(G679=11,$CO$93*E679,IF(G679=15,$CO$94*E679,IF(G679=16,$CO$95*E679,IF(G679=20,$CO$96*E679,IF(G679=21,$CO$97*E679,)))))),1)","v":2.5},4.8,5.5,7.2,null,2290,null,0.8,null,null,0,12.3,14.4,21.85,null,1,1,1,204,219,290,null,0,0,0,1]
["29510",null,null,2,95,40.5,10,11.5,0,26,30,41,879.30000000000007,1029.7403904507714,1104.2859635902939,1320.28,"N/A",1,1,1,{"$error":"#VALUE!"},567,608,727,{"$error":"#VALUE!"},98,105,125,{"$error":"#VALUE!"},5.2408578260369904E-2,5.979144662864936E-2,8.3450223358468259E-2,3.969E-4,1.7345999999999999,2,3.6734700000000002E-4,{"$f":"AK498","v":142.7603849699376},{"$f":"AL498","v":153.09517888293954},183.04,1,1,1,161,172,206,69,74,89,2.6843358346229921E-2,3.0669339149011501E-2,4.3605426778316241E-2,0.6,5.5,5.9,7.9,null,977,null,0.9,null,null,0,13.2,15.1,21.85,null,1,1,1,161,172,206,null,0,0,0,1]
["29515",null,null,2,95,40.5,15,16.5,0,26,30,41.1,975.82735416996661,1070.8273541699666,1149.5094620994566,1521.41,"N/A",1,1,1,{"$error":"#VALUE!"},589,633,837,{"$error":"#VALUE!"},101,109,144,{"$error":"#VALUE!"},5.556035477592839E-2,6.4482855477633272E-2,0.11115957423965658,2.0829999999999999E-4,1.724,2,4.6182900000000003E-4,{"$f":"AK500","v":135.09481491470635},{"$f":"AL500","v":145.02129350758159},191.94,1,1,1,152,163,216,65,70,93,2.3514845718924236E-2,2.716850937056052E-2,4.7290729297283049E-2,1,5.0999999999999996,5.6,7.2,null,1411,null,0.8,null,null,0,12.3,14.4,21.85,null,1,1,1,152,163,216,null,0,0,0,1]
["29516",null,null,2,95,40.5,16,16.5,0,26,30,41.1,1275.68,1627.62717250317,1747.2217424001376,2312.5,"N/A",1,1,1,{"$error":"#VALUE!"},896,962,1273,{"$error":"#VALUE!"},154,165,219,{"$error":"#VALUE!"},0.36257753907783286,0.41538261236596147,0.72596296784057035,2.0829999999999999E-4,1.724,4,1.392796E-3,{"$f":"AK501*(1-(($E683-50)*0.005))","v":170.18821635081792},{"$f":"AL501*(1-(($E683-50)*0.005))","v":182.69328316209871},241.8,1,1,1,192,206,272,83,89,117,0.10742135210894088,0.12321974821381734,0.21104929108703993,1.9,5.0999999999999996,5.6,7.2,null,1876,null,0.68,null,null,0,12.3,14.4,21.85,null,1,1,1,192,206,272,null,0,0,0,1]
["29521",null,null,2,95,40.5,21,21.5,0,26,30,41.1,1882.8291945358951,1977.8291945358951,2123.1558613833213,2810.06,"N/A",1,1,1,{"$error":"#VALUE!"},1088,1168,1546,{"$error":"#VALUE!"},187,201,266,{"$error":"#VALUE!"},0.20912684780277108,0.24085627035404916,0.41692904657274099,1.2760000000000001E-4,1.7219,4,5.1420100000000005E-4,{"$f":"AK503*(1-(($E685-50)*0.005))","v":186.23609239261623},{"$f":"AL503*(1-(($E685-50)*0.005))","v":199.92032287565303},264.60050000000001,1,1,1,210,225,298,90,97,128,5.0160180967576504E-2,5.8042588428378922E-2,9.9696462930484481E-2,2.5,5.0999999999999996,5.6,7.2,null,2671,null,0.8,null,null,0,12.3,14.4,21.85,null,1,1,1,210,225,298,null,0,0,0,1]
["29510",null,null,2,95,40.5,10,11.5,0,26,30,41.8,1005.3000000000001,1214.2269940407766,1304.1433704057049,1574.18,"N/A",1,1,1,{"$error":"#VALUE!"},668,718,866,{"$error":"#VALUE!"},115,123,149,{"$error":"#VALUE!"},7.1147418668290358E-2,8.0914161932674575E-2,0.11681127391472532,3.969E-4,1.7345999999999999,2,3.6734700000000002E-4,{"$f":"AK504","v":168.33710197020613},{"$f":"AL504","v":180.80286190736828},218.24,1,1,1,190,204,246,82,88,106,3.729743108949711E-2,4.2675342683488639E-2,6.0884283201225513E-2,0.6,6.3,6.8,9.1,null,1117,null,0.9,null,null,0,12.8,14.7,21.85,null,1,1,1,190,204,246,null,0,0,0,1]
["29515",null,null,2,95,40.5,15,16.5,0,26,30,42.4,1290.4000000000001,1395.33740436932,1496.2563490716184,2007.56,"N/A",1,1,1,{"$error":"#VALUE!"},768,823,1105,{"$error":"#VALUE!"},132,142,190,{"$error":"#VALUE!"},9.375845352581505E-2,0.10815835360460015,0.19130176087014161,2.0829999999999999E-4,1.724,2,4.6182900000000003E-4,{"$f":"AK506","v":190.46915773046311},{"$f":"AL506","v":204.24499885412456},274.04000000000002,1,1,1,215,230,309,92,99,133,4.6303013925658269E-2,5.3431678092690935E-2,9.5152943415092353E-2,1,6,6.7,9,null,1613,null,0.8,null,null,0,11.8,13.7,21.85,null,1,1,1,215,230,309,null,0,0,0,1]
["29516",null,null,2,95,40.5,16,16.5,0,26,30,42.4,1457.92,2040.4331716148024,2188.0092071816284,2935.7,"N/A",1,1,1,{"$error":"#VALUE!"},1123,1204,1616,{"$error":"#VALUE!"},193,207,278,{"$error":"#VALUE!"},0.56578679941847276,0.64958388210845774,1.1624880553591741,2.0829999999999999E-4,1.724,4,1.392796E-3,{"$f":"AK507*(1-(($E689-50)*0.005))","v":241.8},{"$f":"AL507*(1-(($E689-50)*0.005))","v":259.625},348.75,1,1,1,272,292,393,117,126,169,0.21104929108703993,0.24419893221788194,0.43546387430852262,1.9,6,6.7,9,null,2144,null,0.68,null,null,0,11.8,13.7,21.85,null,1,1,1,272,292,393,null,0,0,0,1]
["29510",null,null,2,95,40.5,10,11.5,0,26,30,42.4,1130.4000000000001,1395.6272192501513,1501.3000140389001,1828.08,"N/A",1,1,1,{"$error":"#VALUE!"},768,826,1006,{"$error":"#VALUE!"},132,142,173,{"$error":"#VALUE!"},9.2622869490700047E-2,0.10652414008726457,0.15553991502252798,3.969E-4,1.7345999999999999,2,3.6734700000000002E-4,{"$f":"AK510","v":193.48593193227777},{"$f":"AL510","v":208.13611852764589},253.44,1,1,1,218,234,285,94,101,123,4.8400117222298762E-2,5.5515392508300732E-2,8.0914161932674575E-2,0.6,6.7,7.4,10.3,null,1256,null,0.9,null,null,0,12.5,14.7,21.85,null,1,1,1,218,234,285,null,0,0,0,1]
["29511",null,null,2,95,40.5,11,11.5,0,26,30,42.4,1075.76,1893.6336235985709,2037.0140009310799,2480.4,"N/A",1,1,1,{"$error":"#VALUE!"},1042,1121,1365,{"$error":"#VALUE!"},179,193,235,{"$error":"#VALUE!"},0.28174220424513563,0.32520416228801535,0.47342100866111658,3.969E-4,1.7345999999999999,4,5.7428799999999995E-4,{"$f":"AK511*(1-(($E693-50)*0.005))","v":245.80133980629637},{"$f":"AL511*(1-(($E693-50)*0.005))","v":264.41269546193195},321.96600000000001,1,1,1,277,298,363,119,128,156,0.12964962992513512,0.14889458036150519,0.21685423649454175,1.3,6.7,7.4,10.3,null,1582,null,0.68,null,null,0,12.5,14.7,21.85,null,1,1,1,277,298,363,null,0,0,0,1]
["29516",null,null,2,95,40.5,16,16.5,0,26,30,43.3,1640.16,2336.669516687492,2503.3688418217644,3409.2,"N/A",1,1,1,{"$error":"#VALUE!"},1286,1378,1876,{"$error":"#VALUE!"},221,237,323,{"$error":"#VALUE!"},0.73910109660716294,0.84840225792922785,1.5634003344660488,2.0829999999999999E-4,1.724,4,1.392796E-3,{"$f":"AK513*(1-(($E695-50)*0.005))","v":277.27902527746244},{"$f":"AL513*(1-(($E695-50)*0.005))","v":297.06026779273577},404.55,1,1,1,312,335,456,134,144,196,0.27566875131897833,0.31765399504571312,0.58326142355075616,1.9,7,7.7,10.7,null,2412,null,0.68,null,null,0,11.3,13.2,21.85,null,1,1,1,312,335,456,null,0,0,0,1]
["29520",null,null,2,95,40.5,20,21.5,0,26,30,43.3,2048,2232.7836804230465,2401.8435041457315,2924.64,"N/A",1,1,1,{"$error":"#VALUE!"},1229,1322,1610,{"$error":"#VALUE!"},211,227,277,{"$error":"#VALUE!"},0.18457683154003238,0.21315904304602995,0.31556082996779899,1.2760000000000001E-4,1.7219,2,3.76611E-4,{"$f":"AK514","v":275.93732338069162},{"$f":"AL514","v":296.83048721840407},361.44,1,1,1,311,334,407,134,144,175,7.5542293882672168E-2,8.7025815861604919E-2,0.12771047602347047,1.3,7,7.7,10.7,null,2560,null,0.8,null,null,0,11.3,13.2,21.85,null,1,1,1,311,334,407,null,0,0,0,1]
["29510",null,null,2,95,40.5,10,11.5,0,26,30,43,1256.4000000000001,1574.3905475253332,1696.1265760133244,2081.98,"N/A",1,1,1,{"$error":"#VALUE!"},866,933,1146,{"$error":"#VALUE!"},149,160,197,{"$error":"#VALUE!"},0.11681127391472532,0.13389869764237411,0.19958849887300792,3.969E-4,1.7345999999999999,2,3.6734700000000002E-4,{"$f":"AK516","v":218.26918973175157},{"$f":"AL516","v":235.14633901405676},288.64,1,1,1,246,265,325,106,114,140,6.0884283201225513E-2,6.9969127304731121E-2,0.10366899947975949,0.6,7.8,8.6999999999999993,12.2,null,1396,null,0.9,null,null,0,12.3,14.1,21.85,null,1,1,1,246,265,325,null,0,0,0,1]
["29511",null,null,2,95,40.5,11,11.5,0,26,30,43,1195.44,2136.1856779144437,2301.3611872256411,2824.9,"N/A",1,1,1,{"$error":"#VALUE!"},1176,1267,1555,{"$error":"#VALUE!"},202,218,267,{"$error":"#VALUE!"},0.35471915035146528,0.41022031910585094,0.60413785881210624,3.969E-4,1.7345999999999999,4,5.7428799999999995E-4,{"$f":"AK517*(1-(($E699-50)*0.005))","v":277.45},{"$f":"AL517*(1-(($E699-50)*0.005))","v":298.375},366.57499999999999,1,1,1,312,336,413,134,144,178,0.16242988867145094,0.18623676427202723,0.27875225801897668,1.3,7.8,8.6999999999999993,12.2,null,1758,null,0.68,null,null,0,12.3,14.1,21.85,null,1,1,1,312,336,413,null,0,0,0,1]
["29516",null,null,2,95,40.5,16,16.5,0,26,30,44.1,1822.4,2630.3871448118639,2816.5633812075234,3882.7,"N/A",1,1,1,{"$error":"#VALUE!"},1448,1550,2137,{"$error":"#VALUE!"},249,267,368,{"$error":"#VALUE!"},0.93526995101298416,1.0734248767687282,2.0229711552035035,2.0829999999999999E-4,1.724,4,1.392796E-3,{"$f":"AK519*(1-(($E701-50)*0.005))","v":312.32499999999999},{"$f":"AL519*(1-(($E701-50)*0.005))","v":334.02500000000003},461.125,1,1,1,352,376,519,151,162,223,0.34879218854484095,0.40062936601289911,0.75235582677228374,1.9,7,7.7,10.7,null,2680,null,0.68,null,null,0,10.9,12.8,21.85,null,1,1,1,352,376,519,null,0,0,0,1]
["29520",null,null,2,95,40.5,20,21.5,0,26,30,44.1,2275.2000000000003,2518.7768428703835,2713.5353098724395,3330.84,"N/A",1,1,1,{"$error":"#VALUE!"},1386,1493,1833,{"$error":"#VALUE!"},238,257,315,{"$error":"#VALUE!"},0.23398796326314053,0.27222437384613651,0.40660924503204493,1.2760000000000001E-4,1.7219,2,3.76611E-4,{"$f":"AK520","v":311.2816285378957},{"$f":"AL520","v":335.35074484391049},411.64,1,1,1,351,378,464,151,163,200,9.5540990142235369E-2,0.11105049536977485,0.16610654986145071,1.3,7,7.7,10.7,null,2844,null,0.8,null,null,0,10.9,12.8,21.85,null,1,1,1,351,378,464,null,0,0,0,1]
["29510",null,null,2,95,40.5,10,11.5,0,26,30,43.5,1382.4,1766.3893947845202,1902.9712804051933,2335.88,"N/A",1,1,1,{"$error":"#VALUE!"},972,1047,1286,{"$error":"#VALUE!"},167,180,221,{"$error":"#VALUE!"},0.14535730079948542,0.16783977639901038,0.24891713924847142,3.969E-4,1.7345999999999999,2,3.6734700000000002E-4,{"$f":"AK522","v":244.88738360147738},{"$f":"AL522","v":263.82272182064906},323.83999999999997,1,1,1,276,297,365,119,128,157,7.595521085596757E-2,8.7324940510352611E-2,0.12912696312645186,0.6,8.4,9.3000000000000007,14,null,1536,null,0.9,null,null,0,12,13.9,21.85,null,1,1,1,276,297,365,null,0,0,0,1]
["29511",null,null,2,95,40.5,11,11.5,0,26,30,43.5,1315.1200000000001,2396.6961264405954,2582.0149905458411,3169.4,"N/A",1,1,1,{"$error":"#VALUE!"},1319,1421,1744,{"$error":"#VALUE!"},227,244,300,{"$error":"#VALUE!"},0.44313790959979288,0.50863751850044869,0.75490208086802502,3.969E-4,1.7345999999999999,4,5.7428799999999995E-4,{"$f":"AK523*(1-(($E705-50)*0.005))","v":311.10089705110983},{"$f":"AL523*(1-(($E705-50)*0.005))","v":335.15603872201353},411.40100000000001,1,1,1,350,377,463,151,162,199,0.20382604580009406,0.23299748338713477,0.34474417659197787,1.3,8.4,9.3000000000000007,14,null,1934,null,0.68,null,null,0,12,13.9,21.85,null,1,1,1,350,377,463,null,0,0,0,1]
["29516",null,null,2,95,40.5,16,16.5,0,26,30,44.1,2004.64,2849.7497938679544,3051.4523045945984,4206.5,"N/A",1,1,1,{"$error":"#VALUE!"},1568,1679,2315,{"$error":"#VALUE!"},270,289,398,{"$error":"#VALUE!"},1.0973662605635184,1.2550646869593445,2.3618798065288971,2.0829999999999999E-4,1.724,4,1.392796E-3,{"$f":"AK525*(1-(($E707-50)*0.005))","v":316.07054946608685},{"$f":"AL525*(1-(($E707-50)*0.005))","v":338.44171465793653},466.55,1,1,1,356,381,525,153,164,226,0.3579530728643634,0.41043555321398084,0.77245650946494626,1.9,7.9,8.8000000000000007,12.5,null,2948,null,0.68,null,null,0,10.9,12.8,21.85,null,1,1,1,356,381,525,null,0,0,0,1]
["29520",null,null,2,95,40.5,20,21.5,0,26,30,44.1,2502.4,2692.551301713082,2900.746468081386,3560.6400000000003,"N/A",1,1,1,{"$error":"#VALUE!"},1482,1596,1960,{"$error":"#VALUE!"},255,275,337,{"$error":"#VALUE!"},0.26806482831886519,0.31108480539700012,0.46452896835689012,1.2760000000000001E-4,1.7219,2,3.76611E-4,{"$f":"AK526","v":317.17997831584631},{"$f":"AL526","v":341.70517057946222},419.44,1,1,1,357,385,472,154,166,203,9.9310409538814981E-2,0.11510770309835582,0.17104847483711527,1.3,7.9,8.8000000000000007,12.5,null,3128,null,0.8,null,null,0,10.9,12.8,21.85,null,1,1,1,357,385,472,null,0,0,0,1]
["29510",null,null,2,95,40.5,10,11.5,0,26,30,44,1507.5,1924.9914127028867,2079.6202422788024,2589.7800000000002,"N/A",1,1,1,{"$error":"#VALUE!"},1059,1144,1425,{"$error":"#VALUE!"},182,197,245,{"$error":"#VALUE!"},0.17143699007068547,0.19958849887300792,0.3034917002085718,3.969E-4,1.7345999999999999,2,3.6734700000000002E-4,{"$f":"AK528","v":266.87553260000635},{"$f":"AL528","v":288.31284965818764},359.04,1,1,1,301,325,404,129,140,174,8.8635327626165591E-2,0.10366899947975949,0.15726935799957881,0.6,8.9,9.9,14.8,null,1675,null,0.9,null,null,0,11.8,13.7,21.85,null,1,1,1,301,325,404,null,0,0,0,1]
["29511",null,null,2,95,40.5,11,11.5,0,26,30,44,1434.8000000000002,2611.8926414972211,2821.6982019103875,3513.9,"N/A",1,1,1,{"$error":"#VALUE!"},1437,1553,1934,{"$error":"#VALUE!"},247,267,333,{"$error":"#VALUE!"},0.52064597837700688,0.60413785881210624,0.92175502724822334,3.969E-4,1.7345999999999999,4,5.7428799999999995E-4,{"$f":"AK529*(1-(($E711-50)*0.005))","v":338.67500000000001},{"$f":"AL529*(1-(($E711-50)*0.005))","v":366.57499999999999},456.47500000000002,1,1,1,381,413,514,164,178,221,0.23850181861975878,0.27875225801897668,0.42105726192614279,1.3,8.9,9.9,14.8,null,2110,null,0.68,null,null,0,11.8,13.7,21.85,null,1,1,1,381,413,514,null,0,0,0,1]
["29516",null,null,2,95,40.5,16,16.5,0,26,30,44.8,2186.88,3241.8333772189817,3471.5459677567114,4829.7,"N/A",1,1,1,{"$error":"#VALUE!"},1784,1911,2658,{"$error":"#VALUE!"},307,329,457,{"$error":"#VALUE!"},1.4141265108249321,1.6212901089414167,3.1041800192796782,2.0829999999999999E-4,1.724,4,1.392796E-3,{"$f":"AK531*(1-(($E713-50)*0.005))","v":384.40000000000003},{"$f":"AL531*(1-(($E713-50)*0.005))","v":412.3},573.5,1,1,1,433,464,646,186,200,278,0.52603553770559164,0.60696988816854247,1.1624880553591741,1.9,8.6999999999999993,9.8000000000000007,14.3,null,3216,null,0.68,null,null,0,10.6,12.5,21.85,null,1,1,1,433,464,646,null,0,0,0,1]
["29520",null,null,2,95,40.5,20,21.5,0,26,30,44.8,2730.4,3079.6829926739365,3327.0647594078355,4143.24,"N/A",1,1,1,{"$error":"#VALUE!"},1695,1831,2280,{"$error":"#VALUE!"},292,315,392,{"$error":"#VALUE!"},0.35013874187151256,0.40660924503204493,0.62600132608704251,1.2760000000000001E-4,1.7219,2,3.76611E-4,{"$f":"AK532","v":380.60090160569081},{"$f":"AL532","v":411.17343900116532},512.04,1,1,1,429,463,577,184,199,248,0.14095942430915556,0.16447515188909853,0.25375587320543036,1.3,8.6999999999999993,9.8000000000000007,14.3,null,3413,null,0.8,null,null,0,10.6,12.5,21.85,null,1,1,1,429,463,577,null,0,0,0,{"$f":"IF(SUM(BV714:BX714)=0,1,0)","v":1}]
["29510",null,null,2,95,40.5,10,11.5,0,26,30,44.8,1758.6000000000001,2267.7915432376717,2456.1428225151312,3097.58,"N/A",1,1,1,{"$error":"#VALUE!"},1248,1352,1705,{"$error":"#VALUE!"},215,233,293,{"$error":"#VALUE!"},0.23609192463379625,0.27555062827545923,0.42826318465856894,3.969E-4,1.7345999999999999,2,3.6734700000000002E-4,{"$f":"AK534","v":314.40040300104783},{"$f":"AL534","v":340.51290804463417},429.44,1,1,1,354,383,484,152,165,208,0.1213598802837709,0.14203709419811997,0.22154421119873388,0.6,10.1,11.2,17.5,null,1954,null,0.9,null,null,0,11.5,13.3,21.85,null,1,1,1,354,383,484,null,0,0,0,1]
["29511",null,null,2,95,40.5,11,11.5,0,26,30,44.8,1673.48,3077.015307780141,3332.5766142436496,4202.8999999999996,"N/A",1,1,1,{"$error":"#VALUE!"},1693,1834,2313,{"$error":"#VALUE!"},291,315,398,{"$error":"#VALUE!"},0.71218423233262385,0.82875648653479816,1.2970652479085656,3.969E-4,1.7345999999999999,4,5.7428799999999995E-4,{"$f":"AK535*(1-(($E717-50)*0.005))","v":399.125},{"$f":"AL535*(1-(($E717-50)*0.005))","v":432.45},545.6,1,1,1,449,487,614,193,209,264,0.32520416228801535,0.37852451833188294,0.59123383474681901,1.3,10.1,11.2,17.5,null,2461,null,0.68,null,null,0,11.5,13.3,21.85,null,1,1,1,449,487,614,null,0,0,0,1]
["29516",null,null,2,95,40.5,16,16.5,0,26,30,45.4,2551.36,3844.4231409656436,4117.1080284867467,5776.7,"N/A",1,1,1,{"$error":"#VALUE!"},2116,2266,3179,{"$error":"#VALUE!"},364,390,547,{"$error":"#VALUE!"},1.9797483365614827,2.2689621065117898,4.4296448878233239,2.0829999999999999E-4,1.724,4,1.392796E-3,{"$f":"AK537*(1-(($E719-50)*0.005))","v":456.47500000000002},{"$f":"AL537*(1-(($E719-50)*0.005))","v":488.25},685.875,1,1,1,514,550,772,221,237,332,0.73910109660716294,0.84840225792922785,1.6506259451319099,1.9,9.6,10.5,16.100000000000001,null,3752,null,0.68,null,null,0,10.4,12.2,21.85,null,1,1,1,514,550,772,null,0,0,0,1]
["29520",null,null,2,95,40.5,20,21.5,0,26,30,45.4,3185.6000000000004,3628.1091959950468,3929.4415695377957,4955.6400000000003,"N/A",1,1,1,{"$error":"#VALUE!"},1997,2163,2727,{"$error":"#VALUE!"},343,372,469,{"$error":"#VALUE!"},0.48098720989303179,0.56453079349153512,0.89198505575884024,1.2760000000000001E-4,1.7219,2,3.76611E-4,{"$f":"AK538","v":448.37784746172167},{"$f":"AL538","v":485.61784045001809},612.44000000000005,1,1,1,505,547,690,217,235,297,0.19505690402801229,0.22821216918310408,0.36205971380875207,1.3,9.6,10.5,16.100000000000001,null,3982,null,0.8,null,null,0,10.4,12.2,21.85,null,1,1,1,505,547,690,null,0,0,0,1]
["32010",null,null,3,20,40.5,10,11.5,0,26,30,38.799999999999997,295.2,649,695,812,"N/A",1,1,1,{"$error":"#VALUE!"},357,382,447,{"$error":"#VALUE!"},61,66,77,{"$error":"#VALUE!"},1.3940052642461747E-2,1.6305777236939472E-2,2.2159918661809021E-2,3.969E-4,1.7345999999999999,2,3.6734700000000002E-4,90.020119234756137,96.328259324977694,112.64,1,1,1,101,108,127,43,46,55,6.9532528367044454E-3,7.9512926066565657E-3,1.1344946209640126E-2,0.1,3.6,4.0999999999999996,5.0999999999999996,null,328,null,0.9,null,null,0,14.2,16.2,21.85,null,1,1,1,101,108,127,null,0,0,0,1]
["32010",null,null,3,20,40.5,10,11.5,0,26,30,40,353.7,841.69225687813923,901.35950941531064,1066.3800000000001,"N/A",1,1,1,{"$error":"#VALUE!"},463,496,587,{"$error":"#VALUE!"},80,85,101,{"$error":"#VALUE!"},2.391141895510291E-2,2.6978048710132096E-2,3.8029238921730574E-2,3.969E-4,1.7345999999999999,2,3.6734700000000002E-4,116.68990721587436,124.96201154556491,147.84,1,1,1,131,141,166,56,61,71,1.175899006137841E-2,1.3940052642461747E-2,1.8856067256442188E-2,0.1,4.8,5.4,6.8,null,393,null,0.9,null,null,0,13.6,15.6,21.85,null,1,1,1,131,141,166,null,0,0,0,1]
["32020",null,null,3,20,40.5,20,21.5,0,26,30,41.1,735.2,1346.575008837732,1442.0332127786496,1706.04,"N/A",1,1,1,{"$error":"#VALUE!"},741,794,939,{"$error":"#VALUE!"},127,137,162,{"$error":"#VALUE!"},6.0115981806803116E-2,6.9941531480908412E-2,9.7754049863802928E-2,1.2760000000000001E-4,1.7219,2,3.76611E-4,166.41571994991173,178.21286873827722,210.84,1,1,1,187,201,237,80,86,102,2.3886029440430702E-2,2.7597195357840672E-2,3.8801583747134293E-2,0.3,4.8,5.5,7.2,null,919,null,0.8,null,null,0,12.3,14.4,21.85,null,1,1,1,187,201,237,null,0,0,0,1]
["32010",null,null,3,20,40.5,10,11.5,0,26,30,41,413.1,1029.7403904507714,1104.2859635902939,1320.28,"N/A",1,1,1,{"$error":"#VALUE!"},567,608,727,{"$error":"#VALUE!"},98,105,125,{"$error":"#VALUE!"},3.5813504596005852E-2,4.1086632720166709E-2,5.8139850545067283E-2,3.969E-4,1.7345999999999999,2,3.6734700000000002E-4,142.7603849699376,153.09517888293954,183.04,1,1,1,161,172,206,69,74,89,1.7813809193348479E-2,2.0474795851792363E-2,2.9564029111706837E-2,0.1,5.5,5.9,7.9,null,459,null,0.9,null,null,0,13.2,15.1,21.85,null,1,1,1,161,172,206,null,0,0,0,1]
["32020",null,null,3,20,40.5,20,21.5,0,26,30,41.1,857.6,1509.840819712653,1619.1421060355642,1935.84,"N/A",1,1,1,{"$error":"#VALUE!"},831,891,1065,{"$error":"#VALUE!"},143,153,183,{"$error":"#VALUE!"},7.6193310087246363E-2,8.7206961686259771E-2,0.12470235554294035,1.2760000000000001E-4,1.7219,2,3.76611E-4,170.52628152222005,182.87112058001478,218.64000000000001,1,1,1,192,206,246,83,89,106,2.5708166056769666E-2,2.9553112837258533E-2,4.1899890270699756E-2,0.3,5.0999999999999996,5.6,7.2,null,1072,null,0.8,null,null,0,12.3,14.4,21.85,null,1,1,1,192,206,246,null,0,0,0,1]
["32010",null,null,3,20,40.5,10,11.5,0,26,30,41.8,471.6,1214.2269940407766,1304.1433704057049,1574.18,"N/A",1,1,1,{"$error":"#VALUE!"},668,718,866,{"$error":"#VALUE!"},115,123,149,{"$error":"#VALUE!"},4.9245361534335307E-2,5.6302109027642405E-2,8.2486527704310933E-2,3.969E-4,1.7345999999999999,2,3.6734700000000002E-4,168.33710197020613,180.80286190736828,218.24,1,1,1,190,204,246,82,88,106,2.5115954301255381E-2,2.8906479745751071E-2,4.1869385751201776E-2,0.1,6.3,6.8,9.1,null,524,null,0.9,null,null,0,12.8,14.7,21.85,null,1,1,1,190,204,246,null,0,0,0,1]
["32020",null,null,3,20,40.5,20,21.5,0,26,30,42.4,980.80000000000007,1942.5718983039128,2086.4239348515057,2518.44,"N/A",1,1,1,{"$error":"#VALUE!"},1069,1148,1386,{"$error":"#VALUE!"},184,197,238,{"$error":"#VALUE!"},0.12606726002346491,0.14448643482488038,0.21079288343689315,1.2760000000000001E-4,1.7219,2,3.76611E-4,240.07166246887351,257.84953601562182,311.24,1,1,1,270,290,351,116,125,151,5.0165681536251325E-2,5.8239990805368382E-2,8.4944832405477885E-2,0.3,6,6.7,9,null,1226,null,0.8,null,null,0,11.8,13.7,21.85,null,1,1,1,270,290,351,null,0,0,0,1]
["32010",null,null,3,20,40.5,10,11.5,0,26,30,42.4,{"$f":"IF($N732-($BE732*$BG732)>100,$BE732*$BG732,$N732-95)","v":531},1395.6272192501513,1501.3000140389001,1828.08,"N/A",1,1,1,{"$f":"ROUND(M732*POWER(CF_heat,Q732),0)","v":{"$error":"#VALUE!"}},{"$f":"ROUND(N732*POWER(CF_heat,R732),0)","v":768},{"$f":"ROUND(O732*POWER(CF_heat,S732),0)","v":826},{"$f":"ROUND(P732*POWER(CF_heat,T732),0)","v":1006},{"$error":"#VALUE!"},132,142,173,{"$error":"#VALUE!"},6.4803583786946894E-2,7.4948090469834763E-2,0.11106519690981584,{"$f":"IF($G732=$CO$103,CP$103,IF($G732=$CO$104,CP$104,IF($G732=$CO$105,CP$105,IF($G732=$CO$107,CP$107,IF($G732=$CO$108,CP$108,IF($G732=$CO$109,CP$109,IF($G732=$CO$111,CP$111,IF($G732=$CO$112,CP$112,IF($G732=$CO$113,CP$113,IF($G732=$CO$115,CP$115,IF($G732=$CO$116,CP$116,IF($G732=$CO$117,CP$117,IF($G732=$CO$119,CP$119,IF($G732=$CO$120,CP$120,))))))))))))))","v":3.969E-4},{"$f":"IF($G732=$CO$103,CQ$103,IF($G732=$CO$104,CQ$104,IF($G732=$CO$105,CQ$105,IF($G732=$CO$107,CQ$107,IF($G732=$CO$108,CQ$108,IF($G732=$CO$109,CQ$109,IF($G732=$CO$111,CQ$111,IF($G732=$CO$112,CQ$112,IF($G732=$CO$113,CQ$113,IF($G732=$CO$115,CQ$115,IF($G732=$CO$116,CQ$116,IF($G732=$CO$117,CQ$117,IF($G732=$CO$119,CQ$119,IF($G732=$CO$120,CQ$120,))))))))))))))","v":1.7345999999999999},{"$f":"IF($G732=$CO$103,CR$103,IF($G732=$CO$104,CR$104,IF($G732=$CO$105,CR$105,IF($G732=$CO$107,CR$107,IF($G732=$CO$108,CR$108,IF($G732=$CO$109,CR$109,IF($G732=$CO$111,CR$111,IF($G732=$CO$112,CR$112,IF($G732=$CO$113,CR$113,IF($G732=$CO$115,CR$115,IF($G732=$CO$116,CR$116,IF($G732=$CO$117,CR$117,IF($G732=$CO$119,CR$119,IF($G732=$CO$120,CR$120,))))))))))))))","v":2},{"$f":"IF($G732=$CO$103,CS$103,IF($G732=$CO$104,CS$104,IF($G732=$CO$105,CS$105,IF($G732=$CO$107,CS$107,IF($G732=$CO$108,CS$108,IF($G732=$CO$109,CS$109,IF($G732=$CO$111,CS$111,IF($G732=$CO$112,CS$112,IF($G732=$CO$113,CS$113,IF($G732=$CO$115,CS$115,IF($G732=$CO$116,CS$116,IF($G732=$CO$117,CS$117,IF($G732=$CO$119,CS$119,IF($G732=$CO$120,CS$120,))))))))))))))","v":3.6734700000000002E-4},193.48593193227777,208.13611852764589,253.44,1,1,1,{"$f":"ROUND(AK732*POWER(CF_cool,AN732),0)","v":218},234,{"$f":"ROUND(AM732*POWER(CF_cool,AP732),0)","v":285},94,101,123,3.2962295956139864E-2,3.8029238921730574E-2,5.6302109027642405E-2,0.1,6.7,7.4,10.3,null,590,null,{"$f":"IF(G732=10,0.9,IF(G732=11,0.68,IF(G732=15,0.8,IF(G732=16,0.68,IF(G732=20,0.8,IF(G732=21,0.8))))))","v":0.9},null,null,0,12.5,14.7,21.85,null,1,1,1,{"$f":"AQ732/BO732","v":218},234,285,null,{"$f":"BR732-AQ732","v":0},{"$f":"BS732-AR732","v":0},{"$f":"BT732-AS732","v":0},1]
["32010",null,null,3,20,40.5,10,11.5,0,26,30,43,589.5,1574.3905475253332,1696.1265760133244,2081.98,"N/A",1,1,1,{"$error":"#VALUE!"},866,933,1146,{"$error":"#VALUE!"},149,160,197,{"$error":"#VALUE!"},8.2486527704310933E-2,9.5059973434209619E-2,0.14387254764384422,3.969E-4,1.7345999999999999,2,3.6734700000000002E-4,218.26918973175157,235.14633901405676,288.64,1,1,1,246,265,325,106,114,140,4.1869385751201776E-2,4.8396373420924246E-2,7.2860388077998176E-2,0.1,7.8,8.6999999999999993,12.2,null,655,null,0.9,null,null,0,12.3,14.1,21.85,null,1,1,1,246,265,325,null,0,0,0,1]
["32015",null,null,3,20,40.5,15,16.5,0,26,30,44.1,872,1798.7737222599399,1926.0891717740149,2655.16,"N/A",1,1,1,{"$error":"#VALUE!"},990,1060,1461,{"$error":"#VALUE!"},170,182,251,{"$error":"#VALUE!"},0.13240034201193682,0.15171764157756853,0.28827226921723342,2.0829999999999999E-4,1.724,2,4.6182900000000003E-4,245.53983484833029,262.91890485611941,362.44,1,1,1,277,296,408,119,127,175,6.4957330361565049E-2,7.396711215027689E-2,0.14028961018358313,0.2,7,7.7,10.7,null,1090,null,0.8,null,null,0,10.9,12.8,21.85,null,1,1,1,277,296,408,null,0,0,0,{"$f":"IF(SUM(BV736:BX736)=0,1,0)","v":1}]
["32010",null,null,3,20,40.5,10,11.5,0,26,30,43.5,648.9,1766.3893947845202,1902.9712804051933,2335.88,"N/A",1,1,1,{"$error":"#VALUE!"},972,1047,1286,{"$error":"#VALUE!"},167,180,221,{"$error":"#VALUE!"},0.10352397195387243,0.12019732265303297,0.18090580865553893,3.969E-4,1.7345999999999999,2,3.6734700000000002E-4,244.88738360147738,263.82272182064906,323.83999999999997,1,1,1,276,297,365,119,128,157,5.2714886079881125E-2,6.0951617917344596E-2,9.154270598899665E-2,0.1,8.4,9.3000000000000007,14,null,721,null,0.9,null,null,0,12,13.9,21.85,null,1,1,1,276,297,365,null,0,0,0,1]
["32015",null,null,3,20,40.5,15,16.5,0,26,30,44.1,959.2,1908.1501882577959,2043.2071973479594,2816.6099999999997,"N/A",1,1,1,{"$error":"#VALUE!"},1050,1124,1550,{"$error":"#VALUE!"},181,193,267,{"$error":"#VALUE!"},0.15005770569784746,0.17057881495823132,0.32613550459634444,2.0829999999999999E-4,1.724,2,4.6182900000000003E-4,249.80785427097814,267.48901053042016,368.74,1,1,1,281,301,415,121,129,178,6.7155010345067934E-2,7.631082889084044E-2,0.14513261736052138,0.2,7.9,8.8000000000000007,12.5,null,1199,null,0.8,null,null,0,10.9,12.8,21.85,null,1,1,1,281,301,415,null,0,0,0,1]
["32010",null,null,3,20,40.5,10,11.5,0,26,30,44,707.4,1924.9914127028867,2079.6202422788024,2589.7800000000002,"N/A",1,1,1,{"$error":"#VALUE!"},1059,1144,1425,{"$error":"#VALUE!"},182,197,245,{"$error":"#VALUE!"},0.12287256370937766,0.14387254764384422,0.22216260821703476,3.969E-4,1.7345999999999999,2,3.6734700000000002E-4,266.87553260000635,288.31284965818764,359.04,1,1,1,301,325,404,129,140,174,6.1903580441085952E-2,7.2860388077998176E-2,0.11234776386126105,0.1,8.9,9.9,14.8,null,786,null,0.9,null,null,0,11.8,13.7,21.85,null,1,1,1,301,325,404,null,0,0,0,1]
["32015",null,null,3,20,40.5,15,16.5,0,26,30,44.8,1046.4000000000001,2216.9073865755149,2373.9948983307781,3302.76,"N/A",1,1,1,{"$error":"#VALUE!"},1220,1307,1818,{"$error":"#VALUE!"},210,225,313,{"$error":"#VALUE!"},0.2018980900554769,0.23172086086867641,0.44798645544925114,2.0829999999999999E-4,1.724,2,4.6182900000000003E-4,302.61675876046246,324.05983479376272,450.84,1,1,1,341,365,508,147,157,218,9.9046898065083294E-2,0.11295543794663157,0.21754830742859316,0.2,8.6999999999999993,9.8000000000000007,14.3,null,1308,null,0.8,null,null,0,10.6,12.5,21.85,null,1,1,1,341,365,508,null,0,0,0,1]
["32010",null,null,3,20,40.5,10,11.5,0,26,30,44.8,825.30000000000007,2267.7915432376717,2456.1428225151312,3097.58,"N/A",1,1,1,{"$error":"#VALUE!"},1248,1352,1705,{"$error":"#VALUE!"},215,233,293,{"$error":"#VALUE!"},0.17125144985203794,0.20100640150555299,0.31733880517733237,3.969E-4,1.7345999999999999,2,3.6734700000000002E-4,314.40040300104783,340.51290804463417,429.44,1,1,1,354,383,484,152,165,208,8.5827498378028749E-2,0.10106896963566342,0.16032170632249268,0.1,10.1,11.2,17.5,null,917,null,0.9,null,null,0,11.5,13.3,21.85,null,1,1,1,354,383,484,null,0,0,0,1]
["32015",null,null,3,20,40.5,15,16.5,0,26,30,45.4,1220.8,2628.9846104428207,2815.4584574952669,3950.36,"N/A",1,1,1,{"$error":"#VALUE!"},1447,1549,2174,{"$error":"#VALUE!"},249,266,374,{"$error":"#VALUE!"},0.28370341026506996,0.32370070290534592,0.63930213338758168,2.0829999999999999E-4,1.724,2,4.6182900000000003E-4,358.86695423586366,384.32138301819265,539.24,1,1,1,404,433,607,174,186,261,0.13869351521347084,0.15844858118350544,0.31166339016507694,0.2,9.6,10.5,16.100000000000001,null,1526,null,0.8,null,null,0,10.4,12.2,21.85,null,1,1,1,404,433,607,null,0,0,0,1]
["32010",null,null,3,20,40.5,10,11.5,0,26,30,45.5,943.2,2603.9362232520607,2826.6988006529018,3605.38,"N/A",1,1,1,{"$error":"#VALUE!"},1433,1556,1984,{"$error":"#VALUE!"},246,268,341,{"$error":"#VALUE!"},0.22397326675520079,0.26566169486917329,0.4293872569027134,3.969E-4,1.7345999999999999,2,3.6734700000000002E-4,361.00257998610687,391.88577307200529,499.84,1,1,1,407,441,563,175,190,242,0.11363767198120171,0.13386709167137487,0.2167746066382924,0.1,11,12.4,19.2,null,1048,null,0.9,null,null,0,11.2,13,21.85,null,1,1,1,407,441,563,null,0,0,0,1]
["32015",null,null,3,20,40.5,15,16.5,0,26,30,46.4,1395.2,3021.1783832091446,3225.6120441880121,4597.96,"N/A",1,1,1,{"$error":"#VALUE!"},1663,1775,2530,{"$error":"#VALUE!"},286,305,435,{"$error":"#VALUE!"},0.37412811723560641,0.42541007511350465,0.86450689521344959,2.0829999999999999E-4,1.724,2,4.6182900000000003E-4,412.40297880742492,440.30899429620177,627.64,1,1,1,464,496,707,200,213,304,0.18315586126640099,0.20769854577612726,0.42262902515742079,0.2,11.5,12.8,19.600000000000001,null,1744,null,0.8,null,null,0,10,11.8,21.85,null,1,1,1,464,496,707,null,0,0,0,1]
["32010",null,null,3,20,40.5,10,11.5,0,26,30,46,1061.1000000000001,2970.6878039917879,3224.8253922941558,4113.18,"N/A",1,1,1,{"$error":"#VALUE!"},1635,1775,2264,{"$error":"#VALUE!"},281,305,389,{"$error":"#VALUE!"},0.29196249274712649,0.34376962097660574,0.55829672314552836,3.969E-4,1.7345999999999999,2,3.6734700000000002E-4,411.84801378696699,447.08095237792156,570.24,1,1,1,464,503,642,200,216,276,0.14827065283192908,0.17284217695575513,0.28170030080860647,0.1,12.2,13.7,22,null,1179,null,0.9,null,null,0,10.9,12.7,21.85,null,1,1,1,464,503,642,null,0,0,0,1]
["32015",null,null,3,20,40.5,15,16.5,0,26,30,46.4,1569.6000000000001,3233.3460619053994,3452.1364439366635,4920.8599999999997,"N/A",1,1,1,{"$error":"#VALUE!"},1779,1900,2708,{"$error":"#VALUE!"},306,327,466,{"$error":"#VALUE!"},0.42820023576746141,0.4888980884978914,0.9919397563630874,2.0829999999999999E-4,1.724,2,4.6182900000000003E-4,420.6820520547858,449.14828645115074,640.24,1,1,1,474,506,721,204,218,310,0.19054334219665572,0.21754830742859316,0.43945198430246563,0.2,11.5,12.8,19.600000000000001,null,1962,null,0.8,null,null,0,10,11.8,21.85,null,1,1,1,474,506,721,null,0,0,0,1]
["32010",null,null,3,20,40.5,10,11.5,0,26,30,46.5,1179,3259.5785648750903,3552.8677924068675,4620.9799999999996,"N/A",1,1,1,{"$error":"#VALUE!"},1794,1955,2543,{"$error":"#VALUE!"},309,336,437,{"$error":"#VALUE!"},0.35281419428721855,0.41692866634328235,0.70405781979247939,3.969E-4,1.7345999999999999,2,3.6734700000000002E-4,451.89903695786995,492.55985148767917,640.64,1,1,1,509,555,721,219,239,310,0.1776583573878695,0.2114525690764133,0.35509364090571999,0.1,13.4,14.8,24,null,1310,null,0.9,null,null,0,10.7,12.5,21.85,null,1,1,1,509,555,721,null,0,0,0,1]
["32015",null,null,3,20,40.5,15,16.5,0,26,30,47.1,1744,3875.4624109054007,4083.4735576056296,5893.16,"N/A",1,1,1,{"$error":"#VALUE!"},2133,2247,3243,{"$error":"#VALUE!"},367,386,558,{"$error":"#VALUE!"},0.61562637626527317,0.68092739029702742,1.4216358448122461,2.0829999999999999E-4,1.724,2,4.6182900000000003E-4,529.01617838795164,557.41053504066974,804.44,1,1,1,596,628,906,256,270,390,0.2998539095283087,0.33349458681376992,0.69509390314666275,0.2,13.2,14.7,23.5,null,2180,null,0.8,null,null,0,10,11.4,21.85,null,1,1,1,596,628,906,null,0,0,0,1]
["32010",null,null,3,20,40.5,10,11.5,0,26,30,46.9,1296.9000000000001,3560.7045070849035,3890.5075371280445,5128.78,"N/A",1,1,1,{"$error":"#VALUE!"},1960,2141,2823,{"$error":"#VALUE!"},337,368,486,{"$error":"#VALUE!"},0.41940574773453543,0.49982477391130709,0.87022918830871054,3.969E-4,1.7345999999999999,2,3.6734700000000002E-4,493.64631212835212,539.36930014536108,711.04,1,1,1,556,607,801,239,261,344,0.2114525690764133,0.25201252127452961,0.43695022897442981,0.1,13.4,14.8,24,null,1441,null,0.9,null,null,0,10.5,12.3,21.85,null,1,1,1,556,607,801,null,0,0,0,1]
["32015",null,null,3,20,40.5,15,16.5,0,26,30,47.8,1918.4,4302.5567439745028,4481.7988603493422,6540.76,"N/A",1,1,1,{"$error":"#VALUE!"},2368,2467,3600,{"$error":"#VALUE!"},407,424,619,{"$error":"#VALUE!"},0.75692712356252656,0.82139203473141464,1.7490172741567487,2.0829999999999999E-4,1.724,2,4.6182900000000003E-4,587.31626956044784,611.78353807115786,892.84,1,1,1,661,689,1006,284,296,433,0.36892135646019958,0.40070861708363226,0.85658588149708736,0.2,15.5,16.8,27.5,null,2398,null,0.8,null,null,0,10,11.1,21.85,null,1,1,1,661,689,1006,null,0,0,0,1]
["32010",null,null,3,20,40.5,10,11.5,0,26,30,47.2,1414.8,3860.4188735925432,4228.9855673527691,5636.58,"N/A",1,1,1,{"$error":"#VALUE!"},2125,2327,3102,{"$error":"#VALUE!"},366,400,534,{"$error":"#VALUE!"},0.49442426643348042,0.59021220266244012,1.0500212446301107,3.969E-4,1.7345999999999999,2,3.6734700000000002E-4,535.19789031294818,586.29496640731588,781.44,1,1,1,603,660,880,259,284,378,0.24817869636992704,0.29820770053469026,0.52726624119526411,0.1,14.8,16.600000000000001,28,null,1572,null,0.9,null,null,0,10.4,12.2,21.85,null,1,1,1,603,660,880,null,0,0,0,1]
["32015",null,null,3,20,40.5,15,16.5,0,26,30,48.1,2092.8000000000002,4729.715265656896,4901.7743245246338,7188.36,"N/A",1,1,1,{"$error":"#VALUE!"},2603,2698,3956,{"$error":"#VALUE!"},448,464,680,{"$error":"#VALUE!"},0.91688122984784015,0.98345424952515881,2.1102608029856902,2.0829999999999999E-4,1.724,2,4.6182900000000003E-4,645.62512273636446,669.11187505864359,981.24,1,1,1,727,754,1105,313,324,475,0.44798645544925114,0.47998099733871163,1.0305751915039225,0.2,16.399999999999999,17.7,29.7,null,2616,null,0.8,null,null,0,10,10.9,21.85,null,1,1,1,727,754,1105,null,0,0,0,1]
["32010",null,null,3,20,40.5,10,11.5,0,26,30,47.8,1532.7,4178.1784000000007,4608.2849999999999,6144.38,"N/A",1,1,1,{"$error":"#VALUE!"},2299,2536,3381,{"$error":"#VALUE!"},395,436,582,{"$error":"#VALUE!"},0.57559546265756523,0.70084930541303214,1.2466436869989657,3.969E-4,1.7345999999999999,2,3.6734700000000002E-4,579.25120000000004,638.88,851.84,1,1,1,652,719,959,280,309,412,0.28989540527453278,0.35281419428721855,0.62603830600706367,0.1,16.2,18.600000000000001,31.4,null,1703,null,0.9,null,null,0,10.199999999999999,11.9,21.85,null,1,1,1,652,719,959,null,0,0,0,1]
["32015",null,null,3,20,40.5,15,16.5,0,26,30,47.8,2267.2000000000003,5669.0920000000006,6252.6749999999993,8336.9,"N/A",1,1,1,{"$error":"#VALUE!"},3120,3441,4588,{"$error":"#VALUE!"},537,592,789,{"$error":"#VALUE!"},1.3167670208754696,1.5999334214197569,2.8400613087700988,2.0829999999999999E-4,1.724,2,4.6182900000000003E-4,949.51120000000003,1047.2549999999999,1396.34,1,1,1,1069,1179,1573,460,507,676,0.9665924872527959,1.1739176536349283,2.0855353662946929,0.2,16.2,18.600000000000001,31.4,null,2834,null,0.8,null,null,0,10,10.9,21.85,null,1,1,1,1069,1179,1573,null,0,0,0,1]
["32010",null,null,3,20,40.5,10,11.5,0,26,30,47.8,1650.6000000000001,4331.3824000000004,4782.2249168521384,6369.68,"N/A",1,1,1,{"$error":"#VALUE!"},2384,2632,3505,{"$error":"#VALUE!"},410,453,603,{"$error":"#VALUE!"},0.6199941623576285,0.75638824083140666,1.3379569561694504,3.969E-4,1.7345999999999999,2,3.6734700000000002E-4,587.68320000000006,648.85364133524638,864.24,1,1,1,662,731,973,285,314,418,0.30030408453174701,0.36428463742617484,0.64434622989394141,0.1,16.2,18.600000000000001,31.4,null,1834,null,0.9,null,null,0,10.199999999999999,11.9,21.85,null,1,1,1,662,731,973,null,0,0,0,1]
["32015",null,null,3,20,40.5,15,16.5,0,26,30,48.9,2441.6,5583.9635634029,5708.9475468201636,8483.56,"N/A",1,1,1,{"$error":"#VALUE!"},3073,3142,4669,{"$error":"#VALUE!"},529,540,803,{"$error":"#VALUE!"},1.2778728340646706,1.3315025277979815,2.9416302254570317,2.0829999999999999E-4,1.724,2,4.6182900000000003E-4,762.23344503523219,779.29426056038062,1158.04,1,1,1,858,878,1304,369,378,561,0.62234534008871234,0.65303150285996137,1.4369447705547467,0.2,19.3,20.399999999999999,34.5,null,3052,null,0.8,null,null,0,10,10.6,21.85,null,1,1,1,858,878,1304,null,0,0,0,1]
["33010",null,null,3,30,40.5,10,11.5,0,26,30,38.799999999999997,371.7,649,695,812,"N/A",1,1,1,{"$error":"#VALUE!"},357,382,447,{"$error":"#VALUE!"},61,66,77,{"$error":"#VALUE!"},1.4912285517214862E-2,1.7420374778617104E-2,2.3616195633967978E-2,3.969E-4,1.7345999999999999,2,3.6734700000000002E-4,90.020119234756137,96.328259324977694,112.64,1,1,1,101,108,{"$f":"ROUND(AM768*POWER(CF_cool,AP768),0)","v":127},43,46,55,7.4833452068909572E-3,8.5471699942575741E-3,1.2157346914354638E-2,0.2,3.6,4.0999999999999996,5.0999999999999996,null,413,null,0.9,null,null,0,14.2,16.2,21.85,null,1,1,1,101,108,127,null,0,0,0,{"$f":"IF(SUM(BV768:BX768)=0,1,0)","v":1}]
["33011",null,null,3,30,40.5,11,11.5,0,26,30,38.799999999999997,381.48,881.02076921515595,942.75810617769378,1102.4000000000001,"N/A",1,1,1,{"$error":"#VALUE!"},485,519,607,{"$error":"#VALUE!"},83,89,104,{"$error":"#VALUE!"},4.3946616346302515E-2,5.0420786859709507E-2,6.8525797441900654E-2,3.969E-4,1.7345999999999999,4,5.7428799999999995E-4,147.56138863197239,157.90172054122763,184.64,1,1,1,166,178,208,71,77,89,3.2318018781520755E-2,3.791212896273595E-2,5.0420786859709507E-2,0.4,3.6,4.0999999999999996,5.0999999999999996,null,561,null,0.68,null,null,0,14.2,16.2,21.85,null,1,1,1,166,178,208,null,0,0,0,1]
["33011",null,null,3,30,40.5,11,11.5,0,26,30,40,457.64000000000004,1142.0361657917249,1222.9946868592929,1446.9,"N/A",1,1,1,{"$error":"#VALUE!"},629,673,796,{"$error":"#VALUE!"},108,116,137,{"$error":"#VALUE!"},7.3816129100311351E-2,8.4979793211331894E-2,0.11797610648334471,3.969E-4,1.7345999999999999,4,5.7428799999999995E-4,191,205,242,1,1,1,215,231,273,92,99,117,5.3822553294877208E-2,6.2186448594887547E-2,8.6429866321937721E-2,0.4,4.8,5.4,6.8,null,673,null,0.68,null,null,0,13.6,15.6,21.85,null,1,1,1,215,231,273,null,0,0,0,1]
["33015",null,null,3,30,40.5,15,16.5,0,26,30,41.1,652,957.19258357509659,1027.5250511543745,1359.96,"N/A",1,1,1,{"$error":"#VALUE!"},527,565,748,{"$error":"#VALUE!"},91,97,129,{"$error":"#VALUE!"},3.8997826920847335E-2,4.427979046830486E-2,7.8087479388412651E-2,2.0829999999999999E-4,1.724,2,4.6182900000000003E-4,{"$f":"AK42","v":423.65815696218516},140.26129481477255,185.64,1,1,1,477,158,209,205,68,90,0.19636129625083126,2.1846873064419001E-2,3.8149978326402677E-2,0.3,4.8,5.5,7.2,null,815,null,0.8,null,null,0,12.3,14.4,21.85,null,1,1,1,477,158,209,null,0,0,0,1]
["33020",null,null,3,30,40.5,20,21.5,0,26,30,41.1,915.2,1346.575008837732,1442.0332127786496,1706.04,"N/A",1,1,1,{"$error":"#VALUE!"},741,794,939,{"$error":"#VALUE!"},127,137,162,{"$error":"#VALUE!"},6.1164669986451523E-2,7.1136415878601991E-2,9.934871922202243E-2,1.2760000000000001E-4,1.7219,2,3.76611E-4,166.41571994991173,178.21286873827722,210.84,1,1,1,187,201,237,80,86,102,2.4359221441199813E-2,2.8133139623984744E-2,3.9520561382731245E-2,0.4,4.8,5.5,7.2,null,1144,null,0.8,null,null,0,12.3,14.4,21.85,null,1,1,1,187,201,237,null,0,0,0,1]
["33021",null,null,3,30,40.5,21,21.5,0,26,30,41.1,935.2,1802.6437228662567,1935.0981352499616,2561.16,"N/A",1,1,1,{"$error":"#VALUE!"},992,1065,1410,{"$error":"#VALUE!"},171,183,243,{"$error":"#VALUE!"},0.152811177592419,0.17489403649518193,0.30755878449910939,1.2760000000000001E-4,1.7219,4,5.1420100000000005E-4,233.82931859416351,251.01059773412922,332.22,1,1,1,263,283,374,113,122,161,6.7020980507745589E-2,7.8056267127942336E-2,0.13554292342733534,0.8,4.8,5.5,7.2,null,1169,null,0.8,null,null,0,12.3,14.4,21.85,null,1,1,1,263,283,374,null,0,0,0,1]
["33015",null,null,3,30,40.5,15,16.5,0,26,30,41.1,760.80000000000007,1070.8273541699666,1149.5094620994566,1521.41,"N/A",1,1,1,{"$error":"#VALUE!"},589,633,837,{"$error":"#VALUE!"},101,109,144,{"$error":"#VALUE!"},4.7986643476147436E-2,5.5845476399058055E-2,9.7199888732836762E-2,2.0829999999999999E-4,1.724,2,4.6182900000000003E-4,135.09481491470635,145.02129350758159,191.94,1,1,1,152,163,216,65,70,93,1.9972252191565985E-2,2.314312163623752E-2,4.0721365675119296E-2,0.3,5.0999999999999996,5.6,7.2,null,951,null,0.8,null,null,0,12.3,14.4,21.85,null,1,1,1,152,163,216,null,0,0,0,1]
["33016",null,null,3,30,40.5,16,16.5,0,26,30,41.1,704.48,1627.62717250317,1747.2217424001376,2312.5,"N/A",1,1,1,{"$error":"#VALUE!"},896,962,1273,{"$error":"#VALUE!"},154,165,219,{"$error":"#VALUE!"},0.33123209576732249,0.3800780352805086,0.66844356778269098,2.0829999999999999E-4,1.724,4,1.392796E-3,219.59769851718443,235.73326859625641,312,1,1,1,247,265,351,106,114,151,0.15731585132076972,0.18186684832302602,0.31849202652545305,0.6,5.0999999999999996,5.6,7.2,null,1036,null,0.68,null,null,0,12.3,14.4,21.85,null,1,1,1,247,265,351,null,0,0,0,1]
["33021",null,null,3,30,40.5,21,21.5,0,26,30,41.1,1091.2,1977.8291945358951,2123.1558613833213,2810.06,"N/A",1,1,1,{"$error":"#VALUE!"},1088,1168,1546,{"$error":"#VALUE!"},187,201,266,{"$error":"#VALUE!"},0.18258481629747184,0.21080080965707407,0.36823747544053054,1.2760000000000001E-4,1.7219,4,5.1420100000000005E-4,240.30463534531125,257.96170693632649,341.42,1,1,1,271,291,385,117,125,166,7.1822191083731418E-2,8.1920717522766709E-2,0.1440481453887571,0.8,5.0999999999999996,5.6,7.2,null,1364,null,0.8,null,null,0,12.3,14.4,21.85,null,1,1,1,271,291,385,null,0,0,0,1]
["33010",null,null,3,30,40.5,10,11.5,0,26,30,41.8,594.9,1214.2269940407766,1304.1433704057049,1574.18,"N/A",1,1,1,{"$error":"#VALUE!"},668,718,866,{"$f":"ROUND(U782*3600/(4186*ABS($O$1-$O$2)),0)","v":{"$error":"#VALUE!"}},{"$f":"ROUND(V782*3600/(4186*ABS($O$1-$O$2)),0)","v":115},{"$f":"ROUND(W782*3600/(4186*ABS($O$1-$O$2)),0)","v":123},{"$f":"ROUND(X782*3600/(4186*ABS($O$1-$O$2)),0)","v":149},{"$error":"#VALUE!"},5.2165635818862653E-2,5.9583716081646698E-2,8.7063160532366193E-2,3.969E-4,1.7345999999999999,2,3.6734700000000002E-4,168.33710197020613,180.80286190736828,218.24,1,1,1,190,204,246,{"$f":"ROUND(AQ782*3600/(4186*ABS($AM$1-$AM$2)),0)","v":82},{"$f":"ROUND(AR782*3600/(4186*ABS($AM$1-$AM$2)),0)","v":88},{"$f":"ROUND(AS782*3600/(4186*ABS($AM$1-$AM$2)),0)","v":106},2.6740151206354281E-2,3.0742328137449416E-2,4.4404705411204934E-2,0.2,6.3,6.8,9.1,null,661,null,0.9,null,null,0,12.8,14.7,21.85,null,1,1,1,190,204,246,null,0,0,0,1]
["33015",null,null,3,30,40.5,15,16.5,0,26,30,42.4,869.6,1395.33740436932,1496.2563490716184,2007.56,"N/A",1,1,1,{"$error":"#VALUE!"},768,823,1105,{"$error":"#VALUE!"},132,142,190,{"$error":"#VALUE!"},8.1743332344351313E-2,9.4531242285406478E-2,0.1687889405071242,2.0829999999999999E-4,1.724,2,4.6182900000000003E-4,190.46915773046311,204.24499885412456,274.04000000000002,1,1,1,215,230,309,92,99,133,3.9854956266901602E-2,4.6114665989069215E-2,8.298046741405013E-2,0.3,6,6.7,9,null,1087,null,0.8,null,null,0,11.8,13.7,21.85,null,1,1,1,215,230,309,null,0,0,0,1]
["33016",null,null,3,30,40.5,16,16.5,0,26,30,42.4,805.12,2040.4331716148024,2188.0092071816284,2935.7,"N/A",1,1,1,{"$error":"#VALUE!"},1123,1204,1616,{"$error":"#VALUE!"},193,207,278,{"$error":"#VALUE!"},0.51952851795131727,0.59738976337518535,1.0757076005753241,2.0829999999999999E-4,1.724,4,1.392796E-3,312,335,450,1,1,1,351,377,507,151,162,218,0.31849202652545305,0.36642413099862559,0.66237028707119039,0.6,6,6.7,9,null,1184,null,0.68,null,null,0,11.8,13.7,21.85,null,1,1,1,351,377,507,null,0,0,0,1]
["33021",null,null,3,30,40.5,21,21.5,0,26,30,42.4,1246.4000000000001,2627.7848955664344,2817.8416357747774,3780.76,"N/A",1,1,1,{"$error":"#VALUE!"},1446,1551,2081,{"$error":"#VALUE!"},249,267,358,{"$error":"#VALUE!"},0.32286339114489065,0.37099910248970391,0.66532929142483455,1.2760000000000001E-4,1.7219,4,5.1420100000000005E-4,340.86222571220884,365.51537125251701,490.42,1,1,1,384,412,552,165,177,237,0.1423264746053487,0.16366705815203661,0.29262457721226282,0.8,6,6.7,9,null,1558,null,0.8,null,null,0,11.8,13.7,21.85,null,1,1,1,384,412,552,null,0,0,0,1]
["33010",null,null,3,30,40.5,10,11.5,0,26,30,42.4,668.7,1395.6272192501513,1501.3000140389001,1828.08,"N/A",1,1,1,{"$error":"#VALUE!"},768,826,1006,{"$error":"#VALUE!"},132,142,173,{"$error":"#VALUE!"},6.8512821880780658E-2,7.9158230418825415E-2,0.11699515932484414,3.969E-4,1.7345999999999999,2,3.6734700000000002E-4,193.48593193227777,208.13611852764589,253.44,1,1,1,218,234,285,94,101,123,3.5020672124961051E-2,4.0360726066606588E-2,5.9583716081646698E-2,0.2,6.7,7.4,10.3,null,743,null,0.9,null,null,0,12.5,14.7,21.85,null,1,1,1,218,234,285,null,0,0,0,1]
["33015",null,null,3,30,40.5,15,16.5,0,26,30,43.3,978.40000000000009,1597.9167676946356,1711.9130538160239,2331.36,"N/A",1,1,1,{"$error":"#VALUE!"},879,942,1283,{"$error":"#VALUE!"},151,162,221,{"$error":"#VALUE!"},0.10683161712652654,0.12288298290651282,0.22806202309100934,2.0829999999999999E-4,1.724,2,4.6182900000000003E-4,218.12205414485143,233.68300487544244,318.24,1,1,1,246,263,358,106,113,154,5.2828876277184862E-2,5.9997382202632309E-2,0.11109827152446125,0.3,7,7.7,10.7,null,1223,null,0.8,null,null,0,11.3,13.2,21.85,null,1,1,1,246,263,358,null,0,0,0,1]
["33016",null,null,3,30,40.5,16,16.5,0,26,30,43.3,905.7600000000001,2336.669516687492,2503.3688418217644,3409.2,"N/A",1,1,1,{"$error":"#VALUE!"},1286,1378,1876,{"$error":"#VALUE!"},221,237,323,{"$error":"#VALUE!"},0.6806731029504185,0.78249172212759244,1.4510035615605257,2.0829999999999999E-4,1.724,4,1.392796E-3,357.77938745479025,383.30357134546551,522,1,1,1,403,432,588,173,186,253,0.4177066395955587,0.48263161219850154,0.89138883468596408,0.6,7,7.7,10.7,null,1332,null,0.68,null,null,0,11.3,13.2,21.85,null,1,1,1,403,432,588,null,0,0,0,1]
["33021",null,null,3,30,40.5,21,21.5,0,26,30,43.3,1402.4,3009.2947651024979,3223.9795559512399,4390.5600000000004,"N/A",1,1,1,{"$error":"#VALUE!"},1656,1774,2416,{"$error":"#VALUE!"},285,305,416,{"$error":"#VALUE!"},0.42246665230336478,0.4835590791591553,0.89729791772472312,1.2760000000000001E-4,1.7219,4,5.1420100000000005E-4,390.34964893343317,418.19741370243202,569.52,1,1,1,440,471,641,189,203,276,0.18649203621839971,0.21499649037345753,0.39631647467378039,0.8,7,7.7,10.7,null,1753,null,0.8,null,null,0,11.3,13.2,21.85,null,1,1,1,440,471,641,null,0,0,0,1]
["33010",null,null,3,30,40.5,10,11.5,0,26,30,43,743.4,1574.3905475253332,1696.1265760133244,2081.98,"N/A",1,1,1,{"$error":"#VALUE!"},866,933,1146,{"$error":"#VALUE!"},149,160,197,{"$error":"#VALUE!"},8.7063160532366193E-2,0.10023846999529822,0.15130134114106605,3.969E-4,1.7345999999999999,2,3.6734700000000002E-4,218.26918973175157,235.14633901405676,288.64,1,1,1,246,265,325,106,114,140,4.4404705411204934E-2,5.1272740605431834E-2,7.6968202931566351E-2,0.2,7.8,8.6999999999999993,12.2,null,826,null,0.9,null,null,0,12.3,14.1,21.85,null,1,1,1,246,265,325,null,0,0,0,1]
["33015",null,null,3,30,40.5,15,16.5,0,26,30,44.1,{"$f":"IF($N796-($BE796*$BG796)>100,$BE796*$BG796,$N796-95)","v":1087.2},1798.7737222599399,1926.0891717740149,2655.16,"N/A",1,1,1,{"$f":"ROUND(M796*POWER(CF_heat,Q796),0)","v":{"$error":"#VALUE!"}},{"$f":"ROUND(N796*POWER(CF_heat,R796),0)","v":990},{"$f":"ROUND(O796*POWER(CF_heat,S796),0)","v":1060},{"$f":"ROUND(P796*POWER(CF_heat,T796),0)","v":1461},{"$error":"#VALUE!"},170,182,251,{"$error":"#VALUE!"},0.13525950742610968,0.15493358510751229,0.29386962402622169,{"$f":"IF($G796=$CO$103,CP$103,IF($G796=$CO$104,CP$104,IF($G796=$CO$105,CP$105,IF($G796=$CO$107,CP$107,IF($G796=$CO$108,CP$108,IF($G796=$CO$109,CP$109,IF($G796=$CO$111,CP$111,IF($G796=$CO$112,CP$112,IF($G796=$CO$113,CP$113,IF($G796=$CO$115,CP$115,IF($G796=$CO$116,CP$116,IF($G796=$CO$117,CP$117,IF($G796=$CO$119,CP$119,IF($G796=$CO$120,CP$120,))))))))))))))","v":2.0829999999999999E-4},{"$f":"IF($G796=$CO$103,CQ$103,IF($G796=$CO$104,CQ$104,IF($G796=$CO$105,CQ$105,IF($G796=$CO$107,CQ$107,IF($G796=$CO$108,CQ$108,IF($G796=$CO$109,CQ$109,IF($G796=$CO$111,CQ$111,IF($G796=$CO$112,CQ$112,IF($G796=$CO$113,CQ$113,IF($G796=$CO$115,CQ$115,IF($G796=$CO$116,CQ$116,IF($G796=$CO$117,CQ$117,IF($G796=$CO$119,CQ$119,IF($G796=$CO$120,CQ$120,))))))))))))))","v":1.724},{"$f":"IF($G796=$CO$103,CR$103,IF($G796=$CO$104,CR$104,IF($G796=$CO$105,CR$105,IF($G796=$CO$107,CR$107,IF($G796=$CO$108,CR$108,IF($G796=$CO$109,CR$109,IF($G796=$CO$111,CR$111,IF($G796=$CO$112,CR$112,IF($G796=$CO$113,CR$113,IF($G796=$CO$115,CR$115,IF($G796=$CO$116,CR$116,IF($G796=$CO$117,CR$117,IF($G796=$CO$119,CR$119,IF($G796=$CO$120,CR$120,))))))))))))))","v":2},{"$f":"IF($G796=$CO$103,CS$103,IF($G796=$CO$104,CS$104,IF($G796=$CO$105,CS$105,IF($G796=$CO$107,CS$107,IF($G796=$CO$108,CS$108,IF($G796=$CO$109,CS$109,IF($G796=$CO$111,CS$111,IF($G796=$CO$112,CS$112,IF($G796=$CO$113,CS$113,IF($G796=$CO$115,CS$115,IF($G796=$CO$116,CS$116,IF($G796=$CO$117,CS$117,IF($G796=$CO$119,CS$119,IF($G796=$CO$120,CS$120,))))))))))))))","v":4.6182900000000003E-4},245.53983484833029,262.91890485611941,362.44,1,1,1,{"$f":"ROUND(AK796*POWER(CF_cool,AN796),0)","v":277},296,408,119,127,175,6.65032549425741E-2,7.5696542022557059E-2,0.1432952915381959,0.3,7,7.7,10.7,null,1359,null,{"$f":"IF(G796=10,0.9,IF(G796=11,0.68,IF(G796=15,0.8,IF(G796=16,0.68,IF(G796=20,0.8,IF(G796=21,0.8))))))","v":0.8},null,null,0,10.9,12.8,21.85,null,1,1,1,{"$f":"AQ796/BO796","v":277},296,408,null,{"$f":"BR796-AQ796","v":0},{"$f":"BS796-AR796","v":0},{"$f":"BT796-AS796","v":0},1]
[{"$f":"CONCATENATE(D797,E797,G797)","v":"33016"},null,null,3,30,40.5,16,16.5,0,26,30,44.1,1006.4000000000001,2630.3871448118639,2816.5633812075234,3882.7,"N/A",1,1,1,{"$error":"#VALUE!"},1448,1550,2137,{"$error":"#VALUE!"},249,267,368,{"$f":"(($AG797*(Y797^$AH797)*((($F797-14.4)*$AI797)/100))+($AJ797*(Y797^2)))*0.0098","v":{"$error":"#VALUE!"}},{"$f":"(($AG797*(Z797^$AH797)*((($E797-14.4)*$AI797)/100))+($AJ797*(Z797^2)))*0.0098","v":0.86350103809993228},{"$f":"(($AG797*(AA797^$AH797)*((($E797-14.4)*$AI797)/100))+($AJ797*(AA797^2)))*0.0098","v":0.99247911617394746},{"$f":"(($AG797*(AB797^$AH797)*((($E797-14.4)*$AI797)/100))+($AJ797*(AB797^2)))*0.0098","v":1.8822334928935811},2.0829999999999999E-4,1.724,4,1.392796E-3,403,431,595,1,1,1,454,485,670,195,209,288,{"$f":"(($AG797*(AT797^$AH797)*((($E797-14.4)*$AI797)/100))+($AJ797*(AT797^2)))*0.0098","v":0.53031953646907182},{"$f":"(($AG797*(AU797^$AH797)*((($E797-14.4)*$AI797)/100))+($AJ797*(AU797^2)))*0.0098","v":0.60895544942922541},{"$f":"(($AG797*(AV797^$AH797)*((($E797-14.4)*$AI797)/100))+($AJ797*(AV797^2)))*0.0098","v":1.1542715654968498},0.6,7,7.7,10.7,null,1480,null,0.68,null,null,0,10.9,12.8,21.85,null,1,1,1,454,{"$f":"AR797/BP797","v":485},{"$f":"AS797/BQ797","v":670},null,0,0,0,1]
["33021",null,null,3,30,40.5,21,21.5,0,26,30,44.1,1558.4,3387.5608889256064,3627.3291443724347,5000.3599999999997,"N/A",1,1,1,{"$error":"#VALUE!"},1864,1996,2752,{"$error":"#VALUE!"},321,343,473,{"$error":"#VALUE!"},0.53539257651810124,0.61095769399794131,1.158893495607042,1.2760000000000001E-4,1.7219,4,5.1420100000000005E-4,439.41631078060919,470.51776864522725,648.62,1,1,1,495,530,730,213,228,314,0.23659282613925062,0.27091788124407279,0.51239177461703878,0.8,7,7.7,10.7,null,1948,null,0.8,null,null,0,10.9,12.8,21.85,null,1,1,1,495,530,730,null,0,0,0,1]
["33010",null,null,3,30,40.5,10,11.5,0,26,30,43.5,818.1,1766.3893947845202,1902.9712804051933,2335.88,"N/A",1,1,1,{"$error":"#VALUE!"},972,1047,1286,{"$error":"#VALUE!"},167,180,221,{"$error":"#VALUE!"},0.10910174913328752,0.12654964981916328,0.18997398606792995,3.969E-4,1.7345999999999999,2,3.6734700000000002E-4,244.88738360147738,263.82272182064906,323.83999999999997,1,1,1,276,297,365,119,128,157,5.5813596050025983E-2,6.4468060929745677E-2,9.6553940273990682E-2,0.2,8.4,9.3000000000000007,14,null,909,null,0.9,null,null,0,12,13.9,21.85,null,1,1,1,276,297,365,null,0,0,0,1]
["33015",null,null,3,30,40.5,15,16.5,0,26,30,44.1,1196,1908.1501882577959,2043.2071973479594,2816.6099999999997,"N/A",1,1,1,{"$error":"#VALUE!"},1050,1124,1550,{"$error":"#VALUE!"},181,193,267,{"$error":"#VALUE!"},0.15324324673650361,0.17413714430185867,0.33236210156517376,2.0829999999999999E-4,1.724,2,4.6182900000000003E-4,249.80785427097814,267.48901053042016,368.74,1,1,1,281,301,415,121,129,178,6.8745999868046387E-2,7.8087479388412651E-2,0.1482276798743096,0.3,7.9,8.8000000000000007,12.5,null,1495,null,0.8,null,null,0,10.9,12.8,21.85,null,1,1,1,281,301,415,null,0,0,0,1]
["33016",null,null,3,30,40.5,16,16.5,0,26,30,44.1,1107.0400000000002,2849.7497938679544,3051.4523045945984,4206.5,"N/A",1,1,1,{"$error":"#VALUE!"},1568,1679,2315,{"$error":"#VALUE!"},270,289,398,{"$error":"#VALUE!"},1.0148461458510036,1.1622799428121311,2.2007829337823672,2.0829999999999999E-4,1.724,4,1.392796E-3,407.83296705301524,436.69898665540194,602,1,1,1,459,492,678,197,212,292,0.54122123403482614,0.62651144779306678,1.1864708630305727,0.6,7.9,8.8000000000000007,12.5,null,1628,null,0.68,null,null,0,10.9,12.8,21.85,null,1,1,1,459,492,678,null,0,0,0,1]
["33021",null,null,3,30,40.5,21,21.5,0,26,30,44.1,1714.4,3556.1815292902165,3807.8845891872675,5249.2599999999993,"N/A",1,1,1,{"$error":"#VALUE!"},1957,2096,2889,{"$error":"#VALUE!"},337,361,497,{"$error":"#VALUE!"},0.58985601257698328,0.676480845748058,1.279006339289555,1.2760000000000001E-4,1.7219,4,5.1420100000000005E-4,445.64897406447591,477.19157375690452,657.82,1,1,1,502,537,741,216,231,319,0.24327252620760148,0.2780608221717103,0.5287695503625689,0.8,7.9,8.8000000000000007,12.5,null,2143,null,0.8,null,null,0,10.9,12.8,21.85,null,1,1,1,502,537,741,null,0,0,0,1]
["33010",null,null,3,30,40.5,10,11.5,0,26,30,44,891.9,1924.9914127028867,2079.6202422788024,2589.7800000000002,"N/A",1,1,1,{"$error":"#VALUE!"},1059,1144,1425,{"$error":"#VALUE!"},182,197,245,{"$error":"#VALUE!"},0.12934782055755203,0.15130134114106605,0.23300648714923972,3.969E-4,1.7345999999999999,2,3.6734700000000002E-4,266.87553260000635,288.31284965818764,359.04,1,1,1,301,325,404,129,140,174,6.5467813399096575E-2,7.6968202931566351E-2,0.11833730974637009,0.2,8.9,9.9,14.8,null,991,null,0.9,null,null,0,11.8,13.7,21.85,null,1,1,1,301,325,404,null,0,0,0,1]
["33015",null,null,3,30,40.5,15,16.5,0,26,30,44.8,1304.8000000000002,2216.9073865755149,2373.9948983307781,3302.76,"N/A",1,1,1,{"$error":"#VALUE!"},1220,1307,1818,{"$error":"#VALUE!"},210,225,313,{"$error":"#VALUE!"},0.20601386297597138,0.23635648273238424,0.45617607598398546,2.0829999999999999E-4,1.724,2,4.6182900000000003E-4,302.61675876046246,324.05983479376272,450.84,1,1,1,341,365,508,147,157,218,0.10127225882808916,0.1154481742695451,0.22193810340679521,0.3,8.6999999999999993,9.8000000000000007,14.3,null,1631,null,0.8,null,null,0,10.6,12.5,21.85,null,1,1,1,341,365,508,null,0,0,0,1]
["33016",null,null,3,30,40.5,16,16.5,0,26,30,44.8,1207.68,3241.8333772189817,3471.5459677567114,4829.7,"N/A",1,1,1,{"$error":"#VALUE!"},1784,1911,2658,{"$error":"#VALUE!"},307,329,457,{"$error":"#VALUE!"},1.3111554343525675,1.5052696920473709,2.8997313808921952,2.0829999999999999E-4,1.724,4,1.392796E-3,496,532,740,1,1,1,559,599,833,240,258,358,0.80237079900559449,0.92687056848618599,1.7815720673065976,0.6,8.6999999999999993,9.8000000000000007,14.3,null,1776,null,0.68,null,null,0,10.6,12.5,21.85,null,1,1,1,559,599,833,null,0,0,0,1]
["33021",null,null,3,30,40.5,21,21.5,0,26,30,44.8,1870.4,4175.015825613802,4470.8526528786542,6219.96,"N/A",1,1,1,{"$error":"#VALUE!"},2298,2460,3423,{"$error":"#VALUE!"},395,423,589,{"$error":"#VALUE!"},0.80932210590701015,0.92762868863089953,1.7941266204362238,1.2760000000000001E-4,1.7219,4,5.1420100000000005E-4,541.56076058716258,579.9351342123673,806.82,1,1,1,610,653,909,262,281,391,0.35729380578694475,0.41074154514911398,0.79307788542332325,0.8,8.6999999999999993,9.8000000000000007,14.3,null,2338,null,0.8,null,null,0,10.6,12.5,21.85,null,1,1,1,610,653,909,null,0,0,0,1]
["33010",null,null,3,30,40.5,10,11.5,0,26,30,44.8,1040.4000000000001,2267.7915432376717,2456.1428225151312,3097.58,"N/A",1,1,1,{"$error":"#VALUE!"},1248,1352,1705,{"$error":"#VALUE!"},215,233,293,{"$error":"#VALUE!"},0.17989684648960572,0.21094563174154052,0.33212872244149722,3.969E-4,1.7345999999999999,2,3.6734700000000002E-4,314.40040300104783,340.51290804463417,429.44,1,1,1,354,383,484,152,165,208,9.0565149298794376E-2,0.10653138624399096,0.16848470697265819,0.2,10.1,11.2,17.5,null,1156,null,0.9,null,null,0,11.5,13.3,21.85,null,1,1,1,354,383,484,null,0,0,0,1]
["33015",null,null,3,30,40.5,15,16.5,0,26,30,45.4,1522.4,2628.9846104428207,2815.4584574952669,3950.36,"N/A",1,1,1,{"$error":"#VALUE!"},1447,1549,2174,{"$error":"#VALUE!"},249,266,374,{"$error":"#VALUE!"},0.28922409587376624,0.32988714970917776,0.65043420479540603,2.0829999999999999E-4,1.724,2,4.6182900000000003E-4,358.86695423586366,384.32138301819265,539.24,1,1,1,404,433,607,174,186,261,0.14166964759609732,0.16178734468405079,0.31765072540950001,0.3,9.6,10.5,16.100000000000001,null,1903,null,0.8,null,null,0,10.4,12.2,21.85,null,1,1,1,404,433,607,null,0,0,0,1]
["33016",null,null,3,30,40.5,16,16.5,0,26,30,45.4,1408.96,3844.4231409656436,4117.1080284867467,5776.7,"N/A",1,1,1,{"$error":"#VALUE!"},2116,2266,3179,{"$error":"#VALUE!"},364,390,547,{"$error":"#VALUE!"},1.8416375880415772,2.1134070703571206,4.1509180137458044,2.0829999999999999E-4,1.724,4,1.392796E-3,589,630,885,1,1,1,663,709,997,285,305,429,1.1304122262830028,1.2941716636959542,2.5560497404602622,0.6,9.6,10.5,16.100000000000001,null,2072,null,0.68,null,null,0,10.4,12.2,21.85,null,1,1,1,663,709,997,null,0,0,0,1]
["33021",null,null,3,30,40.5,21,21.5,0,26,30,45.4,2181.6,4951.0649025572329,5302.2438770247491,7439.56,"N/A",1,1,1,{"$error":"#VALUE!"},2725,2918,4094,{"$error":"#VALUE!"},469,502,704,{"$error":"#VALUE!"},1.1394488337260738,1.3047730822237213,2.5599380403548286,1.2760000000000001E-4,1.7219,4,5.1420100000000005E-4,642.22570316870622,687.77876463210498,965.02,1,1,1,723,775,1087,311,333,467,0.50268840037892681,0.57599363419057459,1.1297880244783949,0.8,9.6,10.5,16.100000000000001,null,2727,null,0.8,null,null,0,10.4,12.2,21.85,null,1,1,1,723,775,1087,null,0,0,0,1]
["33010",null,null,3,30,40.5,10,11.5,0,26,30,45.5,1189.8,2603.9362232520607,2826.6988006529018,3605.38,"N/A",1,1,1,{"$error":"#VALUE!"},1433,1556,1984,{"$error":"#VALUE!"},246,268,341,{"$error":"#VALUE!"},0.23489403540805934,0.27833178732412561,0.44862937678505871,3.969E-4,1.7345999999999999,2,3.6734700000000002E-4,361.00257998610687,391.88577307200529,499.84,1,1,1,407,441,563,175,190,242,0.11968705342084758,0.14084400240597283,0.22738919860238588,0.2,11,12.4,19.2,null,1322,null,0.9,null,null,0,11.2,13,21.85,null,1,1,1,407,441,563,null,0,0,0,1]
["33016",null,null,3,30,40.5,16,16.5,0,26,30,46.4,1610.24,4417.9368883555589,4716.8848144627045,6723.7,"N/A",1,1,1,{"$error":"#VALUE!"},2431,2596,3700,{"$error":"#VALUE!"},418,447,636,{"$error":"#VALUE!"},2.4269513282257975,2.7745044468382791,5.6078761322422315,2.0829999999999999E-4,1.724,4,1.392796E-3,676,722,1030,1,1,1,761,813,1160,327,350,499,1.4870704994185664,1.703031015231631,3.455813024417806,0.6,11.5,12.8,19.600000000000001,null,2368,null,0.68,null,null,0,10,11.8,21.85,null,1,1,1,761,813,1160,null,0,0,0,1]
["33020",null,null,3,30,40.5,20,21.5,0,26,30,46.4,2440,4165.887726998767,4522.2727563025155,5768.04,"N/A",1,1,1,{"$error":"#VALUE!"},2293,2489,3174,{"$error":"#VALUE!"},394,428,546,{"$error":"#VALUE!"},0.58443568191915485,0.6893462776037077,1.1204388496471054,1.2760000000000001E-4,1.7219,2,3.76611E-4,514.83890668473202,558.88255136973487,712.84,1,1,1,580,629,803,249,270,345,0.23404744657534532,0.27505353307644531,0.44843929840612512,0.4,11.5,12.8,19.600000000000001,null,3050,null,0.8,null,null,0,10,11.8,21.85,null,1,1,1,580,629,803,null,0,0,0,1]
["33010",null,null,3,30,40.5,10,11.5,0,26,30,46,1338.3,2970.6878039917879,3224.8253922941558,4113.18,"N/A",1,1,1,{"$error":"#VALUE!"},1635,1775,2264,{"$error":"#VALUE!"},281,305,389,{"$error":"#VALUE!"},0.30571757376592368,0.35962598733661588,0.58247713806147194,3.969E-4,1.7345999999999999,2,3.6734700000000002E-4,411.84801378696699,447.08095237792156,570.24,1,1,1,464,503,642,200,216,276,0.15589677574608821,0.1815574429596036,0.29503361349254664,0.2,12.2,13.7,22,null,1487,null,0.9,null,null,0,10.9,12.7,21.85,null,1,1,1,464,503,642,null,0,0,0,1]
["33011",null,null,3,30,40.5,11,11.5,0,26,30,46,1372.24,4030.7284303866513,4375.55079813051,5580.9,"N/A",1,1,1,{"$error":"#VALUE!"},2218,2408,3071,{"$error":"#VALUE!"},382,414,528,{"$error":"#VALUE!"},0.89436715907792341,1.0486710765583878,1.6971685188241159,3.969E-4,1.7345999999999999,4,5.7428799999999995E-4,675.10313623602258,732.85712932403612,934.74,1,1,1,760,825,1053,327,355,453,0.65762349412158794,0.77364661537222734,1.253176990186494,0.4,12.2,13.7,22,null,2018,null,0.68,null,null,0,10.9,12.7,21.85,null,1,1,1,760,825,1053,null,0,0,0,1]
["33016",null,null,3,30,40.5,16,16.5,0,26,30,46.4,1811.5200000000002,4843.4549704976926,5171.1963699821436,7371.3,"N/A",1,1,1,{"$error":"#VALUE!"},2666,2846,4057,{"$error":"#VALUE!"},459,490,698,{"$error":"#VALUE!"},2.925107878038562,3.3325558852817005,6.7518799222296382,2.0829999999999999E-4,1.724,4,1.392796E-3,686.3088894339993,732.7492584003295,1044.5,1,1,1,773,825,1176,332,355,506,1.5327756295248856,1.7519120723697656,3.5532244554384973,0.6,11.5,12.8,19.600000000000001,null,2664,null,0.68,null,null,0,10,11.8,21.85,null,1,1,1,773,825,1176,null,0,0,0,1]
["33020",null,null,3,30,40.5,20,21.5,0,26,30,46.4,2744.8,4497.8275192555193,4882.6094666576164,6227.64,"N/A",1,1,1,{"$error":"#VALUE!"},2475,2687,3427,{"$error":"#VALUE!"},426,462,589,{"$error":"#VALUE!"},0.68293595483401581,0.80289395494981308,1.3033781914890117,1.2760000000000001E-4,1.7219,2,3.76611E-4,526.1057925837863,571.11330132956857,728.44,1,1,1,592,643,820,255,276,353,0.24542664152542551,0.2873757894472902,0.46941678054174807,0.4,11.5,12.8,19.600000000000001,null,3431,null,0.8,null,null,0,10,11.8,21.85,null,1,1,1,592,643,820,null,0,0,0,1]
["33010",null,null,3,30,40.5,10,11.5,0,26,30,46.5,1486.8,3259.5785648750903,3552.8677924068675,4620.9799999999996,"N/A",1,1,1,{"$error":"#VALUE!"},1794,1955,2543,{"$error":"#VALUE!"},309,336,437,{"$error":"#VALUE!"},0.3690330103561803,0.43568402099628656,0.73364586481226401,3.969E-4,1.7345999999999999,2,3.6734700000000002E-4,451.89903695786995,492.55985148767917,640.64,1,1,1,509,555,721,219,239,310,0.18658465847942218,0.22183995265465131,0.37140361098736285,0.2,13.4,14.8,24,null,1652,null,0.9,null,null,0,10.7,12.5,21.85,null,1,1,1,509,555,721,null,0,0,0,1]
["33011",null,null,3,30,40.5,11,11.5,0,26,30,46.5,1524.5600000000002,4422.7050634086982,4820.649682883678,6269.9,"N/A",1,1,1,{"$error":"#VALUE!"},2434,2653,3451,{"$error":"#VALUE!"},419,456,594,{"$error":"#VALUE!"},1.0738803905254082,1.2696560604871667,2.142986717676437,3.969E-4,1.7345999999999999,4,5.7428799999999995E-4,741,807,1050,1,1,1,835,909,1182,359,391,508,0.79098364692119405,0.93653467580719452,1.5722523699568367,0.4,13.4,14.8,24,null,2242,null,0.68,null,null,0,10.7,12.5,21.85,null,1,1,1,835,909,1182,null,0,0,0,1]
["33016",null,null,3,30,40.5,16,16.5,0,26,30,47.1,2012.8000000000002,5667.1755761695722,5971.3549398587584,8617.7000000000007,"N/A",1,1,1,{"$error":"#VALUE!"},3119,3286,4743,{"$error":"#VALUE!"},536,565,816,{"$error":"#VALUE!"},3.9860104456863796,4.4279644982927922,9.2218426689543964,2.0829999999999999E-4,1.724,4,1.392796E-3,868,914,1320,1,1,1,978,1029,1487,421,442,639,2.4618288047852932,2.7129257378605862,5.6607917365030316,0.6,13.2,14.7,23.5,null,2960,null,0.68,null,null,0,10,11.4,21.85,null,1,1,1,978,1029,1487,null,0,0,0,1]
["33020",null,null,3,30,40.5,20,21.5,0,26,30,47.1,3049.6000000000004,5214.8121821672385,5684.028740747025,7392.84,"N/A",1,1,1,{"$error":"#VALUE!"},2870,3128,4069,{"$error":"#VALUE!"},494,538,700,{"$error":"#VALUE!"},0.91765032256222334,1.0879265102128002,1.8394036138166847,1.2760000000000001E-4,1.7219,2,3.76611E-4,644.46964929787134,702.45751547390614,913.64,1,1,1,726,791,1029,312,340,442,0.36696586699045924,0.43557137417453173,0.73505531988328476,0.4,13.2,14.7,23.5,null,3812,null,0.8,null,null,0,10,11.4,21.85,null,1,1,1,726,791,1029,null,0,0,0,1]
["33010",null,null,3,30,40.5,10,11.5,0,26,30,46.9,1635.3,3560.7045070849035,3890.5075371280445,5128.78,"N/A",1,1,1,{"$error":"#VALUE!"},1960,2141,2823,{"$error":"#VALUE!"},337,368,486,{"$error":"#VALUE!"},0.4382580327222772,0.52178601079864106,0.90580677150712197,3.969E-4,1.7345999999999999,2,3.6734700000000002E-4,493.64631212835212,539.36930014536108,711.04,1,1,1,556,607,801,239,261,344,0.22183995265465131,0.26411409342083247,0.45648693964019738,0.2,13.4,14.8,24,null,1817,null,0.9,null,null,0,10.5,12.3,21.85,null,1,1,1,556,607,801,null,0,0,0,1]
["33011",null,null,3,30,40.5,11,11.5,0,26,30,46.9,1676.88,4831.2827990970827,5278.770565343093,6958.9,"N/A",1,1,1,{"$error":"#VALUE!"},2659,2905,3830,{"$error":"#VALUE!"},457,500,659,{"$error":"#VALUE!"},1.275172814583589,1.5236127373621906,2.6323912104616012,3.969E-4,1.7345999999999999,4,5.7428799999999995E-4,809.18727868766814,884.1366084769129,1165.54,1,1,1,911,996,1313,392,428,565,0.94127941356294209,1.1200054953502045,1.9407489303136893,0.4,13.4,14.8,24,null,2466,null,0.68,null,null,0,10.5,12.3,21.85,null,1,1,1,911,996,1313,null,0,0,0,1]
["33016",null,null,3,30,40.5,16,16.5,0,26,30,47.8,2214.0800000000004,6291.7251954043459,6553.83496101116,9564.7000000000007,"N/A",1,1,1,{"$error":"#VALUE!"},3463,3607,5264,{"$error":"#VALUE!"},596,620,905,{"$error":"#VALUE!"},4.9260431770084256,5.3298497590812355,11.338554166059245,2.0829999999999999E-4,1.724,4,1.392796E-3,963.35813446001066,1003.4910975149082,1464.5,1,1,1,1085,1130,1649,467,486,709,3.0277175205770579,3.2784921756275649,6.9659142819243272,0.6,15.5,16.8,27.5,null,3256,null,0.68,null,null,0,10,11.1,21.85,null,1,1,1,1085,1130,1649,null,0,0,0,1]
["33020",null,null,3,30,40.5,20,21.5,0,26,30,47.8,3354.4,5696.5662496175182,6224.1991397456159,8205.24,"N/A",1,1,1,{"$error":"#VALUE!"},3135,3425,4516,{"$error":"#VALUE!"},539,589,777,{"$error":"#VALUE!"},1.0919644222218805,1.3033781914890117,2.265239510471766,1.2760000000000001E-4,1.7219,2,3.76611E-4,704.00695650122941,769.21417236639559,1014.04,1,1,1,793,866,1142,341,372,491,0.43813000442888744,0.52115594302674872,0.90656703027288632,0.4,15.5,16.8,27.5,null,4193,null,0.8,null,null,0,10,11.1,21.85,null,1,1,1,793,866,1142,null,0,0,0,1]
["33010",null,null,3,30,40.5,10,11.5,0,26,30,47.2,1783.8,3860.4188735925432,4228.9855673527691,5636.58,"N/A",1,1,1,{"$error":"#VALUE!"},2125,2327,3102,{"$error":"#VALUE!"},366,400,534,{"$error":"#VALUE!"},0.51617888439755266,0.6155909645596549,1.0919131616595943,3.969E-4,1.7345999999999999,2,3.6734700000000002E-4,535.19789031294818,586.29496640731588,781.44,1,1,1,603,660,880,259,284,378,0.26011986801515397,0.31221850792949429,0.5502729473825213,0.2,14.8,16.600000000000001,28,null,1982,null,0.9,null,null,0,10.4,12.2,21.85,null,1,1,1,603,660,880,null,0,0,0,1]
["33011",null,null,3,30,40.5,11,11.5,0,26,30,47.2,1829.2,5237.9452617275747,5738.028861571599,7647.9,"N/A",1,1,1,{"$error":"#VALUE!"},2883,3158,4209,{"$error":"#VALUE!"},496,543,724,{"$error":"#VALUE!"},1.499577320295189,1.7939642506094404,3.1716867839242373,3.969E-4,1.7345999999999999,4,5.7428799999999995E-4,877,961,1281,1,1,1,988,1082,1443,425,465,620,1.1045235676622975,1.3197339484872046,2.3327575945140802,0.4,14.8,16.600000000000001,28,null,2690,null,0.68,null,null,0,10.4,12.2,21.85,null,1,1,1,988,1082,1443,null,0,0,0,1]
["33016",null,null,3,30,40.5,16,16.5,0,26,30,48.1,2415.36,6916.3686790875245,7167.9744986485921,10511.7,"N/A",1,1,1,{"$error":"#VALUE!"},3806,3945,5785,{"$error":"#VALUE!"},655,679,995,{"$error":"#VALUE!"},5.9471982700544324,6.3900388042109997,13.700897317450424,2.0829999999999999E-4,1.724,4,1.392796E-3,1059,1098,1610,1,1,1,1193,1237,1813,513,532,780,3.6519874987777072,3.9268714300618597,8.4276260995472718,0.6,16.399999999999999,17.7,29.7,null,3552,null,0.68,null,null,0,10,10.9,21.85,null,1,1,1,1193,1237,1813,null,0,0,0,1]
["33020",null,null,3,30,40.5,20,21.5,0,26,30,48.1,3659.2000000000003,6176.0620183272586,6765.7106634844222,9017.64,"N/A",1,1,1,{"$error":"#VALUE!"},3399,3723,4963,{"$f":"ROUND(U846*3600/(4186*ABS($O$1-$O$2)),0)","v":{"$error":"#VALUE!"}},{"$f":"ROUND(V846*3600/(4186*ABS($O$1-$O$2)),0)","v":585},{"$f":"ROUND(W846*3600/(4186*ABS($O$1-$O$2)),0)","v":640},{"$f":"ROUND(X846*3600/(4186*ABS($O$1-$O$2)),0)","v":854},{"$error":"#VALUE!"},1.2857783481405567,1.5382434349030825,2.7352926230339287,1.2760000000000001E-4,1.7219,2,3.76611E-4,763.26517311676128,836.13657141043336,1114.44,1,1,1,860,942,1255,{"$f":"ROUND(AQ846*3600/(4186*ABS($AM$1-$AM$2)),0)","v":370},{"$f":"ROUND(AR846*3600/(4186*ABS($AM$1-$AM$2)),0)","v":405},{"$f":"ROUND(AS846*3600/(4186*ABS($AM$1-$AM$2)),0)","v":540},0.51558263051812225,0.61743205439901494,1.0960098001519842,0.4,16.399999999999999,17.7,29.7,null,4574,null,0.8,null,null,0,10,10.9,21.85,null,1,1,1,860,942,1255,null,0,0,0,1]
["33010",null,null,3,30,40.5,10,11.5,0,26,30,47.8,1933.2,4178.1784000000007,4608.2849999999999,6144.38,"N/A",1,1,1,{"$error":"#VALUE!"},2299,2536,3381,{"$error":"#VALUE!"},395,436,582,{"$error":"#VALUE!"},0.60042647880500311,0.73032000426201793,1.2952813365785474,3.969E-4,1.7345999999999999,2,3.6734700000000002E-4,579.25120000000004,638.88,851.84,1,1,1,652,719,959,280,309,412,0.30356568783619847,0.3690330103561803,0.65275224200824877,0.2,16.2,18.600000000000001,31.4,null,2148,null,0.9,null,null,0,10.199999999999999,11.9,21.85,null,1,1,1,652,719,959,null,0,0,0,1]
["33011",null,null,3,30,40.5,11,11.5,0,26,30,47.8,1982.2,5669.0920000000006,6252.6749999999993,8336.9,"N/A",1,1,1,{"$error":"#VALUE!"},3120,3441,4588,{"$error":"#VALUE!"},537,592,789,{"$error":"#VALUE!"},1.7549262907933838,2.1287199689294121,3.7608157757513863,3.969E-4,1.7345999999999999,4,5.7428799999999995E-4,949.51120000000003,1047.2549999999999,1396.34,1,1,1,1069,1179,1573,460,507,676,1.2917942639055984,1.5661309450154697,2.7686223249521493,0.4,16.2,18.600000000000001,31.4,null,2915,null,0.68,null,null,0,10.199999999999999,11.9,21.85,null,1,1,1,1069,1179,1573,null,0,0,0,1]
["33016",null,null,3,30,40.5,16,16.5,0,26,30,48.1,2616.6400000000003,7342.4691534710291,7609.5768181679023,11159.300000000001,"N/A",1,1,1,{"$error":"#VALUE!"},4041,4188,6141,{"$error":"#VALUE!"},695,720,1056,{"$error":"#VALUE!"},6.694085662997983,7.1832832296132008,15.428858336805304,2.0829999999999999E-4,1.724,4,1.392796E-3,1068.8700133353962,1107.7538502516963,1624.5,1,1,1,1204,1248,1829,518,537,786,3.723360018151697,4.0008641485210727,8.55751597483418,0.6,16.399999999999999,17.7,29.7,null,3848,null,0.68,null,null,0,10,10.9,21.85,null,1,1,1,1204,1248,1829,null,0,0,0,1]
["33020",null,null,3,30,40.5,20,21.5,0,26,30,48.1,3964.8,6444.5232000000005,7107.93,9477.24,"N/A",1,1,1,{"$error":"#VALUE!"},3547,3912,5216,{"$error":"#VALUE!"},610,673,897,{"$error":"#VALUE!"},1.3977365766797567,1.7005576841375909,3.0170264919613805,1.2760000000000001E-4,1.7219,2,3.76611E-4,768.42720000000008,847.53,1130.04,1,1,1,865,954,1273,372,410,547,0.52115594302674872,0.63272932657201741,1.1245364878130186,0.4,16.399999999999999,17.7,29.7,null,4956,null,0.8,null,null,0,10,10.9,21.85,null,1,1,1,865,954,1273,null,0,0,0,1]
["33010",null,null,3,30,40.5,10,11.5,0,26,30,47.8,2081.7000000000003,4331.3824000000004,4782.2249168521384,6369.68,"N/A",1,1,1,{"$error":"#VALUE!"},2384,2632,3505,{"$error":"#VALUE!"},410,453,603,{"$error":"#VALUE!"},0.64648355788910816,0.78788059387784715,1.38967898831954,3.969E-4,1.7345999999999999,2,3.6734700000000002E-4,587.68320000000006,648.85364133524638,864.24,1,1,1,662,731,973,285,314,418,0.3144005770259381,0.38096138433434423,0.67173859607169384,0.2,16.2,18.600000000000001,31.4,null,2313,null,0.9,null,null,0,10.199999999999999,11.9,21.85,null,1,1,1,662,731,973,null,0,0,0,1]
["33011",null,null,3,30,40.5,11,11.5,0,26,30,47.8,2134.52,5976.8600000000006,6598.9760720588583,8789.5,"N/A",1,1,1,{"$error":"#VALUE!"},3289,3632,4837,{"$error":"#VALUE!"},566,625,832,{"$error":"#VALUE!"},1.9475570445274948,2.3701679749643909,4.1779096997827212,3.969E-4,1.7345999999999999,4,5.7428799999999995E-4,956,1056,1406,1,1,1,1077,1189,1583,463,511,681,1.3085224863941285,1.5906877308677778,2.8093396043569121,0.4,16.2,18.600000000000001,31.4,null,3139,null,0.68,null,null,0,10.199999999999999,11.9,21.85,null,1,1,1,1077,1189,1583,null,0,0,0,1]
["33016",null,null,3,30,40.5,16,16.5,0,26,30,48.9,2817.92,8165.5551181941737,8348.321999442087,12405.7,"N/A",1,1,1,{"$error":"#VALUE!"},4494,4594,6827,{"$error":"#VALUE!"},773,790,1174,{"$error":"#VALUE!"},8.2773415210513956,8.6446602519876841,19.062220361241142,2.0829999999999999E-4,1.724,4,1.392796E-3,1250,1278,1900,1,1,1,1408,1439,2140,605,619,920,5.0756096730826696,5.3127074368804275,11.716787257565555,0.6,19.3,20.399999999999999,34.5,null,4144,null,0.68,null,null,0,10,10.6,21.85,null,1,1,1,1408,1439,2140,null,0,0,0,1]
["33020",null,null,3,30,40.5,20,21.5,0,26,30,48.9,4269.6000000000004,7236.8592000000008,7990.1253664397382,10642.44,"N/A",1,1,1,{"$error":"#VALUE!"},3983,4397,5857,{"$error":"#VALUE!"},685,756,1007,{"$error":"#VALUE!"},1.7615955456598769,2.1447167401839966,3.800468958369799,1.2760000000000001E-4,1.7219,2,3.76611E-4,894.36320000000012,987.455178225689,1315.24,1,1,1,1007,1112,1481,433,478,637,0.70550283488426035,0.85931613379967242,1.5238905228002015,0.4,19.3,20.399999999999999,34.5,null,5337,null,0.8,null,null,0,10,10.6,21.85,null,1,1,1,1007,1112,1481,null,0,0,0,1]
["33010",null,null,3,30,40.5,10,11.5,0,26,30,47.8,{"$f":"IF($N860-($BE860*$BG860)>100,$BE860*$BG860,$N860-95)","v":2230.2000000000003},4485,4951,6595,"N/A",1,1,1,{"$f":"ROUND(M860*POWER(CF_heat,Q860),0)","v":{"$error":"#VALUE!"}},{"$f":"ROUND(N860*POWER(CF_heat,R860),0)","v":2468},{"$f":"ROUND(O860*POWER(CF_heat,S860),0)","v":2725},{"$f":"ROUND(P860*POWER(CF_heat,T860),0)","v":3629},{"$error":"#VALUE!"},425,469,624,{"$error":"#VALUE!"},0.69423111920614877,0.8440366210333996,1.4873765413654196,{"$f":"IF($G860=$CO$103,CP$103,IF($G860=$CO$104,CP$104,IF($G860=$CO$105,CP$105,IF($G860=$CO$107,CP$107,IF($G860=$CO$108,CP$108,IF($G860=$CO$109,CP$109,IF($G860=$CO$111,CP$111,IF($G860=$CO$112,CP$112,IF($G860=$CO$113,CP$113,IF($G860=$CO$115,CP$115,IF($G860=$CO$116,CP$116,IF($G860=$CO$117,CP$117,IF($G860=$CO$119,CP$119,IF($G860=$CO$120,CP$120,))))))))))))))","v":3.969E-4},{"$f":"IF($G860=$CO$103,CQ$103,IF($G860=$CO$104,CQ$104,IF($G860=$CO$105,CQ$105,IF($G860=$CO$107,CQ$107,IF($G860=$CO$108,CQ$108,IF($G860=$CO$109,CQ$109,IF($G860=$CO$111,CQ$111,IF($G860=$CO$112,CQ$112,IF($G860=$CO$113,CQ$113,IF($G860=$CO$115,CQ$115,IF($G860=$CO$116,CQ$116,IF($G860=$CO$117,CQ$117,IF($G860=$CO$119,CQ$119,IF($G860=$CO$120,CQ$120,))))))))))))))","v":1.7345999999999999},{"$f":"IF($G860=$CO$103,CR$103,IF($G860=$CO$104,CR$104,IF($G860=$CO$105,CR$105,IF($G860=$CO$107,CR$107,IF($G860=$CO$108,CR$108,IF($G860=$CO$109,CR$109,IF($G860=$CO$111,CR$111,IF($G860=$CO$112,CR$112,IF($G860=$CO$113,CR$113,IF($G860=$CO$115,CR$115,IF($G860=$CO$116,CR$116,IF($G860=$CO$117,CR$117,IF($G860=$CO$119,CR$119,IF($G860=$CO$120,CR$120,))))))))))))))","v":2},{"$f":"IF($G860=$CO$103,CS$103,IF($G860=$CO$104,CS$104,IF($G860=$CO$105,CS$105,IF($G860=$CO$107,CS$107,IF($G860=$CO$108,CS$108,IF($G860=$CO$109,CS$109,IF($G860=$CO$111,CS$111,IF($G860=$CO$112,CS$112,IF($G860=$CO$113,CS$113,IF($G860=$CO$115,CS$115,IF($G860=$CO$116,CS$116,IF($G860=$CO$117,CS$117,IF($G860=$CO$119,CS$119,IF($G860=$CO$120,CS$120,))))))))))))))","v":3.6734700000000002E-4},595,658,877,1,1,1,{"$f":"ROUND(AK860*POWER(CF_cool,AN860),0)","v":670},741,988,288,319,425,0.32099205293333116,0.3930781639672345,0.69423111920614877,0.2,16.2,18.600000000000001,31.4,null,2478,null,{"$f":"IF(G860=10,0.9,IF(G860=11,0.68,IF(G860=15,0.8,IF(G860=16,0.68,IF(G860=20,0.8,IF(G860=21,0.8))))))","v":0.9},null,null,0,10.199999999999999,11.9,21.85,null,1,1,1,{"$f":"AQ860/BO860","v":670},741,988,null,{"$f":"BR860-AQ860","v":0},{"$f":"BS860-AR860","v":0},{"$f":"BT860-AS860","v":0},1]
[{"$f":"CONCATENATE(D861,E861,G861)","v":"33011"},null,null,3,30,40.5,11,11.5,0,26,30,47.8,2286.84,6285,6939,9242,"N/A",1,1,1,{"$error":"#VALUE!"},3459,3819,5086,{"$error":"#VALUE!"},595,657,875,{"$f":"(($AG861*(Y861^$AH861)*((($F861-14.4)*$AI861)/100))+($AJ861*(Y861^2)))*0.0098","v":{"$error":"#VALUE!"}},{"$f":"(($AG861*(Z861^$AH861)*((($E861-14.4)*$AI861)/100))+($AJ861*(Z861^2)))*0.0098","v":2.150137827912268},{"$f":"(($AG861*(AA861^$AH861)*((($E861-14.4)*$AI861)/100))+($AJ861*(AA861^2)))*0.0098","v":2.6165883589543246},{"$f":"(($AG861*(AB861^$AH861)*((($E861-14.4)*$AI861)/100))+($AJ861*(AB861^2)))*0.0098","v":4.616776137886248},3.969E-4,1.7345999999999999,4,5.7428799999999995E-4,963,1063,1416,1,1,1,1085,1197,1595,467,515,686,{"$f":"(($AG861*(AT861^$AH861)*((($E861-14.4)*$AI861)/100))+($AJ861*(AT861^2)))*0.0098","v":1.3309928583555126},{"$f":"(($AG861*(AU861^$AH861)*((($E861-14.4)*$AI861)/100))+($AJ861*(AU861^2)))*0.0098","v":1.615434068139014},{"$f":"(($AG861*(AV861^$AH861)*((($E861-14.4)*$AI861)/100))+($AJ861*(AV861^2)))*0.0098","v":2.8503519736839573},0.4,16.2,18.600000000000001,31.4,null,3363,null,0.68,null,null,0,10.199999999999999,11.9,21.85,null,1,1,1,1085,{"$f":"AR861/BP861","v":1197},{"$f":"AS861/BQ861","v":1595},null,0,0,0,1]
["33020",null,null,3,30,40.5,20,21.5,0,26,30,48.9,4574.4000000000005,7549,8335,11102,"N/A",1,1,1,{"$error":"#VALUE!"},4155,4587,6110,{"$error":"#VALUE!"},715,789,1051,{"$error":"#VALUE!"},1.9188901839746357,2.3355863186882302,4.1390964190501904,1.2760000000000001E-4,1.7219,2,3.76611E-4,905,999,1331,1,1,1,1019,1125,1499,438,484,645,0.72184617260071493,0.88096740204382251,1.5623141943510104,0.4,19.3,20.399999999999999,34.5,null,5718,null,0.8,null,null,0,10,10.6,21.85,null,1,1,1,1019,1125,1499,null,0,0,0,1]
["33021",null,null,3,30,40.5,21,21.5,0,26,30,48.1,4675.2,10844,11086,16475,"N/A",1,1,1,{"$error":"#VALUE!"},5968,6101,9067,{"$error":"#VALUE!"},1027,1049,1560,{"$error":"#VALUE!"},5.4346007505082445,5.669196878010581,12.509078751553718,1.2760000000000001E-4,1.7219,4,5.1420100000000005E-4,1468,1501,2231,1,1,1,1653,1690,2513,711,727,1081,2.6109239795424597,2.7293463883763969,6.0192563005767763,0.8,19.3,20.399999999999999,34.5,null,5844,null,0.8,null,null,0,10,10.6,21.85,null,1,1,1,1653,1690,2513,null,0,0,0,1]
["34011",null,null,3,40,40.5,11,11.5,0,26,30,38.799999999999997,429.76000000000005,881.02076921515595,942.75810617769378,1102.4000000000001,"N/A",1,1,1,{"$error":"#VALUE!"},485,519,607,{"$error":"#VALUE!"},83,89,104,{"$error":"#VALUE!"},4.7264033033932333E-2,5.4165159570805338E-2,7.3431635367221582E-2,3.969E-4,1.7345999999999999,4,5.7428799999999995E-4,147.56138863197239,157.90172054122763,184.64,1,1,1,166,178,208,71,77,89,3.4848248180957136E-2,4.0824682907053877E-2,5.4165159570805338E-2,0.5,3.6,4.0999999999999996,5.0999999999999996,null,632,null,0.68,null,null,0,14.2,16.2,21.85,null,1,1,1,166,178,208,null,0,0,0,1]
["34010",null,null,3,40,40.5,10,11.5,0,26,30,40,520.20000000000005,841.69225687813923,901.35950941531064,1066.3800000000001,"N/A",1,1,1,{"$error":"#VALUE!"},463,496,587,{"$error":"#VALUE!"},80,85,101,{"$error":"#VALUE!"},2.7023615794756161E-2,3.0435350049889568E-2,4.2692213211482616E-2,3.969E-4,1.7345999999999999,2,3.6734700000000002E-4,116.68990721587436,124.96201154556491,147.84,1,1,1,131,141,166,56,61,71,1.343537641772987E-2,1.5884518391967976E-2,2.1386296655878569E-2,0.3,4.8,5.4,6.8,null,578,null,0.9,null,null,0,13.6,15.6,21.85,null,1,1,1,131,141,166,null,0,0,0,1]
["34015",null,null,3,40,40.5,15,16.5,0,26,30,41.1,752.80000000000007,957.19258357509659,1027.5250511543745,1359.96,"N/A",1,1,1,{"$error":"#VALUE!"},527,565,748,{"$error":"#VALUE!"},91,97,129,{"$error":"#VALUE!"},3.99713196263905E-2,4.536656589811567E-2,7.9864129885984875E-2,2.0829999999999999E-4,1.724,2,4.6182900000000003E-4,{"$f":"AK42","v":423.65815696218516},140.26129481477255,185.64,1,1,1,477,158,209,205,68,90,0.20030958583149233,2.2435975348790157E-2,3.9105101599737728E-2,0.4,4.8,5.5,7.2,null,941,null,0.8,null,null,0,12.3,14.4,21.85,null,1,1,1,477,158,209,null,0,0,0,1]
["34016",null,null,3,40,40.5,16,16.5,0,26,30,41.1,693.6,1399.7241764138612,1502.5729206967153,1988.7,"N/A",1,1,1,{"$error":"#VALUE!"},770,827,1094,{"$error":"#VALUE!"},132,142,188,{"$error":"#VALUE!"},0.24729137806982993,0.28596048849339561,0.49983701429071142,2.0829999999999999E-4,1.724,4,1.392796E-3,214,230,305,1,1,1,241,259,343,104,111,147,0.15390644297216818,0.17519450981337145,0.30634374899379002,{"$f":"ROUND(IF(G871=10,$CO$92*E871,IF(G871=11,$CO$93*E871,IF(G871=15,$CO$94*E871,IF(G871=16,$CO$95*E871,IF(G871=20,$CO$96*E871,IF(G871=21,$CO$97*E871,)))))),1)","v":0.8},4.8,5.5,7.2,null,1020,null,0.68,null,null,0,12.3,14.4,21.85,null,1,1,1,241,259,343,null,0,0,0,1]
["34021",null,null,3,40,40.5,21,21.5,0,26,30,41.1,1091.2,1802.6437228662567,1935.0981352499616,2561.16,"N/A",1,1,1,{"$error":"#VALUE!"},992,1065,1410,{"$error":"#VALUE!"},171,183,243,{"$error":"#VALUE!"},0.15631169904794398,0.17882818974068312,0.31396958384456414,1.2760000000000001E-4,1.7219,4,5.1420100000000005E-4,233.82931859416351,251.01059773412922,332.22,1,1,1,263,283,374,113,122,161,6.873625059206967E-2,8.0013487528418192E-2,0.13869843819755032,1.1000000000000001,4.8,5.5,7.2,null,1364,null,0.8,null,null,0,12.3,14.4,21.85,null,1,1,1,263,283,374,null,0,0,0,1]
["34010",null,null,3,40,40.5,10,11.5,0,26,30,41,606.6,1029.7403904507714,1104.2859635902939,1320.28,"N/A",1,1,1,{"$error":"#VALUE!"},567,608,727,{"$error":"#VALUE!"},98,105,125,{"$error":"#VALUE!"},4.0238857573169598E-2,4.6074583095762081E-2,6.4889283295307548E-2,3.969E-4,1.7345999999999999,2,3.6734700000000002E-4,142.7603849699376,153.09517888293954,183.04,1,1,1,161,172,206,69,74,89,2.0221688967450198E-2,2.31933407310508E-2,3.3308401822802675E-2,0.3,5.5,5.9,7.9,null,674,null,0.9,null,null,0,13.2,15.1,21.85,null,1,1,1,161,172,206,null,0,0,0,1]
["34015",null,null,3,40,40.5,15,16.5,0,26,30,41.1,878.40000000000009,1070.8273541699666,1149.5094620994566,1521.41,"N/A",1,1,1,{"$error":"#VALUE!"},589,633,837,{"$error":"#VALUE!"},101,109,144,{"$error":"#VALUE!"},4.9151829829959887E-2,5.7174303949608082E-2,9.9347532656962875E-2,2.0829999999999999E-4,1.724,2,4.6182900000000003E-4,135.09481491470635,145.02129350758159,191.94,1,1,1,152,163,216,65,70,93,2.0517266580390332E-2,2.3762412056902597E-2,4.1732037001606034E-2,0.4,5.0999999999999996,5.6,7.2,null,1098,null,0.8,null,null,0,12.3,14.4,21.85,null,1,1,1,152,163,216,null,0,0,0,1]
["34016",null,null,3,40,40.5,16,16.5,0,26,30,41.1,809.2,1627.62717250317,1747.2217424001376,2312.5,"N/A",1,1,1,{"$error":"#VALUE!"},896,962,1273,{"$error":"#VALUE!"},154,165,219,{"$error":"#VALUE!"},0.33605447166124719,0.38550950867827061,0.67729270625313398,2.0829999999999999E-4,1.724,4,1.392796E-3,219.59769851718443,235.73326859625641,312,1,1,1,247,265,351,106,114,151,0.15984866153357083,0.18473815314752992,0.32315358991305121,0.8,5.0999999999999996,5.6,7.2,null,1190,null,0.68,null,null,0,12.3,14.4,21.85,null,1,1,1,247,265,351,null,0,0,0,1]
["34021",null,null,3,40,40.5,21,21.5,0,26,30,41.1,1273.6000000000001,1977.8291945358951,2123.1558613833213,2810.06,"N/A",1,1,1,{"$error":"#VALUE!"},1088,1168,1546,{"$error":"#VALUE!"},187,201,266,{"$error":"#VALUE!"},0.18666820575982557,0.21542472668737794,0.37572848638394757,1.2760000000000001E-4,1.7219,4,5.1420100000000005E-4,240.30463534531125,257.96170693632649,341.42,1,1,1,271,291,385,117,125,166,7.3643342168046438E-2,8.3961544059796653E-2,0.14737428794001164,1.1000000000000001,5.0999999999999996,5.6,7.2,null,1592,null,0.8,null,null,0,12.3,14.4,21.85,null,1,1,1,271,291,385,null,0,0,0,1]
["34010",null,null,3,40,40.5,10,11.5,0,26,30,41.8,693,1214.2269940407766,1304.1433704057049,1574.18,"N/A",1,1,1,{"$error":"#VALUE!"},668,718,866,{"$error":"#VALUE!"},115,123,149,{"$error":"#VALUE!"},5.5085910103389986E-2,6.2865323135650977E-2,9.1639793360421454E-2,3.969E-4,1.7345999999999999,2,3.6734700000000002E-4,168.33710197020613,180.80286190736828,218.24,1,1,1,190,204,246,82,88,106,2.8364348111453178E-2,3.2578176529147761E-2,4.6940025071208105E-2,0.3,6.3,6.8,9.1,null,770,null,0.9,null,null,0,12.8,14.7,21.85,null,1,1,1,190,204,246,null,0,0,0,1]
["34015",null,null,3,40,40.5,15,16.5,0,26,30,42.4,1003.2,1395.33740436932,1496.2563490716184,2007.56,"N/A",1,1,1,{"$error":"#VALUE!"},768,823,1105,{"$error":"#VALUE!"},132,142,190,{"$error":"#VALUE!"},8.3591812526114959E-2,9.6627720949897813E-2,0.17225245133220382,2.0829999999999999E-4,1.724,2,4.6182900000000003E-4,190.46915773046311,204.24499885412456,274.04000000000002,1,1,1,215,230,309,92,99,133,4.0846965137479554E-2,4.7240360158857173E-2,8.4853156029595089E-2,0.4,6,6.7,9,null,1254,null,0.8,null,null,0,11.8,13.7,21.85,null,1,1,1,215,230,309,null,0,0,0,1]
["34016",null,null,3,40,40.5,16,16.5,0,26,30,42.4,924.80000000000007,2040.4331716148024,2188.0092071816284,2935.7,"N/A",1,1,1,{"$error":"#VALUE!"},1123,1204,1616,{"$error":"#VALUE!"},193,207,278,{"$error":"#VALUE!"},0.52664517663857202,0.6054196277956887,1.0890584397728393,2.0829999999999999E-4,1.724,4,1.392796E-3,312,335,450,1,1,1,351,377,507,151,162,218,0.32315358991305121,0.37168647484697531,0.67114987902759449,0.8,6,6.7,9,null,1360,null,0.68,null,null,0,11.8,13.7,21.85,null,1,1,1,351,377,507,null,0,0,0,1]
["34021",null,null,3,40,40.5,21,21.5,0,26,30,42.4,1455.2,2627.7848955664344,2817.8416357747774,3780.76,"N/A",1,1,1,{"$error":"#VALUE!"},1446,1551,2081,{"$error":"#VALUE!"},249,267,358,{"$error":"#VALUE!"},0.32954917600071792,0.3785386708342578,0.67782232551306165,1.2760000000000001E-4,1.7219,4,5.1420100000000005E-4,340.86222571220884,365.51537125251701,490.42,1,1,1,384,412,552,165,177,237,0.14561819050300812,0.16738174243911139,0.29876524946614924,1.1000000000000001,6,6.7,9,null,1819,null,0.8,null,null,0,11.8,13.7,21.85,null,1,1,1,384,412,552,null,0,0,0,1]
["34010",null,null,3,40,40.5,10,11.5,0,26,30,42.4,780.30000000000007,1395.6272192501513,1501.3000140389001,1828.08,"N/A",1,1,1,{"$error":"#VALUE!"},768,826,1006,{"$error":"#VALUE!"},132,142,173,{"$error":"#VALUE!"},7.2222059974614408E-2,8.3368370367816053E-2,0.12292512173987241,3.969E-4,1.7345999999999999,2,3.6734700000000002E-4,193.48593193227777,208.13611852764589,253.44,1,1,1,218,234,285,94,101,123,3.7079048293782238E-2,4.2692213211482616E-2,6.2865323135650977E-2,0.3,6.7,7.4,10.3,null,867,null,0.9,null,null,0,12.5,14.7,21.85,null,1,1,1,218,234,285,null,0,0,0,1]
["34015",null,null,3,40,40.5,15,16.5,0,26,30,43.3,1128.8,1597.9167676946356,1711.9130538160239,2331.36,"N/A",1,1,1,{"$error":"#VALUE!"},879,942,1283,{"$error":"#VALUE!"},151,162,221,{"$error":"#VALUE!"},0.10916239882032562,0.1255141548306877,0.23255648414152816,2.0829999999999999E-4,1.724,2,4.6182900000000003E-4,218.12205414485143,233.68300487544244,318.24,1,1,1,246,263,358,106,113,154,5.4095281383585415E-2,6.1411392518550448E-2,0.1135094594714236,0.4,7,7.7,10.7,null,1411,null,0.8,null,null,0,11.3,13.2,21.85,null,1,1,1,246,263,358,null,0,0,0,1]
["34016",null,null,3,40,40.5,16,16.5,0,26,30,43.3,1040.4000000000001,2336.669516687492,2503.3688418217644,3409.2,"N/A",1,1,1,{"$error":"#VALUE!"},1286,1378,1876,{"$error":"#VALUE!"},221,237,323,{"$error":"#VALUE!"},0.68966202505145613,0.79263180455861315,1.4682953727767598,2.0829999999999999E-4,1.724,4,1.392796E-3,357.77938745479025,383.30357134546551,522,1,1,1,403,432,588,173,186,253,0.4236000518086091,0.48930913919959235,0.90273776986465915,0.8,7,7.7,10.7,null,1530,null,0.68,null,null,0,11.3,13.2,21.85,null,1,1,1,403,432,588,null,0,0,0,1]
["34021",null,null,3,40,40.5,21,21.5,0,26,30,43.3,1637.6000000000001,3009.2947651024979,3223.9795559512399,4390.5600000000004,"N/A",1,1,1,{"$error":"#VALUE!"},1656,1774,2416,{"$error":"#VALUE!"},285,305,416,{"$error":"#VALUE!"},0.43090260441770112,0.49304004615540864,0.9134769874785198,1.2760000000000001E-4,1.7219,4,5.1420100000000005E-4,390.34964893343317,418.19741370243202,569.52,1,1,1,440,471,641,189,203,276,0.19065091557263031,0.21969991478708417,0.40429895928210113,1.1000000000000001,7,7.7,10.7,null,2047,null,0.8,null,null,0,11.3,13.2,21.85,null,1,1,1,440,471,641,null,0,0,0,1]
["34010",null,null,3,40,40.5,10,11.5,0,26,30,43,866.7,1574.3905475253332,1696.1265760133244,2081.98,"N/A",1,1,1,{"$error":"#VALUE!"},866,933,1146,{"$error":"#VALUE!"},149,160,197,{"$error":"#VALUE!"},9.1639793360421454E-2,0.10541696655638683,0.15873013463828786,3.969E-4,1.7345999999999999,2,3.6734700000000002E-4,218.26918973175157,235.14633901405676,288.64,1,1,1,246,265,325,106,114,140,4.6940025071208105E-2,5.4149107789939414E-2,8.1076017785134527E-2,0.3,7.8,8.6999999999999993,12.2,null,963,null,0.9,null,null,0,12.3,14.1,21.85,null,1,1,1,246,265,325,null,0,0,0,1]
["34015",null,null,3,40,40.5,15,16.5,0,26,30,44.1,1254.4000000000001,1798.7737222599399,1926.0891717740149,2655.16,"N/A",1,1,1,{"$error":"#VALUE!"},990,1060,1461,{"$error":"#VALUE!"},170,182,251,{"$error":"#VALUE!"},0.13811867284028256,0.15814952863745607,0.29946697883520995,2.0829999999999999E-4,1.724,2,4.6182900000000003E-4,245.53983484833029,262.91890485611941,362.44,1,1,1,277,296,408,119,127,175,6.8049179523583123E-2,7.7425971894837228E-2,0.14630097289280863,0.4,7,7.7,10.7,null,1568,null,0.8,null,null,0,10.9,12.8,21.85,null,1,1,1,277,296,408,null,0,0,0,1]
["34016",null,null,3,40,40.5,16,16.5,0,26,30,44.1,1156,2630.3871448118639,2816.5633812075234,3882.7,"N/A",1,1,1,{"$error":"#VALUE!"},1448,1550,2137,{"$error":"#VALUE!"},249,267,368,{"$error":"#VALUE!"},0.87454240931732485,1.0049323101116059,1.9038854409412616,2.0829999999999999E-4,1.724,4,1.392796E-3,403,431,595,1,1,1,454,485,670,195,209,288,0.53756381278257948,0.61711953473975456,1.1684610946902154,0.8,7,7.7,10.7,null,1700,null,0.68,null,null,0,10.9,12.8,21.85,null,1,1,1,454,485,670,null,0,0,0,1]
["34021",null,null,3,40,40.5,21,21.5,0,26,30,44.1,1819.2,3387.5608889256064,3627.3291443724347,5000.3599999999997,"N/A",1,1,1,{"$error":"#VALUE!"},1864,1996,2752,{"$error":"#VALUE!"},321,343,473,{"$error":"#VALUE!"},0.54574609007983277,0.62256308258623716,1.1790762362627099,1.2760000000000001E-4,1.7219,4,5.1420100000000005E-4,439.41631078060919,470.51776864522725,648.62,1,1,1,495,530,730,213,228,314,0.24170226939761635,0.2766625468600169,0.52235958808898675,1.1000000000000001,7,7.7,10.7,null,2274,null,0.8,null,null,0,10.9,12.8,21.85,null,1,1,1,495,530,730,null,0,0,0,1]
["34010",null,null,3,40,40.5,10,11.5,0,26,30,43.5,953.1,1766.3893947845202,1902.9712804051933,2335.88,"N/A",1,1,1,{"$error":"#VALUE!"},972,1047,1286,{"$error":"#VALUE!"},167,180,221,{"$error":"#VALUE!"},0.11467952631270258,0.1329019769852936,0.19904216348032094,3.969E-4,1.7345999999999999,2,3.6734700000000002E-4,244.88738360147738,263.82272182064906,323.83999999999997,1,1,1,276,297,365,119,128,157,5.8912306020170842E-2,6.7984503942146737E-2,0.10156517455898471,0.3,8.4,9.3000000000000007,14,null,1059,null,0.9,null,null,0,12,13.9,21.85,null,1,1,1,276,297,365,null,0,0,0,1]
["34015",null,null,3,40,40.5,15,16.5,0,26,30,44.1,1380,1908.1501882577959,2043.2071973479594,2816.6099999999997,"N/A",1,1,1,{"$error":"#VALUE!"},1050,1124,1550,{"$error":"#VALUE!"},181,193,267,{"$error":"#VALUE!"},0.15642878777515976,0.17769547364548605,0.33858869853400303,2.0829999999999999E-4,1.724,2,4.6182900000000003E-4,249.80785427097814,267.48901053042016,368.74,1,1,1,281,301,415,121,129,178,7.033698939102484E-2,7.9864129885984875E-2,0.15132274238809779,0.4,7.9,8.8000000000000007,12.5,null,1725,null,0.8,null,null,0,10.9,12.8,21.85,null,1,1,1,281,301,415,null,0,0,0,1]
["34016",null,null,3,40,40.5,16,16.5,0,26,30,44.1,1271.6000000000001,2849.7497938679544,3051.4523045945984,4206.5,"N/A",1,1,1,{"$error":"#VALUE!"},1568,1679,2315,{"$error":"#VALUE!"},270,289,398,{"$error":"#VALUE!"},1.0275415481144674,1.1765545188347795,2.2255670680510637,2.0829999999999999E-4,1.724,4,1.392796E-3,407.83296705301524,436.69898665540194,602,1,1,1,459,492,678,197,212,292,0.54859407915509928,0.63487861333016082,1.2010018586840168,0.8,7.9,8.8000000000000007,12.5,null,1870,null,0.68,null,null,0,10.9,12.8,21.85,null,1,1,1,459,492,678,null,0,0,0,1]
["34021",null,null,3,40,40.5,21,21.5,0,26,30,44.1,2000.8000000000002,3556.1815292902165,3807.8845891872675,5249.2599999999993,"N/A",1,1,1,{"$error":"#VALUE!"},1957,2096,2889,{"$error":"#VALUE!"},337,361,497,{"$error":"#VALUE!"},0.60111404947492131,0.68915469077514646,1.3009845740083723,1.2760000000000001E-4,1.7219,4,5.1420100000000005E-4,445.64897406447591,477.19157375690452,657.82,1,1,1,502,537,741,216,231,319,0.24850651339914087,0.28393625965498615,0.53901223776306184,1.1000000000000001,7.9,8.8000000000000007,12.5,null,2501,null,0.8,null,null,0,10.9,12.8,21.85,null,1,1,1,502,537,741,null,0,0,0,1]
["34010",null,null,3,40,40.5,10,11.5,0,26,30,44,1040.4000000000001,1924.9914127028867,2079.6202422788024,2589.7800000000002,"N/A",1,1,1,{"$error":"#VALUE!"},1059,1144,1425,{"$error":"#VALUE!"},182,197,245,{"$error":"#VALUE!"},0.13582307740572641,0.15873013463828786,0.24385036608144467,3.969E-4,1.7345999999999999,2,3.6734700000000002E-4,266.87553260000635,288.31284965818764,359.04,1,1,1,301,325,404,129,140,174,6.9032046357107191E-2,8.1076017785134527E-2,0.12432685563147912,0.3,8.9,9.9,14.8,null,1156,null,0.9,null,null,0,11.8,13.7,21.85,null,1,1,1,301,325,404,null,0,0,0,1]
["34016",null,null,3,40,40.5,16,16.5,0,26,30,44.8,1387.2,3241.8333772189817,3471.5459677567114,4829.7,"N/A",1,1,1,{"$error":"#VALUE!"},1784,1911,2658,{"$error":"#VALUE!"},307,329,457,{"$error":"#VALUE!"},1.326997138425239,1.5231189869541473,2.9311850175671932,2.0829999999999999E-4,1.724,4,1.392796E-3,496,532,740,1,1,1,559,599,833,240,258,358,0.81273317908610365,0.93860893620092056,1.8022196719062118,0.8,8.6999999999999993,9.8000000000000007,14.3,null,2040,null,0.68,null,null,0,10.6,12.5,21.85,null,1,1,1,559,599,833,null,0,0,0,1]
["34020",null,null,3,40,40.5,20,21.5,0,26,30,44.8,2108,3079.6829926739365,3327.0647594078355,4143.24,"N/A",1,1,1,{"$error":"#VALUE!"},1695,1831,2280,{"$error":"#VALUE!"},292,315,392,{"$error":"#VALUE!"},0.32595006198221738,0.37904726728095972,0.5858362388993088,1.2760000000000001E-4,1.7219,2,3.76611E-4,380.60090160569081,411.17343900116532,512.04,1,1,1,429,463,577,184,199,248,0.13003850383298241,0.15197646042295188,0.23549692383219625,0.5,8.6999999999999993,9.8000000000000007,14.3,null,2635,null,0.8,null,null,0,10.6,12.5,21.85,null,1,1,1,429,463,577,null,0,0,0,1]
["34010",null,null,3,40,40.5,10,11.5,0,26,30,44.8,1213.2,2267.7915432376717,2456.1428225151312,3097.58,"N/A",1,1,1,{"$error":"#VALUE!"},1248,1352,1705,{"$f":"ROUND(U910*3600/(4186*ABS($O$1-$O$2)),0)","v":{"$error":"#VALUE!"}},{"$f":"ROUND(V910*3600/(4186*ABS($O$1-$O$2)),0)","v":215},{"$f":"ROUND(W910*3600/(4186*ABS($O$1-$O$2)),0)","v":233},{"$f":"ROUND(X910*3600/(4186*ABS($O$1-$O$2)),0)","v":293},{"$error":"#VALUE!"},0.18854224312717349,0.22088486197752802,0.34691863970566211,3.969E-4,1.7345999999999999,2,3.6734700000000002E-4,314.40040300104783,340.51290804463417,429.44,1,1,1,354,383,484,{"$f":"ROUND(AQ910*3600/(4186*ABS($AM$1-$AM$2)),0)","v":152},{"$f":"ROUND(AR910*3600/(4186*ABS($AM$1-$AM$2)),0)","v":165},{"$f":"ROUND(AS910*3600/(4186*ABS($AM$1-$AM$2)),0)","v":208},9.5302800219559988E-2,0.1119938028523185,0.1766477076228237,0.3,10.1,11.2,17.5,null,1348,null,0.9,null,null,0,11.5,13.3,21.85,null,1,1,1,354,383,484,null,0,0,0,1]
["34011",null,null,3,40,40.5,11,11.5,0,26,30,44.8,1203.6000000000001,3077.015307780141,3332.5766142436496,4202.8999999999996,"N/A",1,1,1,{"$error":"#VALUE!"},1693,1834,2313,{"$error":"#VALUE!"},291,315,398,{"$error":"#VALUE!"},0.55141659323458014,0.64429770223934024,1.0203156285383037,3.969E-4,1.7345999999999999,4,5.7428799999999995E-4,515,558,704,1,1,1,580,628,793,249,270,341,0.40604543743773835,0.4759957455077608,0.75295172649200792,0.5,10.1,11.2,17.5,null,1770,null,0.68,null,null,0,11.5,13.3,21.85,null,1,1,1,580,628,793,null,0,0,0,1]
["34016",null,null,3,40,40.5,16,16.5,0,26,30,45.4,1618.4,3844.4231409656436,4117.1080284867467,5776.7,"N/A",1,1,1,{"$error":"#VALUE!"},2116,2266,3179,{"$error":"#VALUE!"},364,390,547,{"$error":"#VALUE!"},1.8628853955061779,2.1373386143809157,4.1937990712961914,2.0829999999999999E-4,1.724,4,1.392796E-3,589,630,885,1,1,1,663,709,997,285,305,429,1.144347896990056,1.3098358651548991,2.5842551044522253,0.8,9.6,10.5,16.100000000000001,null,2380,null,0.68,null,null,0,10.4,12.2,21.85,null,1,1,1,663,709,997,null,0,0,0,1]
["34020",null,null,3,40,40.5,20,21.5,0,26,30,45.4,2459.2000000000003,3628.1091959950468,3929.4415695377957,4955.6400000000003,"N/A",1,1,1,{"$error":"#VALUE!"},1997,2163,2727,{"$error":"#VALUE!"},343,372,469,{"$error":"#VALUE!"},0.44907239127521847,0.52782899694440821,0.83728825145899888,1.2760000000000001E-4,1.7219,2,3.76611E-4,448.37784746172167,485.61784045001809,612.44000000000005,1,1,1,505,547,690,217,235,297,0.18054850635729669,0.21156995192447228,0.33715343959385924,0.5,9.6,10.5,16.100000000000001,null,3074,null,0.8,null,null,0,10.4,12.2,21.85,null,1,1,1,505,547,690,null,0,0,0,1]
["34010",null,null,3,40,40.5,10,11.5,0,26,30,45.5,1386.9,2603.9362232520607,2826.6988006529018,3605.38,"N/A",1,1,1,{"$error":"#VALUE!"},1433,1556,1984,{"$error":"#VALUE!"},246,268,341,{"$error":"#VALUE!"},0.24581480406091785,0.29100187977907793,0.46787149666740402,3.969E-4,1.7345999999999999,2,3.6734700000000002E-4,361.00257998610687,391.88577307200529,499.84,1,1,1,407,441,563,175,190,242,0.12573643486049349,0.1478209131405708,0.23800379056647944,0.3,11,12.4,19.2,null,1541,null,0.9,null,null,0,11.2,13,21.85,null,1,1,1,407,441,563,null,0,0,0,{"$f":"IF(SUM(BV916:BX916)=0,1,0)","v":1}]
["34011",null,null,3,40,40.5,11,11.5,0,26,30,45.5,1374.96,3533.107636511756,3835.359341571188,4891.8999999999996,"N/A",1,1,1,{"$error":"#VALUE!"},1944,2111,2692,{"$error":"#VALUE!"},334,363,463,{"$error":"#VALUE!"},0.72287776844191287,0.85140364260994417,1.3739384816047238,3.969E-4,1.7345999999999999,4,5.7428799999999995E-4,592,642,819,1,1,1,667,723,922,287,311,396,0.53662942974677441,0.62832281717466187,1.0102575811912089,0.5,11,12.4,19.2,null,2022,null,0.68,null,null,0,11.2,13,21.85,null,1,1,1,667,723,922,null,0,0,0,1]
["34016",null,null,3,40,40.5,16,16.5,0,26,30,46.4,1849.6000000000001,4417.9368883555589,4716.8848144627045,6723.7,"N/A",1,1,1,{"$error":"#VALUE!"},2431,2596,3700,{"$error":"#VALUE!"},418,447,636,{"$error":"#VALUE!"},2.453921471076181,2.8047809355505091,5.663483892655969,2.0829999999999999E-4,1.724,4,1.392796E-3,676,722,1030,1,1,1,761,813,1160,327,350,499,1.5047331412617495,1.7228896160211382,3.4924146755825536,0.8,11.5,12.8,19.600000000000001,null,2720,null,0.68,null,null,0,10,11.8,21.85,null,1,1,1,761,813,1160,null,0,0,0,1]
["34020",null,null,3,40,40.5,20,21.5,0,26,30,46.4,2811.2000000000003,4165.887726998767,4522.2727563025155,5768.04,"N/A",1,1,1,{"$error":"#VALUE!"},2293,2489,3174,{"$error":"#VALUE!"},394,428,546,{"$error":"#VALUE!"},0.59180269922579254,0.69784179378864852,1.1333593328921729,1.2760000000000001E-4,1.7219,2,3.76611E-4,514.83890668473202,558.88255136973487,712.84,1,1,1,580,629,803,249,270,345,0.23739033900325895,0.27889654747160258,0.45430037565684633,0.5,11.5,12.8,19.600000000000001,null,3514,null,0.8,null,null,0,10,11.8,21.85,null,1,1,1,580,629,803,null,0,0,0,1]
["34010",null,null,3,40,40.5,10,11.5,0,26,30,46,1559.7,2970.6878039917879,3224.8253922941558,4113.18,"N/A",1,1,1,{"$error":"#VALUE!"},1635,1775,2264,{"$error":"#VALUE!"},281,305,389,{"$error":"#VALUE!"},0.31947265478472098,0.37548235369662608,0.60665755297741553,3.969E-4,1.7345999999999999,2,3.6734700000000002E-4,411.84801378696699,447.08095237792156,570.24,1,1,1,464,503,642,200,216,276,0.1635228986602473,0.19027270896345205,0.30836692617648681,0.3,12.2,13.7,22,null,1733,null,0.9,null,null,0,10.9,12.7,21.85,null,1,1,1,464,503,642,null,0,0,0,1]
["34011",null,null,3,40,40.5,11,11.5,0,26,30,46,1547,4030.7284303866513,4375.55079813051,5580.9,"N/A",1,1,1,{"$error":"#VALUE!"},2218,2408,3071,{"$error":"#VALUE!"},382,414,528,{"$error":"#VALUE!"},0.94122845291146395,1.1025496337942775,1.7793261611718829,3.969E-4,1.7345999999999999,4,5.7428799999999995E-4,675.10313623602258,732.85712932403612,934.74,1,1,1,760,825,1053,327,355,453,0.6934085498344007,0.81491270025186036,1.316161696279375,0.5,12.2,13.7,22,null,2275,null,0.68,null,null,0,10.9,12.7,21.85,null,1,1,1,760,825,1053,null,0,0,0,1]
[{"$f":"CONCATENATE(D925,E925,G925)","v":"34016"},null,null,3,40,40.5,16,16.5,0,26,30,46.4,2080.8000000000002,4843.4549704976926,5171.1963699821436,7371.3,"N/A",1,1,1,{"$error":"#VALUE!"},2666,2846,4057,{"$error":"#VALUE!"},459,490,698,{"$f":"(($AG925*(Y925^$AH925)*((($F925-14.4)*$AI925)/100))+($AJ925*(Y925^2)))*0.0098","v":{"$error":"#VALUE!"}},{"$f":"(($AG925*(Z925^$AH925)*((($E925-14.4)*$AI925)/100))+($AJ925*(Z925^2)))*0.0098","v":2.9567992037396911},{"$f":"(($AG925*(AA925^$AH925)*((($E925-14.4)*$AI925)/100))+($AJ925*(AA925^2)))*0.0098","v":3.3680268809238174},{"$f":"(($AG925*(AB925^$AH925)*((($E925-14.4)*$AI925)/100))+($AJ925*(AB925^2)))*0.0098","v":6.8171602138106886},2.0829999999999999E-4,1.724,4,1.392796E-3,686.3088894339993,732.7492584003295,1044.5,1,1,1,773,825,1176,332,355,506,{"$f":"(($AG925*(AT925^$AH925)*((($E925-14.4)*$AI925)/100))+($AJ925*(AT925^2)))*0.0098","v":1.5509064473105816},{"$f":"(($AG925*(AU925^$AH925)*((($E925-14.4)*$AI925)/100))+($AJ925*(AU925^2)))*0.0098","v":1.7722622881067953},{"$f":"(($AG925*(AV925^$AH925)*((($E925-14.4)*$AI925)/100))+($AJ925*(AV925^2)))*0.0098","v":3.5907157837780477},0.8,11.5,12.8,19.600000000000001,null,3060,null,0.68,null,null,0,10,11.8,21.85,null,1,1,1,773,{"$f":"AR925/BP925","v":825},{"$f":"AS925/BQ925","v":1176},null,0,0,0,1]
["34020",null,null,3,40,40.5,20,21.5,0,26,30,46.4,3162.4,4497.8275192555193,4882.6094666576164,6227.64,"N/A",1,1,1,{"$error":"#VALUE!"},2475,2687,3427,{"$error":"#VALUE!"},426,462,589,{"$error":"#VALUE!"},0.69136322921941051,0.81258462403097553,1.3181002409282503,1.2760000000000001E-4,1.7219,2,3.76611E-4,526.1057925837863,571.11330132956857,728.44,1,1,1,592,643,820,255,276,353,0.24890943949364699,0.29136703175145057,0.47551383411325321,0.5,11.5,12.8,19.600000000000001,null,3953,null,0.8,null,null,0,10,11.8,21.85,null,{"$f":"IF((237.3*LN(($AQ$1*EXP(17.27*($AM$3/($AM$3+237.3))))))/(17.27-LN(($AQ$1*EXP(17.27*($AM$3/($AM$3+237.3))))))<(($AM$1+$AM$2)/2),1,IF(1/(1+((2258*((0.622/((101325/(1*611*EXP(17.27*((($AM$1+$AM$2)/2)/((($AM$1+$AM$2)/2)+237.3))))))-1)*1000-(0.622/((101325/($AQ$1*611*EXP(17.27*($AM$3/($AM$3+237.3))))))-1)*1000))/(1005*((($AM$1+$AM$2)/2)-$AM$3))))>1,1,1/(1+((2258*((0.622/((101325/(1*611*EXP(17.27*((($AM$1+$AM$2)/2)/((($AM$1+$AM$2)/2)+237.3))))))-1)*1000-(0.622/((101325/($AQ$1*611*EXP(17.27*($AM$3/($AM$3+237.3))))))-1)*1000))/(1005*((($AM$1+$AM$2)/2)-$AM$3))))))","v":1},1,1,592,643,820,null,0,0,0,1]
["34010",null,null,3,40,40.5,10,11.5,0,26,30,46.5,1733.4,3259.5785648750903,3552.8677924068675,4620.9799999999996,"N/A",1,1,1,{"$error":"#VALUE!"},1794,1955,2543,{"$error":"#VALUE!"},309,336,437,{"$error":"#VALUE!"},0.385251826425142,0.45443937564929077,0.76323390983204864,3.969E-4,1.7345999999999999,2,3.6734700000000002E-4,451.89903695786995,492.55985148767917,640.64,1,1,1,509,555,721,219,239,310,0.19551095957097483,0.23222733623288938,0.38771358106900572,0.3,13.4,14.8,24,null,1926,null,0.9,null,null,0,10.7,12.5,21.85,null,1,1,1,509,555,721,null,0,0,0,1]
["34011",null,null,3,40,40.5,11,11.5,0,26,30,46.5,1719.0400000000002,4422.7050634086982,4820.649682883678,6269.9,"N/A",1,1,1,{"$error":"#VALUE!"},2434,2653,3451,{"$error":"#VALUE!"},419,456,594,{"$error":"#VALUE!"},1.1288926661401573,1.3333660571030428,2.2437673626444101,3.969E-4,1.7345999999999999,4,5.7428799999999995E-4,741,807,1050,1,1,1,835,909,1182,359,391,508,0.83305960332298501,0.98532761380257572,1.649087240035835,0.5,13.4,14.8,24,null,2528,null,0.68,null,null,0,10.7,12.5,21.85,null,1,1,1,835,909,1182,null,0,0,0,1]
["34016",null,null,3,40,40.5,16,16.5,0,26,30,47.1,2312,5667.1755761695722,5971.3549398587584,8617.7000000000007,"N/A",1,1,1,{"$error":"#VALUE!"},3119,3286,4743,{"$error":"#VALUE!"},536,565,816,{"$error":"#VALUE!"},4.0274156978976485,4.4733071443907368,9.307296034255419,2.0829999999999999E-4,1.724,4,1.392796E-3,868,914,1320,1,1,1,978,1029,1487,421,442,639,2.4891335211907375,2.7426207378409622,5.716852475250616,0.8,13.2,14.7,23.5,null,3400,null,0.68,null,null,0,10,11.4,21.85,null,1,1,1,978,1029,1487,null,0,0,0,1]
["34020",null,null,3,40,40.5,20,21.5,0,26,30,47.1,3513.6000000000004,5214.8121821672385,5684.028740747025,7392.84,"N/A",1,1,1,{"$error":"#VALUE!"},2870,3128,4069,{"$error":"#VALUE!"},494,538,700,{"$error":"#VALUE!"},0.92852547064005864,1.1005227449753643,1.8592225829299442,1.2760000000000001E-4,1.7219,2,3.76611E-4,644.46964929787134,702.45751547390614,913.64,1,1,1,726,791,1029,312,340,442,0.37189523839254857,0.44128695397871875,0.7440349686807749,0.5,13.2,14.7,23.5,null,4392,null,0.8,null,null,0,10,11.4,21.85,null,1,1,1,726,791,1029,null,0,0,0,1]
["34010",null,null,3,40,40.5,10,11.5,0,26,30,46.9,1907.1000000000001,3560.7045070849035,3890.5075371280445,5128.78,"N/A",1,1,1,{"$error":"#VALUE!"},1960,2141,2823,{"$error":"#VALUE!"},337,368,486,{"$error":"#VALUE!"},0.45711031771001903,0.54374724768597504,0.94138435470553361,3.969E-4,1.7345999999999999,2,3.6734700000000002E-4,493.64631212835212,539.36930014536108,711.04,1,1,1,556,607,801,239,261,344,0.23222733623288938,0.27621566556713539,0.47602365030596494,0.3,13.4,14.8,24,null,2119,null,0.9,null,null,0,10.5,12.3,21.85,null,1,1,1,556,607,801,null,0,0,0,1]
["34011",null,null,3,40,40.5,11,11.5,0,26,30,46.9,1891.0800000000002,4831.2827990970827,5278.770565343093,6958.9,"N/A",1,1,1,{"$error":"#VALUE!"},2659,2905,3830,{"$error":"#VALUE!"},457,500,659,{"$error":"#VALUE!"},1.3391253558438383,1.5983609023379539,2.7530630146713455,3.969E-4,1.7345999999999999,4,5.7428799999999995E-4,809.18727868766814,884.1366084769129,1165.54,1,1,1,911,996,1313,392,428,565,0.99028901579969986,1.1770835979326435,2.0331485967711824,{"$f":"ROUND(IF(G935=10,$CO$92*E935,IF(G935=11,$CO$93*E935,IF(G935=15,$CO$94*E935,IF(G935=16,$CO$95*E935,IF(G935=20,$CO$96*E935,IF(G935=21,$CO$97*E935,)))))),1)","v":0.5},13.4,14.8,24,null,2781,null,0.68,null,null,0,10.5,12.3,21.85,null,1,1,1,911,996,1313,null,0,0,0,1]
["34016",null,null,3,40,40.5,16,16.5,0,26,30,47.8,2543.2000000000003,6291.7251954043459,6553.83496101116,9564.7000000000007,"N/A",1,1,1,{"$error":"#VALUE!"},3463,3607,5264,{"$error":"#VALUE!"},596,620,905,{"$error":"#VALUE!"},4.9757596016466472,5.3830677664922835,11.440703958263891,2.0829999999999999E-4,1.724,4,1.392796E-3,963.35813446001066,1003.4910975149082,1464.5,1,1,1,1085,1130,1649,467,486,709,3.0603671035936335,3.3134654475960037,7.0329782808855628,0.8,15.5,16.8,27.5,null,3740,null,0.68,null,null,0,10,11.1,21.85,null,1,1,1,1085,1130,1649,null,0,0,0,1]
["34020",null,null,3,40,40.5,20,21.5,0,26,30,47.8,3864.8,5696.5662496175182,6224.1991397456159,8205.24,"N/A",1,1,1,{"$error":"#VALUE!"},3135,3425,4516,{"$error":"#VALUE!"},539,589,777,{"$error":"#VALUE!"},1.1046009990027015,1.3181002409282503,2.2889599481420007,1.2760000000000001E-4,1.7219,2,3.76611E-4,704.00695650122941,769.21417236639559,1014.04,1,1,1,793,866,1142,341,372,491,0.44387456100394346,0.52782899694440821,0.91732870761973662,0.5,15.5,16.8,27.5,null,4831,null,0.8,null,null,0,10,11.1,21.85,null,1,1,1,793,866,1142,null,0,0,0,1]
["34010",null,null,3,40,40.5,10,11.5,0,26,30,47.2,2079.9,3860.4188735925432,4228.9855673527691,5636.58,"N/A",1,1,1,{"$error":"#VALUE!"},2125,2327,3102,{"$error":"#VALUE!"},366,400,534,{"$error":"#VALUE!"},0.53793350236162496,0.64096972645686956,1.1338050786890777,3.969E-4,1.7345999999999999,2,3.6734700000000002E-4,535.19789031294818,586.29496640731588,781.44,1,1,1,603,660,880,259,284,378,0.27206103966038081,0.32622931532429839,0.5732796535697785,0.3,14.8,16.600000000000001,28,null,2311,null,0.9,null,null,0,10.4,12.2,21.85,null,1,1,1,603,660,880,null,0,0,0,1]
["34011",null,null,3,40,40.5,11,11.5,0,26,30,47.2,2063.1200000000003,5237.9452617275747,5738.028861571599,7647.9,"N/A",1,1,1,{"$error":"#VALUE!"},2883,3158,4209,{"$error":"#VALUE!"},496,543,724,{"$error":"#VALUE!"},1.5732912699982591,1.8802126313734409,3.3137460880151588,3.969E-4,1.7345999999999999,4,5.7428799999999995E-4,877,961,1281,1,1,1,988,1082,1443,425,465,620,1.1609094789842833,1.3856408747995153,2.4413125842282342,0.5,14.8,16.600000000000001,28,null,3034,null,0.68,null,null,0,10.4,12.2,21.85,null,1,1,1,988,1082,1443,null,0,0,0,1]
["34016",null,null,3,40,40.5,16,16.5,0,26,30,48.1,2774.4,6916.3686790875245,7167.9744986485921,10511.7,"N/A",1,1,1,{"$error":"#VALUE!"},3806,3945,5785,{"$error":"#VALUE!"},655,679,995,{"$error":"#VALUE!"},6.0057008930252245,6.4522858618893322,13.821185324136593,2.0829999999999999E-4,1.724,4,1.392796E-3,1059,1098,1610,1,1,1,1193,1237,1813,513,532,780,3.6903774600870078,3.9677454159866419,8.5066842103339866,0.8,16.399999999999999,17.7,29.7,null,4080,null,0.68,null,null,0,10,10.9,21.85,null,1,1,1,1193,1237,1813,null,0,0,0,1]
["34020",null,null,3,40,40.5,20,21.5,0,26,30,48.1,4216,6176.0620183272586,6765.7106634844222,9017.64,"N/A",1,1,1,{"$error":"#VALUE!"},3399,3723,4963,{"$error":"#VALUE!"},585,640,854,{"$error":"#VALUE!"},1.3003286643492464,1.5552285323537764,2.7632041793731141,1.2760000000000001E-4,1.7219,2,3.76611E-4,763.26517311676128,836.13657141043336,1114.44,1,1,1,860,942,1255,370,405,540,0.52219402840153406,0.62515678869646041,1.1086867730186405,0.5,16.399999999999999,17.7,29.7,null,5270,null,0.8,null,null,0,10,10.9,21.85,null,1,1,1,860,942,1255,null,0,0,0,1]
["34010",null,null,3,40,40.5,10,11.5,0,26,30,47.8,2253.6,4178.1784000000007,4608.2849999999999,6144.38,"N/A",1,1,1,{"$error":"#VALUE!"},2299,2536,3381,{"$error":"#VALUE!"},395,436,582,{"$error":"#VALUE!"},0.62525749495244098,0.75979070311100372,1.3439189861581293,3.969E-4,1.7345999999999999,2,3.6734700000000002E-4,579.25120000000004,638.88,851.84,1,1,1,652,719,959,280,309,412,0.31723597039786422,0.385251826425142,0.67946617800943399,0.3,16.2,18.600000000000001,31.4,null,2504,null,0.9,null,null,0,10.199999999999999,11.9,21.85,null,1,1,1,652,719,959,null,0,0,0,1]
["34011",null,null,3,40,40.5,11,11.5,0,26,30,47.8,2234.48,5669.0920000000006,6252.6749999999993,8336.9,"N/A",1,1,1,{"$error":"#VALUE!"},3120,3441,4588,{"$error":"#VALUE!"},537,592,789,{"$error":"#VALUE!"},1.839528277541963,2.228912742349805,3.9257219573417625,3.969E-4,1.7345999999999999,4,5.7428799999999995E-4,949.51120000000003,1047.2549999999999,1396.34,1,1,1,1069,1179,1573,460,507,676,1.3564767793322641,1.6427036470141041,2.8947448638558346,0.5,16.2,18.600000000000001,31.4,null,3286,null,0.68,null,null,0,10.199999999999999,11.9,21.85,null,1,1,1,1069,1179,1573,null,0,0,0,1]
["34020",null,null,3,40,40.5,20,21.5,0,26,30,48.1,4568,6444.5232000000005,7107.93,9477.24,"N/A",1,1,1,{"$error":"#VALUE!"},3547,3912,5216,{"$error":"#VALUE!"},610,673,897,{"$error":"#VALUE!"},1.4133740358462674,1.7190787461064312,3.0474017554172663,1.2760000000000001E-4,1.7219,2,3.76611E-4,768.42720000000008,847.53,1130.04,1,1,1,865,954,1273,372,410,547,0.52782899694440821,0.64061900438741326,1.1374977448404662,0.5,16.399999999999999,17.7,29.7,null,5710,null,0.8,null,null,0,10,10.9,21.85,null,1,1,1,865,954,1273,null,0,0,0,1]
["34021",null,null,3,40,40.5,21,21.5,0,26,30,48.1,4729.6000000000004,9234.8263652613623,9570.7750567366256,14035.359999999999,"N/A",1,1,1,{"$error":"#VALUE!"},5082,5267,7724,{"$error":"#VALUE!"},874,906,1329,{"$error":"#VALUE!"},3.9980194544365335,4.2945499309163147,9.2064256135127742,1.2760000000000001E-4,1.7219,4,5.1420100000000005E-4,1167.5126679363457,1209.9849719689844,1774.42,1,1,1,1315,1363,1998,565,586,859,1.6787953364441803,1.8051477845966168,3.8626585643397764,1.1000000000000001,16.399999999999999,17.7,29.7,null,5912,null,0.8,null,null,0,10,10.9,21.85,null,1,1,1,1315,1363,1998,null,0,0,0,1]
["34011",null,null,3,40,40.5,11,11.5,0,26,30,47.8,2406.52,5976.8600000000006,6598.9760720588583,8789.5,"N/A",1,1,1,{"$error":"#VALUE!"},3289,3632,4837,{"$error":"#VALUE!"},566,625,832,{"$error":"#VALUE!"},2.0402405705230682,2.4802460037877188,4.3587158036065174,3.969E-4,1.7345999999999999,4,5.7428799999999995E-4,956,1056,1406,1,1,1,1077,1189,1583,463,511,681,1.3739384816047238,1.6683113807122507,2.9370846736585223,0.5,16.2,18.600000000000001,31.4,null,3539,null,0.68,null,null,0,10.199999999999999,11.9,21.85,null,1,1,1,1077,1189,1583,null,0,0,0,1]
["34015",null,null,3,40,40.5,15,16.5,0,26,30,48.9,3512,5583.9635634029,5708.9475468201636,8483.56,"N/A",1,1,1,{"$error":"#VALUE!"},3073,3142,4669,{"$error":"#VALUE!"},529,540,803,{"$error":"#VALUE!"},1.3183502626806367,1.3734419245050582,3.0247501110971458,2.0829999999999999E-4,1.724,2,4.6182900000000003E-4,762.23344503523219,779.29426056038062,1158.04,1,1,1,858,878,1304,369,378,561,0.64409882256197082,0.67570775095696589,1.4817354148638417,0.4,19.3,20.399999999999999,34.5,null,4390,null,0.8,null,null,0,10,10.6,21.85,null,1,1,1,858,878,1304,null,0,0,0,1]
["34020",null,null,3,40,40.5,20,21.5,0,26,30,48.9,4919.2000000000007,7236.8592000000008,7990.1253664397382,10642.44,"N/A",1,1,1,{"$error":"#VALUE!"},3983,4397,5857,{"$error":"#VALUE!"},685,756,1007,{"$error":"#VALUE!"},1.7806889047655672,2.1673440761604046,3.8375390100156954,1.2760000000000001E-4,1.7219,2,3.76611E-4,894.36320000000012,987.455178225689,1315.24,1,1,1,1007,1112,1481,433,478,637,0.71416996376250419,0.86959188643074459,1.5407387586861001,0.5,19.3,20.399999999999999,34.5,null,6149,null,0.8,null,null,0,10,10.6,21.85,null,1,1,1,1007,1112,1481,null,0,0,0,1]
["34021",null,null,3,40,40.5,21,21.5,0,26,30,48.1,5093.6000000000004,10516.06232539558,10751.439821034392,15976.76,"N/A",1,1,1,{"$error":"#VALUE!"},5787,5917,8793,{"$error":"#VALUE!"},995,1018,1512,{"$error":"#VALUE!"},5.1748250053979996,5.4155952976346455,11.902429305910431,1.2760000000000001E-4,1.7219,4,5.1420100000000005E-4,1261.7808956926551,1290.0229142432502,1916.9885000000002,1,1,1,1421,1453,2159,611,625,928,1.9615178365678536,2.0519095607174354,4.5045436385918727,1.1000000000000001,19.3,20.399999999999999,34.5,null,6367,null,0.8,null,null,0,10,10.6,21.85,null,1,1,1,1421,1453,2159,null,0,0,0,1]
["34011",null,null,3,40,40.5,11,11.5,0,26,30,47.8,2578.5600000000004,6285,6939,9242,"N/A",1,1,1,{"$error":"#VALUE!"},3459,3819,5086,{"$error":"#VALUE!"},595,657,875,{"$error":"#VALUE!"},2.2512129546765425,2.7366256140932506,4.8140976044799979,3.969E-4,1.7345999999999999,4,5.7428799999999995E-4,963,1063,1416,1,1,1,1085,1197,1595,467,515,686,1.3973922693567389,1.6941147265358181,2.9797283482567511,0.5,16.2,18.600000000000001,31.4,null,3792,null,0.68,null,null,0,10.199999999999999,11.9,21.85,null,1,1,1,1085,1197,1595,null,0,0,0,1]
["34015",null,null,3,40,40.5,15,16.5,0,26,30,48.9,3763.2000000000003,5796,5926,8806,"N/A",1,1,1,{"$error":"#VALUE!"},3190,3261,4846,{"$error":"#VALUE!"},549,561,834,{"$error":"#VALUE!"},1.4193522747530232,1.4817354148638417,3.2616068584354054,2.0829999999999999E-4,1.724,2,4.6182900000000003E-4,771,788,1171,1,1,1,868,887,{"$f":"ROUND(AM960*POWER(CF_cool,AP960),0)","v":1319},373,381,567,0.65805417242159492,0.68641156442053819,1.5134280753210279,0.4,19.3,20.399999999999999,34.5,null,4704,null,0.8,null,null,0,10,10.6,21.85,null,1,1,1,868,887,1319,null,0,0,0,1]
["34020",null,null,3,40,40.5,20,21.5,0,26,30,48.9,5270.4000000000005,7549,8335,11102,"N/A",1,1,1,{"$error":"#VALUE!"},4155,4587,6110,{"$error":"#VALUE!"},715,789,1051,{"$error":"#VALUE!"},1.9394460755897869,2.3599410665372238,4.178999319295313,1.2760000000000001E-4,1.7219,2,3.76611E-4,905,999,1331,1,1,1,1019,1125,1499,438,484,645,0.73068635074014765,0.8914662579201188,1.57952842502794,0.5,19.3,20.399999999999999,34.5,null,6588,null,0.8,null,null,0,10,10.6,21.85,null,1,1,1,1019,1125,1499,null,0,0,0,1]
["34021",null,null,3,40,40.5,21,21.5,0,26,30,48.1,5457.6,10844,11086,16475,"N/A",1,1,1,{"$error":"#VALUE!"},5968,6101,9067,{"$error":"#VALUE!"},1027,1049,1560,{"$error":"#VALUE!"},5.5112944854595565,5.7487413593700554,12.666614088908666,1.2760000000000001E-4,1.7219,4,5.1420100000000005E-4,1468,1501,2231,1,1,1,1653,1690,2513,711,727,1081,2.651640532796729,2.7716534480893436,6.1030248902684265,1.1000000000000001,19.3,20.399999999999999,34.5,null,6822,null,0.8,null,null,0,10,10.6,21.85,null,1,1,1,1653,1690,2513,null,0,0,0,1]
["35011",null,null,3,50,40.5,11,11.5,0,26,30,38.799999999999997,471.24,881.02076921515595,942.75810617769378,1102.4000000000001,"N/A",1,1,1,{"$error":"#VALUE!"},485,519,607,{"$error":"#VALUE!"},83,89,104,{"$error":"#VALUE!"},5.0581449721562158E-2,5.7909532281901183E-2,7.8337473292542523E-2,3.969E-4,1.7345999999999999,4,5.7428799999999995E-4,{"$f":"AK867","v":147.56138863197239},157.90172054122763,184.64,1,1,1,166,178,208,71,77,89,3.7378477580393518E-2,4.3737236851371791E-2,5.7909532281901183E-2,0.7,3.6,4.0999999999999996,5.0999999999999996,null,693,null,0.68,null,null,0,14.2,16.2,21.85,null,1,1,1,166,178,208,null,0,0,0,1]
["35010",null,null,3,50,40.5,10,11.5,0,26,30,40,581.4,841.69225687813923,901.35950941531064,1066.3800000000001,"N/A",1,1,1,{"$error":"#VALUE!"},463,496,587,{"$error":"#VALUE!"},80,85,101,{"$error":"#VALUE!"},2.8579714214582792E-2,3.2164000719768313E-2,4.5023700356358637E-2,3.969E-4,1.7345999999999999,2,3.6734700000000002E-4,{"$f":"AK868","v":116.68990721587436},124.96201154556491,147.84,1,1,1,131,141,166,56,61,71,1.4273569595905599E-2,1.6856751266721096E-2,2.265141135559676E-2,0.3,4.8,5.4,6.8,null,646,null,0.9,null,null,0,13.6,15.6,21.85,null,1,1,1,131,141,166,null,0,0,0,1]
["35015",null,null,3,50,40.5,15,16.5,0,26,30,41.1,832,957.19258357509659,1027.5250511543745,1359.96,"N/A",1,1,1,{"$error":"#VALUE!"},527,565,748,{"$error":"#VALUE!"},91,97,129,{"$error":"#VALUE!"},4.0944812331933665E-2,4.6453341327926473E-2,8.1640780383557099E-2,2.0829999999999999E-4,1.724,2,4.6182900000000003E-4,{"$f":"AK870","v":423.65815696218516},140.26129481477255,185.64,1,1,1,477,158,209,205,68,90,0.2042578754121534,2.3025077633161313E-2,4.0060224873072779E-2,0.5,4.8,5.5,7.2,null,1040,null,0.8,null,null,0,12.3,14.4,21.85,null,1,1,1,477,158,209,null,0,0,0,1]
["35016",null,null,3,50,40.5,16,16.5,0,26,30,41.1,774.5200000000001,1399.7241764138612,1502.5729206967153,1988.7,"N/A",1,1,1,{"$error":"#VALUE!"},770,827,1094,{"$error":"#VALUE!"},132,142,188,{"$error":"#VALUE!"},0.25098833843335722,0.29015344582237829,0.50663880820302065,2.0829999999999999E-4,1.724,4,1.392796E-3,{"$f":"AK871","v":214},230,305,1,1,1,241,259,343,104,111,147,0.15635742887817136,0.17793679206203214,0.31079447051980175,1,4.8,5.5,7.2,null,1139,null,0.68,null,null,0,12.3,14.4,21.85,null,1,1,1,241,259,343,null,0,0,0,1]
["35021",null,null,3,50,40.5,21,21.5,0,26,30,41.1,1239.2,1802.6437228662567,1935.0981352499616,2561.16,"N/A",1,1,1,{"$error":"#VALUE!"},992,1065,1410,{"$error":"#VALUE!"},171,183,243,{"$error":"#VALUE!"},0.15981222050346897,0.18276234298618435,0.32038038319001882,1.2760000000000001E-4,1.7219,4,5.1420100000000005E-4,{"$f":"AK873","v":233.82931859416351},251.01059773412922,332.22,1,1,1,263,283,374,113,122,161,7.0451520676393764E-2,8.1970707928894049E-2,0.14185395296776526,1.3,4.8,5.5,7.2,null,1549,null,0.8,null,null,0,12.3,14.4,21.85,null,1,1,1,263,283,374,null,0,0,0,1]
["35010",null,null,3,50,40.5,10,11.5,0,26,30,41,677.7,1029.7403904507714,1104.2859635902939,1320.28,"N/A",1,1,1,{"$error":"#VALUE!"},567,608,727,{"$error":"#VALUE!"},98,105,125,{"$error":"#VALUE!"},4.2451534061751471E-2,4.8568558283559771E-2,6.8263999670427677E-2,3.969E-4,1.7345999999999999,2,3.6734700000000002E-4,{"$f":"AK874","v":142.7603849699376},153.09517888293954,183.04,1,1,1,161,172,206,69,74,89,2.1425628854501055E-2,2.455261317068002E-2,3.5180588178350597E-2,0.3,5.5,5.9,7.9,null,753,null,0.9,null,null,0,13.2,15.1,21.85,null,1,1,1,161,172,206,null,0,0,0,1]
["35015",null,null,3,50,40.5,15,16.5,0,26,30,41.1,975.82735416996661,1070.8273541699666,1149.5094620994566,1521.41,"N/A",1,1,1,{"$error":"#VALUE!"},589,633,837,{"$f":"ROUND(U974*3600/(4186*ABS($O$1-$O$2)),0)","v":{"$error":"#VALUE!"}},{"$f":"ROUND(V974*3600/(4186*ABS($O$1-$O$2)),0)","v":101},{"$f":"ROUND(W974*3600/(4186*ABS($O$1-$O$2)),0)","v":109},{"$f":"ROUND(X974*3600/(4186*ABS($O$1-$O$2)),0)","v":144},{"$error":"#VALUE!"},5.0317016183772344E-2,5.8503131500158123E-2,0.101495176581089,2.0829999999999999E-4,1.724,2,4.6182900000000003E-4,{"$f":"AK876","v":135.09481491470635},145.02129350758159,191.94,1,1,1,152,163,216,{"$f":"ROUND(AQ974*3600/(4186*ABS($AM$1-$AM$2)),0)","v":65},{"$f":"ROUND(AR974*3600/(4186*ABS($AM$1-$AM$2)),0)","v":70},{"$f":"ROUND(AS974*3600/(4186*ABS($AM$1-$AM$2)),0)","v":93},2.1062280969214673E-2,2.4381702477567675E-2,4.2742708328092759E-2,0.5,5.0999999999999996,5.6,7.2,null,1214,null,0.8,null,null,0,12.3,14.4,21.85,null,1,1,1,152,163,216,null,0,0,0,1]
["35016",null,null,3,50,40.5,16,16.5,0,26,30,41.1,903.72,1627.62717250317,1747.2217424001376,2312.5,"N/A",1,1,1,{"$error":"#VALUE!"},896,962,1273,{"$error":"#VALUE!"},154,165,219,{"$error":"#VALUE!"},0.34087684755517184,0.39094098207603256,0.68614184472357698,2.0829999999999999E-4,1.724,4,1.392796E-3,{"$f":"AK877","v":219.59769851718443},235.73326859625641,312,1,1,1,247,265,351,106,114,151,0.16238147174637194,0.18760945797203377,0.32781515330064936,1,5.0999999999999996,5.6,7.2,null,1329,null,0.68,null,null,0,12.3,14.4,21.85,null,1,1,1,247,265,351,null,0,0,0,1]
["35021",null,null,3,50,40.5,21,21.5,0,26,30,41.1,1445.6000000000001,1977.8291945358951,2123.1558613833213,2810.06,"N/A",1,1,1,{"$error":"#VALUE!"},1088,1168,1546,{"$error":"#VALUE!"},187,201,266,{"$error":"#VALUE!"},0.1907515952221793,0.22004864371768176,0.38321949732736454,1.2760000000000001E-4,1.7219,4,5.1420100000000005E-4,{"$f":"AK879","v":240.30463534531125},257.96170693632649,341.42,1,1,1,271,291,385,117,125,166,7.5464493252361445E-2,8.6002370596826597E-2,0.15070043049126619,1.3,5.0999999999999996,5.6,7.2,null,1807,null,0.8,null,null,0,12.3,14.4,21.85,null,1,1,1,271,291,385,null,0,0,0,1]
["35010",null,null,3,50,40.5,10,11.5,0,26,30,41.8,774.9,1214.2269940407766,1304.1433704057049,1574.18,"N/A",1,1,1,{"$error":"#VALUE!"},668,718,866,{"$error":"#VALUE!"},115,123,149,{"$error":"#VALUE!"},5.8006184387917333E-2,6.614693018965527E-2,9.6216426188476686E-2,3.969E-4,1.7345999999999999,2,3.6734700000000002E-4,{"$f":"AK880","v":168.33710197020613},180.80286190736828,218.24,1,1,1,190,204,246,82,88,106,2.9988545016552074E-2,3.4414024920846102E-2,4.947534473121127E-2,0.3,6.3,6.8,9.1,null,861,null,0.9,null,null,0,12.8,14.7,21.85,null,1,1,1,190,204,246,null,0,0,0,1]
["35015",null,null,3,50,40.5,15,16.5,0,26,30,42.4,1109.6000000000001,1395.33740436932,1496.2563490716184,2007.56,"N/A",1,1,1,{"$error":"#VALUE!"},768,823,1105,{"$error":"#VALUE!"},132,142,190,{"$error":"#VALUE!"},8.5440292707878604E-2,9.8724199614389163E-2,0.17571596215728341,2.0829999999999999E-4,1.724,2,4.6182900000000003E-4,{"$f":"AK882","v":190.46915773046311},204.24499885412456,274.04000000000002,1,1,1,215,230,309,92,99,133,4.18389740080575E-2,4.8366054328645124E-2,8.6725844645140063E-2,0.5,6,6.7,9,null,1387,null,0.8,null,null,0,11.8,13.7,21.85,null,1,1,1,215,230,309,null,0,0,0,{"$f":"IF(SUM(BV980:BX980)=0,1,0)","v":1}]
["35016",null,null,3,50,40.5,16,16.5,0,26,30,42.4,1032.24,2040.4331716148024,2188.0092071816284,2935.7,"N/A",1,1,1,{"$error":"#VALUE!"},1123,1204,1616,{"$error":"#VALUE!"},193,207,278,{"$error":"#VALUE!"},0.53376183532582666,0.61344949221619227,1.1024092789703548,2.0829999999999999E-4,1.724,4,1.392796E-3,{"$f":"AK883","v":312},335,450,1,1,1,351,377,507,151,162,218,0.32781515330064936,0.37694881869532509,0.6799294709839987,1,6,6.7,9,null,1518,null,0.68,null,null,0,11.8,13.7,21.85,null,1,1,1,351,377,507,null,0,0,0,1]
["35021",null,null,3,50,40.5,21,21.5,0,26,30,42.4,1652.8000000000002,2627.7848955664344,2817.8416357747774,3780.76,"N/A",1,1,1,{"$error":"#VALUE!"},1446,1551,2081,{"$error":"#VALUE!"},249,267,358,{"$error":"#VALUE!"},0.33623496085654525,0.38607823917881157,0.69031535960128876,1.2760000000000001E-4,1.7219,4,5.1420100000000005E-4,{"$f":"AK885","v":340.86222571220884},365.51537125251701,490.42,1,1,1,384,412,552,165,177,237,0.14890990640066754,0.17109642672618616,0.30490592172003561,1.3,6,6.7,9,null,2066,null,0.8,null,null,0,11.8,13.7,21.85,null,1,1,1,384,412,552,null,0,0,0,1]
["35010",null,null,3,50,40.5,10,11.5,0,26,30,42.4,871.2,1395.6272192501513,1501.3000140389001,1828.08,"N/A",1,1,1,{"$error":"#VALUE!"},768,826,1006,{"$error":"#VALUE!"},132,142,173,{"$error":"#VALUE!"},7.5931298068448158E-2,8.7578510316806676E-2,0.12885508415490071,3.969E-4,1.7345999999999999,2,3.6734700000000002E-4,{"$f":"AK886","v":193.48593193227777},208.13611852764589,253.44,1,1,1,218,234,285,94,101,123,3.9137424462603425E-2,4.5023700356358637E-2,6.614693018965527E-2,0.3,6.7,7.4,10.3,null,968,null,0.9,null,null,0,12.5,14.7,21.85,null,1,1,1,218,234,285,null,0,0,0,1]
["35015",null,null,3,50,40.5,15,16.5,0,26,30,43.3,1248.8000000000002,1597.9167676946356,1711.9130538160239,2331.36,"N/A",1,1,1,{"$error":"#VALUE!"},879,942,1283,{"$error":"#VALUE!"},151,162,221,{"$error":"#VALUE!"},0.11149318051412467,0.12814532675486259,0.23705094519204692,2.0829999999999999E-4,1.724,2,4.6182900000000003E-4,{"$f":"AK888","v":218.12205414485143},233.68300487544244,318.24,1,1,1,246,263,358,106,113,154,5.5361686489985962E-2,6.2825402834468594E-2,0.11592064741838594,0.5,7,7.7,10.7,null,1561,null,0.8,null,null,0,11.3,13.2,21.85,null,1,1,1,246,263,358,null,0,0,0,1]
["35016",null,null,3,50,40.5,16,16.5,0,26,30,43.3,1161.44,2336.669516687492,2503.3688418217644,3409.2,"N/A",1,1,1,{"$error":"#VALUE!"},1286,1378,1876,{"$error":"#VALUE!"},221,237,323,{"$error":"#VALUE!"},0.69865094715249376,0.80277188698963409,1.4855871839929942,2.0829999999999999E-4,1.724,4,1.392796E-3,{"$f":"AK889","v":357.77938745479025},383.30357134546551,522,1,1,1,403,432,588,173,186,253,0.4294934640216595,0.49598666620068316,0.9140867050433541,1,7,7.7,10.7,null,1708,null,0.68,null,null,0,11.3,13.2,21.85,null,1,1,1,403,432,588,null,0,0,0,1]
[{"$f":"CONCATENATE(D989,E989,G989)","v":"35021"},null,null,3,50,40.5,21,21.5,0,26,30,43.3,1859.2,3009.2947651024979,3223.9795559512399,4390.5600000000004,"N/A",1,1,1,{"$error":"#VALUE!"},1656,1774,2416,{"$error":"#VALUE!"},285,305,416,{"$f":"(($AG989*(Y989^$AH989)*((($F989-14.4)*$AI989)/100))+($AJ989*(Y989^2)))*0.0098","v":{"$error":"#VALUE!"}},{"$f":"(($AG989*(Z989^$AH989)*((($E989-14.4)*$AI989)/100))+($AJ989*(Z989^2)))*0.0098","v":0.43933855653203752},{"$f":"(($AG989*(AA989^$AH989)*((($E989-14.4)*$AI989)/100))+($AJ989*(AA989^2)))*0.0098","v":0.50252101315166198},{"$f":"(($AG989*(AB989^$AH989)*((($E989-14.4)*$AI989)/100))+($AJ989*(AB989^2)))*0.0098","v":0.92965605723231659},1.2760000000000001E-4,1.7219,4,5.1420100000000005E-4,{"$f":"AK891","v":390.34964893343317},418.19741370243202,569.52,1,1,1,440,471,641,189,203,276,{"$f":"(($AG989*(AT989^$AH989)*((($E989-14.4)*$AI989)/100))+($AJ989*(AT989^2)))*0.0098","v":0.19480979492686093},{"$f":"(($AG989*(AU989^$AH989)*((($E989-14.4)*$AI989)/100))+($AJ989*(AU989^2)))*0.0098","v":0.22440333920071082},{"$f":"(($AG989*(AV989^$AH989)*((($E989-14.4)*$AI989)/100))+($AJ989*(AV989^2)))*0.0098","v":0.41228144389042193},1.3,7,7.7,10.7,null,2324,null,0.8,null,null,0,11.3,13.2,21.85,null,1,1,1,440,{"$f":"AR989/BP989","v":471},{"$f":"AS989/BQ989","v":641},null,0,0,0,1]
["35010",null,null,3,50,40.5,10,11.5,0,26,30,43,968.4,1574.3905475253332,1696.1265760133244,2081.98,"N/A",1,1,1,{"$error":"#VALUE!"},866,933,1146,{"$error":"#VALUE!"},149,160,197,{"$error":"#VALUE!"},9.6216426188476686E-2,0.11059546311747542,0.1661589281355097,3.969E-4,1.7345999999999999,2,3.6734700000000002E-4,{"$f":"AK892","v":218.26918973175157},235.14633901405676,288.64,1,1,1,246,265,325,106,114,140,4.947534473121127E-2,5.7025474974446995E-2,8.5183832638702703E-2,0.3,7.8,8.6999999999999993,12.2,null,1076,null,0.9,null,null,0,12.3,14.1,21.85,null,{"$f":"IF((237.3*LN(($AQ$1*EXP(17.27*($AM$3/($AM$3+237.3))))))/(17.27-LN(($AQ$1*EXP(17.27*($AM$3/($AM$3+237.3))))))<(($AM$1+$AM$2)/2),1,IF(1/(1+((2258*((0.622/((101325/(1*611*EXP(17.27*((($AM$1+$AM$2)/2)/((($AM$1+$AM$2)/2)+237.3))))))-1)*1000-(0.622/((101325/($AQ$1*611*EXP(17.27*($AM$3/($AM$3+237.3))))))-1)*1000))/(1005*((($AM$1+$AM$2)/2)-$AM$3))))>1,1,1/(1+((2258*((0.622/((101325/(1*611*EXP(17.27*((($AM$1+$AM$2)/2)/((($AM$1+$AM$2)/2)+237.3))))))-1)*1000-(0.622/((101325/($AQ$1*611*EXP(17.27*($AM$3/($AM$3+237.3))))))-1)*1000))/(1005*((($AM$1+$AM$2)/2)-$AM$3))))))","v":1},1,1,246,265,325,null,0,0,0,1]
["35016",null,null,3,50,40.5,16,16.5,0,26,30,44.1,1290.6400000000001,2630.3871448118639,2816.5633812075234,3882.7,"N/A",1,1,1,{"$error":"#VALUE!"},1448,1550,2137,{"$error":"#VALUE!"},249,267,368,{"$error":"#VALUE!"},0.88558378053471742,1.0173855040492645,1.925537388988942,2.0829999999999999E-4,1.724,4,1.392796E-3,{"$f":"AK895","v":403},431,595,1,1,1,454,485,670,195,209,288,0.54480808909608713,0.62528362005028371,1.1826506238835808,1,7,7.7,10.7,null,1898,null,0.68,null,null,0,10.9,12.8,21.85,null,1,1,1,454,485,670,null,0,0,0,1]
["35020",null,null,3,50,40.5,20,21.5,0,26,30,44.1,1940,2518.7768428703835,2713.5353098724395,3330.84,"N/A",1,1,1,{"$error":"#VALUE!"},1386,1493,1833,{"$error":"#VALUE!"},238,257,315,{"$error":"#VALUE!"},0.22007091536739209,0.25633952434269802,0.38405853596297518,1.2760000000000001E-4,1.7219,2,3.76611E-4,{"$f":"AK896","v":311.2816285378957},335.35074484391049,411.64,1,1,1,351,378,464,151,163,200,8.9183295500180879E-2,0.10379803948862265,0.15579170242019411,0.7,7,7.7,10.7,null,2425,null,0.8,null,null,0,10.9,12.8,21.85,null,1,1,1,351,378,464,null,0,0,0,1]
["35010",null,null,3,50,40.5,10,11.5,0,26,30,43.5,1065.6000000000001,1766.3893947845202,1902.9712804051933,2335.88,"N/A",1,1,1,{"$error":"#VALUE!"},972,1047,1286,{"$error":"#VALUE!"},167,180,221,{"$error":"#VALUE!"},0.12025730349211763,0.13925430415142392,0.20811034089271194,3.969E-4,1.7345999999999999,2,3.6734700000000002E-4,{"$f":"AK898","v":244.88738360147738},263.82272182064906,323.83999999999997,1,1,1,276,297,365,119,128,157,6.2011015990315707E-2,7.1500946954547812E-2,0.10657640884397875,0.3,8.4,9.3000000000000007,14,null,1184,null,0.9,null,null,0,12,13.9,21.85,null,1,1,1,276,297,365,null,0,0,0,1]
["35011",null,null,3,50,40.5,11,11.5,0,26,30,43.5,1037,2396.6961264405954,2582.0149905458411,3169.4,"N/A",1,1,1,{"$error":"#VALUE!"},1319,1421,1744,{"$error":"#VALUE!"},227,244,300,{"$error":"#VALUE!"},0.35764263105439981,0.4117325438077416,0.61622834738091425,3.969E-4,1.7345999999999999,4,5.7428799999999995E-4,{"$f":"AK899","v":401.42051232401269},432.4594048025981,530.84,1,1,1,452,487,598,194,209,257,0.26331990538597583,0.30444375859879691,0.45561080213127936,0.7,8.4,9.3000000000000007,14,null,1525,null,0.68,null,null,0,12,13.9,21.85,null,1,1,1,452,487,598,null,0,0,0,1]
["35016",null,null,3,50,40.5,16,16.5,0,26,30,44.1,1419.8400000000001,2849.7497938679544,3051.4523045945984,4206.5,"N/A",1,1,1,{"$error":"#VALUE!"},1568,1679,2315,{"$error":"#VALUE!"},270,289,398,{"$error":"#VALUE!"},1.0402369503779312,1.1908290948574276,2.2503512023197607,2.0829999999999999E-4,1.724,4,1.392796E-3,{"$f":"AK901","v":407.83296705301524},436.69898665540194,602,1,1,1,459,492,678,197,212,292,0.55596692427537242,0.64324577886725487,1.2155328543374608,{"$f":"ROUND(IF(G999=10,$CO$92*E999,IF(G999=11,$CO$93*E999,IF(G999=15,$CO$94*E999,IF(G999=16,$CO$95*E999,IF(G999=20,$CO$96*E999,IF(G999=21,$CO$97*E999,)))))),1)","v":1},7.9,8.8000000000000007,12.5,null,2088,null,0.68,null,null,0,10.9,12.8,21.85,null,1,1,1,459,492,678,null,0,0,0,1]
["35020",null,null,3,50,40.5,20,21.5,0,26,30,44.1,2134.4,2692.551301713082,2900.746468081386,3560.6400000000003,"N/A",1,1,1,{"$error":"#VALUE!"},1482,1596,1960,{"$error":"#VALUE!"},255,275,337,{"$error":"#VALUE!"},0.25239223746186851,0.29323612039712416,0.43919838533652961,1.2760000000000001E-4,1.7219,2,3.76611E-4,{"$f":"AK902","v":317.17997831584631},341.70517057946222,419.44,1,1,1,357,385,472,154,166,203,9.2733661730742101E-2,0.10762388235803309,0.16046576990645536,0.7,7.9,8.8000000000000007,12.5,null,2668,null,0.8,null,null,0,10.9,12.8,21.85,null,1,1,1,357,385,472,null,0,0,0,1]
["35010",null,null,3,50,40.5,10,11.5,0,26,30,44,1161.9000000000001,1924.9914127028867,2079.6202422788024,2589.7800000000002,"N/A",1,1,1,{"$error":"#VALUE!"},1059,1144,1425,{"$error":"#VALUE!"},182,197,245,{"$error":"#VALUE!"},0.14229833425390079,0.1661589281355097,0.25469424501364962,3.969E-4,1.7345999999999999,2,3.6734700000000002E-4,{"$f":"AK904","v":266.87553260000635},288.31284965818764,359.04,1,1,1,301,325,404,129,140,174,7.2596279315117807E-2,8.5183832638702703E-2,0.13031640151658816,0.3,8.9,9.9,14.8,null,1291,null,0.9,null,null,0,11.8,13.7,21.85,null,1,1,1,301,325,404,null,0,0,0,1]
["35011",null,null,3,50,40.5,11,11.5,0,26,30,44,1130.8400000000001,2611.8926414972211,2821.6982019103875,3513.9,"N/A",1,1,1,{"$error":"#VALUE!"},1437,1553,1934,{"$error":"#VALUE!"},247,267,333,{"$error":"#VALUE!"},0.42166498346517917,0.49084406666281616,0.75556251719787515,3.969E-4,1.7345999999999999,4,5.7428799999999995E-4,{"$f":"AK905","v":437},473,589,1,1,1,492,533,663,212,229,285,0.31301884254146045,0.3638124027946455,0.55750314599864048,0.7,8.9,9.9,14.8,null,1663,null,0.68,null,null,0,11.8,13.7,21.85,null,1,1,1,492,533,663,null,0,0,0,1]
["35016",null,null,3,50,40.5,16,16.5,0,26,30,44.8,1549.0400000000002,3241.8333772189817,3471.5459677567114,4829.7,"N/A",1,1,1,{"$error":"#VALUE!"},1784,1911,2658,{"$error":"#VALUE!"},307,329,457,{"$error":"#VALUE!"},1.3428388424979105,1.5409682818609234,2.9626386542421903,2.0829999999999999E-4,1.724,4,1.392796E-3,{"$f":"AK907","v":496},532,740,1,1,1,559,599,833,240,258,358,0.82309555916661303,0.95034730391565514,1.8228672765058258,1,8.6999999999999993,9.8000000000000007,14.3,null,2278,null,0.68,null,null,0,10.6,12.5,21.85,null,1,1,1,559,599,833,null,0,0,0,1]
["35020",null,null,3,50,40.5,20,21.5,0,26,30,44.8,2328,3079.6829926739365,3327.0647594078355,4143.24,"N/A",1,1,1,{"$error":"#VALUE!"},1695,1831,2280,{"$error":"#VALUE!"},292,315,392,{"$error":"#VALUE!"},0.33034800378027102,0.38405853596297518,0.59313898202435134,1.2760000000000001E-4,1.7219,2,3.76611E-4,{"$f":"AK908","v":380.60090160569081},411.17343900116532,512.04,1,1,1,429,463,577,184,199,248,0.13202412573774117,0.1542489497804331,0.23881673280914789,0.7,8.6999999999999993,9.8000000000000007,14.3,null,2910,null,0.8,null,null,0,10.6,12.5,21.85,null,1,1,1,429,463,577,null,0,0,0,1]
["35010",null,null,3,50,40.5,10,11.5,0,26,30,44.8,1355.4,2267.7915432376717,2456.1428225151312,3097.58,"N/A",1,1,1,{"$error":"#VALUE!"},1248,1352,1705,{"$error":"#VALUE!"},215,233,293,{"$error":"#VALUE!"},0.1971876397647413,0.23082409221351549,0.36170855696982701,3.969E-4,1.7345999999999999,2,3.6734700000000002E-4,{"$f":"AK910","v":314.40040300104783},340.51290804463417,429.44,1,1,1,354,383,484,152,165,208,0.10004045114032561,0.11745621946064604,0.18481070827298918,0.3,10.1,11.2,17.5,null,1506,null,0.9,null,null,0,11.5,13.3,21.85,null,1,1,1,354,383,484,null,0,0,0,1]
["35011",null,null,3,50,40.5,11,11.5,0,26,30,44.8,1319.2,3077.015307780141,3332.5766142436496,4202.8999999999996,"N/A",1,1,1,{"$error":"#VALUE!"},1693,1834,2313,{"$error":"#VALUE!"},291,315,398,{"$error":"#VALUE!"},0.58064707307058816,0.67783566302033271,1.0706337411510787,3.969E-4,1.7345999999999999,4,5.7428799999999995E-4,{"$f":"AK911","v":515},558,704,1,1,1,580,628,793,249,270,341,0.42835107049060483,0.50166485197172994,0.79143596625669854,0.7,10.1,11.2,17.5,null,1940,null,0.68,null,null,0,11.5,13.3,21.85,null,1,1,1,580,628,793,null,0,0,0,1]
["35016",null,null,3,50,40.5,16,16.5,0,26,30,45.4,1806.7600000000002,3844.4231409656436,4117.1080284867467,5776.7,"N/A",1,1,1,{"$error":"#VALUE!"},2116,2266,3179,{"$error":"#VALUE!"},364,390,547,{"$error":"#VALUE!"},1.8841332029707789,2.1612701584047112,4.2366801288465794,2.0829999999999999E-4,1.724,4,1.392796E-3,{"$f":"AK913","v":589},630,885,1,1,1,663,709,997,285,305,429,1.1582835676971091,1.3255000666138443,2.6124604684441883,1,9.6,10.5,16.100000000000001,null,2657,null,0.68,null,null,0,10.4,12.2,21.85,null,1,1,1,663,709,997,null,0,0,0,1]
["35020",null,null,3,50,40.5,20,21.5,0,26,30,45.4,2716,3628.1091959950468,3929.4415695377957,4955.6400000000003,"N/A",1,1,1,{"$error":"#VALUE!"},1997,2163,2727,{"$error":"#VALUE!"},343,372,469,{"$error":"#VALUE!"},0.4548750855693664,0.53450205086206759,0.84723312496806091,1.2760000000000001E-4,1.7219,2,3.76611E-4,{"$f":"AK914","v":448.37784746172167},485.61784045001809,612.44000000000005,1,1,1,505,547,690,217,235,297,0.18318639684288138,0.21459580960785987,0.34168185308747612,0.7,9.6,10.5,16.100000000000001,null,3395,null,0.8,null,null,0,10.4,12.2,21.85,null,1,1,1,505,547,690,null,0,0,0,1]
["35010",null,null,3,50,40.5,10,11.5,0,26,30,45.5,1549.8,2603.9362232520607,2826.6988006529018,3605.38,"N/A",1,1,1,{"$error":"#VALUE!"},1433,1556,1984,{"$error":"#VALUE!"},246,268,341,{"$error":"#VALUE!"},0.25673557271377639,0.3036719722340302,0.48711361654974933,3.969E-4,1.7345999999999999,2,3.6734700000000002E-4,{"$f":"AK916","v":361.00257998610687},391.88577307200529,499.84,1,1,1,407,441,563,175,190,242,0.13178581630013939,0.15479782387516877,0.24861838253057297,0.3,11,12.4,19.2,null,1722,null,0.9,null,null,0,11.2,13,21.85,null,1,1,1,407,441,563,null,0,0,0,1]
["35011",null,null,3,50,40.5,11,11.5,0,26,30,45.5,1508.24,3533.107636511756,3835.359341571188,4891.8999999999996,"N/A",1,1,1,{"$error":"#VALUE!"},1944,2111,2692,{"$error":"#VALUE!"},334,363,463,{"$error":"#VALUE!"},0.760002026874535,0.89429612658820368,1.4393544768153193,3.969E-4,1.7345999999999999,4,5.7428799999999995E-4,{"$f":"AK917","v":592},642,819,1,1,1,667,723,922,287,311,396,0.5651664815753582,0.66112549788726427,1.0601379017040249,0.7,11,12.4,19.2,null,2218,null,0.68,null,null,0,11.2,13,21.85,null,1,1,1,667,723,922,null,0,0,0,1]
["35016",null,null,3,50,40.5,16,16.5,0,26,30,46.4,2065.1600000000003,4417.9368883555589,4716.8848144627045,6723.7,"N/A",1,1,1,{"$error":"#VALUE!"},2431,2596,3700,{"$error":"#VALUE!"},418,447,636,{"$error":"#VALUE!"},2.4808916139265644,2.8350574242627395,5.7190916530697056,2.0829999999999999E-4,1.724,4,1.392796E-3,{"$f":"AK919","v":676},722,1030,1,1,1,761,813,1160,327,350,499,1.5223957831049331,1.7427482168106456,3.5290163267473011,1,11.5,12.8,19.600000000000001,null,3037,null,0.68,null,null,0,10,11.8,21.85,null,1,1,1,761,813,1160,null,0,0,0,1]
["35020",null,null,3,50,40.5,20,21.5,0,26,30,46.4,3104,4165.887726998767,4522.2727563025155,5768.04,"N/A",1,1,1,{"$error":"#VALUE!"},2293,2489,3174,{"$error":"#VALUE!"},394,428,546,{"$error":"#VALUE!"},0.59916971653243023,0.70633730997358934,1.1462798161372405,1.2760000000000001E-4,1.7219,2,3.76611E-4,{"$f":"AK920","v":514.83890668473202},558.88255136973487,712.84,1,1,1,580,629,803,249,270,345,0.24073323143117262,0.28273956186675986,0.4601614529075676,0.7,11.5,12.8,19.600000000000001,null,3880,null,0.8,null,null,0,10,11.8,21.85,null,1,1,1,580,629,803,null,0,0,0,1]
["35010",null,null,3,50,40.5,10,11.5,0,26,30,46,1743.3,2970.6878039917879,3224.8253922941558,4113.18,"N/A",1,1,1,{"$error":"#VALUE!"},1635,1775,2264,{"$error":"#VALUE!"},281,305,389,{"$error":"#VALUE!"},0.33322773580351817,0.39133872005663617,0.63083796789335922,3.969E-4,1.7345999999999999,2,3.6734700000000002E-4,{"$f":"AK922","v":411.84801378696699},447.08095237792156,570.24,1,1,1,464,503,642,200,216,276,0.17114902157440642,0.19898797496730053,0.32170023886042692,0.3,12.2,13.7,22,null,1937,null,0.9,null,null,0,10.9,12.7,21.85,null,1,1,1,464,503,642,null,0,0,0,1]
["35011",null,null,3,50,40.5,11,11.5,0,26,30,46,1696.6000000000001,4030.7284303866513,4375.55079813051,5580.9,"N/A",1,1,1,{"$error":"#VALUE!"},2218,2408,3071,{"$error":"#VALUE!"},382,414,528,{"$error":"#VALUE!"},0.98808974674500472,1.1564281910301673,1.8614838035196497,3.969E-4,1.7345999999999999,4,5.7428799999999995E-4,{"$f":"AK923","v":675.10313623602258},732.85712932403612,934.74,1,1,1,760,825,1053,327,355,453,0.72919360554721357,0.85617878513149337,1.3791464023722557,0.7,12.2,13.7,22,null,2495,null,0.68,null,null,0,10.9,12.7,21.85,null,1,1,1,760,825,1053,null,0,0,0,1]
["35016",null,null,3,50,40.5,16,16.5,0,26,30,46.4,2322.88,4843.4549704976926,5171.1963699821436,7371.3,"N/A",1,1,1,{"$error":"#VALUE!"},2666,2846,4057,{"$error":"#VALUE!"},459,490,698,{"$error":"#VALUE!"},2.9884905294408206,3.4034978765659334,6.8824405053917381,2.0829999999999999E-4,1.724,4,1.392796E-3,{"$f":"AK925","v":686.3088894339993},732.7492584003295,1044.5,1,1,1,773,825,1176,332,355,506,1.5690372650962776,1.7926125038438248,3.6282071121175972,1,11.5,12.8,19.600000000000001,null,3416,null,0.68,null,null,0,10,11.8,21.85,null,1,1,1,773,825,1176,null,0,0,0,1]
["35020",null,null,3,50,40.5,20,21.5,0,26,30,46.4,3492,4497.8275192555193,4882.6094666576164,6227.64,"N/A",1,1,1,{"$error":"#VALUE!"},2475,2687,3427,{"$error":"#VALUE!"},426,462,589,{"$error":"#VALUE!"},0.6997905036048051,0.82227529311213776,1.3328222903674887,1.2760000000000001E-4,1.7219,2,3.76611E-4,{"$f":"AK926","v":526.1057925837863},571.11330132956857,728.44,1,1,1,592,643,{"$f":"ROUND(AM1024*POWER(CF_cool,AP1024),0)","v":820},255,276,353,0.25239223746186851,0.29535827405561094,0.48161088768475835,0.7,11.5,12.8,19.600000000000001,null,4365,null,0.8,null,null,0,10,11.8,21.85,null,1,1,1,592,643,820,null,0,0,0,1]
["35010",null,null,3,50,40.5,10,11.5,0,26,30,46.5,1936.8,3259.5785648750903,3552.8677924068675,4620.9799999999996,"N/A",1,1,1,{"$error":"#VALUE!"},1794,1955,2543,{"$error":"#VALUE!"},309,336,437,{"$error":"#VALUE!"},0.40147064249410369,0.47319473030229497,0.79282195485183327,3.969E-4,1.7345999999999999,2,3.6734700000000002E-4,{"$f":"AK928","v":451.89903695786995},492.55985148767917,640.64,1,1,1,509,555,721,219,239,310,0.20443726066252749,0.24261471981112742,0.40402355115064859,0.3,13.4,14.8,24,null,2152,null,0.9,null,null,0,10.7,12.5,21.85,null,1,1,1,509,555,721,null,0,0,0,1]
["35011",null,null,3,50,40.5,11,11.5,0,26,30,46.5,1884.96,4422.7050634086982,4820.649682883678,6269.9,"N/A",1,1,1,{"$error":"#VALUE!"},2434,2653,3451,{"$error":"#VALUE!"},419,456,594,{"$error":"#VALUE!"},1.1839049417549063,1.3970760537189189,2.3445480076123828,3.969E-4,1.7345999999999999,4,5.7428799999999995E-4,{"$f":"AK929","v":741},807,1050,1,1,1,835,909,1182,359,391,508,0.87513555972477619,1.034120551797957,1.725922110114833,0.7,13.4,14.8,24,null,2772,null,0.68,null,null,0,10.7,12.5,21.85,null,1,1,1,835,909,1182,null,0,0,0,1]
["35016",null,null,3,50,40.5,16,16.5,0,26,30,47.1,2581.2800000000002,5667.1755761695722,5971.3549398587584,8617.7000000000007,"N/A",1,1,1,{"$error":"#VALUE!"},3119,3286,4743,{"$error":"#VALUE!"},536,565,816,{"$error":"#VALUE!"},4.0688209501089174,4.5186497904886807,9.3927493995564433,2.0829999999999999E-4,1.724,4,1.392796E-3,{"$f":"AK931","v":868},914,1320,1,1,1,978,1029,1487,421,442,639,2.5164382375961818,2.7723157378213386,5.7729132139982005,1,13.2,14.7,23.5,null,3796,null,0.68,null,null,0,10,11.4,21.85,null,1,1,1,978,1029,1487,null,0,0,0,1]
["35020",null,null,3,50,40.5,20,21.5,0,26,30,47.1,3880,5214.8121821672385,5684.028740747025,7392.84,"N/A",1,1,1,{"$error":"#VALUE!"},2870,3128,4069,{"$error":"#VALUE!"},494,538,700,{"$error":"#VALUE!"},0.93940061871789404,1.1131189797379286,1.8790415520432036,1.2760000000000001E-4,1.7219,2,3.76611E-4,{"$f":"AK932","v":644.46964929787134},702.45751547390614,913.64,1,1,1,726,791,1029,312,340,442,0.37682460979463789,0.44700253378290578,0.75301461747826526,0.7,13.2,14.7,23.5,null,4850,null,0.8,null,null,0,10,11.4,21.85,null,1,1,1,726,791,1029,null,0,0,0,1]
["35010",null,null,3,50,40.5,10,11.5,0,26,30,46.9,2130.3000000000002,3560.7045070849035,3890.5075371280445,5128.78,"N/A",1,1,1,{"$error":"#VALUE!"},1960,2141,2823,{"$error":"#VALUE!"},337,368,486,{"$error":"#VALUE!"},0.47596260269776075,0.56570848457330913,0.97696193790394503,3.969E-4,1.7345999999999999,2,3.6734700000000002E-4,{"$f":"AK934","v":493.64631212835212},539.36930014536108,711.04,1,1,1,556,607,801,239,261,344,0.24261471981112742,0.28831723771343831,0.49556036097173251,0.3,13.4,14.8,24,null,2367,null,0.9,null,null,0,10.5,12.3,21.85,null,1,1,1,556,607,801,null,0,0,0,1]
["35011",null,null,3,50,40.5,11,11.5,0,26,30,46.9,2073.3200000000002,4831.2827990970827,5278.770565343093,6958.9,"N/A",1,1,1,{"$error":"#VALUE!"},2659,2905,3830,{"$error":"#VALUE!"},457,500,659,{"$error":"#VALUE!"},1.4030778971040876,1.6731090673137174,2.8737348188810903,3.969E-4,1.7345999999999999,4,5.7428799999999995E-4,{"$f":"AK935","v":809.18727868766814},884.1366084769129,1165.54,1,1,1,911,996,1313,392,428,565,1.0392986180364576,1.2341617005150827,2.125548263228676,0.7,13.4,14.8,24,null,3049,null,0.68,null,null,0,10.5,12.3,21.85,null,1,1,1,911,996,1313,null,0,0,0,1]
["35020",null,null,3,50,40.5,20,21.5,0,26,30,47.8,4268,5696.5662496175182,6224.1991397456159,8205.24,"N/A",1,1,1,{"$error":"#VALUE!"},3135,3425,4516,{"$error":"#VALUE!"},539,589,777,{"$error":"#VALUE!"},1.1172375757835222,1.3328222903674887,2.3126803858122349,1.2760000000000001E-4,1.7219,2,3.76611E-4,{"$f":"AK938","v":704.00695650122941},769.21417236639559,1014.04,1,1,1,793,866,1142,341,372,491,0.44961911757899953,0.53450205086206759,0.92809038496658691,0.7,15.5,16.8,27.5,null,5335,null,0.8,null,null,0,10,11.1,21.85,null,1,1,1,793,866,1142,null,0,0,0,1]
["35021",null,null,3,50,40.5,21,21.5,0,26,30,47.8,4544,8102.8384881891643,8440.3982243391856,12317.96,"N/A",1,1,1,{"$error":"#VALUE!"},4459,4645,6779,{"$error":"#VALUE!"},767,799,1166,{"$error":"#VALUE!"},3.1296523466670236,3.3942185149990061,7.1907643769357685,1.2760000000000001E-4,1.7219,4,5.1420100000000005E-4,{"$f":"AK939","v":1051.0569439418873},1094.8433905300585,1597.82,1,1,1,1184,1233,1799,509,530,774,1.3870768897421053,1.5029039895342555,3.1866139468296719,1.3,15.5,16.8,27.5,null,5680,null,0.8,null,null,0,10,11.1,21.85,null,1,1,1,1184,1233,1799,null,0,0,0,1]
["35011",null,null,3,50,40.5,11,11.5,0,26,30,47.2,2261.6800000000003,5237.9452617275747,5738.028861571599,7647.9,"N/A",1,1,1,{"$error":"#VALUE!"},2883,3158,4209,{"$error":"#VALUE!"},496,543,724,{"$error":"#VALUE!"},1.6470052197013294,1.9664610121374413,3.4558053921060803,3.969E-4,1.7345999999999999,4,5.7428799999999995E-4,{"$f":"AK941","v":877},961,1281,1,1,1,988,1082,1443,425,465,620,1.2172953903062689,1.4515478011118261,2.5498675739423886,0.7,14.8,16.600000000000001,28,null,3326,null,0.68,null,null,0,10.4,12.2,21.85,null,1,1,1,988,1082,1443,null,0,0,0,1]
["35015",null,null,3,50,40.5,15,16.5,0,26,30,48.1,3329.6000000000004,4729.715265656896,4901.7743245246338,7188.36,"N/A",1,1,1,{"$error":"#VALUE!"},2603,2698,3956,{"$error":"#VALUE!"},448,464,680,{"$error":"#VALUE!"},0.96247126133555416,1.0318874975356527,2.2038685864090306,2.0829999999999999E-4,1.724,2,4.6182900000000003E-4,{"$f":"AK942","v":645.62512273636446},669.11187505864359,981.24,1,1,1,727,754,1105,313,324,475,0.47255531705345388,0.5060573108360954,1.0810048908552929,0.5,16.399999999999999,17.7,29.7,null,4162,null,0.8,null,null,0,10,10.9,21.85,null,1,1,1,727,754,1105,null,0,0,0,1]
["35020",null,null,3,50,40.5,20,21.5,0,26,30,48.1,4656,6176.0620183272586,6765.7106634844222,9017.64,"N/A",1,1,1,{"$error":"#VALUE!"},3399,3723,4963,{"$error":"#VALUE!"},585,640,854,{"$error":"#VALUE!"},1.3148789805579368,1.5722136298044704,2.7911157357122991,1.2760000000000001E-4,1.7219,2,3.76611E-4,{"$f":"AK944","v":763.26517311676128},836.13657141043336,1114.44,1,1,1,860,942,1255,370,405,540,0.52880542628494576,0.63288152299390588,1.1213637458852972,0.7,16.399999999999999,17.7,29.7,null,5820,null,0.8,null,null,0,10,10.9,21.85,null,1,1,1,860,942,1255,null,0,0,0,1]
["35021",null,null,3,50,40.5,21,21.5,0,26,30,48.1,4957.6000000000004,8907.2895892451361,9231.3217513746804,13537.56,"N/A",1,1,1,{"$error":"#VALUE!"},4902,5080,7450,{"$error":"#VALUE!"},843,874,1281,{"$error":"#VALUE!"},3.7754241302904257,4.0561126514254919,8.6685432188628617,1.2760000000000001E-4,1.7219,4,5.1420100000000005E-4,{"$f":"AK945","v":1155.4060454399644},1197.4377673560793,1756.02,1,1,1,1301,1349,1978,559,580,851,1.6704425291085792,1.7972550143142052,3.8469015286795298,1.3,16.399999999999999,17.7,29.7,null,6197,null,0.8,null,null,0,10,10.9,21.85,null,1,1,1,1301,1349,1978,null,0,0,0,1]
["35011",null,null,3,50,40.5,11,11.5,0,26,30,47.8,2450.7200000000003,5669.0920000000006,6252.6749999999993,8336.9,"N/A",1,1,1,{"$error":"#VALUE!"},3120,3441,4588,{"$error":"#VALUE!"},537,592,789,{"$error":"#VALUE!"},1.9241302642905427,2.3291055157701974,4.0906281389321384,3.969E-4,1.7345999999999999,4,5.7428799999999995E-4,{"$f":"AK947","v":949.51120000000003},1047.2549999999999,1396.34,1,1,1,1069,1179,1573,460,507,676,1.42115929475893,1.7192763490127385,3.0208674027595199,0.7,16.2,18.600000000000001,31.4,null,3604,null,0.68,null,null,0,10.199999999999999,11.9,21.85,null,1,1,1,1069,1179,1573,null,0,0,0,1]
["35015",null,null,3,50,40.5,15,16.5,0,26,30,48.1,3606.4,4942.1733310961072,5121.9619484404784,7511.2599999999993,"N/A",1,1,1,{"$error":"#VALUE!"},2720,2819,4134,{"$error":"#VALUE!"},468,485,711,{"$error":"#VALUE!"},1.0496169908388007,1.1266422789794759,2.4079047760825287,2.0829999999999999E-4,1.724,2,4.6182900000000003E-4,{"$f":"AK948","v":653.91552727192982},677.70396216321694,993.84,1,1,1,736,763,1119,316,328,481,0.48157916299021247,0.51852246949904768,1.1082747410672107,0.5,16.399999999999999,17.7,29.7,null,4508,null,0.8,null,null,0,10,10.9,21.85,null,1,1,1,736,763,1119,null,0,0,0,1]
["35020",null,null,3,50,40.5,20,21.5,0,26,30,48.1,5044,6444.5232000000005,7107.93,9477.24,"N/A",1,1,1,{"$error":"#VALUE!"},3547,3912,5216,{"$error":"#VALUE!"},610,673,897,{"$error":"#VALUE!"},1.4290114950127781,1.7375998080752715,3.0777770188731517,1.2760000000000001E-4,1.7219,2,3.76611E-4,{"$f":"AK950","v":768.42720000000008},847.53,1130.04,1,1,1,865,954,1273,372,410,547,0.53450205086206759,0.64850868220280911,1.1504590018679142,0.7,16.399999999999999,17.7,29.7,null,6305,null,0.8,null,null,0,10,10.9,21.85,null,1,1,1,865,954,1273,null,0,0,0,1]
["35021",null,null,3,50,40.5,21,21.5,0,26,30,48.1,5370.4000000000005,9234.8263652613623,9570.7750567366256,14035.359999999999,"N/A",1,1,1,{"$error":"#VALUE!"},5082,5267,7724,{"$error":"#VALUE!"},874,906,1329,{"$error":"#VALUE!"},4.0561126514254919,4.3563538172301879,9.3259714364779978,1.2760000000000001E-4,1.7219,4,5.1420100000000005E-4,{"$f":"AK951","v":1167.5126679363457},1209.9849719689844,1774.42,1,1,1,1315,1363,1998,565,586,859,1.70620406966261,1.8343341252043579,3.9190456397874232,1.3,16.399999999999999,17.7,29.7,null,6713,null,0.8,null,null,0,10,10.9,21.85,null,1,1,1,1315,1363,1998,null,0,0,0,1]
["35011",null,null,3,50,40.5,11,11.5,0,26,30,47.8,2639.0800000000004,5976.8600000000006,6598.9760720588583,8789.5,"N/A",1,1,1,{"$error":"#VALUE!"},3289,3632,4837,{"$error":"#VALUE!"},566,625,832,{"$error":"#VALUE!"},2.132924096518642,2.5903240326110466,4.5395219074303137,3.969E-4,1.7345999999999999,4,5.7428799999999995E-4,{"$f":"AK953","v":956},1056,1406,1,1,1,1077,1189,1583,463,511,681,1.4393544768153193,1.7459350305567238,3.0648297429601326,0.7,16.2,18.600000000000001,31.4,null,3881,null,0.68,null,null,0,10.199999999999999,11.9,21.85,null,1,1,1,1077,1189,1583,null,0,0,0,1]
["35015",null,null,3,50,40.5,15,16.5,0,26,30,48.9,{"$f":"IF($N1052-($BE1052*$BG1052)>100,$BE1052*$BG1052,$N1052-95)","v":3884},5583.9635634029,5708.9475468201636,8483.56,"N/A",1,1,1,{"$f":"ROUND(M1052*POWER(CF_heat,Q1052),0)","v":{"$error":"#VALUE!"}},{"$f":"ROUND(N1052*POWER(CF_heat,R1052),0)","v":3073},{"$f":"ROUND(O1052*POWER(CF_heat,S1052),0)","v":3142},{"$f":"ROUND(P1052*POWER(CF_heat,T1052),0)","v":4669},{"$error":"#VALUE!"},529,540,803,{"$error":"#VALUE!"},1.3385889769886199,1.3944116228585968,3.0663100539172023,{"$f":"IF($G1052=$CO$103,CP$103,IF($G1052=$CO$104,CP$104,IF($G1052=$CO$105,CP$105,IF($G1052=$CO$107,CP$107,IF($G1052=$CO$108,CP$108,IF($G1052=$CO$109,CP$109,IF($G1052=$CO$111,CP$111,IF($G1052=$CO$112,CP$112,IF($G1052=$CO$113,CP$113,IF($G1052=$CO$115,CP$115,IF($G1052=$CO$116,CP$116,IF($G1052=$CO$117,CP$117,IF($G1052=$CO$119,CP$119,IF($G1052=$CO$120,CP$120,))))))))))))))","v":2.0829999999999999E-4},{"$f":"IF($G1052=$CO$103,CQ$103,IF($G1052=$CO$104,CQ$104,IF($G1052=$CO$105,CQ$105,IF($G1052=$CO$107,CQ$107,IF($G1052=$CO$108,CQ$108,IF($G1052=$CO$109,CQ$109,IF($G1052=$CO$111,CQ$111,IF($G1052=$CO$112,CQ$112,IF($G1052=$CO$113,CQ$113,IF($G1052=$CO$115,CQ$115,IF($G1052=$CO$116,CQ$116,IF($G1052=$CO$117,CQ$117,IF($G1052=$CO$119,CQ$119,IF($G1052=$CO$120,CQ$120,))))))))))))))","v":1.724},{"$f":"IF($G1052=$CO$103,CR$103,IF($G1052=$CO$104,CR$104,IF($G1052=$CO$105,CR$105,IF($G1052=$CO$107,CR$107,IF($G1052=$CO$108,CR$108,IF($G1052=$CO$109,CR$109,IF($G1052=$CO$111,CR$111,IF($G1052=$CO$112,CR$112,IF($G1052=$CO$113,CR$113,IF($G1052=$CO$115,CR$115,IF($G1052=$CO$116,CR$116,IF($G1052=$CO$117,CR$117,IF($G1052=$CO$119,CR$119,IF($G1052=$CO$120,CR$120,))))))))))))))","v":2},{"$f":"IF($G1052=$CO$103,CS$103,IF($G1052=$CO$104,CS$104,IF($G1052=$CO$105,CS$105,IF($G1052=$CO$107,CS$107,IF($G1052=$CO$108,CS$108,IF($G1052=$CO$109,CS$109,IF($G1052=$CO$111,CS$111,IF($G1052=$CO$112,CS$112,IF($G1052=$CO$113,CS$113,IF($G1052=$CO$115,CS$115,IF($G1052=$CO$116,CS$116,IF($G1052=$CO$117,CS$117,IF($G1052=$CO$119,CS$119,IF($G1052=$CO$120,CS$120,))))))))))))))","v":4.6182900000000003E-4},{"$f":"AK954","v":762.23344503523219},779.29426056038062,1158.04,1,1,1,{"$f":"ROUND(AK1052*POWER(CF_cool,AN1052),0)","v":858},878,1304,369,378,561,0.6549755637986,0.68704587500546821,1.5041307370183896,0.5,19.3,20.399999999999999,34.5,null,4855,null,{"$f":"IF(G1052=10,0.9,IF(G1052=11,0.68,IF(G1052=15,0.8,IF(G1052=16,0.68,IF(G1052=20,0.8,IF(G1052=21,0.8))))))","v":0.8},null,null,0,10,10.6,21.85,null,1,1,1,{"$f":"AQ1052/BO1052","v":858},878,1304,null,{"$f":"BR1052-AQ1052","v":0},{"$f":"BS1052-AR1052","v":0},{"$f":"BT1052-AS1052","v":0},1]
["35020",null,null,3,50,40.5,20,21.5,0,26,30,48.9,5432,7236.8592000000008,7990.1253664397382,10642.44,"N/A",1,1,1,{"$error":"#VALUE!"},3983,4397,5857,{"$error":"#VALUE!"},685,756,1007,{"$error":"#VALUE!"},1.7997822638712575,2.189971412136813,3.8746090616615922,1.2760000000000001E-4,1.7219,2,3.76611E-4,{"$f":"AK956","v":894.36320000000012},987.455178225689,1315.24,1,1,1,1007,1112,1481,433,478,637,0.72283709264074802,0.87986763906181664,1.5575869945719987,0.7,19.3,20.399999999999999,34.5,null,6790,null,0.8,null,null,0,10,10.6,21.85,null,{"$f":"IF((237.3*LN(($AQ$1*EXP(17.27*($AM$3/($AM$3+237.3))))))/(17.27-LN(($AQ$1*EXP(17.27*($AM$3/($AM$3+237.3))))))<(($AM$1+$AM$2)/2),1,IF(1/(1+((2258*((0.622/((101325/(1*611*EXP(17.27*((($AM$1+$AM$2)/2)/((($AM$1+$AM$2)/2)+237.3))))))-1)*1000-(0.622/((101325/($AQ$1*611*EXP(17.27*($AM$3/($AM$3+237.3))))))-1)*1000))/(1005*((($AM$1+$AM$2)/2)-$AM$3))))>1,1,1/(1+((2258*((0.622/((101325/(1*611*EXP(17.27*((($AM$1+$AM$2)/2)/((($AM$1+$AM$2)/2)+237.3))))))-1)*1000-(0.622/((101325/($AQ$1*611*EXP(17.27*($AM$3/($AM$3+237.3))))))-1)*1000))/(1005*((($AM$1+$AM$2)/2)-$AM$3))))))","v":1},1,1,1007,1112,1481,null,0,0,0,1]
["35021",null,null,3,50,40.5,21,21.5,0,26,30,48.1,5784,10516.06232539558,10751.439821034392,15976.76,"N/A",1,1,1,{"$error":"#VALUE!"},5787,5917,8793,{"$error":"#VALUE!"},995,1018,1512,{"$error":"#VALUE!"},5.247450366395265,5.491135412407866,12.051711142886694,1.2760000000000001E-4,1.7219,4,5.1420100000000005E-4,{"$f":"AK957","v":1261.7808956926551},1290.0229142432502,1916.9885000000002,1,1,1,1421,1453,2159,611,625,928,1.9928810895608433,2.0845204425894801,4.5689542766968234,1.3,19.3,20.399999999999999,34.5,null,7230,null,0.8,null,null,0,10,10.6,21.85,null,1,1,1,1421,1453,2159,null,0,0,0,1]
["35011",null,null,3,50,40.5,11,11.5,0,26,30,47.8,2827.44,6285,6939,9242,"N/A",1,1,1,{"$error":"#VALUE!"},3459,3819,5086,{"$error":"#VALUE!"},595,657,875,{"$error":"#VALUE!"},2.3522880814408169,2.8566628692321769,5.0114190710737461,3.969E-4,1.7345999999999999,4,5.7428799999999995E-4,{"$f":"AK959","v":963},1063,1416,1,1,1,1085,1197,1595,467,515,686,1.4637916803579651,1.7727953849326221,3.1091047228295445,0.7,16.2,18.600000000000001,31.4,null,4158,null,0.68,null,null,0,10.199999999999999,11.9,21.85,null,1,1,1,1085,1197,1595,null,0,0,0,1]
["35015",null,null,3,50,40.5,15,16.5,0,26,30,48.9,4161.6000000000004,5796,5926,8806,"N/A",1,1,1,{"$error":"#VALUE!"},3190,3261,4846,{"$error":"#VALUE!"},549,561,834,{"$error":"#VALUE!"},1.4409281321549072,1.5041307370183896,3.3059713606151733,2.0829999999999999E-4,1.724,2,4.6182900000000003E-4,{"$f":"AK960","v":771},788,1171,1,1,1,868,887,1319,373,381,567,0.66913497882776463,0.69790526818004539,1.5362379308629139,0.5,19.3,20.399999999999999,34.5,null,5202,null,0.8,null,null,0,10,10.6,21.85,null,1,1,1,868,887,1319,null,0,0,0,1]
["35020",null,null,3,50,40.5,20,21.5,0,26,30,48.9,5820,7549,8335,11102,"N/A",1,1,1,{"$error":"#VALUE!"},4155,4587,6110,{"$error":"#VALUE!"},715,789,1051,{"$error":"#VALUE!"},1.9600019672049378,2.3842958143862178,4.2189022195404355,1.2760000000000001E-4,1.7219,2,3.76611E-4,{"$f":"AK962","v":905},999,1331,1,1,1,1019,1125,1499,438,484,645,0.73952652887958037,0.90196511379641531,1.5967426557048698,0.7,19.3,20.399999999999999,34.5,null,7275,null,0.8,null,null,0,10,10.6,21.85,null,1,1,1,1019,1125,1499,null,0,0,0,1]
["35021",null,null,3,50,40.5,21,21.5,0,26,30,48.1,6196.8,10844,11086,16475,"N/A",1,1,1,{"$error":"#VALUE!"},5968,6101,9067,{"$error":"#VALUE!"},1027,1049,1560,{"$error":"#VALUE!"},5.5879882204108675,5.8282858407295297,12.824149426263613,1.2760000000000001E-4,1.7219,4,5.1420100000000005E-4,1468,1501,2231,1,1,1,1653,1690,2513,711,727,1081,2.6923570860509978,2.8139605078022902,6.1867934799600777,1.3,19.3,20.399999999999999,34.5,null,7746,null,0.8,null,null,0,10,10.6,21.85,null,1,1,1,1653,1690,2513,null,0,0,0,1]
["36011",null,null,3,60,40.5,11,11.5,0,26,30,38.799999999999997,507.96000000000004,881.02076921515595,942.75810617769378,1102.4000000000001,"N/A",1,1,1,{"$error":"#VALUE!"},485,519,607,{"$error":"#VALUE!"},83,89,104,{"$error":"#VALUE!"},5.3898866409191976E-2,6.1653904992997027E-2,8.3243311217863464E-2,3.969E-4,1.7345999999999999,4,5.7428799999999995E-4,{"$f":"AK867*IF($G1063=10,1,IF($G1063=15,1,IF($G1063=20,1,(1-(($E1063-50)*0.005)))))","v":140.18331920037377},150.00663451416625,175.40799999999999,1,1,1,158,169,198,68,73,85,3.6729352641212645E-2,4.2099157883038939E-2,5.6427755949294077E-2,{"$f":"ROUND(IF(G1063=10,$CO$92*E1063,IF(G1063=11,$CO$93*E1063,IF(G1063=15,$CO$94*E1063,IF(G1063=16,$CO$95*E1063,IF(G1063=20,$CO$96*E1063,IF(G1063=21,$CO$97*E1063,)))))),1)","v":0.8},3.6,4.0999999999999996,5.0999999999999996,null,747,null,0.68,null,null,0,14.2,16.2,21.85,null,1,1,1,158,169,198,null,0,0,0,1]
["36010",null,null,3,60,40.5,10,11.5,0,26,30,40,631.80000000000007,841.69225687813923,901.35950941531064,1066.3800000000001,"N/A",1,1,1,{"$error":"#VALUE!"},463,496,587,{"$error":"#VALUE!"},80,85,101,{"$error":"#VALUE!"},3.0135812634409415E-2,3.3892651389647047E-2,4.7355187501234658E-2,3.969E-4,1.7345999999999999,2,3.6734700000000002E-4,{"$f":"AK868*IF($G1064=10,1,IF($G1064=15,1,IF($G1064=20,1,(1-(($E1064-50)*0.005)))))","v":116.68990721587436},124.96201154556491,147.84,1,1,1,131,141,166,56,61,71,1.5111762774081328E-2,1.782898414147421E-2,2.3916526055314951E-2,0.4,4.8,5.4,6.8,null,702,null,0.9,null,null,0,13.6,15.6,21.85,null,1,1,1,131,141,166,null,0,0,0,1]
["36015",null,null,3,60,40.5,15,16.5,0,26,30,41.1,862.19258357509659,957.19258357509659,1027.5250511543745,1359.96,"N/A",1,1,1,{"$error":"#VALUE!"},527,565,748,{"$error":"#VALUE!"},91,97,129,{"$error":"#VALUE!"},4.191830503747683E-2,4.7540116757737283E-2,8.3417430881129309E-2,2.0829999999999999E-4,1.724,2,4.6182900000000003E-4,{"$f":"AK870*IF($G1066=10,1,IF($G1066=15,1,IF($G1066=20,1,(1-(($E1066-50)*0.005)))))","v":423.65815696218516},140.26129481477255,185.64,1,1,1,477,158,209,205,68,90,0.20820616499281444,2.3614179917532466E-2,4.1015348146407823E-2,0.6,4.8,5.5,7.2,null,1120,null,0.8,null,null,0,12.3,14.4,21.85,null,1,1,1,477,158,209,null,0,0,0,1]
["36016",null,null,3,60,40.5,16,16.5,0,26,30,41.1,850.00000000000011,1399.7241764138612,1502.5729206967153,1988.7,"N/A",1,1,1,{"$error":"#VALUE!"},770,827,1094,{"$error":"#VALUE!"},132,142,188,{"$error":"#VALUE!"},0.25468529879688451,0.2943464031513609,0.51344060211532982,2.0829999999999999E-4,1.724,4,1.392796E-3,{"$f":"AK871*IF($G1067=10,1,IF($G1067=15,1,IF($G1067=20,1,(1-(($E1067-50)*0.005)))))","v":203.29999999999998},218.5,289.75,1,1,1,229,246,326,98,106,140,0.14117705110266054,0.16491428195917301,0.28618624813603083,1.2,4.8,5.5,7.2,null,1250,null,0.68,null,null,0,12.3,14.4,21.85,null,1,1,1,229,246,326,null,0,0,0,1]
["36021",null,null,3,60,40.5,21,21.5,0,26,30,41.1,1383.2,1802.6437228662567,1935.0981352499616,2561.16,"N/A",1,1,1,{"$error":"#VALUE!"},992,1065,1410,{"$error":"#VALUE!"},171,183,243,{"$error":"#VALUE!"},0.16331274195899398,0.18669649623168555,0.32679118253547368,1.2760000000000001E-4,1.7219,4,5.1420100000000005E-4,{"$f":"AK873*IF($G1069=10,1,IF($G1069=15,1,IF($G1069=20,1,(1-(($E1069-50)*0.005)))))","v":222.13785266445532},238.46006784742275,315.60900000000004,1,1,1,250,269,355,108,116,153,6.601213332318584E-2,7.5989677762721572E-2,0.13114211851545915,1.6,4.8,5.5,7.2,null,1729,null,0.8,null,null,0,12.3,14.4,21.85,null,1,1,1,250,269,355,null,0,0,0,1]
["36010",null,null,3,60,40.5,10,11.5,0,26,30,41,737.1,1029.7403904507714,1104.2859635902939,1320.28,"N/A",1,1,1,{"$error":"#VALUE!"},567,608,727,{"$error":"#VALUE!"},98,105,125,{"$error":"#VALUE!"},4.4664210550333351E-2,5.1062533471357453E-2,7.1638716045547807E-2,3.969E-4,1.7345999999999999,2,3.6734700000000002E-4,{"$f":"AK874*IF($G1070=10,1,IF($G1070=15,1,IF($G1070=20,1,(1-(($E1070-50)*0.005)))))","v":142.7603849699376},153.09517888293954,183.04,1,1,1,161,172,206,69,74,89,2.2629568741551916E-2,2.591188561030924E-2,3.7052774533898519E-2,0.4,5.5,5.9,7.9,null,819,null,0.9,null,null,0,13.2,15.1,21.85,null,1,1,1,161,172,206,null,0,0,0,1]
["36015",null,null,3,60,40.5,15,16.5,0,26,30,41.1,975.82735416996661,1070.8273541699666,1149.5094620994566,1521.41,"N/A",1,1,1,{"$error":"#VALUE!"},589,633,837,{"$error":"#VALUE!"},101,109,144,{"$error":"#VALUE!"},5.1482202537584794E-2,5.983195905070815E-2,0.10364282050521514,2.0829999999999999E-4,1.724,2,4.6182900000000003E-4,{"$f":"AK876*IF($G1072=10,1,IF($G1072=15,1,IF($G1072=20,1,(1-(($E1072-50)*0.005)))))","v":135.09481491470635},145.02129350758159,191.94,1,1,1,152,163,216,65,70,93,2.1607295358039021E-2,2.5000992898232752E-2,4.3753379654579497E-2,0.6,5.0999999999999996,5.6,7.2,null,1306,null,0.8,null,null,0,12.3,14.4,21.85,null,1,1,1,152,163,216,null,0,0,0,1]
["36016",null,null,3,60,40.5,16,16.5,0,26,30,41.1,992.12000000000012,1627.62717250317,1747.2217424001376,2312.5,"N/A",1,1,1,{"$error":"#VALUE!"},896,962,1273,{"$error":"#VALUE!"},154,165,219,{"$error":"#VALUE!"},0.34569922344909654,0.39637245547379452,0.69499098319401997,2.0829999999999999E-4,1.724,4,1.392796E-3,{"$f":"AK877*IF($G1073=10,1,IF($G1073=15,1,IF($G1073=20,1,(1-(($E1073-50)*0.005)))))","v":208.61781359132519},223.94660516644359,296.39999999999998,1,1,1,235,252,334,101,108,144,0.1498640371075696,0.17113447645247784,0.30262048757683024,1.2,5.0999999999999996,5.6,7.2,null,1459,null,0.68,null,null,0,12.3,14.4,21.85,null,1,1,1,235,252,334,null,0,0,0,1]
["36010",null,null,3,60,40.5,10,11.5,0,26,30,41.8,842.4,1214.2269940407766,1304.1433704057049,1574.18,"N/A",1,1,1,{"$error":"#VALUE!"},668,718,866,{"$error":"#VALUE!"},115,123,149,{"$error":"#VALUE!"},6.0926458672444679E-2,6.9428537243659563E-2,0.10079305901653195,3.969E-4,1.7345999999999999,2,3.6734700000000002E-4,{"$f":"AK880*IF($G1076=10,1,IF($G1076=15,1,IF($G1076=20,1,(1-(($E1076-50)*0.005)))))","v":168.33710197020613},180.80286190736828,218.24,1,1,1,190,204,246,82,88,106,3.1612741921650971E-2,3.6249873312544444E-2,5.2010664391214427E-2,0.4,6.3,6.8,9.1,null,936,null,0.9,null,null,0,12.8,14.7,21.85,null,1,1,1,190,204,246,null,0,0,0,1]
["36011",null,null,3,60,40.5,11,11.5,0,26,30,41.8,812.6,1647.5037394527276,1769.505282019556,2135.9,"N/A",1,1,1,{"$error":"#VALUE!"},907,974,1175,{"$error":"#VALUE!"},156,168,202,{"$error":"#VALUE!"},0.18216225240167624,0.21024416445400737,0.30040691273402997,3.969E-4,1.7345999999999999,4,5.7428799999999995E-4,{"$f":"AK881*IF($G1077=10,1,IF($G1077=15,1,IF($G1077=20,1,(1-(($E1077-50)*0.005)))))","v":262.2},281.2,340.09999999999997,1,1,1,295,317,383,127,136,165,0.12241098344849101,0.13972202826922686,0.20304014930794717,0.8,6.3,6.8,9.1,null,1195,null,0.68,null,null,0,12.8,14.7,21.85,null,1,1,1,295,317,383,null,0,0,0,1]
["36016",null,null,3,60,40.5,16,16.5,0,26,30,42.4,1133.5600000000002,2040.4331716148024,2188.0092071816284,2935.7,"N/A",1,1,1,{"$error":"#VALUE!"},1123,1204,1616,{"$error":"#VALUE!"},193,207,278,{"$error":"#VALUE!"},0.54087849401308141,0.62147935663669562,1.11576011816787,2.0829999999999999E-4,1.724,4,1.392796E-3,{"$f":"AK883*IF($G1079=10,1,IF($G1079=15,1,IF($G1079=20,1,(1-(($E1079-50)*0.005)))))","v":296.39999999999998},318.25,427.5,1,1,1,334,358,481,144,154,207,0.30262048757683024,0.34569922344909654,0.62147935663669562,1.2,6,6.7,9,null,1667,null,0.68,null,null,0,11.8,13.7,21.85,null,1,1,1,334,358,481,null,0,0,0,1]
["36020",null,null,3,60,40.5,20,21.5,0,26,30,42.4,1668.8000000000002,1942.5718983039128,2086.4239348515057,2518.44,"N/A",1,1,1,{"$error":"#VALUE!"},1069,1148,1386,{"$error":"#VALUE!"},184,197,238,{"$error":"#VALUE!"},0.13400974764249993,0.15341965692974033,0.22316359267755842,1.2760000000000001E-4,1.7219,2,3.76611E-4,{"$f":"AK884*IF($G1080=10,1,IF($G1080=15,1,IF($G1080=20,1,(1-(($E1080-50)*0.005)))))","v":240.07166246887351},257.84953601562182,311.24,1,1,1,270,290,351,116,125,151,5.3754545103760785E-2,6.2321643879428262E-2,9.0596116531748552E-2,0.8,6,6.7,9,null,2086,null,0.8,null,null,0,11.8,13.7,21.85,null,1,1,1,270,290,351,null,0,0,0,1]
["36010",null,null,3,60,40.5,10,11.5,0,26,30,42.4,947.7,1395.6272192501513,1501.3000140389001,1828.08,"N/A",1,1,1,{"$error":"#VALUE!"},768,826,1006,{"$error":"#VALUE!"},132,142,173,{"$error":"#VALUE!"},7.9640536162281908E-2,9.1788650265797328E-2,0.13478504656992898,3.969E-4,1.7345999999999999,2,3.6734700000000002E-4,{"$f":"AK886*IF($G1082=10,1,IF($G1082=15,1,IF($G1082=20,1,(1-(($E1082-50)*0.005)))))","v":193.48593193227777},{"$f":"AL886*IF($G1082=10,1,IF($G1082=15,1,IF($G1082=20,1,(1-(($E1082-50)*0.005)))))","v":208.13611852764589},253.44,1,1,1,218,234,285,94,101,123,4.1195800631424605E-2,4.7355187501234658E-2,6.9428537243659563E-2,0.4,6.7,7.4,10.3,null,1053,null,0.9,null,null,0,12.5,14.7,21.85,null,1,1,1,218,234,285,null,0,0,0,1]
["36011",null,null,3,60,40.5,11,11.5,0,26,30,42.4,914.6,1893.6336235985709,2037.0140009310799,2480.4,"N/A",1,1,1,{"$error":"#VALUE!"},1042,1121,1365,{"$error":"#VALUE!"},179,193,235,{"$error":"#VALUE!"},0.23770354607595764,0.27502043453535363,0.40280721825492449,3.969E-4,1.7345999999999999,4,5.7428799999999995E-4,{"$f":"AK887*IF($G1083=10,1,IF($G1083=15,1,IF($G1083=20,1,(1-(($E1083-50)*0.005)))))","v":301.3048681496536},{"$f":"AL887*IF($G1083=10,1,IF($G1083=15,1,IF($G1083=20,1,(1-(($E1083-50)*0.005)))))","v":324.118787985594},394.66800000000001,1,1,1,339,365,444,146,157,191,0.16025889272457333,0.18442758081674551,0.26952733669876688,0.8,6.7,7.4,10.3,null,1345,null,0.68,null,null,0,12.5,14.7,21.85,null,1,1,1,339,365,444,null,0,0,0,1]
["36016",null,null,3,60,40.5,16,16.5,0,26,30,43.3,1275.68,2336.669516687492,2503.3688418217644,3409.2,"N/A",1,1,1,{"$error":"#VALUE!"},1286,1378,1876,{"$error":"#VALUE!"},221,237,323,{"$error":"#VALUE!"},0.7076398692535314,0.81291196942065491,1.5028789952092287,2.0829999999999999E-4,1.724,4,1.392796E-3,{"$f":"AK889*IF($G1085=10,1,IF($G1085=15,1,IF($G1085=20,1,(1-(($E1085-50)*0.005)))))","v":339.8904180820507},364.13839277819221,495.9,1,1,1,383,410,558,165,176,240,0.39637245547379452,0.45048625697737743,0.8334579392471223,1.2,7,7.7,10.7,null,1876,null,0.68,null,null,0,11.3,13.2,21.85,null,1,1,1,383,410,558,null,0,0,0,1]
["36020",null,null,3,60,40.5,20,21.5,0,26,30,43.3,1877.6000000000001,2232.7836804230465,2401.8435041457315,2924.64,"N/A",1,1,1,{"$error":"#VALUE!"},1229,1322,1610,{"$error":"#VALUE!"},211,227,277,{"$error":"#VALUE!"},0.17577938270171806,0.20318168141459014,0.30150421644229075,1.2760000000000001E-4,1.7219,2,3.76611E-4,{"$f":"AK890*IF($G1086=10,1,IF($G1086=15,1,IF($G1086=20,1,(1-(($E1086-50)*0.005)))))","v":275.93732338069162},296.83048721840407,361.44,1,1,1,311,334,407,134,144,175,7.1516638980618497E-2,8.2469024280610218E-2,0.12133574292549942,0.8,7,7.7,10.7,null,2347,null,0.8,null,null,0,11.3,13.2,21.85,null,1,1,1,311,334,407,null,0,0,0,1]
["36010",null,null,3,60,40.5,10,11.5,0,26,30,43,1053,1574.3905475253332,1696.1265760133244,2081.98,"N/A",1,1,1,{"$error":"#VALUE!"},866,933,1146,{"$error":"#VALUE!"},149,160,197,{"$error":"#VALUE!"},0.10079305901653195,0.11577395967856402,0.17358772163273153,3.969E-4,1.7345999999999999,2,3.6734700000000002E-4,{"$f":"AK892*IF($G1088=10,1,IF($G1088=15,1,IF($G1088=20,1,(1-(($E1088-50)*0.005)))))","v":218.26918973175157},235.14633901405676,288.64,1,1,1,246,265,{"$f":"ROUND(AM1088*POWER(CF_cool,AP1088),0)","v":325},106,114,140,5.2010664391214427E-2,5.9901842158954582E-2,8.9291647492270879E-2,0.4,7.8,8.6999999999999993,12.2,null,1170,null,0.9,null,null,0,12.3,14.1,21.85,null,1,1,1,246,265,325,null,0,0,0,1]
["36011",null,null,3,60,40.5,11,11.5,0,26,30,43,1015.9200000000001,2136.1856779144437,2301.3611872256411,2824.9,"N/A",1,1,1,{"$error":"#VALUE!"},1176,1267,1555,{"$error":"#VALUE!"},202,218,267,{"$error":"#VALUE!"},0.30040691273402997,0.34823028945462536,0.51602046491821396,3.969E-4,1.7345999999999999,4,5.7428799999999995E-4,{"$f":"AK893*IF($G1089=10,1,IF($G1089=15,1,IF($G1089=20,1,(1-(($E1089-50)*0.005)))))","v":340.09999999999997},365.75,449.34999999999997,1,1,1,383,412,506,165,177,218,0.20304014930794717,0.23258895609389754,0.34823028945462536,0.8,7.8,8.6999999999999993,12.2,null,1494,null,0.68,null,null,0,12.3,14.1,21.85,null,1,1,1,383,412,506,null,0,0,0,1]
["36016",null,null,3,60,40.5,16,16.5,0,26,30,44.1,1417.1200000000001,2630.3871448118639,2816.5633812075234,3882.7,"N/A",1,1,1,{"$error":"#VALUE!"},1448,1550,2137,{"$error":"#VALUE!"},249,267,368,{"$error":"#VALUE!"},0.89662515175211011,1.0298386979869232,1.9471893370366224,2.0829999999999999E-4,1.724,4,1.392796E-3,{"$f":"AK895*IF($G1091=10,1,IF($G1091=15,1,IF($G1091=20,1,(1-(($E1091-50)*0.005)))))","v":382.84999999999997},409.45,565.25,1,1,1,431,461,637,185,198,274,0.497318584001743,0.5690260422914849,1.0841199474932717,1.2,7,7.7,10.7,null,2084,null,0.68,null,null,0,10.9,12.8,21.85,null,1,1,1,431,461,637,null,0,0,0,1]
["36020",null,null,3,60,40.5,20,21.5,0,26,30,44.1,2086.4,2518.7768428703835,2713.5353098724395,3330.84,"N/A",1,1,1,{"$error":"#VALUE!"},1386,1493,1833,{"$error":"#VALUE!"},238,257,315,{"$error":"#VALUE!"},0.22316359267755842,0.25986949089901767,0.38906980464499069,1.2760000000000001E-4,1.7219,2,3.76611E-4,{"$f":"AK896*IF($G1092=10,1,IF($G1092=15,1,IF($G1092=20,1,(1-(($E1092-50)*0.005)))))","v":311.2816285378957},335.35074484391049,411.64,1,1,1,351,378,464,151,163,200,9.0596116531748552E-2,0.10540969635110091,0.15808389074047338,0.8,7,7.7,10.7,null,2608,null,0.8,null,null,0,10.9,12.8,21.85,null,1,1,1,351,378,464,null,0,0,0,1]
["36010",null,null,3,60,40.5,10,11.5,0,26,30,43.5,1158.3,1766.3893947845202,1902.9712804051933,2335.88,"N/A",1,1,1,{"$error":"#VALUE!"},972,1047,1286,{"$error":"#VALUE!"},167,180,221,{"$error":"#VALUE!"},0.12583508067153271,0.14560663131755425,0.21717851830510293,3.969E-4,1.7345999999999999,2,3.6734700000000002E-4,{"$f":"AK898*IF($G1094=10,1,IF($G1094=15,1,IF($G1094=20,1,(1-(($E1094-50)*0.005)))))","v":244.88738360147738},263.82272182064906,323.83999999999997,1,1,1,276,297,365,119,128,157,6.5109725960460565E-2,7.5017389966948872E-2,0.11158764312897276,0.4,8.4,9.3000000000000007,14,null,1287,null,0.9,null,null,0,12,13.9,21.85,null,1,1,1,276,297,365,null,0,0,0,1]
["36011",null,null,3,60,40.5,11,11.5,0,26,30,43.5,1117.24,2396.6961264405954,2582.0149905458411,3169.4,"N/A",1,1,1,{"$error":"#VALUE!"},1319,1421,1744,{"$error":"#VALUE!"},227,244,300,{"$error":"#VALUE!"},0.37664158184226493,0.43326698262834323,0.64704473260027218,3.969E-4,1.7345999999999999,4,5.7428799999999995E-4,{"$f":"AK899*IF($G1095=10,1,IF($G1095=15,1,IF($G1095=20,1,(1-(($E1095-50)*0.005)))))","v":381.34948670781205},410.83643456246818,504.298,1,1,1,429,463,568,184,199,244,0.25072687453541864,0.29182345508409663,0.43326698262834323,0.8,8.4,9.3000000000000007,14,null,1643,null,0.68,null,null,0,12,13.9,21.85,null,1,1,1,429,463,568,null,0,0,0,1]
["36016",null,null,3,60,40.5,16,16.5,0,26,30,44.1,1558.5600000000002,2849.7497938679544,3051.4523045945984,4206.5,"N/A",1,1,1,{"$error":"#VALUE!"},1568,1679,2315,{"$error":"#VALUE!"},270,289,398,{"$error":"#VALUE!"},1.0529323526413952,1.2051036708800758,2.2751353365884577,2.0829999999999999E-4,1.724,4,1.392796E-3,{"$f":"AK901*IF($G1097=10,1,IF($G1097=15,1,IF($G1097=20,1,(1-(($E1097-50)*0.005)))))","v":387.44131870036443},414.86403732263182,571.9,1,1,1,436,467,644,187,201,277,0.50803819978116582,0.58625512649866662,1.107807649984206,1.2,7.9,8.8000000000000007,12.5,null,2292,null,0.68,null,null,0,10.9,12.8,21.85,null,1,1,1,436,467,644,null,0,0,0,1]
["36020",null,null,3,60,40.5,20,21.5,0,26,30,44.1,2295.2000000000003,2692.551301713082,2900.746468081386,3560.6400000000003,"N/A",1,1,1,{"$error":"#VALUE!"},1482,1596,1960,{"$error":"#VALUE!"},255,275,337,{"$error":"#VALUE!"},0.25587503543008999,0.29720249484154104,0.44482740378549857,1.2760000000000001E-4,1.7219,2,3.76611E-4,{"$f":"AK902*IF($G1098=10,1,IF($G1098=15,1,IF($G1098=20,1,(1-(($E1098-50)*0.005)))))","v":317.17997831584631},341.70517057946222,419.44,1,1,1,357,385,472,154,166,203,9.4195161243647199E-2,0.10928695363366035,0.16281748211326871,0.8,7.9,8.8000000000000007,12.5,null,2869,null,0.8,null,null,0,10.9,12.8,21.85,null,1,1,1,357,385,472,null,0,0,0,1]
["36010",null,null,3,60,40.5,10,11.5,0,26,30,44,1263.6000000000001,1924.9914127028867,2079.6202422788024,2589.7800000000002,"N/A",1,1,1,{"$error":"#VALUE!"},1059,1144,1425,{"$error":"#VALUE!"},182,197,245,{"$error":"#VALUE!"},0.14877359110207516,0.17358772163273153,0.26553812394585452,3.969E-4,1.7345999999999999,2,3.6734700000000002E-4,{"$f":"AK904*IF($G1100=10,1,IF($G1100=15,1,IF($G1100=20,1,(1-(($E1100-50)*0.005)))))","v":266.87553260000635},{"$f":"AL904*IF($G1100=10,1,IF($G1100=15,1,IF($G1100=20,1,(1-(($E1100-50)*0.005)))))","v":288.31284965818764},359.04,1,1,1,301,325,404,129,140,174,7.6160512273128422E-2,8.9291647492270879E-2,0.13630594740169716,0.4,8.9,9.9,14.8,null,1404,null,0.9,null,null,0,11.8,13.7,21.85,null,1,1,1,301,325,404,null,0,0,0,1]
["36011",null,null,3,60,40.5,11,11.5,0,26,30,44,1219.24,2611.8926414972211,2821.6982019103875,3513.9,"N/A",1,1,1,{"$error":"#VALUE!"},1437,1553,1934,{"$error":"#VALUE!"},247,267,333,{"$error":"#VALUE!"},0.44366076011225208,0.51602046491821396,0.79249418609795264,3.969E-4,1.7345999999999999,4,5.7428799999999995E-4,{"$f":"AK905*IF($G1101=10,1,IF($G1101=15,1,IF($G1101=20,1,(1-(($E1101-50)*0.005)))))","v":415.15},449.34999999999997,559.54999999999995,1,1,1,468,506,630,201,218,271,0.29753229050405422,0.34823028945462536,0.53113172965489475,0.8,8.9,9.9,14.8,null,1793,null,0.68,null,null,0,11.8,13.7,21.85,null,1,1,1,468,506,630,null,0,0,0,1]
["36016",null,null,3,60,40.5,16,16.5,0,26,30,44.8,1700.68,3241.8333772189817,3471.5459677567114,4829.7,"N/A",1,1,1,{"$error":"#VALUE!"},1784,1911,2658,{"$error":"#VALUE!"},307,329,457,{"$error":"#VALUE!"},1.3586805465705818,1.5588175767676997,2.9940922909171879,2.0829999999999999E-4,1.724,4,1.392796E-3,{"$f":"AK907*IF($G1103=10,1,IF($G1103=15,1,IF($G1103=20,1,(1-(($E1103-50)*0.005)))))","v":471.2},505.4,703,1,1,1,531,569,792,228,245,341,0.7528038117809458,0.86826766177031989,1.6737442096353965,1.2,8.6999999999999993,9.8000000000000007,14.3,null,2501,null,0.68,null,null,0,10.6,12.5,21.85,null,1,1,1,531,569,792,null,0,0,0,1]
["36020",null,null,3,60,40.5,20,21.5,0,26,30,44.8,2504,3079.6829926739365,3327.0647594078355,4143.24,"N/A",1,1,1,{"$error":"#VALUE!"},1695,1831,2280,{"$error":"#VALUE!"},292,315,392,{"$error":"#VALUE!"},0.33474594557832471,0.38906980464499069,0.60044172514939376,1.2760000000000001E-4,1.7219,2,3.76611E-4,{"$f":"AK908*IF($G1104=10,1,IF($G1104=15,1,IF($G1104=20,1,(1-(($E1104-50)*0.005)))))","v":380.60090160569081},411.17343900116532,512.04,1,1,1,429,463,577,184,199,248,0.13400974764249993,0.1565214391379143,0.24213654178609956,0.8,8.6999999999999993,9.8000000000000007,14.3,null,3130,null,0.8,null,null,0,10.6,12.5,21.85,null,1,1,1,429,463,577,null,0,0,0,1]
["36010",null,null,3,60,40.5,10,11.5,0,26,30,44.8,1474.2,2267.7915432376717,2456.1428225151312,3097.58,"N/A",1,1,1,{"$error":"#VALUE!"},1248,1352,1705,{"$error":"#VALUE!"},215,233,293,{"$error":"#VALUE!"},0.20583303640230904,0.24076332244950299,0.37649847423399185,3.969E-4,1.7345999999999999,2,3.6734700000000002E-4,{"$f":"AK910*IF($G1106=10,1,IF($G1106=15,1,IF($G1106=20,1,(1-(($E1106-50)*0.005)))))","v":314.40040300104783},340.51290804463417,429.44,1,1,1,354,383,484,152,165,208,0.10477810206109123,0.12291863606897357,0.19297370892315466,0.4,10.1,11.2,17.5,null,1638,null,0.9,null,null,0,11.5,13.3,21.85,null,1,1,1,354,383,484,null,0,0,0,1]
["36011",null,null,3,60,40.5,11,11.5,0,26,30,44.8,1422.5600000000002,3077.015307780141,3332.5766142436496,4202.8999999999996,"N/A",1,1,1,{"$error":"#VALUE!"},1693,1834,2313,{"$error":"#VALUE!"},291,315,398,{"$error":"#VALUE!"},0.60987755290659607,0.71137362380132496,1.1209518537638536,3.969E-4,1.7345999999999999,4,5.7428799999999995E-4,{"$f":"AK911*IF($G1107=10,1,IF($G1107=15,1,IF($G1107=20,1,(1-(($E1107-50)*0.005)))))","v":489.25},530.1,668.8,1,1,1,551,597,753,237,257,324,0.40948246391984067,0.47917415905085226,0.75139908588095961,0.8,10.1,11.2,17.5,null,2092,null,0.68,null,null,0,11.5,13.3,21.85,null,1,1,1,551,597,753,null,0,0,0,1]
["36016",null,null,3,60,40.5,16,16.5,0,26,30,45.4,1984.2400000000002,3844.4231409656436,4117.1080284867467,5776.7,"N/A",1,1,1,{"$error":"#VALUE!"},2116,2266,3179,{"$error":"#VALUE!"},364,390,547,{"$error":"#VALUE!"},1.9053810104353797,2.1852017024285066,4.2795611863969674,2.0829999999999999E-4,1.724,4,1.392796E-3,{"$f":"AK913*IF($G1109=10,1,IF($G1109=15,1,IF($G1109=20,1,(1-(($E1109-50)*0.005)))))","v":559.54999999999995},598.5,840.75,1,1,1,630,674,947,271,290,407,1.060686818878305,1.213395460250744,2.3784671440144605,1.2,9.6,10.5,16.100000000000001,null,2918,null,0.68,null,null,0,10.4,12.2,21.85,null,1,1,1,630,674,947,null,0,0,0,1]
["36020",null,null,3,60,40.5,20,21.5,0,26,30,45.4,2920.8,3628.1091959950468,3929.4415695377957,4955.6400000000003,"N/A",1,1,1,{"$error":"#VALUE!"},1997,2163,2727,{"$error":"#VALUE!"},343,372,469,{"$error":"#VALUE!"},0.46067777986351427,0.54117510477972708,0.85717799847712306,1.2760000000000001E-4,1.7219,2,3.76611E-4,{"$f":"AK914*IF($G1110=10,1,IF($G1110=15,1,IF($G1110=20,1,(1-(($E1110-50)*0.005)))))","v":448.37784746172167},485.61784045001809,612.44000000000005,1,1,1,505,547,690,217,235,297,0.18582428732846601,0.21762166729124749,0.346210266581093,0.8,9.6,10.5,16.100000000000001,null,3651,null,0.8,null,null,0,10.4,12.2,21.85,null,1,1,1,505,547,690,null,0,0,0,1]
["36010",null,null,3,60,40.5,10,11.5,0,26,30,45.5,1684.8,2603.9362232520607,2826.6988006529018,3605.38,"N/A",1,1,1,{"$error":"#VALUE!"},1433,1556,1984,{"$error":"#VALUE!"},246,268,341,{"$error":"#VALUE!"},0.26765634136663496,0.31634206468898252,0.50635573643209464,3.969E-4,1.7345999999999999,2,3.6734700000000002E-4,{"$f":"AK916*IF($G1112=10,1,IF($G1112=15,1,IF($G1112=20,1,(1-(($E1112-50)*0.005)))))","v":361.00257998610687},391.88577307200529,499.84,1,1,1,407,441,563,175,190,242,0.13783519773978525,0.16177473460976674,0.25923297449466648,0.4,11,12.4,19.2,null,1872,null,0.9,null,null,0,11.2,13,21.85,null,1,1,1,407,441,563,null,0,0,0,1]
["36011",null,null,3,60,40.5,11,11.5,0,26,30,45.5,1625.2,3533.107636511756,3835.359341571188,4891.8999999999996,"N/A",1,1,1,{"$error":"#VALUE!"},1944,2111,2692,{"$error":"#VALUE!"},334,363,463,{"$error":"#VALUE!"},0.79712628530715735,0.93718861056646308,1.5047704720259147,3.969E-4,1.7345999999999999,4,5.7428799999999995E-4,{"$f":"AK917*IF($G1113=10,1,IF($G1113=15,1,IF($G1113=20,1,(1-(($E1113-50)*0.005)))))","v":562.4},{"$f":"AL917*IF($G1113=10,1,IF($G1113=15,1,IF($G1113=20,1,(1-(($E1113-50)*0.005)))))","v":609.9},778.05,1,1,1,633,687,876,272,295,377,0.53494280087888069,0.6262637604293132,1.0087644459356204,0.8,11,12.4,19.2,null,2390,null,0.68,null,null,0,11.2,13,21.85,null,1,1,1,633,687,876,null,0,0,0,1]
["36016",null,null,3,60,40.5,16,16.5,0,26,30,46.4,2267.1200000000003,4417.9368883555589,4716.8848144627045,6723.7,"N/A",1,1,1,{"$error":"#VALUE!"},2431,2596,3700,{"$error":"#VALUE!"},418,447,636,{"$error":"#VALUE!"},2.5078617567769474,2.8653339129749695,5.774699413483444,2.0829999999999999E-4,1.724,4,1.392796E-3,{"$f":"AK919*IF($G1115=10,1,IF($G1115=15,1,IF($G1115=20,1,(1-(($E1115-50)*0.005)))))","v":642.19999999999993},685.9,978.5,1,1,1,723,772,1102,311,332,474,1.3940521624842106,1.5871680828819736,3.2194430631718625,1.2,11.5,12.8,19.600000000000001,null,3334,null,0.68,null,null,0,10,11.8,21.85,null,1,1,1,723,772,1102,null,0,0,0,1]
["36020",null,null,3,60,40.5,20,21.5,0,26,30,46.4,{"$f":"IF($N1116-($BE1116*$BG1116)>100,$BE1116*$BG1116,$N1116-95)","v":3338.4},4165.887726998767,4522.2727563025155,5768.04,"N/A",1,1,1,{"$f":"ROUND(M1116*POWER(CF_heat,Q1116),0)","v":{"$error":"#VALUE!"}},{"$f":"ROUND(N1116*POWER(CF_heat,R1116),0)","v":2293},{"$f":"ROUND(O1116*POWER(CF_heat,S1116),0)","v":2489},{"$f":"ROUND(P1116*POWER(CF_heat,T1116),0)","v":3174},{"$error":"#VALUE!"},394,428,546,{"$error":"#VALUE!"},0.60653673383906792,0.71483282615853017,1.1592002993823081,{"$f":"IF($G1116=$CO$103,CP$103,IF($G1116=$CO$104,CP$104,IF($G1116=$CO$105,CP$105,IF($G1116=$CO$107,CP$107,IF($G1116=$CO$108,CP$108,IF($G1116=$CO$109,CP$109,IF($G1116=$CO$111,CP$111,IF($G1116=$CO$112,CP$112,IF($G1116=$CO$113,CP$113,IF($G1116=$CO$115,CP$115,IF($G1116=$CO$116,CP$116,IF($G1116=$CO$117,CP$117,IF($G1116=$CO$119,CP$119,IF($G1116=$CO$120,CP$120,))))))))))))))","v":1.2760000000000001E-4},{"$f":"IF($G1116=$CO$103,CQ$103,IF($G1116=$CO$104,CQ$104,IF($G1116=$CO$105,CQ$105,IF($G1116=$CO$107,CQ$107,IF($G1116=$CO$108,CQ$108,IF($G1116=$CO$109,CQ$109,IF($G1116=$CO$111,CQ$111,IF($G1116=$CO$112,CQ$112,IF($G1116=$CO$113,CQ$113,IF($G1116=$CO$115,CQ$115,IF($G1116=$CO$116,CQ$116,IF($G1116=$CO$117,CQ$117,IF($G1116=$CO$119,CQ$119,IF($G1116=$CO$120,CQ$120,))))))))))))))","v":1.7219},{"$f":"IF($G1116=$CO$103,CR$103,IF($G1116=$CO$104,CR$104,IF($G1116=$CO$105,CR$105,IF($G1116=$CO$107,CR$107,IF($G1116=$CO$108,CR$108,IF($G1116=$CO$109,CR$109,IF($G1116=$CO$111,CR$111,IF($G1116=$CO$112,CR$112,IF($G1116=$CO$113,CR$113,IF($G1116=$CO$115,CR$115,IF($G1116=$CO$116,CR$116,IF($G1116=$CO$117,CR$117,IF($G1116=$CO$119,CR$119,IF($G1116=$CO$120,CR$120,))))))))))))))","v":2},{"$f":"IF($G1116=$CO$103,CS$103,IF($G1116=$CO$104,CS$104,IF($G1116=$CO$105,CS$105,IF($G1116=$CO$107,CS$107,IF($G1116=$CO$108,CS$108,IF($G1116=$CO$109,CS$109,IF($G1116=$CO$111,CS$111,IF($G1116=$CO$112,CS$112,IF($G1116=$CO$113,CS$113,IF($G1116=$CO$115,CS$115,IF($G1116=$CO$116,CS$116,IF($G1116=$CO$117,CS$117,IF($G1116=$CO$119,CS$119,IF($G1116=$CO$120,CS$120,))))))))))))))","v":3.76611E-4},{"$f":"AK920*IF($G1116=10,1,IF($G1116=15,1,IF($G1116=20,1,(1-(($E1116-50)*0.005)))))","v":514.83890668473202},558.88255136973487,712.84,1,1,1,{"$f":"ROUND(AK1116*POWER(CF_cool,AN1116),0)","v":580},629,803,249,270,345,0.24407612385908628,0.28658257626191708,0.46602253015828882,0.8,11.5,12.8,19.600000000000001,null,4173,null,{"$f":"IF(G1116=10,0.9,IF(G1116=11,0.68,IF(G1116=15,0.8,IF(G1116=16,0.68,IF(G1116=20,0.8,IF(G1116=21,0.8))))))","v":0.8},null,null,0,10,11.8,21.85,null,1,1,1,{"$f":"AQ1116/BO1116","v":580},629,803,null,{"$f":"BR1116-AQ1116","v":0},{"$f":"BS1116-AR1116","v":0},{"$f":"BT1116-AS1116","v":0},1]
["36011",null,null,3,60,40.5,11,11.5,0,26,30,46,1828.5200000000002,4030.7284303866513,4375.55079813051,5580.9,"N/A",1,1,1,{"$error":"#VALUE!"},2218,2408,3071,{"$error":"#VALUE!"},382,414,528,{"$error":"#VALUE!"},1.0349510405785454,1.210306748266057,1.9436414458674167,3.969E-4,1.7345999999999999,4,5.7428799999999995E-4,{"$f":"AK923*IF($G1119=10,1,IF($G1119=15,1,IF($G1119=20,1,(1-(($E1119-50)*0.005)))))","v":641.34797942422142},696.21427285783432,888.00299999999993,1,1,1,722,784,1000,310,337,430,0.68959987978458281,0.81110171503380502,1.3030108053187017,0.8,12.2,13.7,22,null,2689,null,0.68,null,null,0,10.9,12.7,21.85,null,1,1,1,722,784,1000,null,0,0,0,1]
["36015",null,null,3,60,40.5,15,16.5,0,26,30,46.4,2687.2000000000003,3233.3460619053994,3452.1364439366635,4920.8599999999997,"N/A",1,1,1,{"$error":"#VALUE!"},1779,1900,2708,{"$error":"#VALUE!"},306,327,466,{"$error":"#VALUE!"},0.45970593131218523,0.52422337218425841,1.0569980477051404,2.0829999999999999E-4,1.724,2,4.6182900000000003E-4,{"$f":"AK924*IF($G1120=10,1,IF($G1120=15,1,IF($G1120=20,1,(1-(($E1120-50)*0.005)))))","v":420.6820520547858},449.14828645115074,640.24,1,1,1,474,506,721,204,218,310,0.20620391854991088,0.23510749134140141,0.47167104632007711,0.6,11.5,12.8,19.600000000000001,null,3359,null,0.8,null,null,0,10,11.8,21.85,null,1,1,1,474,506,721,null,0,0,0,1]
["36020",null,null,3,60,40.5,20,21.5,0,26,30,46.4,3755.2000000000003,4497.8275192555193,4882.6094666576164,6227.64,"N/A",1,1,1,{"$error":"#VALUE!"},2475,2687,3427,{"$error":"#VALUE!"},426,462,589,{"$error":"#VALUE!"},0.7082177779901998,0.8319659621933001,1.3475443398067271,1.2760000000000001E-4,1.7219,2,3.76611E-4,{"$f":"AK926*IF($G1122=10,1,IF($G1122=15,1,IF($G1122=20,1,(1-(($E1122-50)*0.005)))))","v":526.1057925837863},571.11330132956857,728.44,1,1,1,592,643,820,255,276,353,0.25587503543008999,0.29934951635977131,0.48770794125626354,0.8,11.5,12.8,19.600000000000001,null,4694,null,0.8,null,null,0,10,11.8,21.85,null,1,1,1,592,643,820,null,0,0,0,1]
["36021",null,null,3,60,40.5,21,21.5,0,26,30,46.4,4150.4000000000005,6016.7573462820046,6423.892435808023,9156.9599999999991,"N/A",1,1,1,{"$error":"#VALUE!"},3311,3535,5039,{"$error":"#VALUE!"},569,608,867,{"$error":"#VALUE!"},1.7579979760806306,2.0046091099123653,4.0491507609956994,1.2760000000000001E-4,1.7219,4,5.1420100000000005E-4,{"$f":"AK927*IF($G1123=10,1,IF($G1123=15,1,IF($G1123=20,1,(1-(($E1123-50)*0.005)))))","v":712.61728735075178},760.83786305048818,1084.539,1,1,1,803,857,1221,345,369,525,0.65324020997157783,0.74615401733576336,1.4990608759715796,1.6,11.5,12.8,19.600000000000001,null,5188,null,0.8,null,null,0,10,11.8,21.85,null,1,1,1,803,857,1221,null,0,0,0,1]
["36011",null,null,3,60,40.5,11,11.5,0,26,30,46.5,2031.8400000000001,4422.7050634086982,4820.649682883678,6269.9,"N/A",1,1,1,{"$error":"#VALUE!"},2434,2653,3451,{"$error":"#VALUE!"},419,456,594,{"$error":"#VALUE!"},1.2389172173696552,1.4607860503347949,2.4453286525803555,3.969E-4,1.7345999999999999,4,5.7428799999999995E-4,{"$f":"AK929*IF($G1125=10,1,IF($G1125=15,1,IF($G1125=20,1,(1-(($E1125-50)*0.005)))))","v":703.94999999999993},766.65,997.5,1,1,1,793,863,1123,341,371,483,0.82992020602138927,0.97777378914310442,1.6339569514231467,0.8,13.4,14.8,24,null,2988,null,0.68,null,null,0,10.7,12.5,21.85,null,1,1,1,793,863,1123,null,0,0,0,1]
["36015",null,null,3,60,40.5,15,16.5,0,26,30,47.1,2985.6000000000004,3875.4624109054007,4083.4735576056296,5893.16,"N/A",1,1,1,{"$error":"#VALUE!"},2133,2247,3243,{"$error":"#VALUE!"},367,386,558,{"$error":"#VALUE!"},0.65872760263293839,0.72794730596722257,1.5103928605511461,2.0829999999999999E-4,1.724,2,4.6182900000000003E-4,{"$f":"AK930*IF($G1126=10,1,IF($G1126=15,1,IF($G1126=20,1,(1-(($E1126-50)*0.005)))))","v":529.01617838795164},{"$f":"AL930*IF($G1126=10,1,IF($G1126=15,1,IF($G1126=20,1,(1-(($E1126-50)*0.005)))))","v":557.41053504066974},804.44,1,1,1,596,628,906,256,270,390,0.32301777493622791,0.35888539134069758,0.7429569911942534,0.6,13.2,14.7,23.5,null,3732,null,0.8,null,null,0,10,11.4,21.85,null,1,1,1,596,628,906,null,0,0,0,1]
["36020",null,null,3,60,40.5,20,21.5,0,26,30,47.1,4172.8,5214.8121821672385,5684.028740747025,7392.84,"N/A",1,1,1,{"$error":"#VALUE!"},2870,3128,4069,{"$error":"#VALUE!"},494,538,700,{"$error":"#VALUE!"},0.95027576679572945,1.1257152145004927,1.8988605211564633,1.2760000000000001E-4,1.7219,2,3.76611E-4,{"$f":"AK932*IF($G1128=10,1,IF($G1128=15,1,IF($G1128=20,1,(1-(($E1128-50)*0.005)))))","v":644.46964929787134},702.45751547390614,913.64,1,1,1,726,791,1029,312,340,442,0.38175398119672721,0.4527181135870928,0.76199426627575551,0.8,13.2,14.7,23.5,null,5216,null,0.8,null,null,0,10,11.4,21.85,null,1,1,1,726,791,1029,null,0,0,0,1]
["36021",null,null,3,60,40.5,21,21.5,0,26,30,47.1,4611.2,7298.5082710627348,7690.2476078687869,11098.36,"N/A",1,1,1,{"$error":"#VALUE!"},4017,4232,6108,{"$error":"#VALUE!"},691,728,1051,{"$error":"#VALUE!"},2.5828738757183767,2.8640567180165326,5.9301864504853175,1.2760000000000001E-4,1.7219,4,5.1420100000000005E-4,{"$f":"AK933*IF($G1129=10,1,IF($G1129=15,1,IF($G1129=20,1,(1-(($E1129-50)*0.005)))))","v":899.3873467186113},947.6609650595276,1367.6389999999999,1,1,1,1013,1067,1540,436,459,662,1.0379155937344899,1.1490503727522232,2.3725722449923503,1.6,13.2,14.7,23.5,null,5764,null,0.8,null,null,0,10,11.4,21.85,null,1,1,1,1013,1067,1540,null,0,0,0,1]
["36011",null,null,3,60,40.5,11,11.5,0,26,30,46.9,2235.1600000000003,4831.2827990970827,5278.770565343093,6958.9,"N/A",1,1,1,{"$error":"#VALUE!"},2659,2905,3830,{"$error":"#VALUE!"},457,500,659,{"$error":"#VALUE!"},1.4670304383643373,1.7478572322894808,2.9944066230908342,3.969E-4,1.7345999999999999,4,5.7428799999999995E-4,{"$f":"AK935*IF($G1131=10,1,IF($G1131=15,1,IF($G1131=20,1,(1-(($E1131-50)*0.005)))))","v":768.72791475328472},839.92977805306725,1107.2629999999999,1,1,1,866,946,1247,372,407,536,0.98290606508428957,1.1708015935706402,2.0014480850935943,0.8,13.4,14.8,24,null,3287,null,0.68,null,null,0,10.5,12.3,21.85,null,1,1,1,866,946,1247,null,0,0,0,1]
["36015",null,null,3,60,40.5,15,16.5,0,26,30,47.8,3284,4302.5567439745028,4481.7988603493422,6540.76,"N/A",1,1,1,{"$error":"#VALUE!"},2368,2467,3600,{"$error":"#VALUE!"},407,424,619,{"$error":"#VALUE!"},0.8084435932534304,0.87667407581866175,1.8551575010178105,2.0829999999999999E-4,1.724,2,4.6182900000000003E-4,{"$f":"AK936*IF($G1132=10,1,IF($G1132=15,1,IF($G1132=20,1,(1-(($E1132-50)*0.005)))))","v":587.31626956044784},611.78353807115786,892.84,1,1,1,661,689,1006,284,296,433,0.39662431492448208,0.43046034834386271,0.91390644694914003,0.6,15.5,16.8,27.5,null,4105,null,0.8,null,null,0,10,11.1,21.85,null,1,1,1,661,689,1006,null,0,0,0,1]
["36020",null,null,3,60,40.5,20,21.5,0,26,30,47.8,4590.4000000000005,5696.5662496175182,6224.1991397456159,8205.24,"N/A",1,1,1,{"$error":"#VALUE!"},3135,3425,4516,{"$error":"#VALUE!"},539,589,777,{"$error":"#VALUE!"},1.1298741525643432,1.3475443398067271,2.3364008234824696,1.2760000000000001E-4,1.7219,2,3.76611E-4,{"$f":"AK938*IF($G1134=10,1,IF($G1134=15,1,IF($G1134=20,1,(1-(($E1134-50)*0.005)))))","v":704.00695650122941},769.21417236639559,1014.04,1,1,1,793,866,1142,341,372,491,0.45536367415405554,0.54117510477972708,0.93885206231343721,0.8,15.5,16.8,27.5,null,5738,null,0.8,null,null,0,10,11.1,21.85,null,1,1,1,793,866,1142,null,0,0,0,1]
["36021",null,null,3,60,40.5,21,21.5,0,26,30,47.8,5072,8102.8384881891643,8440.3982243391856,12317.96,"N/A",1,1,1,{"$error":"#VALUE!"},4459,4645,6779,{"$error":"#VALUE!"},767,799,1166,{"$error":"#VALUE!"},3.1760467804296142,3.4439958957600187,7.2861943882635689,1.2760000000000001E-4,1.7219,4,5.1420100000000005E-4,{"$f":"AK939*IF($G1135=10,1,IF($G1135=15,1,IF($G1135=20,1,(1-(($E1135-50)*0.005)))))","v":998.50409674479295},1040.1012210035556,1517.9289999999999,1,1,1,1125,1171,1709,484,504,735,1.2762053262606237,1.3826934116156882,2.9188756548395651,1.6,15.5,16.8,27.5,null,6340,null,0.8,null,null,0,10,11.1,21.85,null,1,1,1,1125,1171,1709,null,0,0,0,1]
["36011",null,null,3,60,40.5,11,11.5,0,26,30,47.2,2438.48,5237.9452617275747,5738.028861571599,7647.9,"N/A",1,1,1,{"$error":"#VALUE!"},2883,3158,4209,{"$error":"#VALUE!"},496,543,724,{"$error":"#VALUE!"},1.7207191694043993,2.0527093929014417,3.5978646961970018,3.969E-4,1.7345999999999999,4,5.7428799999999995E-4,{"$f":"AK941*IF($G1137=10,1,IF($G1137=15,1,IF($G1137=20,1,(1-(($E1137-50)*0.005)))))","v":833.15},912.94999999999993,1216.95,1,1,1,938,1028,1371,403,442,590,1.1485151926410699,1.3747339101694898,2.4133195945705683,0.8,14.8,16.600000000000001,28,null,3586,null,0.68,null,null,0,10.4,12.2,21.85,null,1,1,1,938,1028,1371,null,0,0,0,1]
["36015",null,null,3,60,40.5,15,16.5,0,26,30,48.1,3582.4,4729.715265656896,4901.7743245246338,7188.36,"N/A",1,1,1,{"$error":"#VALUE!"},2603,2698,3956,{"$error":"#VALUE!"},448,464,680,{"$error":"#VALUE!"},0.97766793849812561,1.0480319135391505,2.2350711808834776,2.0829999999999999E-4,1.724,2,4.6182900000000003E-4,{"$f":"AK942*IF($G1138=10,1,IF($G1138=15,1,IF($G1138=20,1,(1-(($E1138-50)*0.005)))))","v":645.62512273636446},669.11187505864359,981.24,1,1,1,727,754,1105,313,324,475,0.48074493758818815,0.51474941533522323,1.0978147906390832,0.6,16.399999999999999,17.7,29.7,null,4478,null,0.8,null,null,0,10,10.9,21.85,null,1,1,1,727,754,1105,null,0,0,0,1]
["36020",null,null,3,60,40.5,20,21.5,0,26,30,48.1,5007.2000000000007,6176.0620183272586,6765.7106634844222,9017.64,"N/A",1,1,1,{"$error":"#VALUE!"},3399,3723,4963,{"$error":"#VALUE!"},585,640,854,{"$error":"#VALUE!"},1.329429296766627,1.5891987272551642,2.8190272920514845,1.2760000000000001E-4,1.7219,2,3.76611E-4,{"$f":"AK944*IF($G1140=10,1,IF($G1140=15,1,IF($G1140=20,1,(1-(($E1140-50)*0.005)))))","v":763.26517311676128},836.13657141043336,1114.44,1,1,1,860,942,1255,370,405,540,0.53541682416835745,0.64060625729135123,1.1340407187519534,0.8,16.399999999999999,17.7,29.7,null,6259,null,0.8,null,null,0,10,10.9,21.85,null,1,1,1,860,942,1255,null,0,0,0,1]
["36021",null,null,3,60,40.5,21,21.5,0,26,30,48.1,5533.6,8907.2895892451361,9231.3217513746804,13537.56,"N/A",1,1,1,{"$error":"#VALUE!"},4902,5080,7450,{"$error":"#VALUE!"},843,874,1281,{"$error":"#VALUE!"},3.8300149030685793,4.1142058484144499,8.7807516752350701,1.2760000000000001E-4,1.7219,4,5.1420100000000005E-4,{"$f":"AK945*IF($G1141=10,1,IF($G1141=15,1,IF($G1141=20,1,(1-(($E1141-50)*0.005)))))","v":1097.6357431679662},1137.5658789882752,1668.2189999999998,1,1,1,1236,1281,1879,531,551,808,1.5331654107367862,1.6495959904312869,3.5212978014635379,1.6,16.399999999999999,17.7,29.7,null,6917,null,0.8,null,null,0,10,10.9,21.85,null,1,1,1,1236,1281,1879,null,0,0,0,1]
["36011",null,null,3,60,40.5,11,11.5,0,26,30,47.8,2641.1200000000003,5669.0920000000006,6252.6749999999993,8336.9,"N/A",1,1,1,{"$error":"#VALUE!"},3120,3441,4588,{"$error":"#VALUE!"},537,592,789,{"$error":"#VALUE!"},2.0087322510391221,2.4292982891905899,4.2555343205225142,3.969E-4,1.7345999999999999,4,5.7428799999999995E-4,{"$f":"AK947*IF($G1143=10,1,IF($G1143=15,1,IF($G1143=20,1,(1-(($E1143-50)*0.005)))))","v":902.03563999999994},994.89224999999988,1326.5229999999999,1,1,1,1016,1120,1494,437,482,642,1.3446207802860357,1.6273739735044674,2.8455429135886616,0.8,16.2,18.600000000000001,31.4,null,3884,null,0.68,null,null,0,10.199999999999999,11.9,21.85,null,1,1,1,1016,1120,1494,null,0,0,0,1]
["36015",null,null,3,60,40.5,15,16.5,0,26,30,48.1,3881.6000000000004,4942.1733310961072,5121.9619484404784,7511.2599999999993,"N/A",1,1,1,{"$error":"#VALUE!"},2720,2819,4134,{"$error":"#VALUE!"},468,485,711,{"$error":"#VALUE!"},1.0660020944505986,1.1440669303936546,2.4416000144461041,2.0829999999999999E-4,1.724,2,4.6182900000000003E-4,{"$f":"AK948*IF($G1144=10,1,IF($G1144=15,1,IF($G1144=20,1,(1-(($E1144-50)*0.005)))))","v":653.91552727192982},677.70396216321694,993.84,1,1,1,736,763,1119,316,328,481,0.48990457761802497,0.52740040218619588,1.1254523793343485,0.6,16.399999999999999,17.7,29.7,null,4852,null,0.8,null,null,0,10,10.9,21.85,null,1,1,1,736,763,1119,null,0,0,0,1]
["36020",null,null,3,60,40.5,20,21.5,0,26,30,48.1,5424.8,6444.5232000000005,7107.93,9477.24,"N/A",1,1,1,{"$error":"#VALUE!"},3547,3912,5216,{"$error":"#VALUE!"},610,673,897,{"$error":"#VALUE!"},1.4446489541792893,1.7561208700441118,3.1081522823290371,1.2760000000000001E-4,1.7219,2,3.76611E-4,{"$f":"AK950*IF($G1146=10,1,IF($G1146=15,1,IF($G1146=20,1,(1-(($E1146-50)*0.005)))))","v":768.42720000000008},{"$f":"AL950*IF($G1146=10,1,IF($G1146=15,1,IF($G1146=20,1,(1-(($E1146-50)*0.005)))))","v":847.53},1130.04,1,1,1,865,954,1273,372,410,547,0.54117510477972708,0.65639836001820484,1.1634202588953617,0.8,16.399999999999999,17.7,29.7,null,6781,null,0.8,null,null,0,10,10.9,21.85,null,1,1,1,865,954,1273,null,0,0,0,1]
["36021",null,null,3,60,40.5,21,21.5,0,26,30,48.1,5994.4000000000005,9234.8263652613623,9570.7750567366256,14035.359999999999,"N/A",1,1,1,{"$error":"#VALUE!"},5082,5267,7724,{"$error":"#VALUE!"},874,906,1329,{"$error":"#VALUE!"},4.1142058484144499,4.4181577035440602,9.4455172594432231,1.2760000000000001E-4,1.7219,4,5.1420100000000005E-4,{"$f":"AK951*IF($G1147=10,1,IF($G1147=15,1,IF($G1147=20,1,(1-(($E1147-50)*0.005)))))","v":1109.1370345395283},1149.4857233705352,1685.6990000000001,1,1,1,1249,1295,1898,537,557,816,1.5676505912353214,1.6853495927712197,3.5907258973390741,1.6,16.399999999999999,17.7,29.7,null,7493,null,0.8,null,null,0,10,10.9,21.85,null,1,1,1,1249,1295,1898,null,0,0,0,1]
["36011",null,null,3,60,40.5,11,11.5,0,26,30,47.8,2844.44,5976.8600000000006,6598.9760720588583,8789.5,"N/A",1,1,1,{"$error":"#VALUE!"},3289,3632,4837,{"$error":"#VALUE!"},566,625,832,{"$error":"#VALUE!"},2.2256076225142154,2.700402061434374,4.7203280112541099,3.969E-4,1.7345999999999999,4,5.7428799999999995E-4,{"$f":"AK953*IF($G1149=10,1,IF($G1149=15,1,IF($G1149=20,1,(1-(($E1149-50)*0.005)))))","v":908.19999999999993},1003.1999999999999,1335.7,1,1,1,1023,1130,1504,440,486,647,1.3626494972242666,1.653783937559913,2.8889400492917359,0.8,16.2,18.600000000000001,31.4,null,4183,null,0.68,null,null,0,10.199999999999999,11.9,21.85,null,1,1,1,1023,1130,1504,null,0,0,0,1]
["36015",null,null,3,60,40.5,15,16.5,0,26,30,48.9,4180,5583.9635634029,5708.9475468201636,8483.56,"N/A",1,1,1,{"$error":"#VALUE!"},3073,3142,4669,{"$error":"#VALUE!"},529,540,803,{"$error":"#VALUE!"},1.3588276912966029,1.4153813212121351,3.1078699967372594,2.0829999999999999E-4,1.724,2,4.6182900000000003E-4,{"$f":"AK954*IF($G1150=10,1,IF($G1150=15,1,IF($G1150=20,1,(1-(($E1150-50)*0.005)))))","v":762.23344503523219},779.29426056038062,1158.04,1,1,1,858,878,1304,369,378,561,0.66585230503522919,0.69838399905397042,1.526526059172937,0.6,19.3,20.399999999999999,34.5,null,5225,null,0.8,null,null,0,10,10.6,21.85,null,1,1,1,858,878,1304,null,0,0,0,1]
["36020",null,null,3,60,40.5,20,21.5,0,26,30,48.9,5841.6,7236.8592000000008,7990.1253664397382,10642.44,"N/A",1,1,1,{"$error":"#VALUE!"},3983,4397,5857,{"$error":"#VALUE!"},685,756,1007,{"$error":"#VALUE!"},1.8188756229769478,2.2125987481132214,3.9116791133074891,1.2760000000000001E-4,1.7219,2,3.76611E-4,{"$f":"AK956*IF($G1152=10,1,IF($G1152=15,1,IF($G1152=20,1,(1-(($E1152-50)*0.005)))))","v":894.36320000000012},987.455178225689,1315.24,1,1,1,1007,1112,{"$f":"ROUND(AM1152*POWER(CF_cool,AP1152),0)","v":1481},433,478,637,0.73150422151899197,0.89014339169288881,1.5744352304578972,0.8,19.3,20.399999999999999,34.5,null,7302,null,0.8,null,null,0,10,10.6,21.85,null,1,1,1,1007,1112,1481,null,0,0,0,1]
["36021",null,null,3,60,40.5,21,21.5,0,26,30,48.1,6456,10516.06232539558,10751.439821034392,15976.76,"N/A",1,1,1,{"$error":"#VALUE!"},5787,5917,8793,{"$error":"#VALUE!"},995,1018,1512,{"$error":"#VALUE!"},5.3200757273925294,5.5666755271810873,12.200992979862955,1.2760000000000001E-4,1.7219,4,5.1420100000000005E-4,{"$f":"AK957*IF($G1153=10,1,IF($G1153=15,1,IF($G1153=20,1,(1-(($E1153-50)*0.005)))))","v":1198.6918509080224},1225.5217685310877,1821.139075,1,1,1,1350,1380,2051,581,593,882,1.8321675855131303,1.9078580162424679,4.1891850819033936,1.6,19.3,20.399999999999999,34.5,null,8070,null,0.8,null,null,0,10,10.6,21.85,null,1,1,1,1350,1380,2051,null,0,0,0,1]
["36011",null,null,3,60,40.5,11,11.5,0,26,30,47.8,3047.76,6285,6939,9242,"N/A",1,1,1,{"$error":"#VALUE!"},3459,3819,5086,{"$error":"#VALUE!"},595,657,875,{"$error":"#VALUE!"},2.4533632082050914,2.9767001243711029,5.208740537667496,3.969E-4,1.7345999999999999,4,5.7428799999999995E-4,{"$f":"AK959*IF($G1155=10,1,IF($G1155=15,1,IF($G1155=20,1,(1-(($E1155-50)*0.005)))))","v":914.84999999999991},1009.8499999999999,1345.2,1,1,1,1030,1137,1515,443,489,651,1.3807956938904513,1.6737279821412405,2.9238895745901679,0.8,16.2,18.600000000000001,31.4,null,4482,null,0.68,null,null,0,10.199999999999999,11.9,21.85,null,1,1,1,1030,1137,1515,null,0,0,0,1]
["36015",null,null,3,60,40.5,15,16.5,0,26,30,48.9,4478.4000000000005,5796,5926,8806,"N/A",1,1,1,{"$error":"#VALUE!"},3190,3261,4846,{"$error":"#VALUE!"},549,561,834,{"$error":"#VALUE!"},1.4625039895567915,1.526526059172937,3.3503358627949407,2.0829999999999999E-4,1.724,2,4.6182900000000003E-4,{"$f":"AK960*IF($G1156=10,1,IF($G1156=15,1,IF($G1156=20,1,(1-(($E1156-50)*0.005)))))","v":771},788,1171,1,1,1,868,887,1319,373,381,567,0.68021578523393456,0.70939897193955248,1.5590477864047998,0.6,19.3,20.399999999999999,34.5,null,5598,null,0.8,null,null,0,10,10.6,21.85,null,1,1,1,868,887,1319,null,0,0,0,1]
["36020",null,null,3,60,40.5,20,21.5,0,26,30,48.9,6259.2000000000007,7549,8335,11102,"N/A",1,1,1,{"$error":"#VALUE!"},4155,4587,6110,{"$error":"#VALUE!"},715,789,1051,{"$error":"#VALUE!"},1.9805578588200889,2.4086505622352115,4.2588051197855581,1.2760000000000001E-4,1.7219,2,3.76611E-4,{"$f":"AK962*IF($G1158=10,1,IF($G1158=15,1,IF($G1158=20,1,(1-(($E1158-50)*0.005)))))","v":905},999,1331,1,1,1,1019,1125,1499,438,484,645,0.74836670701901298,0.91246396967271182,1.6139568863817995,0.8,19.3,20.399999999999999,34.5,null,7824,null,0.8,null,null,0,10,10.6,21.85,null,1,1,1,1019,1125,1499,null,0,0,0,1]
["36021",null,null,3,60,40.5,21,21.5,0,26,30,48.1,6916.8,10844,11086,16475,"N/A",1,1,1,{"$error":"#VALUE!"},5968,6101,9067,{"$error":"#VALUE!"},1027,1049,1560,{"$error":"#VALUE!"},5.6646819553621786,5.9078303220890049,12.981684763618562,1.2760000000000001E-4,1.7219,4,5.1420100000000005E-4,{"$f":"AK963*IF($G1159=10,1,IF($G1159=15,1,IF($G1159=20,1,(1-(($E1159-50)*0.005)))))","v":1394.6},{"$f":"AL963*IF($G1159=10,1,IF($G1159=15,1,IF($G1159=20,1,(1-(($E1159-50)*0.005)))))","v":1425.95},2119.4499999999998,1,1,1,1571,1606,2387,676,691,1026,2.4729903358076659,2.5828738757183767,5.6537503887289207,1.6,19.3,20.399999999999999,34.5,null,8646,null,0.8,null,null,0,10,10.6,21.85,null,1,1,1,1571,1606,2387,null,0,0,0,1]
["37010",null,null,3,70,40.5,10,11.5,0,26,30,40,674.1,841.69225687813923,901.35950941531064,1066.3800000000001,"N/A",1,1,1,{"$error":"#VALUE!"},463,496,587,{"$error":"#VALUE!"},80,85,101,{"$error":"#VALUE!"},3.1691911054236042E-2,3.5621302059525781E-2,4.9686674646110679E-2,3.969E-4,1.7345999999999999,2,3.6734700000000002E-4,{"$f":"AK868*IF($G1162=10,1,IF($G1162=15,1,IF($G1162=20,1,(1-(($E1162-50)*0.005)))))","v":116.68990721587436},124.96201154556491,147.84,1,1,1,131,141,166,56,61,71,1.5949955952257056E-2,1.8801217016227327E-2,2.5181640755033142E-2,0.5,4.8,5.4,6.8,null,749,null,0.9,null,null,0,13.6,15.6,21.85,null,1,1,1,131,141,166,null,0,0,0,1]
["37011",null,null,3,70,40.5,11,11.5,0,26,30,40,648.72,1142.0361657917249,1222.9946868592929,1446.9,"N/A",1,1,1,{"$error":"#VALUE!"},629,673,796,{"$error":"#VALUE!"},108,116,137,{"$error":"#VALUE!"},9.4767092758545599E-2,0.10869549525474707,0.14962675791345936,3.969E-4,1.7345999999999999,4,5.7428799999999995E-4,{"$f":"AK869*IF($G1163=10,1,IF($G1163=15,1,IF($G1163=20,1,(1-(($E1163-50)*0.005)))))","v":171.9},184.5,217.8,1,1,1,194,208,245,83,89,105,5.7216283096821793E-2,6.5398277704092858E-2,8.9781951048310285E-2,0.9,4.8,5.4,6.8,null,954,null,0.68,null,null,0,13.6,15.6,21.85,null,1,1,1,194,208,245,null,0,0,0,1]
["37016",null,null,3,70,40.5,16,16.5,0,26,30,41.1,922.08,1399.7241764138612,1502.5729206967153,1988.7,"N/A",1,1,1,{"$error":"#VALUE!"},770,827,1094,{"$error":"#VALUE!"},132,142,188,{"$error":"#VALUE!"},0.25838225916041185,0.29853936048034357,0.520242396027639,2.0829999999999999E-4,1.724,4,1.392796E-3,{"$f":"AK871*IF($G1165=10,1,IF($G1165=15,1,IF($G1165=20,1,(1-(($E1165-50)*0.005)))))","v":192.6},207,274.5,1,1,1,217,233,309,93,100,133,0.12929233266973245,0.14923050883915187,0.26226854815605993,1.4,4.8,5.5,7.2,null,1356,null,0.68,null,null,0,12.3,14.4,21.85,null,1,1,1,217,233,309,null,0,0,0,1]
["37020",null,null,3,70,40.5,20,21.5,0,26,30,41.1,1251.575008837732,1346.575008837732,1442.0332127786496,1706.04,"N/A",1,1,1,{"$error":"#VALUE!"},741,794,939,{"$f":"ROUND(U1166*3600/(4186*ABS($O$1-$O$2)),0)","v":{"$error":"#VALUE!"}},{"$f":"ROUND(V1166*3600/(4186*ABS($O$1-$O$2)),0)","v":127},{"$f":"ROUND(W1166*3600/(4186*ABS($O$1-$O$2)),0)","v":137},{"$f":"ROUND(X1166*3600/(4186*ABS($O$1-$O$2)),0)","v":162},{"$error":"#VALUE!"},6.5359422705045175E-2,7.591595346937631E-2,0.10572739665490051,1.2760000000000001E-4,1.7219,2,3.76611E-4,{"$f":"AK872*IF($G1166=10,1,IF($G1166=15,1,IF($G1166=20,1,(1-(($E1166-50)*0.005)))))","v":166.41571994991173},178.21286873827722,210.84,1,1,1,187,201,237,{"$f":"ROUND(AQ1166*3600/(4186*ABS($AM$1-$AM$2)),0)","v":80},{"$f":"ROUND(AR1166*3600/(4186*ABS($AM$1-$AM$2)),0)","v":86},{"$f":"ROUND(AS1166*3600/(4186*ABS($AM$1-$AM$2)),0)","v":102},2.6251989444276255E-2,3.0276916688561008E-2,4.2396471925119035E-2,0.9,4.8,5.5,7.2,null,1652,null,0.8,null,null,0,12.3,14.4,21.85,null,1,1,1,187,201,237,null,0,0,0,1]
["37010",null,null,3,70,40.5,10,11.5,0,26,30,41,786.6,1029.7403904507714,1104.2859635902939,1320.28,"N/A",1,1,1,{"$error":"#VALUE!"},567,608,727,{"$error":"#VALUE!"},98,105,125,{"$error":"#VALUE!"},4.6876887038915217E-2,5.355650865915515E-2,7.5013432420667936E-2,3.969E-4,1.7345999999999999,2,3.6734700000000002E-4,{"$f":"AK874*IF($G1168=10,1,IF($G1168=15,1,IF($G1168=20,1,(1-(($E1168-50)*0.005)))))","v":142.7603849699376},153.09517888293954,183.04,1,1,1,161,172,206,69,74,89,2.3833508628602774E-2,2.7271158049938453E-2,3.8924960889446435E-2,0.5,5.5,5.9,7.9,null,874,null,0.9,null,null,0,13.2,15.1,21.85,null,1,1,1,161,172,206,null,0,0,0,1]
["37011",null,null,3,70,40.5,11,11.5,0,26,30,41,756.84,1397.1861540381678,1498.3320774196782,1791.4,"N/A",1,1,1,{"$error":"#VALUE!"},769,825,986,{"$error":"#VALUE!"},132,142,170,{"$error":"#VALUE!"},0.13930938990103131,0.16030019990637592,0.22662018699905809,3.969E-4,1.7345999999999999,4,5.7428799999999995E-4,{"$f":"AK875*IF($G1169=10,1,IF($G1169=15,1,IF($G1169=20,1,(1-(($E1169-50)*0.005)))))","v":210.61212475820625},225.8588818008821,270.036,1,1,1,237,254,304,102,109,131,8.4926962093825373E-2,9.6457692131886416E-2,0.13728870973564805,0.9,5.5,5.9,7.9,null,1113,null,0.68,null,null,0,13.2,15.1,21.85,null,1,1,1,237,254,304,null,0,0,0,1]
["37016",null,null,3,70,40.5,16,16.5,0,26,30,41.1,1075.76,1627.62717250317,1747.2217424001376,2312.5,"N/A",1,1,1,{"$error":"#VALUE!"},896,962,1273,{"$error":"#VALUE!"},154,165,219,{"$error":"#VALUE!"},0.35052159934302124,0.40180392887155647,0.70384012166446286,2.0829999999999999E-4,1.724,4,1.392796E-3,{"$f":"AK877*IF($G1171=10,1,IF($G1171=15,1,IF($G1171=20,1,(1-(($E1171-50)*0.005)))))","v":197.63792866546598},212.15994173663077,280.8,1,1,1,223,239,316,96,103,136,0.13766383484006076,0.15820886001920739,0.27410001231502079,1.4,5.0999999999999996,5.6,7.2,null,1582,null,0.68,null,null,0,12.3,14.4,21.85,null,1,1,1,223,239,316,null,0,0,0,1]
["37020",null,null,3,70,40.5,20,21.5,0,26,30,41.1,1414.840819712653,1509.840819712653,1619.1421060355642,1935.84,"N/A",1,1,1,{"$error":"#VALUE!"},831,891,1065,{"$error":"#VALUE!"},143,153,183,{"$error":"#VALUE!"},8.2625366918017515E-2,9.4432944508222025E-2,0.13453773865669338,1.2760000000000001E-4,1.7219,2,3.76611E-4,{"$f":"AK878*IF($G1172=10,1,IF($G1172=15,1,IF($G1172=20,1,(1-(($E1172-50)*0.005)))))","v":170.52628152222005},182.87112058001478,218.64000000000001,1,1,1,192,206,246,83,89,106,2.8228959829713119E-2,3.2395815278852581E-2,4.5740948751947619E-2,0.9,5.0999999999999996,5.6,7.2,null,1927,null,0.8,null,null,0,12.3,14.4,21.85,null,1,1,1,192,206,246,null,0,0,0,{"$f":"IF(SUM(BV1172:BX1172)=0,1,0)","v":1}]
["37010",null,null,3,70,40.5,10,11.5,0,26,30,41.8,898.2,1214.2269940407766,1304.1433704057049,1574.18,"N/A",1,1,1,{"$error":"#VALUE!"},668,718,866,{"$error":"#VALUE!"},115,123,149,{"$error":"#VALUE!"},6.3846732956972019E-2,7.2710144297663856E-2,0.10536969184458719,3.969E-4,1.7345999999999999,2,3.6734700000000002E-4,{"$f":"AK880*IF($G1174=10,1,IF($G1174=15,1,IF($G1174=20,1,(1-(($E1174-50)*0.005)))))","v":168.33710197020613},180.80286190736828,218.24,1,1,1,190,204,246,82,88,106,3.3236938826749871E-2,3.8085721704242792E-2,5.4545984051217605E-2,0.5,6.3,6.8,9.1,null,998,null,0.9,null,null,0,12.8,14.7,21.85,null,1,1,1,190,204,246,null,0,0,0,1]
["37011",null,null,3,70,40.5,11,11.5,0,26,30,41.8,864.96,1647.5037394527276,1769.505282019556,2135.9,"N/A",1,1,1,{"$error":"#VALUE!"},907,974,1175,{"$error":"#VALUE!"},156,168,202,{"$error":"#VALUE!"},0.19207424785678068,0.22151584433041249,0.31592469491044012,3.969E-4,1.7345999999999999,4,5.7428799999999995E-4,{"$f":"AK881*IF($G1175=10,1,IF($G1175=15,1,IF($G1175=20,1,(1-(($E1175-50)*0.005)))))","v":248.4},266.40000000000003,322.2,1,1,1,280,300,363,120,129,156,0.11600499755813,0.13329019125147809,0.19207424785678068,0.9,6.3,6.8,9.1,null,1272,null,0.68,null,null,0,12.8,14.7,21.85,null,1,1,1,280,300,363,null,0,0,0,1]
["37016",null,null,3,70,40.5,16,16.5,0,26,30,42.4,1229.44,2040.4331716148024,2188.0092071816284,2935.7,"N/A",1,1,1,{"$error":"#VALUE!"},1123,1204,1616,{"$error":"#VALUE!"},193,207,278,{"$error":"#VALUE!"},0.54799515270033605,0.62950922105719909,1.1291109573653855,2.0829999999999999E-4,1.724,4,1.392796E-3,{"$f":"AK883*IF($G1177=10,1,IF($G1177=15,1,IF($G1177=20,1,(1-(($E1177-50)*0.005)))))","v":280.8},301.5,405,1,1,1,316,340,456,136,146,196,0.27410001231502079,0.31540713574190515,0.56499031858240756,1.4,6,6.7,9,null,1808,null,0.68,null,null,0,11.8,13.7,21.85,null,1,1,1,316,340,456,null,0,0,0,1]
["37020",null,null,3,70,40.5,20,21.5,0,26,30,42.4,1761.6000000000001,1942.5718983039128,2086.4239348515057,2518.44,"N/A",1,1,1,{"$error":"#VALUE!"},1069,1148,1386,{"$error":"#VALUE!"},184,197,238,{"$error":"#VALUE!"},0.13599536954725866,0.15565296245595533,0.22625626998772472,1.2760000000000001E-4,1.7219,2,3.76611E-4,{"$f":"AK884*IF($G1178=10,1,IF($G1178=15,1,IF($G1178=20,1,(1-(($E1178-50)*0.005)))))","v":240.07166246887351},257.84953601562182,311.24,1,1,1,270,290,351,116,125,151,5.4651760995638156E-2,6.3342057147943234E-2,9.2008937563316212E-2,0.9,6,6.7,9,null,2202,null,0.8,null,null,0,11.8,13.7,21.85,null,1,1,1,270,290,351,null,0,0,0,1]
["37010",null,null,3,70,40.5,10,11.5,0,26,30,42.4,{"$f":"IF($N1180-($BE1180*$BG1180)>100,$BE1180*$BG1180,$N1180-95)","v":1010.7},1395.6272192501513,1501.3000140389001,1828.08,"N/A",1,1,1,{"$f":"ROUND(M1180*POWER(CF_heat,Q1180),0)","v":{"$error":"#VALUE!"}},{"$f":"ROUND(N1180*POWER(CF_heat,R1180),0)","v":768},{"$f":"ROUND(O1180*POWER(CF_heat,S1180),0)","v":826},{"$f":"ROUND(P1180*POWER(CF_heat,T1180),0)","v":1006},{"$error":"#VALUE!"},132,142,173,{"$error":"#VALUE!"},8.3349774256115658E-2,9.599879021478798E-2,0.14071500898495728,{"$f":"IF($G1180=$CO$103,CP$103,IF($G1180=$CO$104,CP$104,IF($G1180=$CO$105,CP$105,IF($G1180=$CO$107,CP$107,IF($G1180=$CO$108,CP$108,IF($G1180=$CO$109,CP$109,IF($G1180=$CO$111,CP$111,IF($G1180=$CO$112,CP$112,IF($G1180=$CO$113,CP$113,IF($G1180=$CO$115,CP$115,IF($G1180=$CO$116,CP$116,IF($G1180=$CO$117,CP$117,IF($G1180=$CO$119,CP$119,IF($G1180=$CO$120,CP$120,))))))))))))))","v":3.969E-4},{"$f":"IF($G1180=$CO$103,CQ$103,IF($G1180=$CO$104,CQ$104,IF($G1180=$CO$105,CQ$105,IF($G1180=$CO$107,CQ$107,IF($G1180=$CO$108,CQ$108,IF($G1180=$CO$109,CQ$109,IF($G1180=$CO$111,CQ$111,IF($G1180=$CO$112,CQ$112,IF($G1180=$CO$113,CQ$113,IF($G1180=$CO$115,CQ$115,IF($G1180=$CO$116,CQ$116,IF($G1180=$CO$117,CQ$117,IF($G1180=$CO$119,CQ$119,IF($G1180=$CO$120,CQ$120,))))))))))))))","v":1.7345999999999999},{"$f":"IF($G1180=$CO$103,CR$103,IF($G1180=$CO$104,CR$104,IF($G1180=$CO$105,CR$105,IF($G1180=$CO$107,CR$107,IF($G1180=$CO$108,CR$108,IF($G1180=$CO$109,CR$109,IF($G1180=$CO$111,CR$111,IF($G1180=$CO$112,CR$112,IF($G1180=$CO$113,CR$113,IF($G1180=$CO$115,CR$115,IF($G1180=$CO$116,CR$116,IF($G1180=$CO$117,CR$117,IF($G1180=$CO$119,CR$119,IF($G1180=$CO$120,CR$120,))))))))))))))","v":2},{"$f":"IF($G1180=$CO$103,CS$103,IF($G1180=$CO$104,CS$104,IF($G1180=$CO$105,CS$105,IF($G1180=$CO$107,CS$107,IF($G1180=$CO$108,CS$108,IF($G1180=$CO$109,CS$109,IF($G1180=$CO$111,CS$111,IF($G1180=$CO$112,CS$112,IF($G1180=$CO$113,CS$113,IF($G1180=$CO$115,CS$115,IF($G1180=$CO$116,CS$116,IF($G1180=$CO$117,CS$117,IF($G1180=$CO$119,CS$119,IF($G1180=$CO$120,CS$120,))))))))))))))","v":3.6734700000000002E-4},{"$f":"AK886*IF($G1180=10,1,IF($G1180=15,1,IF($G1180=20,1,(1-(($E1180-50)*0.005)))))","v":193.48593193227777},208.13611852764589,253.44,1,1,1,{"$f":"ROUND(AK1180*POWER(CF_cool,AN1180),0)","v":218},234,285,94,101,123,4.3254176800245799E-2,4.9686674646110679E-2,7.2710144297663856E-2,0.5,6.7,7.4,10.3,null,1123,null,{"$f":"IF(G1180=10,0.9,IF(G1180=11,0.68,IF(G1180=15,0.8,IF(G1180=16,0.68,IF(G1180=20,0.8,IF(G1180=21,0.8))))))","v":0.9},null,null,0,12.5,14.7,21.85,null,1,1,1,{"$f":"AQ1180/BO1180","v":218},234,285,null,{"$f":"BR1180-AQ1180","v":0},{"$f":"BS1180-AR1180","v":0},{"$f":"BT1180-AS1180","v":0},1]
[{"$f":"CONCATENATE(D1181,E1181,G1181)","v":"37011"},null,null,3,70,40.5,11,11.5,0,26,30,42.4,973.08,1893.6336235985709,2037.0140009310799,2480.4,"N/A",1,1,1,{"$error":"#VALUE!"},1042,1121,1365,{"$error":"#VALUE!"},179,193,235,{"$f":"(($AG1181*(Y1181^$AH1181)*((($F1181-14.4)*$AI1181)/100))+($AJ1181*(Y1181^2)))*0.0098","v":{"$error":"#VALUE!"}},{"$f":"(($AG1181*(Z1181^$AH1181)*((($E1181-14.4)*$AI1181)/100))+($AJ1181*(Z1181^2)))*0.0098","v":0.2502860198385799},{"$f":"(($AG1181*(AA1181^$AH1181)*((($E1181-14.4)*$AI1181)/100))+($AJ1181*(AA1181^2)))*0.0098","v":0.28935864246468557},{"$f":"(($AG1181*(AB1181^$AH1181)*((($E1181-14.4)*$AI1181)/100))+($AJ1181*(AB1181^2)))*0.0098","v":0.42298258694240798},3.969E-4,1.7345999999999999,4,5.7428799999999995E-4,{"$f":"AK887*IF($G1181=10,1,IF($G1181=15,1,IF($G1181=20,1,(1-(($E1181-50)*0.005)))))","v":285.44671719440868},307.05990440740487,373.89600000000002,1,1,1,321,346,421,138,149,181,{"$f":"(($AG1181*(AT1181^$AH1181)*((($E1181-14.4)*$AI1181)/100))+($AJ1181*(AT1181^2)))*0.0098","v":0.1517329834891927},{"$f":"(($AG1181*(AU1181^$AH1181)*((($E1181-14.4)*$AI1181)/100))+($AJ1181*(AU1181^2)))*0.0098","v":0.17583988235037434},{"$f":"(($AG1181*(AV1181^$AH1181)*((($E1181-14.4)*$AI1181)/100))+($AJ1181*(AV1181^2)))*0.0098","v":0.25569962197154211},0.9,6.7,7.4,10.3,null,1431,null,0.68,null,null,0,12.5,14.7,21.85,null,1,1,1,321,{"$f":"AR1181/BP1181","v":346},{"$f":"AS1181/BQ1181","v":421},null,0,0,0,1]
["37016",null,null,3,70,40.5,16,16.5,0,26,30,43.3,1383.1200000000001,2336.669516687492,2503.3688418217644,3409.2,"N/A",1,1,1,{"$error":"#VALUE!"},1286,1378,1876,{"$error":"#VALUE!"},221,237,323,{"$error":"#VALUE!"},0.71662879135456892,0.82305205185167563,1.5201708064254629,2.0829999999999999E-4,1.724,4,1.392796E-3,{"$f":"AK889*IF($G1183=10,1,IF($G1183=15,1,IF($G1183=20,1,(1-(($E1183-50)*0.005)))))","v":322.00144870931126},344.97321421091897,469.8,1,1,1,363,389,529,156,167,227,0.35958736617454912,0.41150096439669731,0.75568057497266883,1.4,7,7.7,10.7,null,2034,null,0.68,null,null,0,11.3,13.2,21.85,null,1,1,1,363,389,529,null,0,0,0,1]
["37020",null,null,3,70,40.5,20,21.5,0,26,30,43.3,1982.4,2232.7836804230465,2401.8435041457315,2924.64,"N/A",1,1,1,{"$error":"#VALUE!"},1229,1322,1610,{"$error":"#VALUE!"},211,227,277,{"$error":"#VALUE!"},0.17829293951266503,0.20603235616643006,0.30552039173529311,1.2760000000000001E-4,1.7219,2,3.76611E-4,{"$f":"AK890*IF($G1184=10,1,IF($G1184=15,1,IF($G1184=20,1,(1-(($E1184-50)*0.005)))))","v":275.93732338069162},296.83048721840407,361.44,1,1,1,311,334,407,134,144,175,7.2666826095490966E-2,8.3770964732323011E-2,0.12315709523920543,0.9,7,7.7,10.7,null,2478,null,0.8,null,null,0,11.3,13.2,21.85,null,1,1,1,311,334,407,null,0,0,0,1]
["37010",null,null,3,70,40.5,10,11.5,0,26,30,43,1123.2,1574.3905475253332,1696.1265760133244,2081.98,"N/A",1,1,1,{"$error":"#VALUE!"},866,933,1146,{"$error":"#VALUE!"},149,160,197,{"$error":"#VALUE!"},0.10536969184458719,0.12095245623965263,0.18101651512995334,3.969E-4,1.7345999999999999,2,3.6734700000000002E-4,{"$f":"AK892*IF($G1186=10,1,IF($G1186=15,1,IF($G1186=20,1,(1-(($E1186-50)*0.005)))))","v":218.26918973175157},235.14633901405676,288.64,1,1,1,246,265,325,106,114,140,5.4545984051217605E-2,6.2778209343462163E-2,9.3399462345839068E-2,0.5,7.8,8.6999999999999993,12.2,null,1248,null,0.9,null,null,0,12.3,14.1,21.85,null,1,1,1,246,265,325,null,0,0,0,1]
["37011",null,null,3,70,40.5,11,11.5,0,26,30,43,1081.2,2136.1856779144437,2301.3611872256411,2824.9,"N/A",1,1,1,{"$error":"#VALUE!"},1176,1267,1555,{"$error":"#VALUE!"},202,218,267,{"$error":"#VALUE!"},0.31592469491044012,0.36594172649783269,0.54119686317361182,3.969E-4,1.7345999999999999,4,5.7428799999999995E-4,{"$f":"AK893*IF($G1187=10,1,IF($G1187=15,1,IF($G1187=20,1,(1-(($E1187-50)*0.005)))))","v":322.2},346.5,425.7,1,1,1,363,390,479,156,168,206,0.19207424785678068,0.22151584433041249,0.32809469565037364,0.9,7.8,8.6999999999999993,12.2,null,1590,null,0.68,null,null,0,12.3,14.1,21.85,null,1,1,1,363,390,479,null,0,0,0,1]
["37016",null,null,3,70,40.5,16,16.5,0,26,30,44.1,1536.8000000000002,2630.3871448118639,2816.5633812075234,3882.7,"N/A",1,1,1,{"$error":"#VALUE!"},1448,1550,2137,{"$error":"#VALUE!"},249,267,368,{"$error":"#VALUE!"},0.90766652296950268,1.0422918919245818,1.9688412850843027,2.0829999999999999E-4,1.724,4,1.392796E-3,{"$f":"AK895*IF($G1189=10,1,IF($G1189=15,1,IF($G1189=20,1,(1-(($E1189-50)*0.005)))))","v":362.7},387.90000000000003,535.5,1,1,1,408,437,603,175,188,259,0.45143607616329373,0.520242396027639,0.9813175052815134,1.4,7,7.7,10.7,null,2260,null,0.68,null,null,0,10.9,12.8,21.85,null,1,1,1,408,437,603,null,0,0,0,1]
["37020",null,null,3,70,40.5,20,21.5,0,26,30,44.1,2202.4,2518.7768428703835,2713.5353098724395,3330.84,"N/A",1,1,1,{"$error":"#VALUE!"},1386,1493,1833,{"$error":"#VALUE!"},238,257,315,{"$error":"#VALUE!"},0.22625626998772472,0.26339945745533733,0.3940810733270062,1.2760000000000001E-4,1.7219,2,3.76611E-4,{"$f":"AK896*IF($G1190=10,1,IF($G1190=15,1,IF($G1190=20,1,(1-(($E1190-50)*0.005)))))","v":311.2816285378957},335.35074484391049,411.64,1,1,1,351,378,464,151,163,200,9.2008937563316212E-2,0.10702135321357917,0.16037607906075263,0.9,7,7.7,10.7,null,2753,null,0.8,null,null,0,10.9,12.8,21.85,null,1,1,1,351,378,464,null,0,0,0,1]
["37010",null,null,3,70,40.5,10,11.5,0,26,30,43.5,1235.7,1766.3893947845202,1902.9712804051933,2335.88,"N/A",1,1,1,{"$error":"#VALUE!"},972,1047,1286,{"$error":"#VALUE!"},167,180,221,{"$error":"#VALUE!"},0.13141285785094778,0.15195895848368457,0.22624669571749392,3.969E-4,1.7345999999999999,2,3.6734700000000002E-4,{"$f":"AK898*IF($G1192=10,1,IF($G1192=15,1,IF($G1192=20,1,(1-(($E1192-50)*0.005)))))","v":244.88738360147738},263.82272182064906,323.83999999999997,1,1,1,276,297,365,119,128,157,6.8208435930605424E-2,7.8533832979349946E-2,0.11659887741396679,0.5,8.4,9.3000000000000007,14,null,1373,null,0.9,null,null,0,12,13.9,21.85,null,1,1,1,276,297,365,null,0,0,0,1]
["37011",null,null,3,70,40.5,11,11.5,0,26,30,43.5,1189.3200000000002,2396.6961264405954,2582.0149905458411,3169.4,"N/A",1,1,1,{"$error":"#VALUE!"},1319,1421,1744,{"$error":"#VALUE!"},227,244,300,{"$error":"#VALUE!"},0.39564053263013005,0.45480142144894475,0.6778611178196301,3.969E-4,1.7345999999999999,4,5.7428799999999995E-4,{"$f":"AK899*IF($G1193=10,1,IF($G1193=15,1,IF($G1193=20,1,(1-(($E1193-50)*0.005)))))","v":361.2784610916114},389.21346432233833,477.75600000000003,1,1,1,407,438,538,175,188,231,0.23962730760886231,0.27508896473954952,0.40920071047472228,0.9,8.4,9.3000000000000007,14,null,1749,null,0.68,null,null,0,12,13.9,21.85,null,1,1,1,407,438,538,null,0,0,0,1]
["37016",null,null,3,70,40.5,16,16.5,0,26,30,44.1,1690.48,2849.7497938679544,3051.4523045945984,4206.5,"N/A",1,1,1,{"$error":"#VALUE!"},1568,1679,2315,{"$error":"#VALUE!"},270,289,398,{"$error":"#VALUE!"},1.0656277549048589,1.2193782469027239,2.2999194708571546,2.0829999999999999E-4,1.724,4,1.392796E-3,{"$f":"AK901*IF($G1195=10,1,IF($G1195=15,1,IF($G1195=20,1,(1-(($E1195-50)*0.005)))))","v":367.04967034771374},393.02908798986175,541.80000000000007,1,1,1,413,443,610,178,190,262,0.46688471010052468,0.53125760925488519,1.0039690258188991,1.4,7.9,8.8000000000000007,12.5,null,2486,null,0.68,null,null,0,10.9,12.8,21.85,null,1,1,1,413,443,610,null,0,0,0,1]
["37020",null,null,3,70,40.5,20,21.5,0,26,30,44.1,2422.4,2692.551301713082,2900.746468081386,3560.6400000000003,"N/A",1,1,1,{"$error":"#VALUE!"},1482,1596,1960,{"$error":"#VALUE!"},255,275,337,{"$error":"#VALUE!"},0.25935783339831148,0.30116886928595787,0.45045642223446758,1.2760000000000001E-4,1.7219,2,3.76611E-4,{"$f":"AK902*IF($G1196=10,1,IF($G1196=15,1,IF($G1196=20,1,(1-(($E1196-50)*0.005)))))","v":317.17997831584631},341.70517057946222,419.44,1,1,1,357,385,472,154,166,203,9.5656660756552284E-2,0.11095002490928764,0.16516919432008201,0.9,7.9,8.8000000000000007,12.5,null,3028,null,0.8,null,null,0,10.9,12.8,21.85,null,1,1,1,357,385,472,null,0,0,0,1]
["37010",null,null,3,70,40.5,10,11.5,0,26,30,44,1348.2,1924.9914127028867,2079.6202422788024,2589.7800000000002,"N/A",1,1,1,{"$error":"#VALUE!"},1059,1144,1425,{"$error":"#VALUE!"},182,197,245,{"$error":"#VALUE!"},0.15524884795024954,0.18101651512995334,0.27638200287805947,3.969E-4,1.7345999999999999,2,3.6734700000000002E-4,{"$f":"AK904*IF($G1198=10,1,IF($G1198=15,1,IF($G1198=20,1,(1-(($E1198-50)*0.005)))))","v":266.87553260000635},288.31284965818764,359.04,1,1,1,301,325,404,129,140,174,7.9724745231139052E-2,9.3399462345839068E-2,0.14229549328680621,0.5,8.9,9.9,14.8,null,1498,null,0.9,null,null,0,11.8,13.7,21.85,null,1,1,1,301,325,404,null,0,0,0,1]
["37011",null,null,3,70,40.5,11,11.5,0,26,30,44,1297.44,2611.8926414972211,2821.6982019103875,3513.9,"N/A",1,1,1,{"$error":"#VALUE!"},1437,1553,1934,{"$error":"#VALUE!"},247,267,333,{"$error":"#VALUE!"},0.46565653675932489,0.54119686317361182,0.82942585499803001,3.969E-4,1.7345999999999999,4,5.7428799999999995E-4,{"$f":"AK905*IF($G1199=10,1,IF($G1199=15,1,IF($G1199=20,1,(1-(($E1199-50)*0.005)))))","v":393.3},425.7,530.1,1,1,1,443,479,597,190,206,257,0.28075485600872946,0.32809469565037364,0.50273751597042515,0.9,8.9,9.9,14.8,null,1908,null,0.68,null,null,0,11.8,13.7,21.85,null,1,1,1,443,479,597,null,0,0,0,1]
["37016",null,null,3,70,40.5,16,16.5,0,26,30,44.8,1844.16,3241.8333772189817,3471.5459677567114,4829.7,"N/A",1,1,1,{"$error":"#VALUE!"},1784,1911,2658,{"$error":"#VALUE!"},307,329,457,{"$error":"#VALUE!"},1.3745222506432533,1.5766668716744761,3.025545927592185,2.0829999999999999E-4,1.724,4,1.392796E-3,{"$f":"AK907*IF($G1201=10,1,IF($G1201=15,1,IF($G1201=20,1,(1-(($E1201-50)*0.005)))))","v":446.40000000000003},478.8,666,1,1,1,503,539,750,216,232,323,0.68487146560861945,0.78900932524950707,1.5201708064254629,1.4,8.6999999999999993,9.8000000000000007,14.3,null,2712,null,0.68,null,null,0,10.6,12.5,21.85,null,1,1,1,503,539,750,null,0,0,0,1]
["37020",null,null,3,70,40.5,20,21.5,0,26,30,44.8,2643.2000000000003,3079.6829926739365,3327.0647594078355,4143.24,"N/A",1,1,1,{"$error":"#VALUE!"},1695,1831,2280,{"$error":"#VALUE!"},292,315,392,{"$error":"#VALUE!"},0.33914388737637841,0.3940810733270062,0.60774446827443629,1.2760000000000001E-4,1.7219,2,3.76611E-4,{"$f":"AK908*IF($G1202=10,1,IF($G1202=15,1,IF($G1202=20,1,(1-(($E1202-50)*0.005)))))","v":380.60090160569081},411.17343900116532,512.04,1,1,1,429,463,577,184,199,248,0.13599536954725866,0.15879392849539553,0.24545635076305122,0.9,8.6999999999999993,9.8000000000000007,14.3,null,3304,null,0.8,null,null,0,10.6,12.5,21.85,null,1,1,1,429,463,577,null,0,0,0,1]
["37011",null,null,3,70,40.5,11,11.5,0,26,30,44.8,1513.68,3077.015307780141,3332.5766142436496,4202.8999999999996,"N/A",1,1,1,{"$error":"#VALUE!"},1693,1834,2313,{"$error":"#VALUE!"},291,315,398,{"$error":"#VALUE!"},0.63910803274260397,0.74491158458231732,1.1712699663766284,3.969E-4,1.7345999999999999,4,5.7428799999999995E-4,{"$f":"AK911*IF($G1205=10,1,IF($G1205=15,1,IF($G1205=20,1,(1-(($E1205-50)*0.005)))))","v":463.5},502.2,633.6,1,1,1,522,566,714,224,243,307,0.38561600510201738,0.45121068324681096,0.70876867538270827,0.9,10.1,11.2,17.5,null,2226,null,0.68,null,null,0,11.5,13.3,21.85,null,1,1,1,522,566,714,null,0,0,0,1]
["37015",null,null,3,70,40.5,15,16.5,0,26,30,45.4,2208.8000000000002,2628.9846104428207,2815.4584574952669,3950.36,"N/A",1,1,1,{"$error":"#VALUE!"},1447,1549,2174,{"$error":"#VALUE!"},249,266,374,{"$error":"#VALUE!"},0.31130683830855144,0.35463293692450548,0.69496249042670344,2.0829999999999999E-4,1.724,2,4.6182900000000003E-4,{"$f":"AK912*IF($G1206=10,1,IF($G1206=15,1,IF($G1206=20,1,(1-(($E1206-50)*0.005)))))","v":358.86695423586366},384.32138301819265,539.24,1,1,1,404,433,607,174,186,261,0.15357417712660326,0.17514239868623238,0.34160006638719248,0.7,9.6,10.5,16.100000000000001,null,2761,null,0.8,null,null,0,10.4,12.2,21.85,null,1,1,1,404,433,607,null,0,0,0,1]
["37020",null,null,3,70,40.5,20,21.5,0,26,30,45.4,3083.2000000000003,3628.1091959950468,3929.4415695377957,4955.6400000000003,"N/A",1,1,1,{"$error":"#VALUE!"},1997,2163,2727,{"$error":"#VALUE!"},343,372,469,{"$error":"#VALUE!"},0.46648047415766208,0.54784815869738657,0.8671228719861851,1.2760000000000001E-4,1.7219,2,3.76611E-4,{"$f":"AK914*IF($G1208=10,1,IF($G1208=15,1,IF($G1208=20,1,(1-(($E1208-50)*0.005)))))","v":448.37784746172167},485.61784045001809,612.44000000000005,1,1,1,505,547,690,217,235,297,0.18846217781405064,0.22064752497463508,0.35073868007470987,0.9,9.6,10.5,16.100000000000001,null,3854,null,0.8,null,null,0,10.4,12.2,21.85,null,1,1,1,505,547,690,null,0,0,0,1]
["37021",null,null,3,70,40.5,21,21.5,0,26,30,45.4,3558.4,4951.0649025572329,5302.2438770247491,7439.56,"N/A",1,1,1,{"$error":"#VALUE!"},2725,2918,4094,{"$error":"#VALUE!"},469,502,704,{"$error":"#VALUE!"},1.2190078217985703,1.3942144564404422,2.7200530679395172,1.2760000000000001E-4,1.7219,4,5.1420100000000005E-4,{"$f":"AK915*IF($G1209=10,1,IF($G1209=15,1,IF($G1209=20,1,(1-(($E1209-50)*0.005)))))","v":578.00313285183563},619.00088816889445,868.51800000000003,1,1,1,651,697,978,280,300,421,0.44056688423550583,0.50476026795495699,0.98497290402761695,1.9,9.6,10.5,16.100000000000001,null,4448,null,0.8,null,null,0,10.4,12.2,21.85,null,1,1,1,651,697,978,null,0,0,0,1]
["37011",null,null,3,70,40.5,11,11.5,0,26,30,45.5,1729.92,3533.107636511756,3835.359341571188,4891.8999999999996,"N/A",1,1,1,{"$error":"#VALUE!"},1944,2111,2692,{"$error":"#VALUE!"},334,363,463,{"$error":"#VALUE!"},0.83425054373977958,0.98008109454472259,1.57018646723651,3.969E-4,1.7345999999999999,4,5.7428799999999995E-4,{"$f":"AK917*IF($G1211=10,1,IF($G1211=15,1,IF($G1211=20,1,(1-(($E1211-50)*0.005)))))","v":532.80000000000007},577.80000000000007,737.1,1,1,1,600,651,830,258,280,357,0.50652146715481772,0.59325049824572262,0.94897206881031293,0.9,11,12.4,19.2,null,2544,null,0.68,null,null,0,11.2,13,21.85,null,1,1,1,600,651,830,null,0,0,0,1]
["37015",null,null,3,70,40.5,15,16.5,0,26,30,46.4,2524,3021.1783832091446,3225.6120441880121,4597.96,"N/A",1,1,1,{"$error":"#VALUE!"},1663,1775,2530,{"$error":"#VALUE!"},286,305,435,{"$error":"#VALUE!"},0.40917830806066363,0.46457057876086733,0.93672911368174905,2.0829999999999999E-4,1.724,2,4.6182900000000003E-4,{"$f":"AK918*IF($G1212=10,1,IF($G1212=15,1,IF($G1212=20,1,(1-(($E1212-50)*0.005)))))","v":412.40297880742492},440.30899429620177,627.64,1,1,1,464,496,707,200,213,304,0.20207455114498116,0.22878685601119209,0.46156843846296364,0.7,11.5,12.8,19.600000000000001,null,3155,null,0.8,null,null,0,10,11.8,21.85,null,1,1,1,464,496,707,null,0,0,0,1]
["37020",null,null,3,70,40.5,20,21.5,0,26,30,46.4,3524,4165.887726998767,4522.2727563025155,5768.04,"N/A",1,1,1,{"$error":"#VALUE!"},2293,2489,3174,{"$error":"#VALUE!"},394,428,546,{"$error":"#VALUE!"},0.61390375114570572,0.72332834234347088,1.1721207826273758,1.2760000000000001E-4,1.7219,2,3.76611E-4,{"$f":"AK920*IF($G1214=10,1,IF($G1214=15,1,IF($G1214=20,1,(1-(($E1214-50)*0.005)))))","v":514.83890668473202},558.88255136973487,712.84,1,1,1,580,629,803,249,270,345,0.24741901628699994,0.29042559065707435,0.47188360740901014,0.9,11.5,12.8,19.600000000000001,null,4405,null,0.8,null,null,0,10,11.8,21.85,null,{"$f":"IF((237.3*LN(($AQ$1*EXP(17.27*($AM$3/($AM$3+237.3))))))/(17.27-LN(($AQ$1*EXP(17.27*($AM$3/($AM$3+237.3))))))<(($AM$1+$AM$2)/2),1,IF(1/(1+((2258*((0.622/((101325/(1*611*EXP(17.27*((($AM$1+$AM$2)/2)/((($AM$1+$AM$2)/2)+237.3))))))-1)*1000-(0.622/((101325/($AQ$1*611*EXP(17.27*($AM$3/($AM$3+237.3))))))-1)*1000))/(1005*((($AM$1+$AM$2)/2)-$AM$3))))>1,1,1/(1+((2258*((0.622/((101325/(1*611*EXP(17.27*((($AM$1+$AM$2)/2)/((($AM$1+$AM$2)/2)+237.3))))))-1)*1000-(0.622/((101325/($AQ$1*611*EXP(17.27*($AM$3/($AM$3+237.3))))))-1)*1000))/(1005*((($AM$1+$AM$2)/2)-$AM$3))))))","v":1},1,1,580,629,803,null,0,0,0,1]
["37021",null,null,3,70,40.5,21,21.5,0,26,30,46.4,4066.4,5689.6682460807178,6074.6702425752001,8659.16,"N/A",1,1,1,{"$error":"#VALUE!"},3131,3343,4765,{"$error":"#VALUE!"},539,575,820,{"$error":"#VALUE!"},1.6045033832685285,1.8231420254461663,3.677743823289001,1.2760000000000001E-4,1.7219,4,5.1420100000000005E-4,{"$f":"AK921*IF($G1215=10,1,IF($G1215=15,1,IF($G1215=20,1,(1-(($E1215-50)*0.005)))))","v":664.23004663575978},709.17640959155221,1010.898,1,1,1,748,799,1138,322,344,489,0.58035595564292008,0.66116542663829814,1.3238030620638357,1.9,11.5,12.8,19.600000000000001,null,5083,null,0.8,null,null,0,10,11.8,21.85,null,1,1,1,748,799,1138,null,0,0,0,1]
["37011",null,null,3,70,40.5,11,11.5,0,26,30,46,1946.16,4030.7284303866513,4375.55079813051,5580.9,"N/A",1,1,1,{"$error":"#VALUE!"},2218,2408,3071,{"$error":"#VALUE!"},382,414,528,{"$error":"#VALUE!"},1.081812334412086,1.264185305501947,2.0257990882151833,3.969E-4,1.7345999999999999,4,5.7428799999999995E-4,{"$f":"AK923*IF($G1217=10,1,IF($G1217=15,1,IF($G1217=20,1,(1-(($E1217-50)*0.005)))))","v":607.59282261242038},659.57141639163251,841.26600000000008,1,1,1,684,743,947,294,319,407,0.65190249294762059,0.76331072101451292,1.2231097758147278,0.9,12.2,13.7,22,null,2862,null,0.68,null,null,0,10.9,12.7,21.85,null,1,1,1,684,743,947,null,0,0,0,1]
["37015",null,null,3,70,40.5,15,16.5,0,26,30,46.4,2840,3233.3460619053994,3452.1364439366635,4920.8599999999997,"N/A",1,1,1,{"$error":"#VALUE!"},1779,1900,2708,{"$error":"#VALUE!"},306,327,466,{"$error":"#VALUE!"},0.46758235519836616,0.53305469310585007,1.0732626205406537,2.0829999999999999E-4,1.724,2,4.6182900000000003E-4,{"$f":"AK924*IF($G1218=10,1,IF($G1218=15,1,IF($G1218=20,1,(1-(($E1218-50)*0.005)))))","v":420.6820520547858},449.14828645115074,640.24,1,1,1,474,506,721,204,218,310,0.21011906263822469,0.23949728731960346,0.47972581182447999,0.7,11.5,12.8,19.600000000000001,null,3550,null,0.8,null,null,0,10,11.8,21.85,null,1,1,1,474,506,721,null,0,0,0,1]
["37020",null,null,3,70,40.5,20,21.5,0,26,30,46.4,3964,4497.8275192555193,4882.6094666576164,6227.64,"N/A",1,1,1,{"$error":"#VALUE!"},2475,2687,3427,{"$error":"#VALUE!"},426,462,589,{"$error":"#VALUE!"},0.7166450523755945,0.84165663127446233,1.3622663892459652,1.2760000000000001E-4,1.7219,2,3.76611E-4,{"$f":"AK926*IF($G1220=10,1,IF($G1220=15,1,IF($G1220=20,1,(1-(($E1220-50)*0.005)))))","v":526.1057925837863},571.11330132956857,728.44,1,1,1,592,643,820,255,276,353,0.25935783339831148,0.30334075866393173,0.49380499482776868,0.9,11.5,12.8,19.600000000000001,null,4955,null,0.8,null,null,0,10,11.8,21.85,null,1,1,1,592,643,820,null,0,0,0,1]
["37021",null,null,3,70,40.5,21,21.5,0,26,30,46.4,4575.2,6016.7573462820046,6423.892435808023,9156.9599999999991,"N/A",1,1,1,{"$error":"#VALUE!"},3311,3535,5039,{"$error":"#VALUE!"},569,608,867,{"$error":"#VALUE!"},1.7857416871470411,2.0357076724047265,4.1064451147683956,1.2760000000000001E-4,1.7219,4,5.1420100000000005E-4,{"$f":"AK927*IF($G1221=10,1,IF($G1221=15,1,IF($G1221=20,1,(1-(($E1221-50)*0.005)))))","v":675.11111433229121},720.79376499519947,1027.4580000000001,1,1,1,760,812,1157,327,349,498,0.59826415086211993,0.68025770032401578,1.3723569286126434,1.9,11.5,12.8,19.600000000000001,null,5719,null,0.8,null,null,0,10,11.8,21.85,null,1,1,1,760,812,1157,null,0,0,0,1]
["37011",null,null,3,70,40.5,11,11.5,0,26,30,46.5,2162.4,4422.7050634086982,4820.649682883678,6269.9,"N/A",1,1,1,{"$error":"#VALUE!"},2434,2653,3451,{"$error":"#VALUE!"},419,456,594,{"$error":"#VALUE!"},1.2939294929844043,1.524496046950671,2.5461092975483282,3.969E-4,1.7345999999999999,4,5.7428799999999995E-4,{"$f":"AK929*IF($G1223=10,1,IF($G1223=15,1,IF($G1223=20,1,(1-(($E1223-50)*0.005)))))","v":666.9},726.30000000000007,945,1,1,1,751,818,1064,323,352,458,0.78192814050658477,0.92342110765405983,1.5374833377976835,0.9,13.4,14.8,24,null,3180,null,0.68,null,null,0,10.7,12.5,21.85,null,1,1,1,751,818,1064,null,0,0,0,1]
["37015",null,null,3,70,40.5,15,16.5,0,26,30,47.1,3155.2000000000003,3875.4624109054007,4083.4735576056296,5893.16,"N/A",1,1,1,{"$error":"#VALUE!"},2133,2247,3243,{"$error":"#VALUE!"},367,386,558,{"$error":"#VALUE!"},0.66950290922485456,0.73970228488477141,1.5325821144858711,2.0829999999999999E-4,1.724,2,4.6182900000000003E-4,{"$f":"AK930*IF($G1224=10,1,IF($G1224=15,1,IF($G1224=20,1,(1-(($E1224-50)*0.005)))))","v":529.01617838795164},557.41053504066974,804.44,1,1,1,596,628,906,256,270,390,0.3288087412882077,0.36523309247242947,0.75492276320615104,0.7,13.2,14.7,23.5,null,3944,null,0.8,null,null,0,10,11.4,21.85,null,1,1,1,596,628,906,null,0,0,0,1]
["37020",null,null,3,70,40.5,20,21.5,0,26,30,47.1,4404.8,5214.8121821672385,5684.028740747025,7392.84,"N/A",1,1,1,{"$error":"#VALUE!"},2870,3128,4069,{"$error":"#VALUE!"},494,538,700,{"$error":"#VALUE!"},0.96115091487356485,1.1383114492630568,1.9186794902697226,1.2760000000000001E-4,1.7219,2,3.76611E-4,{"$f":"AK932*IF($G1226=10,1,IF($G1226=15,1,IF($G1226=20,1,(1-(($E1226-50)*0.005)))))","v":644.46964929787134},702.45751547390614,913.64,1,1,1,726,791,1029,312,340,442,0.38668335259881653,0.45843369339127987,0.77097391507324564,0.9,13.2,14.7,23.5,null,5506,null,0.8,null,null,0,10,11.4,21.85,null,1,1,1,726,791,1029,null,0,0,0,1]
["37021",null,null,3,70,40.5,21,21.5,0,26,30,47.1,5083.2000000000007,7298.5082710627348,7690.2476078687869,11098.36,"N/A",1,1,1,{"$error":"#VALUE!"},4017,4232,6108,{"$error":"#VALUE!"},691,728,1051,{"$error":"#VALUE!"},2.6216383582720124,2.9064640317738428,6.0099922509755617,1.2760000000000001E-4,1.7219,4,5.1420100000000005E-4,{"$f":"AK933*IF($G1227=10,1,IF($G1227=15,1,IF($G1227=20,1,(1-(($E1227-50)*0.005)))))","v":852.0511705755265},897.78407216165772,1295.6579999999999,1,1,1,960,1011,1459,413,435,627,0.9483676626923222,1.0506831875572442,2.1633605095728154,1.9,13.2,14.7,23.5,null,6354,null,0.8,null,null,0,10,11.4,21.85,null,1,1,1,960,1011,1459,null,0,0,0,1]
["37011",null,null,3,70,40.5,11,11.5,0,26,30,46.9,2378.6400000000003,4831.2827990970827,5278.770565343093,6958.9,"N/A",1,1,1,{"$error":"#VALUE!"},2659,2905,3830,{"$error":"#VALUE!"},457,500,659,{"$error":"#VALUE!"},1.5309829796245866,1.8226053972652441,3.1150784273005789,3.969E-4,1.7345999999999999,4,5.7428799999999995E-4,{"$f":"AK935*IF($G1229=10,1,IF($G1229=15,1,IF($G1229=20,1,(1-(($E1229-50)*0.005)))))","v":728.2685508189013},795.72294762922161,1048.9860000000001,1,1,1,820,896,1181,353,385,508,0.92850414459527297,1.0983219744472723,1.8795918502728293,0.9,13.4,14.8,24,null,3498,null,0.68,null,null,0,10.5,12.3,21.85,null,1,1,1,820,896,1181,null,0,0,0,1]
["37015",null,null,3,70,40.5,15,16.5,0,26,30,47.8,3470.4,4302.5567439745028,4481.7988603493422,6540.76,"N/A",1,1,1,{"$error":"#VALUE!"},2368,2467,3600,{"$f":"ROUND(U1230*3600/(4186*ABS($O$1-$O$2)),0)","v":{"$error":"#VALUE!"}},{"$f":"ROUND(V1230*3600/(4186*ABS($O$1-$O$2)),0)","v":407},{"$f":"ROUND(W1230*3600/(4186*ABS($O$1-$O$2)),0)","v":424},{"$f":"ROUND(X1230*3600/(4186*ABS($O$1-$O$2)),0)","v":619},{"$error":"#VALUE!"},0.82132271067615636,0.89049458609047361,1.8816925577330761,2.0829999999999999E-4,1.724,2,4.6182900000000003E-4,{"$f":"AK936*IF($G1230=10,1,IF($G1230=15,1,IF($G1230=20,1,(1-(($E1230-50)*0.005)))))","v":587.31626956044784},611.78353807115786,892.84,1,1,1,661,689,1006,{"$f":"ROUND(AQ1230*3600/(4186*ABS($AM$1-$AM$2)),0)","v":284},{"$f":"ROUND(AR1230*3600/(4186*ABS($AM$1-$AM$2)),0)","v":296},{"$f":"ROUND(AS1230*3600/(4186*ABS($AM$1-$AM$2)),0)","v":433},0.40355005454055271,0.43789828115892032,0.92823658831215305,0.7,15.5,16.8,27.5,null,4338,null,0.8,null,null,0,10,11.1,21.85,null,1,1,1,661,689,1006,null,0,0,0,1]
["37020",null,null,3,70,40.5,20,21.5,0,26,30,47.8,4845.6000000000004,5696.5662496175182,6224.1991397456159,8205.24,"N/A",1,1,1,{"$error":"#VALUE!"},3135,3425,4516,{"$error":"#VALUE!"},539,589,777,{"$error":"#VALUE!"},1.142510729345164,1.3622663892459652,2.3601212611527043,1.2760000000000001E-4,1.7219,2,3.76611E-4,{"$f":"AK938*IF($G1232=10,1,IF($G1232=15,1,IF($G1232=20,1,(1-(($E1232-50)*0.005)))))","v":704.00695650122941},769.21417236639559,1014.04,1,1,1,793,866,1142,341,372,491,0.46110823072911156,0.54784815869738657,0.9496137396602875,0.9,15.5,16.8,27.5,null,6057,null,0.8,null,null,0,10,11.1,21.85,null,1,1,1,793,866,1142,null,0,0,0,1]
["37021",null,null,3,70,40.5,21,21.5,0,26,30,47.8,5591.2000000000007,8102.8384881891643,8440.3982243391856,12317.96,"N/A",1,1,1,{"$error":"#VALUE!"},4459,4645,6779,{"$error":"#VALUE!"},767,799,1166,{"$error":"#VALUE!"},3.2224412141922052,3.4937732765210314,7.3816243995913684,1.2760000000000001E-4,1.7219,4,5.1420100000000005E-4,{"$f":"AK939*IF($G1233=10,1,IF($G1233=15,1,IF($G1233=20,1,(1-(($E1233-50)*0.005)))))","v":945.95124954769858},985.35905147705273,1438.038,1,1,1,1065,1110,1619,458,477,696,1.163195164761883,1.2604123236828262,2.6592774078776791,1.9,15.5,16.8,27.5,null,6989,null,0.8,null,null,0,10,11.1,21.85,null,1,1,1,1065,1110,1619,null,0,0,0,1]
["37011",null,null,3,70,40.5,11,11.5,0,26,30,47.2,2594.88,5237.9452617275747,5738.028861571599,7647.9,"N/A",1,1,1,{"$error":"#VALUE!"},2883,3158,4209,{"$error":"#VALUE!"},496,543,724,{"$error":"#VALUE!"},1.7944331191074694,2.1389577736654419,3.7399240002879233,3.969E-4,1.7345999999999999,4,5.7428799999999995E-4,{"$f":"AK941*IF($G1235=10,1,IF($G1235=15,1,IF($G1235=20,1,(1-(($E1235-50)*0.005)))))","v":789.30000000000007},864.9,1152.9000000000001,1,1,1,889,974,1298,382,419,558,1.081812334412086,1.2939294929844043,2.2551153721248807,0.9,14.8,16.600000000000001,28,null,3816,null,0.68,null,null,0,10.4,12.2,21.85,null,1,1,1,889,974,1298,null,0,0,0,1]
["37015",null,null,3,70,40.5,15,16.5,0,26,30,48.1,3786.4,4729.715265656896,4901.7743245246338,7188.36,"N/A",1,1,1,{"$error":"#VALUE!"},2603,2698,3956,{"$error":"#VALUE!"},448,464,680,{"$error":"#VALUE!"},0.99286461566069695,1.0641763295426485,2.2662737753579245,2.0829999999999999E-4,1.724,2,4.6182900000000003E-4,{"$f":"AK942*IF($G1236=10,1,IF($G1236=15,1,IF($G1236=20,1,(1-(($E1236-50)*0.005)))))","v":645.62512273636446},669.11187505864359,981.24,1,1,1,727,754,1105,313,324,475,0.48893455812292236,0.52344151983435117,1.1146246904228734,0.7,16.399999999999999,17.7,29.7,null,4733,null,0.8,null,null,0,10,10.9,21.85,null,1,1,1,727,754,1105,null,0,0,0,{"$f":"IF(SUM(BV1236:BX1236)=0,1,0)","v":1}]
["37020",null,null,3,70,40.5,20,21.5,0,26,30,48.1,5285.6,6176.0620183272586,6765.7106634844222,9017.64,"N/A",1,1,1,{"$error":"#VALUE!"},3399,3723,4963,{"$error":"#VALUE!"},585,640,854,{"$error":"#VALUE!"},1.3439796129753172,1.6061838247058582,2.8469388483906695,1.2760000000000001E-4,1.7219,2,3.76611E-4,{"$f":"AK944*IF($G1238=10,1,IF($G1238=15,1,IF($G1238=20,1,(1-(($E1238-50)*0.005)))))","v":763.26517311676128},836.13657141043336,1114.44,1,1,1,860,942,1255,370,405,540,0.54202822205176926,0.6483309915887967,1.1467176916186099,0.9,16.399999999999999,17.7,29.7,null,6607,null,0.8,null,null,0,10,10.9,21.85,null,1,1,1,860,942,1255,null,0,0,0,1]
["37021",null,null,3,70,40.5,21,21.5,0,26,30,48.1,6100,8907.2895892451361,9231.3217513746804,13537.56,"N/A",1,1,1,{"$error":"#VALUE!"},4902,5080,7450,{"$error":"#VALUE!"},843,874,1281,{"$error":"#VALUE!"},3.884605675846732,4.1722990454034079,8.8929601316072784,1.2760000000000001E-4,1.7219,4,5.1420100000000005E-4,{"$f":"AK945*IF($G1239=10,1,IF($G1239=15,1,IF($G1239=20,1,(1-(($E1239-50)*0.005)))))","v":1039.865440895968},1077.6939906204714,1580.4180000000001,1,1,1,1171,1214,1780,504,522,765,1.405207371198778,1.5060676456541999,3.2058440891723312,1.9,16.399999999999999,17.7,29.7,null,7625,null,0.8,null,null,0,10,10.9,21.85,null,1,1,1,1171,1214,1780,null,0,0,0,1]
["37011",null,null,3,70,40.5,11,11.5,0,26,30,47.8,2811.1200000000003,5669.0920000000006,6252.6749999999993,8336.9,"N/A",1,1,1,{"$error":"#VALUE!"},3120,3441,4588,{"$error":"#VALUE!"},537,592,789,{"$error":"#VALUE!"},2.0933342377877016,2.5294910626109828,4.4204405021128901,3.969E-4,1.7345999999999999,4,5.7428799999999995E-4,{"$f":"AK947*IF($G1241=10,1,IF($G1241=15,1,IF($G1241=20,1,(1-(($E1241-50)*0.005)))))","v":854.56008000000008},942.52949999999987,1256.7059999999999,1,1,1,962,1061,1415,414,456,608,1.264185305501947,1.524496046950671,2.6639238627410866,0.9,16.2,18.600000000000001,31.4,null,4134,null,0.68,null,null,0,10.199999999999999,11.9,21.85,null,1,1,1,962,1061,1415,null,0,0,0,1]
["37015",null,null,3,70,40.5,15,16.5,0,26,30,48.1,4101.6000000000004,4942.1733310961072,5121.9619484404784,7511.2599999999993,"N/A",1,1,1,{"$error":"#VALUE!"},2720,2819,4134,{"$error":"#VALUE!"},468,485,711,{"$error":"#VALUE!"},1.0823871980623967,1.1614915818078331,2.4752952528096794,2.0829999999999999E-4,1.724,2,4.6182900000000003E-4,{"$f":"AK948*IF($G1242=10,1,IF($G1242=15,1,IF($G1242=20,1,(1-(($E1242-50)*0.005)))))","v":653.91552727192982},677.70396216321694,993.84,1,1,1,736,763,1119,316,328,481,0.49822999224583747,0.53627833487334409,1.1426300176014863,0.7,16.399999999999999,17.7,29.7,null,5127,null,0.8,null,null,0,10,10.9,21.85,null,1,1,1,736,763,1119,null,0,0,0,1]
["37020",null,null,3,70,40.5,20,21.5,0,26,30,48.1,{"$f":"IF($N1244-($BE1244*$BG1244)>100,$BE1244*$BG1244,$N1244-95)","v":5726.4000000000005},6444.5232000000005,7107.93,9477.24,"N/A",1,1,1,{"$f":"ROUND(M1244*POWER(CF_heat,Q1244),0)","v":{"$error":"#VALUE!"}},{"$f":"ROUND(N1244*POWER(CF_heat,R1244),0)","v":3547},{"$f":"ROUND(O1244*POWER(CF_heat,S1244),0)","v":3912},{"$f":"ROUND(P1244*POWER(CF_heat,T1244),0)","v":5216},{"$error":"#VALUE!"},610,673,897,{"$error":"#VALUE!"},1.4602864133458,1.7746419320129523,3.1385275457849224,{"$f":"IF($G1244=$CO$103,CP$103,IF($G1244=$CO$104,CP$104,IF($G1244=$CO$105,CP$105,IF($G1244=$CO$107,CP$107,IF($G1244=$CO$108,CP$108,IF($G1244=$CO$109,CP$109,IF($G1244=$CO$111,CP$111,IF($G1244=$CO$112,CP$112,IF($G1244=$CO$113,CP$113,IF($G1244=$CO$115,CP$115,IF($G1244=$CO$116,CP$116,IF($G1244=$CO$117,CP$117,IF($G1244=$CO$119,CP$119,IF($G1244=$CO$120,CP$120,))))))))))))))","v":1.2760000000000001E-4},{"$f":"IF($G1244=$CO$103,CQ$103,IF($G1244=$CO$104,CQ$104,IF($G1244=$CO$105,CQ$105,IF($G1244=$CO$107,CQ$107,IF($G1244=$CO$108,CQ$108,IF($G1244=$CO$109,CQ$109,IF($G1244=$CO$111,CQ$111,IF($G1244=$CO$112,CQ$112,IF($G1244=$CO$113,CQ$113,IF($G1244=$CO$115,CQ$115,IF($G1244=$CO$116,CQ$116,IF($G1244=$CO$117,CQ$117,IF($G1244=$CO$119,CQ$119,IF($G1244=$CO$120,CQ$120,))))))))))))))","v":1.7219},{"$f":"IF($G1244=$CO$103,CR$103,IF($G1244=$CO$104,CR$104,IF($G1244=$CO$105,CR$105,IF($G1244=$CO$107,CR$107,IF($G1244=$CO$108,CR$108,IF($G1244=$CO$109,CR$109,IF($G1244=$CO$111,CR$111,IF($G1244=$CO$112,CR$112,IF($G1244=$CO$113,CR$113,IF($G1244=$CO$115,CR$115,IF($G1244=$CO$116,CR$116,IF($G1244=$CO$117,CR$117,IF($G1244=$CO$119,CR$119,IF($G1244=$CO$120,CR$120,))))))))))))))","v":2},{"$f":"IF($G1244=$CO$103,CS$103,IF($G1244=$CO$104,CS$104,IF($G1244=$CO$105,CS$105,IF($G1244=$CO$107,CS$107,IF($G1244=$CO$108,CS$108,IF($G1244=$CO$109,CS$109,IF($G1244=$CO$111,CS$111,IF($G1244=$CO$112,CS$112,IF($G1244=$CO$113,CS$113,IF($G1244=$CO$115,CS$115,IF($G1244=$CO$116,CS$116,IF($G1244=$CO$117,CS$117,IF($G1244=$CO$119,CS$119,IF($G1244=$CO$120,CS$120,))))))))))))))","v":3.76611E-4},{"$f":"AK950*IF($G1244=10,1,IF($G1244=15,1,IF($G1244=20,1,(1-(($E1244-50)*0.005)))))","v":768.42720000000008},847.53,1130.04,1,1,1,{"$f":"ROUND(AK1244*POWER(CF_cool,AN1244),0)","v":865},954,1273,372,410,547,0.54784815869738657,0.66428803783360069,1.1763815159228097,0.9,16.399999999999999,17.7,29.7,null,7158,null,{"$f":"IF(G1244=10,0.9,IF(G1244=11,0.68,IF(G1244=15,0.8,IF(G1244=16,0.68,IF(G1244=20,0.8,IF(G1244=21,0.8))))))","v":0.8},null,null,0,10,10.9,21.85,null,1,1,1,{"$f":"AQ1244/BO1244","v":865},954,1273,null,{"$f":"BR1244-AQ1244","v":0},{"$f":"BS1244-AR1244","v":0},{"$f":"BT1244-AS1244","v":0},1]
[{"$f":"CONCATENATE(D1245,E1245,G1245)","v":"37021"},null,null,3,70,40.5,21,21.5,0,26,30,48.1,6608,9234.8263652613623,9570.7750567366256,14035.359999999999,"N/A",1,1,1,{"$error":"#VALUE!"},5082,5267,7724,{"$error":"#VALUE!"},874,906,1329,{"$f":"(($AG1245*(Y1245^$AH1245)*((($F1245-14.4)*$AI1245)/100))+($AJ1245*(Y1245^2)))*0.0098","v":{"$error":"#VALUE!"}},{"$f":"(($AG1245*(Z1245^$AH1245)*((($E1245-14.4)*$AI1245)/100))+($AJ1245*(Z1245^2)))*0.0098","v":4.1722990454034079},{"$f":"(($AG1245*(AA1245^$AH1245)*((($E1245-14.4)*$AI1245)/100))+($AJ1245*(AA1245^2)))*0.0098","v":4.4799615898579335},{"$f":"(($AG1245*(AB1245^$AH1245)*((($E1245-14.4)*$AI1245)/100))+($AJ1245*(AB1245^2)))*0.0098","v":9.5650630824084466},1.2760000000000001E-4,1.7219,4,5.1420100000000005E-4,{"$f":"AK951*IF($G1245=10,1,IF($G1245=15,1,IF($G1245=20,1,(1-(($E1245-50)*0.005)))))","v":1050.7614011427111},1088.986474772086,1596.9780000000001,1,1,1,1183,1226,1798,509,527,773,{"$f":"(($AG1245*(AT1245^$AH1245)*((($E1245-14.4)*$AI1245)/100))+($AJ1245*(AT1245^2)))*0.0098","v":1.4328767429939619},{"$f":"(($AG1245*(AU1245^$AH1245)*((($E1245-14.4)*$AI1245)/100))+($AJ1245*(AU1245^2)))*0.0098","v":1.5346988549055478},{"$f":"(($AG1245*(AV1245^$AH1245)*((($E1245-14.4)*$AI1245)/100))+($AJ1245*(AV1245^2)))*0.0098","v":3.2724875442534396},1.9,16.399999999999999,17.7,29.7,null,8260,null,0.8,null,null,0,10,10.9,21.85,null,1,1,1,1183,{"$f":"AR1245/BP1245","v":1226},{"$f":"AS1245/BQ1245","v":1798},null,0,0,0,1]
["37015",null,null,3,70,40.5,15,16.5,0,26,30,48.9,4417.6000000000004,5583.9635634029,5708.9475468201636,8483.56,"N/A",1,1,1,{"$error":"#VALUE!"},3073,3142,4669,{"$error":"#VALUE!"},529,540,803,{"$error":"#VALUE!"},1.3790664056045863,1.4363510195656732,3.1494299395573164,2.0829999999999999E-4,1.724,2,4.6182900000000003E-4,{"$f":"AK954*IF($G1248=10,1,IF($G1248=15,1,IF($G1248=20,1,(1-(($E1248-50)*0.005)))))","v":762.23344503523219},779.29426056038062,1158.04,1,1,1,858,878,1304,369,378,561,0.67672904627185848,0.70972212310247274,1.5489213813274845,0.7,19.3,20.399999999999999,34.5,null,5522,null,0.8,null,null,0,10,10.6,21.85,null,1,1,1,858,878,1304,null,0,0,0,1]
["37016",null,null,3,70,40.5,16,16.5,0,26,30,48.9,4303.04,8165.5551181941737,8348.321999442087,12405.7,"N/A",1,1,1,{"$error":"#VALUE!"},4494,4594,6827,{"$error":"#VALUE!"},773,790,1174,{"$error":"#VALUE!"},8.5886971888160009,8.9679146435458499,19.702166064370228,2.0829999999999999E-4,1.724,4,1.392796E-3,{"$f":"AK955*IF($G1249=10,1,IF($G1249=15,1,IF($G1249=20,1,(1-(($E1249-50)*0.005)))))","v":1125},1150.2,1710,1,1,1,1267,1295,1926,545,557,828,4.2911310766087905,4.4806956039678667,9.845041255904329,1.4,19.3,20.399999999999999,34.5,null,6328,null,0.68,null,null,0,10,10.6,21.85,null,1,1,1,1267,1295,1926,null,0,0,0,1]
["37021",null,null,3,70,40.5,21,21.5,0,26,30,48.1,7116.8,10516.06232539558,10751.439821034392,15976.76,"N/A",1,1,1,{"$error":"#VALUE!"},5787,5917,8793,{"$error":"#VALUE!"},995,1018,1512,{"$error":"#VALUE!"},5.3927010883897948,5.6422156419543077,12.350274816839217,1.2760000000000001E-4,1.7219,4,5.1420100000000005E-4,{"$f":"AK957*IF($G1251=10,1,IF($G1251=15,1,IF($G1251=20,1,(1-(($E1251-50)*0.005)))))","v":1135.6028061233897},1161.0206228189252,1725.2896500000002,1,1,1,1279,1308,1943,550,562,835,1.6698418474483563,1.7425934751262921,3.8120170623040548,1.9,19.3,20.399999999999999,34.5,null,8896,null,0.8,null,null,0,10,10.6,21.85,null,1,1,1,1279,1308,1943,null,0,0,0,1]
["37010",null,null,3,70,40.5,10,11.5,0,26,30,47.8,3369.6,4485,4951,6595,"N/A",1,1,1,{"$error":"#VALUE!"},2468,2725,3629,{"$error":"#VALUE!"},425,469,624,{"$error":"#VALUE!"},0.80700294185012023,0.97782351605083417,1.7069219458264953,3.969E-4,1.7345999999999999,2,3.6734700000000002E-4,{"$f":"AK958*IF($G1252=10,1,IF($G1252=15,1,IF($G1252=20,1,(1-(($E1252-50)*0.005)))))","v":595},658,877,1,1,1,670,741,988,288,319,425,0.3784115482331547,0.46163842784065645,0.80700294185012023,0.5,16.2,18.600000000000001,31.4,null,3744,null,0.9,null,null,0,10.199999999999999,11.9,21.85,null,1,1,1,670,741,988,null,0,0,0,1]
["37015",null,null,3,70,40.5,15,16.5,0,26,30,48.9,4732.8,5796,5926,8806,"N/A",1,1,1,{"$error":"#VALUE!"},3190,3261,4846,{"$error":"#VALUE!"},549,561,834,{"$error":"#VALUE!"},1.4840798469586753,1.5489213813274845,3.394700364974709,2.0829999999999999E-4,1.724,2,4.6182900000000003E-4,{"$f":"AK960*IF($G1254=10,1,IF($G1254=15,1,IF($G1254=20,1,(1-(($E1254-50)*0.005)))))","v":771},788,1171,1,1,1,868,887,1319,373,381,567,0.69129659164010437,0.72089267569905946,1.5818576419466857,0.7,19.3,20.399999999999999,34.5,null,5916,null,0.8,null,null,0,10,10.6,21.85,null,1,1,1,868,887,1319,null,0,0,0,1]
["37016",null,null,3,70,40.5,16,16.5,0,26,30,48.9,4610.4000000000005,8592,8784,13053,"N/A",1,1,1,{"$error":"#VALUE!"},4729,4834,7184,{"$error":"#VALUE!"},813,831,1236,{"$error":"#VALUE!"},9.4939440908010511,9.9160217391292527,21.824188065394718,2.0829999999999999E-4,1.724,4,1.392796E-3,{"$f":"AK961*IF($G1255=10,1,IF($G1255=15,1,IF($G1255=20,1,(1-(($E1255-50)*0.005)))))","v":1134},1159.2,1723.5,1,1,1,1277,1305,1941,549,561,835,4.3538665848297509,4.5447890515353686,10.011056971637185,{"$f":"ROUND(IF(G1255=10,$CO$92*E1255,IF(G1255=11,$CO$93*E1255,IF(G1255=15,$CO$94*E1255,IF(G1255=16,$CO$95*E1255,IF(G1255=20,$CO$96*E1255,IF(G1255=21,$CO$97*E1255,)))))),1)","v":1.4},19.3,20.399999999999999,34.5,null,6780,null,0.68,null,null,0,10,10.6,21.85,null,1,1,1,1277,1305,1941,null,0,0,0,1]
["37021",null,null,3,70,40.5,21,21.5,0,26,30,48.1,7624.8,10844,11086,16475,"N/A",1,1,1,{"$error":"#VALUE!"},5968,6101,9067,{"$error":"#VALUE!"},1027,1049,1560,{"$error":"#VALUE!"},5.7413756903134887,5.9873748034484793,13.139220100973509,1.2760000000000001E-4,1.7219,4,5.1420100000000005E-4,{"$f":"AK963*IF($G1257=10,1,IF($G1257=15,1,IF($G1257=20,1,(1-(($E1257-50)*0.005)))))","v":1321.2},1350.9,2007.9,1,1,1,1488,1521,2261,640,654,972,2.252918233731716,2.3513781382416656,5.1487861799782975,1.9,19.3,20.399999999999999,34.5,null,9531,null,0.8,null,null,0,10,10.6,21.85,null,1,1,1,1488,1521,2261,null,0,0,0,1]
["39010",null,null,3,90,40.5,10,11.5,0,26,30,38.799999999999997,554,649,695,812,"N/A",1,1,1,{"$error":"#VALUE!"},357,382,447,{"$error":"#VALUE!"},61,66,77,{"$error":"#VALUE!"},2.0745682765733558E-2,2.4107960028682891E-2,3.235385746692173E-2,3.969E-4,1.7345999999999999,2,3.6734700000000002E-4,{"$f":"AK866*IF($G1258=10,1,IF($G1258=15,1,IF($G1258=20,1,(1-(($E1258-50)*0.005)))))","v":90.020119234756137},96.328259324977694,112.64,1,1,1,101,108,127,43,46,55,1.0663899428010024E-2,1.2122434319863627E-2,1.7031751142641705E-2,0.6,3.6,4.0999999999999996,5.0999999999999996,null,685,null,0.9,null,null,0,14.2,16.2,21.85,null,1,1,1,101,108,127,null,0,0,0,{"$f":"IF(SUM(BV1258:BX1258)=0,1,0)","v":1}]
["39010",null,null,3,90,40.5,10,11.5,0,26,30,40,738.9,841.69225687813923,901.35950941531064,1066.3800000000001,"N/A",1,1,1,{"$error":"#VALUE!"},463,496,587,{"$error":"#VALUE!"},80,85,101,{"$error":"#VALUE!"},3.480410789388929E-2,3.9078603399283256E-2,5.4349648935862721E-2,3.969E-4,1.7345999999999999,2,3.6734700000000002E-4,{"$f":"AK868*IF($G1260=10,1,IF($G1260=15,1,IF($G1260=20,1,(1-(($E1260-50)*0.005)))))","v":116.68990721587436},124.96201154556491,147.84,1,1,1,131,141,166,56,61,71,1.7626342308608517E-2,2.0745682765733558E-2,2.771187015446952E-2,0.6,4.8,5.4,6.8,null,821,null,0.9,null,null,0,13.6,15.6,21.85,null,1,1,1,131,141,166,null,0,0,0,1]
["39011",null,null,3,90,40.5,11,11.5,0,26,30,40,717.40000000000009,1142.0361657917249,1222.9946868592929,1446.9,"N/A",1,1,1,{"$error":"#VALUE!"},629,673,796,{"$error":"#VALUE!"},108,116,137,{"$error":"#VALUE!"},0.10524257458766274,0.12055334627645463,0.16545208362851668,3.969E-4,1.7345999999999999,4,5.7428799999999995E-4,{"$f":"AK869*IF($G1261=10,1,IF($G1261=15,1,IF($G1261=20,1,(1-(($E1261-50)*0.005)))))","v":152.80000000000001},164,193.60000000000002,1,1,1,172,185,218,74,80,94,5.1371249949593772E-2,5.954755146777857E-2,8.0851853598976328E-2,1.2,4.8,5.4,6.8,null,1055,null,0.68,null,null,0,13.6,15.6,21.85,null,1,1,1,172,185,218,null,0,0,0,1]
["39016",null,null,3,90,40.5,16,16.5,0,26,30,41.1,1059.44,1399.7241764138612,1502.5729206967153,1988.7,"N/A",1,1,1,{"$error":"#VALUE!"},770,827,1094,{"$error":"#VALUE!"},132,142,188,{"$error":"#VALUE!"},0.26577617988746643,0.30692527513830892,0.53384598385225723,2.0829999999999999E-4,1.724,4,1.392796E-3,{"$f":"AK871*IF($G1263=10,1,IF($G1263=15,1,IF($G1263=20,1,(1-(($E1263-50)*0.005)))))","v":171.20000000000002},184,244,1,1,1,193,207,275,83,89,118,0.10659066786590483,0.12228284719166986,0.21309103346242414,1.8,4.8,5.5,7.2,null,1558,null,0.68,null,null,0,12.3,14.4,21.85,null,1,1,1,193,207,275,null,0,0,0,1]
["39020",null,null,3,90,40.5,20,21.5,0,26,30,41.1,1251.575008837732,1346.575008837732,1442.0332127786496,1706.04,"N/A",1,1,1,{"$error":"#VALUE!"},741,794,939,{"$error":"#VALUE!"},127,137,162,{"$error":"#VALUE!"},6.7456799064342002E-2,7.8305722264763483E-2,0.10891673537133954,1.2760000000000001E-4,1.7219,2,3.76611E-4,{"$f":"AK872*IF($G1264=10,1,IF($G1264=15,1,IF($G1264=20,1,(1-(($E1264-50)*0.005)))))","v":166.41571994991173},178.21286873827722,210.84,1,1,1,187,201,237,80,86,102,2.7198373445814474E-2,3.1348805220849138E-2,4.3834427196312926E-2,1.2,4.8,5.5,7.2,null,1774,null,0.8,null,null,0,12.3,14.4,21.85,null,1,1,1,187,201,237,null,0,0,0,1]
["39010",null,null,3,90,40.5,10,11.5,0,26,30,41,862.2,1029.7403904507714,1104.2859635902939,1320.28,"N/A",1,1,1,{"$error":"#VALUE!"},567,608,727,{"$error":"#VALUE!"},98,105,125,{"$error":"#VALUE!"},5.130224001607897E-2,5.8544459034750522E-2,8.1762865170908194E-2,3.969E-4,1.7345999999999999,2,3.6734700000000002E-4,{"$f":"AK874*IF($G1266=10,1,IF($G1266=15,1,IF($G1266=20,1,(1-(($E1266-50)*0.005)))))","v":142.7603849699376},153.09517888293954,183.04,1,1,1,161,172,206,69,74,89,2.6241388402704489E-2,2.998970292919689E-2,4.2669333600542279E-2,0.6,5.5,5.9,7.9,null,958,null,0.9,null,null,0,13.2,15.1,21.85,null,1,1,1,161,172,206,null,0,0,0,{"$f":"IF(SUM(BV1266:BX1266)=0,1,0)","v":1}]
["39011",null,null,3,90,40.5,11,11.5,0,26,30,41,837.08,1397.1861540381678,1498.3320774196782,1791.4,"N/A",1,1,1,{"$error":"#VALUE!"},769,825,986,{"$error":"#VALUE!"},132,142,170,{"$error":"#VALUE!"},0.15414634227636631,0.1771407597023385,0.24963110053828763,3.969E-4,1.7345999999999999,4,5.7428799999999995E-4,{"$f":"AK875*IF($G1267=10,1,IF($G1267=15,1,IF($G1267=20,1,(1-(($E1267-50)*0.005)))))","v":187.21077756285001},200.763450489673,240.03200000000004,1,1,1,211,226,270,91,97,116,7.6025619092125282E-2,8.5819787357881219E-2,0.12055334627645463,1.2,5.5,5.9,7.9,null,1231,null,0.68,null,null,0,13.2,15.1,21.85,null,1,1,1,211,226,270,null,0,0,0,1]
["39016",null,null,3,90,40.5,16,16.5,0,26,30,41.1,1235.5600000000002,1627.62717250317,1747.2217424001376,2312.5,"N/A",1,1,1,{"$error":"#VALUE!"},896,962,1273,{"$error":"#VALUE!"},154,165,219,{"$error":"#VALUE!"},0.36016635113087053,0.41266687566708049,0.72153839860534896,2.0829999999999999E-4,1.724,4,1.392796E-3,{"$f":"AK877*IF($G1269=10,1,IF($G1269=15,1,IF($G1269=20,1,(1-(($E1269-50)*0.005)))))","v":175.67815881374756},188.58661487700513,249.60000000000002,1,1,1,198,212,281,85,91,121,0.11170317522715792,0.12774989773261261,0.22389663870023413,1.8,5.0999999999999996,5.6,7.2,null,1817,null,0.68,null,null,0,12.3,14.4,21.85,null,1,1,1,198,212,281,null,0,0,0,1]
["39020",null,null,3,90,40.5,20,21.5,0,26,30,41.1,1414.840819712653,1509.840819712653,1619.1421060355642,1935.84,"N/A",1,1,1,{"$error":"#VALUE!"},831,891,1065,{"$error":"#VALUE!"},143,153,183,{"$error":"#VALUE!"},8.5198189650325995E-2,9.7323337637006929E-2,0.13847189190219461,1.2760000000000001E-4,1.7219,2,3.76611E-4,{"$f":"AK878*IF($G1270=10,1,IF($G1270=15,1,IF($G1270=20,1,(1-(($E1270-50)*0.005)))))","v":170.52628152222005},182.87112058001478,218.64000000000001,1,1,1,192,206,246,83,89,106,2.9237277338890501E-2,3.3532896255490198E-2,4.7277372144446758E-2,1.2,5.0999999999999996,5.6,7.2,null,2070,null,0.8,null,null,0,12.3,14.4,21.85,null,1,1,1,192,206,246,null,0,0,0,1]
["39021",null,null,3,90,40.5,21,21.5,0,26,30,41.1,1882.8291945358951,1977.8291945358951,2123.1558613833213,2810.06,"N/A",1,1,1,{"$error":"#VALUE!"},1088,1168,1546,{"$error":"#VALUE!"},187,201,266,{"$error":"#VALUE!"},0.20708515307159422,0.23854431183889724,0.4131835411010325,1.2760000000000001E-4,1.7219,4,5.1420100000000005E-4,{"$f":"AK879*IF($G1271=10,1,IF($G1271=15,1,IF($G1271=20,1,(1-(($E1271-50)*0.005)))))","v":192.24370827624901},206.3693655490612,273.13600000000002,1,1,1,217,232,308,93,100,132,5.2856119130027204E-2,6.0898209419957453E-2,0.10474879063873621,2.4,5.0999999999999996,5.6,7.2,null,2639,null,0.8,null,null,0,12.3,14.4,21.85,null,1,1,1,217,232,308,null,0,0,0,1]
["39010",null,null,3,90,40.5,10,11.5,0,26,30,41.8,985.5,1214.2269940407766,1304.1433704057049,1574.18,"N/A",1,1,1,{"$error":"#VALUE!"},668,718,866,{"$error":"#VALUE!"},115,123,149,{"$error":"#VALUE!"},6.9687281526026698E-2,7.9273358405672414E-2,0.11452295750069769,3.969E-4,1.7345999999999999,2,3.6734700000000002E-4,{"$f":"AK880*IF($G1272=10,1,IF($G1272=15,1,IF($G1272=20,1,(1-(($E1272-50)*0.005)))))","v":168.33710197020613},180.80286190736828,218.24,1,1,1,190,204,246,82,88,106,3.6485332636947657E-2,4.1757418487639475E-2,5.961662337122392E-2,0.6,6.3,6.8,9.1,null,1095,null,0.9,null,null,0,12.8,14.7,21.85,null,1,1,1,190,204,246,null,0,0,0,1]
["39011",null,null,3,90,40.5,11,11.5,0,26,30,41.8,956.08,1647.5037394527276,1769.505282019556,2135.9,"N/A",1,1,1,{"$error":"#VALUE!"},907,974,1175,{"$error":"#VALUE!"},156,168,202,{"$error":"#VALUE!"},0.21189823876698952,0.24405920408322276,0.34696025926326024,3.969E-4,1.7345999999999999,4,5.7428799999999995E-4,{"$f":"AK881*IF($G1273=10,1,IF($G1273=15,1,IF($G1273=20,1,(1-(($E1273-50)*0.005)))))","v":220.8},236.8,286.40000000000003,1,1,1,249,267,323,107,115,139,0.10339873748185469,0.11858514342205337,0.17008165672135647,1.2,6.3,6.8,9.1,null,1406,null,0.68,null,null,0,12.8,14.7,21.85,null,1,1,1,249,267,323,null,0,0,0,1]
["39015",null,null,3,90,40.5,15,16.5,0,26,30,42.4,1300.33740436932,1395.33740436932,1496.2563490716184,2007.56,"N/A",1,1,1,{"$error":"#VALUE!"},768,823,1105,{"$error":"#VALUE!"},132,142,190,{"$error":"#VALUE!"},9.2834213434933227E-2,0.10711011427235448,0.18957000545760183,2.0829999999999999E-4,1.724,2,4.6182900000000003E-4,{"$f":"AK882*IF($G1274=10,1,IF($G1274=15,1,IF($G1274=20,1,(1-(($E1274-50)*0.005)))))","v":190.46915773046311},204.24499885412456,274.04000000000002,1,1,1,215,230,309,92,99,133,4.5807009490369296E-2,5.2868831007796956E-2,9.4216599107319887E-2,0.9,6,6.7,9,null,1696,null,0.8,null,null,0,11.8,13.7,21.85,null,1,1,1,215,230,309,null,0,0,0,1]
["39016",null,null,3,90,40.5,16,16.5,0,26,30,42.4,1412.3600000000001,2040.4331716148024,2188.0092071816284,2935.7,"N/A",1,1,1,{"$error":"#VALUE!"},1123,1204,1616,{"$error":"#VALUE!"},193,207,278,{"$error":"#VALUE!"},0.56222847007484544,0.6455689498982059,1.1558126357604164,2.0829999999999999E-4,1.724,4,1.392796E-3,{"$f":"AK883*IF($G1275=10,1,IF($G1275=15,1,IF($G1275=20,1,(1-(($E1275-50)*0.005)))))","v":249.60000000000002},268,360,1,1,1,281,302,405,121,130,174,0.22389663870023413,0.25789784146910055,0.45824838024611242,1.8,6,6.7,9,null,2077,null,0.68,null,null,0,11.8,13.7,21.85,null,1,1,1,281,302,405,null,0,0,0,1]
["39020",null,null,3,90,40.5,20,21.5,0,26,30,42.4,1847.5718983039128,1942.5718983039128,2086.4239348515057,2518.44,"N/A",1,1,1,{"$error":"#VALUE!"},1069,1148,1386,{"$error":"#VALUE!"},184,197,238,{"$error":"#VALUE!"},0.13996661335677618,0.16011957350838529,0.23244162460805737,1.2760000000000001E-4,1.7219,2,3.76611E-4,{"$f":"AK884*IF($G1276=10,1,IF($G1276=15,1,IF($G1276=20,1,(1-(($E1276-50)*0.005)))))","v":240.07166246887351},257.84953601562182,311.24,1,1,1,270,290,351,116,125,151,5.6446192779392883E-2,6.5382883684973164E-2,9.4834579626451532E-2,1.2,6,6.7,9,null,2366,null,0.8,null,null,0,11.8,13.7,21.85,null,1,1,1,270,290,351,null,0,0,0,1]
["39021",null,null,3,90,40.5,21,21.5,0,26,30,42.4,2412.8000000000002,2627.7848955664344,2817.8416357747774,3780.76,"N/A",1,1,1,{"$error":"#VALUE!"},1446,1551,2081,{"$error":"#VALUE!"},249,267,358,{"$error":"#VALUE!"},0.36297810027985444,0.41623651255702676,0.74028749595419763,1.2760000000000001E-4,1.7219,4,5.1420100000000005E-4,272.68978056976709,292.41229700201364,392.33600000000001,1,1,1,307,329,442,132,141,190,0.10474879063873621,0.11916822445535588,0.21364215145761875,2.4,6,6.7,9,null,3016,null,0.8,null,null,0,11.8,13.7,21.85,null,1,1,1,307,329,442,null,0,0,0,1]
["39010",null,null,3,90,40.5,10,11.5,0,26,30,42.4,1108.8,1395.6272192501513,1501.3000140389001,1828.08,"N/A",1,1,1,{"$error":"#VALUE!"},768,826,1006,{"$error":"#VALUE!"},132,142,173,{"$error":"#VALUE!"},9.0768250443783158E-2,0.10441907011276925,0.15257493381501383,3.969E-4,1.7345999999999999,2,3.6734700000000002E-4,{"$f":"AK886*IF($G1278=10,1,IF($G1278=15,1,IF($G1278=20,1,(1-(($E1278-50)*0.005)))))","v":193.48593193227777},208.13611852764589,253.44,1,1,1,218,234,285,94,101,123,4.7370929137888165E-2,5.4349648935862721E-2,7.9273358405672414E-2,0.6,6.7,7.4,10.3,null,1232,null,0.9,null,null,0,12.5,14.7,21.85,null,{"$f":"IF((237.3*LN(($AQ$1*EXP(17.27*($AM$3/($AM$3+237.3))))))/(17.27-LN(($AQ$1*EXP(17.27*($AM$3/($AM$3+237.3))))))<(($AM$1+$AM$2)/2),1,IF(1/(1+((2258*((0.622/((101325/(1*611*EXP(17.27*((($AM$1+$AM$2)/2)/((($AM$1+$AM$2)/2)+237.3))))))-1)*1000-(0.622/((101325/($AQ$1*611*EXP(17.27*($AM$3/($AM$3+237.3))))))-1)*1000))/(1005*((($AM$1+$AM$2)/2)-$AM$3))))>1,1,1/(1+((2258*((0.622/((101325/(1*611*EXP(17.27*((($AM$1+$AM$2)/2)/((($AM$1+$AM$2)/2)+237.3))))))-1)*1000-(0.622/((101325/($AQ$1*611*EXP(17.27*($AM$3/($AM$3+237.3))))))-1)*1000))/(1005*((($AM$1+$AM$2)/2)-$AM$3))))))","v":1},1,1,218,234,285,null,0,0,0,1]
["39011",null,null,3,90,40.5,11,11.5,0,26,30,42.4,1075.76,1893.6336235985709,2037.0140009310799,2480.4,"N/A",1,1,1,{"$error":"#VALUE!"},1042,1121,1365,{"$error":"#VALUE!"},179,193,235,{"$error":"#VALUE!"},0.27545096736382452,0.31803505832334938,0.46333332431737484,3.969E-4,1.7345999999999999,4,5.7428799999999995E-4,{"$f":"AK887*IF($G1279=10,1,IF($G1279=15,1,IF($G1279=20,1,(1-(($E1279-50)*0.005)))))","v":253.73041528391883},272.94213725102657,332.35200000000003,1,1,1,286,307,374,123,132,161,0.13476424954614483,0.15414634227636631,0.22503364182021707,1.2,6.7,7.4,10.3,null,1582,null,0.68,null,null,0,12.5,14.7,21.85,null,1,1,1,286,307,374,null,0,0,0,1]
["39015",null,null,3,90,40.5,15,16.5,0,26,30,43.3,1502.9167676946356,1597.9167676946356,1711.9130538160239,2331.36,"N/A",1,1,1,{"$error":"#VALUE!"},879,942,1283,{"$error":"#VALUE!"},151,162,221,{"$error":"#VALUE!"},0.12081630728932094,0.13867001445156213,0.2550287893941221,2.0829999999999999E-4,1.724,2,4.6182900000000003E-4,{"$f":"AK888*IF($G1280=10,1,IF($G1280=15,1,IF($G1280=20,1,(1-(($E1280-50)*0.005)))))","v":218.12205414485143},233.68300487544244,318.24,1,1,1,246,263,{"$f":"ROUND(AM1280*POWER(CF_cool,AP1280),0)","v":358},106,113,154,6.0427306915588175E-2,6.848144409814115E-2,0.1255653992062353,0.9,7,7.7,10.7,null,1908,null,0.8,null,null,0,11.3,13.2,21.85,null,1,1,1,246,263,358,null,0,0,0,1]
["39016",null,null,3,90,40.5,16,16.5,0,26,30,43.3,1588.48,2336.669516687492,2503.3688418217644,3409.2,"N/A",1,1,1,{"$error":"#VALUE!"},1286,1378,1876,{"$error":"#VALUE!"},221,237,323,{"$error":"#VALUE!"},0.73460663555664418,0.84333221671371739,1.5547544288579316,2.0829999999999999E-4,1.724,4,1.392796E-3,{"$f":"AK889*IF($G1281=10,1,IF($G1281=15,1,IF($G1281=20,1,(1-(($E1281-50)*0.005)))))","v":286.22350996383221},306.64285707637242,417.6,1,1,1,322,345,470,138,148,202,0.29011428601466488,0.3330195147095848,0.61515013801414453,1.8,7,7.7,10.7,null,2336,null,0.68,null,null,0,11.3,13.2,21.85,null,1,1,1,322,345,470,null,0,0,0,1]
["39020",null,null,3,90,40.5,20,21.5,0,26,30,43.3,2128.8000000000002,2232.7836804230465,2401.8435041457315,2924.64,"N/A",1,1,1,{"$error":"#VALUE!"},1229,1322,1610,{"$error":"#VALUE!"},211,227,277,{"$error":"#VALUE!"},0.18332005313455887,0.21173370567010996,0.31355274232129782,1.2760000000000001E-4,1.7219,2,3.76611E-4,{"$f":"AK890*IF($G1282=10,1,IF($G1282=15,1,IF($G1282=20,1,(1-(($E1282-50)*0.005)))))","v":275.93732338069162},296.83048721840407,361.44,1,1,1,311,334,407,134,144,175,7.4967200325235919E-2,8.6374845635748543E-2,0.12679979986661746,1.2,7,7.7,10.7,null,2661,null,0.8,null,null,0,11.3,13.2,21.85,null,1,1,1,311,334,407,null,0,0,0,1]
["39021",null,null,3,90,40.5,21,21.5,0,26,30,43.3,2714.4,3009.2947651024979,3223.9795559512399,4390.5600000000004,"N/A",1,1,1,{"$error":"#VALUE!"},1656,1774,2416,{"$error":"#VALUE!"},285,305,416,{"$error":"#VALUE!"},0.47308236498938294,0.54044488113667544,0.99437233624750376,1.2760000000000001E-4,1.7219,4,5.1420100000000005E-4,{"$f":"AK891*IF($G1283=10,1,IF($G1283=15,1,IF($G1283=20,1,(1-(($E1283-50)*0.005)))))","v":312.27971914674657},334.55793096194566,455.61599999999999,1,1,1,352,377,513,151,162,221,0.1362599646071031,0.15635937292747906,0.28727735551509725,2.4,7,7.7,10.7,null,3393,null,0.8,null,null,0,11.3,13.2,21.85,null,1,1,1,352,377,513,null,0,0,0,1]
["39010",null,null,3,90,40.5,10,11.5,0,26,30,43,1232.1000000000001,1574.3905475253332,1696.1265760133244,2081.98,"N/A",1,1,1,{"$error":"#VALUE!"},866,933,1146,{"$error":"#VALUE!"},149,160,197,{"$error":"#VALUE!"},0.11452295750069769,0.13130944936182981,0.19587410212439701,3.969E-4,1.7345999999999999,2,3.6734700000000002E-4,{"$f":"AK892*IF($G1284=10,1,IF($G1284=15,1,IF($G1284=20,1,(1-(($E1284-50)*0.005)))))","v":218.26918973175157},235.14633901405676,288.64,1,1,1,246,265,325,106,114,140,5.961662337122392E-2,6.8530943712477324E-2,0.10161509205297539,0.6,7.8,8.6999999999999993,12.2,null,1369,null,0.9,null,null,0,12.3,14.1,21.85,null,1,1,1,{"$f":"AQ1284/BO1284","v":246},265,325,null,0,0,0,1]
["39011",null,null,3,90,40.5,11,11.5,0,26,30,43,1195.44,2136.1856779144437,2301.3611872256411,2824.9,"N/A",1,1,1,{"$error":"#VALUE!"},1176,1267,1555,{"$error":"#VALUE!"},202,218,267,{"$error":"#VALUE!"},0.34696025926326024,0.40136460058424728,0.59154965968440731,3.969E-4,1.7345999999999999,4,5.7428799999999995E-4,{"$f":"AK893*IF($G1285=10,1,IF($G1285=15,1,IF($G1285=20,1,(1-(($E1285-50)*0.005)))))","v":286.40000000000003},308,378.40000000000003,1,1,1,323,347,426,139,149,183,0.17008165672135647,0.19414641366259533,0.28731772632255892,1.2,7.8,8.6999999999999993,12.2,null,1758,null,0.68,null,null,0,12.3,14.1,21.85,null,1,1,1,323,347,426,null,0,0,0,1]
["39015",null,null,3,90,40.5,15,16.5,0,26,30,44.1,1696,1798.7737222599399,1926.0891717740149,2655.16,"N/A",1,1,1,{"$error":"#VALUE!"},990,1060,1461,{"$error":"#VALUE!"},170,182,251,{"$error":"#VALUE!"},0.15241449991114694,0.17422924628717495,0.32745375288015122,2.0829999999999999E-4,1.724,2,4.6182900000000003E-4,{"$f":"AK894*IF($G1286=10,1,IF($G1286=15,1,IF($G1286=20,1,(1-(($E1286-50)*0.005)))))","v":245.53983484833029},262.91890485611941,362.44,1,1,1,277,296,408,119,127,175,7.5778802428628264E-2,8.6073121256238061E-2,0.16132937966587238,0.9,7,7.7,10.7,null,2120,null,0.8,null,null,0,10.9,12.8,21.85,null,1,1,1,277,296,408,null,0,0,0,1]
["39016",null,null,3,90,40.5,16,16.5,0,26,30,44.1,1765.2800000000002,2630.3871448118639,2816.5633812075234,3882.7,"N/A",1,1,1,{"$error":"#VALUE!"},1448,1550,2137,{"$error":"#VALUE!"},249,267,368,{"$error":"#VALUE!"},0.92974926540428782,1.0671982797998989,2.0121451811796636,2.0829999999999999E-4,1.724,4,1.392796E-3,{"$f":"AK895*IF($G1287=10,1,IF($G1287=15,1,IF($G1287=20,1,(1-(($E1287-50)*0.005)))))","v":322.40000000000003},344.8,476,1,1,1,363,388,536,156,167,230,0.36944907419819983,0.42259190881594105,0.79485071124502704,1.8,7,7.7,10.7,null,2596,null,0.68,null,null,0,10.9,12.8,21.85,null,1,1,1,363,388,536,null,0,0,0,1]
["39020",null,null,3,90,40.5,20,21.5,0,26,30,44.1,2365.6,2518.7768428703835,2713.5353098724395,3330.84,"N/A",1,1,1,{"$error":"#VALUE!"},1386,1493,1833,{"$error":"#VALUE!"},238,257,315,{"$error":"#VALUE!"},0.23244162460805737,0.27045939056797669,0.40410361069103717,1.2760000000000001E-4,1.7219,2,3.76611E-4,{"$f":"AK896*IF($G1288=10,1,IF($G1288=15,1,IF($G1288=20,1,(1-(($E1288-50)*0.005)))))","v":311.2816285378957},335.35074484391049,411.64,1,1,1,351,378,464,151,163,200,9.4834579626451532E-2,0.11024466693853571,0.1649604557013111,1.2,7,7.7,10.7,null,2957,null,0.8,null,null,0,10.9,12.8,21.85,null,1,1,1,351,378,464,null,0,0,0,1]
["39021",null,null,3,90,40.5,21,21.5,0,26,30,44.1,3016,3387.5608889256064,3627.3291443724347,5000.3599999999997,"N/A",1,1,1,{"$error":"#VALUE!"},1864,1996,2752,{"$error":"#VALUE!"},321,343,473,{"$error":"#VALUE!"},0.59751365788849053,0.68059002552771575,1.2799899395410492,1.2760000000000001E-4,1.7219,4,5.1420100000000005E-4,{"$f":"AK897*IF($G1289=10,1,IF($G1289=15,1,IF($G1289=20,1,(1-(($E1289-50)*0.005)))))","v":351.53304862448738},376.41421491618183,518.89600000000007,1,1,1,396,424,584,170,182,251,0.17183003115768988,0.19638035829460532,0.36871835256647018,2.4,7,7.7,10.7,null,3770,null,0.8,null,null,0,10.9,12.8,21.85,null,1,1,1,396,424,584,null,0,0,0,1]
["39010",null,null,3,90,40.5,10,11.5,0,26,30,43.5,1355.4,1766.3893947845202,1902.9712804051933,2335.88,"N/A",1,1,1,{"$error":"#VALUE!"},972,1047,1286,{"$error":"#VALUE!"},167,180,221,{"$error":"#VALUE!"},0.14256841220977789,0.16466361281594522,0.24438305054227588,3.969E-4,1.7345999999999999,2,3.6734700000000002E-4,244.88738360147738,263.82272182064906,323.83999999999997,1,1,1,276,297,365,119,128,157,7.4405855870895141E-2,8.5566719004152067E-2,0.12662134598395483,0.6,8.4,9.3000000000000007,14,null,1506,null,0.9,null,null,0,12,13.9,21.85,null,1,1,1,276,297,365,null,0,0,0,1]
["39011",null,null,3,90,40.5,11,11.5,0,26,30,43.5,1315.1200000000001,2396.6961264405954,2582.0149905458411,3169.4,"N/A",1,1,1,{"$error":"#VALUE!"},1319,1421,1744,{"$error":"#VALUE!"},227,244,300,{"$error":"#VALUE!"},0.43363843420586035,0.49787029909014796,0.73949388825834594,3.969E-4,1.7345999999999999,4,5.7428799999999995E-4,{"$f":"AK899*IF($G1291=10,1,IF($G1291=15,1,IF($G1291=20,1,(1-(($E1291-50)*0.005)))))","v":321.13640985921018},345.96752384207849,424.67200000000003,1,1,1,362,390,478,156,168,206,0.21189823876698952,0.24405920408322276,0.36020402553669506,1.2,8.4,9.3000000000000007,14,null,1934,null,0.68,null,null,0,12,13.9,21.85,null,1,1,1,362,390,478,null,0,0,0,1]
["39015",null,null,3,90,40.5,15,16.5,0,26,30,44.1,1813.1501882577959,1908.1501882577959,2043.2071973479594,2816.6099999999997,"N/A",1,1,1,{"$error":"#VALUE!"},1050,1124,1550,{"$error":"#VALUE!"},181,193,267,{"$error":"#VALUE!"},0.17235649296844047,0.19548712036362273,0.36972168337814953,2.0829999999999999E-4,1.724,2,4.6182900000000003E-4,{"$f":"AK900*IF($G1292=10,1,IF($G1292=15,1,IF($G1292=20,1,(1-(($E1292-50)*0.005)))))","v":249.80785427097814},267.48901053042016,368.74,1,1,1,281,301,415,121,129,178,7.8291937005917078E-2,8.8747382373845968E-2,0.16679805495703875,0.9,7.9,8.8000000000000007,12.5,null,2332,null,0.8,null,null,0,10.9,12.8,21.85,null,1,1,1,281,301,415,null,0,0,0,1]
["39016",null,null,3,90,40.5,16,16.5,0,26,30,44.1,1942.0800000000002,2849.7497938679544,3051.4523045945984,4206.5,"N/A",1,1,1,{"$error":"#VALUE!"},1568,1679,2315,{"$error":"#VALUE!"},270,289,398,{"$error":"#VALUE!"},1.0910185594317865,1.2479273989480204,2.3494877393945486,2.0829999999999999E-4,1.724,4,1.392796E-3,{"$f":"AK901*IF($G1293=10,1,IF($G1293=15,1,IF($G1293=20,1,(1-(($E1293-50)*0.005)))))","v":326.26637364241219},349.35918932432156,481.6,1,1,1,367,393,542,158,169,233,0.37884864020387354,0.43263364241896163,0.81545444133862788,1.8,7.9,8.8000000000000007,12.5,null,2856,null,0.68,null,null,0,10.9,12.8,21.85,null,1,1,1,367,393,542,null,0,0,0,1]
["39020",null,null,3,90,40.5,20,21.5,0,26,30,44.1,2597.551301713082,2692.551301713082,2900.746468081386,3560.6400000000003,"N/A",1,1,1,{"$error":"#VALUE!"},1482,1596,1960,{"$f":"ROUND(U1294*3600/(4186*ABS($O$1-$O$2)),0)","v":{"$error":"#VALUE!"}},{"$f":"ROUND(V1294*3600/(4186*ABS($O$1-$O$2)),0)","v":255},{"$f":"ROUND(W1294*3600/(4186*ABS($O$1-$O$2)),0)","v":275},{"$f":"ROUND(X1294*3600/(4186*ABS($O$1-$O$2)),0)","v":337},{"$error":"#VALUE!"},0.26632342933475445,0.3091016181747917,0.46171445913240555,1.2760000000000001E-4,1.7219,2,3.76611E-4,{"$f":"AK902*IF($G1294=10,1,IF($G1294=15,1,IF($G1294=20,1,(1-(($E1294-50)*0.005)))))","v":317.17997831584631},341.70517057946222,419.44,1,1,1,357,385,472,{"$f":"ROUND(AQ1294*3600/(4186*ABS($AM$1-$AM$2)),0)","v":154},{"$f":"ROUND(AR1294*3600/(4186*ABS($AM$1-$AM$2)),0)","v":166},{"$f":"ROUND(AS1294*3600/(4186*ABS($AM$1-$AM$2)),0)","v":203},9.8579659782362453E-2,0.11427616746054219,0.16987261873370865,1.2,7.9,8.8000000000000007,12.5,null,3253,null,0.8,null,null,0,10.9,12.8,21.85,null,1,1,1,357,385,472,null,0,0,0,1]
["39021",null,null,3,90,40.5,21,21.5,0,26,30,44.1,3317.6000000000004,3556.1815292902165,3807.8845891872675,5249.2599999999993,"N/A",1,1,1,{"$error":"#VALUE!"},1957,2096,2889,{"$error":"#VALUE!"},337,361,497,{"$error":"#VALUE!"},0.65740423396461123,0.75252391591058865,1.4108757476024587,1.2760000000000001E-4,1.7219,4,5.1420100000000005E-4,{"$f":"AK903*IF($G1295=10,1,IF($G1295=15,1,IF($G1295=20,1,(1-(($E1295-50)*0.005)))))","v":356.51917925158074},381.75325900552366,526.25600000000009,1,1,1,402,430,593,173,185,255,0.1778164648200648,0.20276969656445024,0.38033192152450884,2.4,7.9,8.8000000000000007,12.5,null,4147,null,0.8,null,null,0,10.9,12.8,21.85,null,1,1,1,402,430,593,null,0,0,0,1]
["39010",null,null,3,90,40.5,10,11.5,0,26,30,44,1478.7,1924.9914127028867,2079.6202422788024,2589.7800000000002,"N/A",1,1,1,{"$error":"#VALUE!"},1059,1144,1425,{"$error":"#VALUE!"},182,197,245,{"$error":"#VALUE!"},0.16819936164659829,0.19587410212439701,0.29806976074246933,3.969E-4,1.7345999999999999,2,3.6734700000000002E-4,{"$f":"AK904*IF($G1296=10,1,IF($G1296=15,1,IF($G1296=20,1,(1-(($E1296-50)*0.005)))))","v":266.87553260000635},288.31284965818764,359.04,1,1,1,301,325,404,129,140,174,8.6853211147160284E-2,0.10161509205297539,0.15427458505702427,0.6,8.9,9.9,14.8,null,1643,null,0.9,null,null,0,11.8,13.7,21.85,null,1,1,1,301,325,404,null,0,0,0,1]
["39011",null,null,3,90,40.5,11,11.5,0,26,30,44,1434.8000000000002,2611.8926414972211,2821.6982019103875,3513.9,"N/A",1,1,1,{"$error":"#VALUE!"},1437,1553,1934,{"$error":"#VALUE!"},247,267,333,{"$error":"#VALUE!"},0.50964809005347045,0.59154965968440731,0.90328919279818454,3.969E-4,1.7345999999999999,4,5.7428799999999995E-4,{"$f":"AK905*IF($G1297=10,1,IF($G1297=15,1,IF($G1297=20,1,(1-(($E1297-50)*0.005)))))","v":349.6},378.40000000000003,471.20000000000005,1,1,1,394,426,531,169,183,228,0.2468376037254961,0.28731772632255892,0.43729851108880358,1.2,8.9,9.9,14.8,null,2110,null,0.68,null,null,0,11.8,13.7,21.85,null,1,1,1,394,426,531,null,0,0,0,1]
["39015",null,null,3,90,40.5,15,16.5,0,26,30,44.8,2035.2,2216.9073865755149,2373.9948983307781,3302.76,"N/A",1,1,1,{"$error":"#VALUE!"},1220,1307,1818,{"$error":"#VALUE!"},210,225,313,{"$error":"#VALUE!"},0.23070850049893826,0.26417021391463125,0.50531379919239094,2.0829999999999999E-4,1.724,2,4.6182900000000003E-4,{"$f":"AK906*IF($G1298=10,1,IF($G1298=15,1,IF($G1298=20,1,(1-(($E1298-50)*0.005)))))","v":302.61675876046246},324.05983479376272,450.84,1,1,1,341,365,508,147,157,218,0.11462442340612437,0.1304045922070263,0.24827687927600758,0.9,8.6999999999999993,9.8000000000000007,14.3,null,2544,null,0.8,null,null,0,10.6,12.5,21.85,null,1,1,1,341,365,508,null,0,0,0,1]
["39016",null,null,3,90,40.5,16,16.5,0,26,30,44.8,2118.2000000000003,3241.8333772189817,3471.5459677567114,4829.7,"N/A",1,1,1,{"$error":"#VALUE!"},1784,1911,2658,{"$error":"#VALUE!"},307,329,457,{"$error":"#VALUE!"},1.4062056587885963,1.6123654614880285,3.0884532009421797,2.0829999999999999E-4,1.724,4,1.392796E-3,{"$f":"AK907*IF($G1299=10,1,IF($G1299=15,1,IF($G1299=20,1,(1-(($E1299-50)*0.005)))))","v":396.8},425.6,592,1,1,1,447,479,667,192,206,287,0.55649375912908261,0.63942704373622428,1.2309189954548045,1.8,8.6999999999999993,9.8000000000000007,14.3,null,3115,null,0.68,null,null,0,10.6,12.5,21.85,null,1,1,1,447,479,667,null,0,0,0,1]
["39020",null,null,3,90,40.5,20,21.5,0,26,30,44.8,2838.4,3079.6829926739365,3327.0647594078355,4143.24,"N/A",1,1,1,{"$error":"#VALUE!"},1695,1831,2280,{"$error":"#VALUE!"},292,315,392,{"$error":"#VALUE!"},0.34793977097248574,0.40410361069103717,0.62234995452452124,1.2760000000000001E-4,1.7219,2,3.76611E-4,{"$f":"AK908*IF($G1300=10,1,IF($G1300=15,1,IF($G1300=20,1,(1-(($E1300-50)*0.005)))))","v":380.60090160569081},411.17343900116532,512.04,1,1,1,429,463,577,184,199,248,0.13996661335677618,0.1633389072103579,0.25209596871695455,1.2,8.6999999999999993,9.8000000000000007,14.3,null,3548,null,0.8,null,null,0,10.6,12.5,21.85,null,1,1,1,429,463,577,null,0,0,0,1]
["39021",null,null,3,90,40.5,21,21.5,0,26,30,44.8,3619.2000000000003,4175.015825613802,4470.8526528786542,6219.96,"N/A",1,1,1,{"$error":"#VALUE!"},2298,2460,3423,{"$error":"#VALUE!"},395,423,589,{"$error":"#VALUE!"},0.89811302076089561,1.027532825118205,1.9707912137070838,1.2760000000000001E-4,1.7219,4,5.1420100000000005E-4,{"$f":"AK909*IF($G1301=10,1,IF($G1301=15,1,IF($G1301=20,1,(1-(($E1301-50)*0.005)))))","v":433.24860846973007},463.94810736989388,645.45600000000013,1,1,1,488,522,727,210,224,313,0.25992275210507992,0.29497142038136065,0.56862633341224789,2.4,8.6999999999999993,9.8000000000000007,14.3,null,4524,null,0.8,null,null,0,10.6,12.5,21.85,null,1,1,1,488,522,727,null,0,0,0,1]
["39010",null,null,3,90,40.5,10,11.5,0,26,30,44.8,1725.3,2267.7915432376717,2456.1428225151312,3097.58,"N/A",1,1,1,{"$error":"#VALUE!"},1248,1352,1705,{"$error":"#VALUE!"},215,233,293,{"$error":"#VALUE!"},0.23176922631501234,0.27058101315746547,0.42086822602648655,3.969E-4,1.7345999999999999,2,3.6734700000000002E-4,{"$f":"AK910*IF($G1302=10,1,IF($G1302=15,1,IF($G1302=20,1,(1-(($E1302-50)*0.005)))))","v":314.40040300104783},340.51290804463417,429.44,1,1,1,354,383,484,152,165,208,0.11899105482338809,0.13930588589395618,0.21746271087365113,0.6,10.1,11.2,17.5,null,1917,null,0.9,null,null,0,11.5,13.3,21.85,null,1,1,1,354,383,484,null,0,0,0,1]
["39011",null,null,3,90,40.5,11,11.5,0,26,30,44.8,1673.48,3077.015307780141,3332.5766142436496,4202.8999999999996,"N/A",1,1,1,{"$error":"#VALUE!"},1693,1834,2313,{"$error":"#VALUE!"},291,315,398,{"$error":"#VALUE!"},0.69756899241461967,0.81198750614430193,1.2719061916021783,3.969E-4,1.7345999999999999,4,5.7428799999999995E-4,{"$f":"AK911*IF($G1303=10,1,IF($G1303=15,1,IF($G1303=20,1,(1-(($E1303-50)*0.005)))))","v":412},446.40000000000003,563.20000000000005,1,1,1,464,503,634,200,216,273,0.34042787446208561,0.39435583507258853,0.6172647284401851,1.2,10.1,11.2,17.5,null,2461,null,0.68,null,null,0,11.5,13.3,21.85,null,1,1,1,464,503,634,null,0,0,0,1]
["39015",null,null,3,90,40.5,15,16.5,0,26,30,45.4,2374.4,2628.9846104428207,2815.4584574952669,3950.36,"N/A",1,1,1,{"$error":"#VALUE!"},1447,1549,2174,{"$error":"#VALUE!"},249,266,374,{"$error":"#VALUE!"},0.32234820952594395,0.36700583053216923,0.71722663324235214,2.0829999999999999E-4,1.724,2,4.6182900000000003E-4,{"$f":"AK912*IF($G1304=10,1,IF($G1304=15,1,IF($G1304=20,1,(1-(($E1304-50)*0.005)))))","v":358.86695423586366},384.32138301819265,539.24,1,1,1,404,433,607,174,186,261,0.15952644189185625,0.18181992568732314,0.35357473687603869,0.9,9.6,10.5,16.100000000000001,null,2968,null,0.8,null,null,0,10.4,12.2,21.85,null,1,1,1,404,433,607,null,0,0,0,1]
["39016",null,null,3,90,40.5,16,16.5,0,26,30,45.4,2471.1200000000003,3844.4231409656436,4117.1080284867467,5776.7,"N/A",1,1,1,{"$error":"#VALUE!"},2116,2266,3179,{"$error":"#VALUE!"},364,390,547,{"$error":"#VALUE!"},1.9691244328291821,2.2569963344998922,4.4082043590481295,2.0829999999999999E-4,1.724,4,1.392796E-3,{"$f":"AK913*IF($G1305=10,1,IF($G1305=15,1,IF($G1305=20,1,(1-(($E1305-50)*0.005)))))","v":471.20000000000005},504,708,1,1,1,531,568,797,228,244,343,0.78125997006630499,0.8932348371519061,1.7508304064415989,1.8,9.6,10.5,16.100000000000001,null,3634,null,0.68,null,null,0,10.4,12.2,21.85,null,1,1,1,531,568,797,null,0,0,0,1]
["39020",null,null,3,90,40.5,20,21.5,0,26,30,45.4,3312,3628.1091959950468,3929.4415695377957,4955.6400000000003,"N/A",1,1,1,{"$error":"#VALUE!"},1997,2163,2727,{"$error":"#VALUE!"},343,372,469,{"$error":"#VALUE!"},0.47808586274595782,0.56119426653270543,0.88701261900430928,1.2760000000000001E-4,1.7219,2,3.76611E-4,448.37784746172167,485.61784045001809,612.44000000000005,1,1,1,505,547,690,217,235,297,0.19373795878521996,0.22669924034141026,0.35979550706194363,1.2,9.6,10.5,16.100000000000001,null,4140,null,0.8,null,null,0,10.4,12.2,21.85,null,1,1,1,505,547,690,null,0,0,0,1]
["39021",null,null,3,90,40.5,21,21.5,0,26,30,45.4,4222.4000000000005,4951.0649025572329,5302.2438770247491,7439.56,"N/A",1,1,1,{"$error":"#VALUE!"},2725,2918,4094,{"$error":"#VALUE!"},469,502,704,{"$error":"#VALUE!"},1.2587873158348186,1.4389351435488023,2.800110581731861,1.2760000000000001E-4,1.7219,4,5.1420100000000005E-4,{"$f":"AK915*IF($G1307=10,1,IF($G1307=15,1,IF($G1307=20,1,(1-(($E1307-50)*0.005)))))","v":513.78056253496504},550.22301170568403,772.01600000000008,1,1,1,579,620,869,249,267,374,0.36297810027985444,0.41623651255702676,0.80669135465023345,2.4,9.6,10.5,16.100000000000001,null,5278,null,0.8,null,null,0,10.4,12.2,21.85,null,1,1,1,579,620,869,null,0,0,0,1]
["39010",null,null,3,90,40.5,10,11.5,0,26,30,45.5,{"$f":"IF($N1308-($BE1308*$BG1308)>100,$BE1308*$BG1308,$N1308-95)","v":1971},2603.9362232520607,2826.6988006529018,3605.38,"N/A",1,1,1,{"$f":"ROUND(M1308*POWER(CF_heat,Q1308),0)","v":{"$error":"#VALUE!"}},{"$f":"ROUND(N1308*POWER(CF_heat,R1308),0)","v":1433},{"$f":"ROUND(O1308*POWER(CF_heat,S1308),0)","v":1556},{"$f":"ROUND(P1308*POWER(CF_heat,T1308),0)","v":1984},{"$error":"#VALUE!"},246,268,341,{"$error":"#VALUE!"},0.30041864732521051,0.35435234205383942,0.56408209607913051,{"$f":"IF($G1308=$CO$103,CP$103,IF($G1308=$CO$104,CP$104,IF($G1308=$CO$105,CP$105,IF($G1308=$CO$107,CP$107,IF($G1308=$CO$108,CP$108,IF($G1308=$CO$109,CP$109,IF($G1308=$CO$111,CP$111,IF($G1308=$CO$112,CP$112,IF($G1308=$CO$113,CP$113,IF($G1308=$CO$115,CP$115,IF($G1308=$CO$116,CP$116,IF($G1308=$CO$117,CP$117,IF($G1308=$CO$119,CP$119,IF($G1308=$CO$120,CP$120,))))))))))))))","v":3.969E-4},{"$f":"IF($G1308=$CO$103,CQ$103,IF($G1308=$CO$104,CQ$104,IF($G1308=$CO$105,CQ$105,IF($G1308=$CO$107,CQ$107,IF($G1308=$CO$108,CQ$108,IF($G1308=$CO$109,CQ$109,IF($G1308=$CO$111,CQ$111,IF($G1308=$CO$112,CQ$112,IF($G1308=$CO$113,CQ$113,IF($G1308=$CO$115,CQ$115,IF($G1308=$CO$116,CQ$116,IF($G1308=$CO$117,CQ$117,IF($G1308=$CO$119,CQ$119,IF($G1308=$CO$120,CQ$120,))))))))))))))","v":1.7345999999999999},{"$f":"IF($G1308=$CO$103,CR$103,IF($G1308=$CO$104,CR$104,IF($G1308=$CO$105,CR$105,IF($G1308=$CO$107,CR$107,IF($G1308=$CO$108,CR$108,IF($G1308=$CO$109,CR$109,IF($G1308=$CO$111,CR$111,IF($G1308=$CO$112,CR$112,IF($G1308=$CO$113,CR$113,IF($G1308=$CO$115,CR$115,IF($G1308=$CO$116,CR$116,IF($G1308=$CO$117,CR$117,IF($G1308=$CO$119,CR$119,IF($G1308=$CO$120,CR$120,))))))))))))))","v":2},{"$f":"IF($G1308=$CO$103,CS$103,IF($G1308=$CO$104,CS$104,IF($G1308=$CO$105,CS$105,IF($G1308=$CO$107,CS$107,IF($G1308=$CO$108,CS$108,IF($G1308=$CO$109,CS$109,IF($G1308=$CO$111,CS$111,IF($G1308=$CO$112,CS$112,IF($G1308=$CO$113,CS$113,IF($G1308=$CO$115,CS$115,IF($G1308=$CO$116,CS$116,IF($G1308=$CO$117,CS$117,IF($G1308=$CO$119,CS$119,IF($G1308=$CO$120,CS$120,))))))))))))))","v":3.6734700000000002E-4},{"$f":"AK916*IF($G1308=10,1,IF($G1308=15,1,IF($G1308=20,1,(1-(($E1308-50)*0.005)))))","v":361.00257998610687},391.88577307200529,499.84,1,1,1,{"$f":"ROUND(AK1308*POWER(CF_cool,AN1308),0)","v":407},441,563,175,190,242,0.15598334205872294,0.18270546681356065,0.29107675038694703,0.6,11,12.4,19.2,null,2190,null,{"$f":"IF(G1308=10,0.9,IF(G1308=11,0.68,IF(G1308=15,0.8,IF(G1308=16,0.68,IF(G1308=20,0.8,IF(G1308=21,0.8))))))","v":0.9},null,null,0,11.2,13,21.85,null,1,1,1,{"$f":"AQ1308/BO1308","v":407},441,563,null,{"$f":"BR1308-AQ1308","v":0},{"$f":"BS1308-AR1308","v":0},{"$f":"BT1308-AS1308","v":0},1]
[{"$f":"CONCATENATE(D1309,E1309,G1309)","v":"39011"},null,null,3,90,40.5,11,11.5,0,26,30,45.5,1912.8400000000001,3533.107636511756,3835.359341571188,4891.8999999999996,"N/A",1,1,1,{"$error":"#VALUE!"},1944,2111,2692,{"$error":"#VALUE!"},334,363,463,{"$f":"(($AG1309*(Y1309^$AH1309)*((($F1309-14.4)*$AI1309)/100))+($AJ1309*(Y1309^2)))*0.0098","v":{"$error":"#VALUE!"}},{"$f":"(($AG1309*(Z1309^$AH1309)*((($E1309-14.4)*$AI1309)/100))+($AJ1309*(Z1309^2)))*0.0098","v":0.90849906060502406},{"$f":"(($AG1309*(AA1309^$AH1309)*((($E1309-14.4)*$AI1309)/100))+($AJ1309*(AA1309^2)))*0.0098","v":1.0658660625012415},{"$f":"(($AG1309*(AB1309^$AH1309)*((($E1309-14.4)*$AI1309)/100))+($AJ1309*(AB1309^2)))*0.0098","v":1.7010184576577008},3.969E-4,1.7345999999999999,4,5.7428799999999995E-4,{"$f":"AK917*IF($G1309=10,1,IF($G1309=15,1,IF($G1309=20,1,(1-(($E1309-50)*0.005)))))","v":473.6},513.6,655.20000000000005,1,1,1,533,578,738,229,249,317,{"$f":"(($AG1309*(AT1309^$AH1309)*((($E1309-14.4)*$AI1309)/100))+($AJ1309*(AT1309^2)))*0.0098","v":0.44097339168930333},{"$f":"(($AG1309*(AU1309^$AH1309)*((($E1309-14.4)*$AI1309)/100))+($AJ1309*(AU1309^2)))*0.0098","v":0.51757360270207098},{"$f":"(($AG1309*(AV1309^$AH1309)*((($E1309-14.4)*$AI1309)/100))+($AJ1309*(AV1309^2)))*0.0098","v":0.82190023230058551},1.2,11,12.4,19.2,null,2813,null,0.68,null,null,0,11.2,13,21.85,null,1,1,1,533,{"$f":"AR1309/BP1309","v":578},{"$f":"AS1309/BQ1309","v":738},null,0,0,0,1]
["39015",null,null,3,90,40.5,15,16.5,0,26,30,46.4,2713.6000000000004,3021.1783832091446,3225.6120441880121,4597.96,"N/A",1,1,1,{"$error":"#VALUE!"},1663,1775,2530,{"$error":"#VALUE!"},286,305,435,{"$error":"#VALUE!"},0.42319838439068652,0.48023478021981236,0.96561800106906881,2.0829999999999999E-4,1.724,2,4.6182900000000003E-4,{"$f":"AK918*IF($G1310=10,1,IF($G1310=15,1,IF($G1310=20,1,(1-(($E1310-50)*0.005)))))","v":412.40297880742492},440.30899429620177,627.64,1,1,1,464,496,707,200,213,304,0.20964202709641322,0.23722218010521803,0.4771442037851808,0.9,11.5,12.8,19.600000000000001,null,3392,null,0.8,null,null,0,10,11.8,21.85,null,{"$f":"IF((237.3*LN(($AQ$1*EXP(17.27*($AM$3/($AM$3+237.3))))))/(17.27-LN(($AQ$1*EXP(17.27*($AM$3/($AM$3+237.3))))))<(($AM$1+$AM$2)/2),1,IF(1/(1+((2258*((0.622/((101325/(1*611*EXP(17.27*((($AM$1+$AM$2)/2)/((($AM$1+$AM$2)/2)+237.3))))))-1)*1000-(0.622/((101325/($AQ$1*611*EXP(17.27*($AM$3/($AM$3+237.3))))))-1)*1000))/(1005*((($AM$1+$AM$2)/2)-$AM$3))))>1,1,1/(1+((2258*((0.622/((101325/(1*611*EXP(17.27*((($AM$1+$AM$2)/2)/((($AM$1+$AM$2)/2)+237.3))))))-1)*1000-(0.622/((101325/($AQ$1*611*EXP(17.27*($AM$3/($AM$3+237.3))))))-1)*1000))/(1005*((($AM$1+$AM$2)/2)-$AM$3))))))","v":1},1,1,464,496,707,null,0,0,0,1]
["39016",null,null,3,90,40.5,16,16.5,0,26,30,46.4,2824.7200000000003,4417.9368883555589,4716.8848144627045,6723.7,"N/A",1,1,1,{"$error":"#VALUE!"},2431,2596,3700,{"$error":"#VALUE!"},418,447,636,{"$error":"#VALUE!"},2.5887721853280974,2.9561633791116608,5.9415226947246582,2.0829999999999999E-4,1.724,4,1.392796E-3,{"$f":"AK919*IF($G1311=10,1,IF($G1311=15,1,IF($G1311=20,1,(1-(($E1311-50)*0.005)))))","v":540.80000000000007},577.6,824,1,1,1,609,650,928,262,280,399,1.0280767802446902,1.1723004766404659,2.3611786642529822,1.8,11.5,12.8,19.600000000000001,null,4154,null,0.68,null,null,0,10,11.8,21.85,null,1,1,1,609,650,928,null,0,0,0,1]
["39020",null,null,3,90,40.5,20,21.5,0,26,30,46.4,3784.8,4165.887726998767,4522.2727563025155,5768.04,"N/A",1,1,1,{"$error":"#VALUE!"},2293,2489,3174,{"$error":"#VALUE!"},394,428,546,{"$error":"#VALUE!"},0.62863778575898099,0.74031937471335252,1.1979617491175107,1.2760000000000001E-4,1.7219,2,3.76611E-4,{"$f":"AK920*IF($G1312=10,1,IF($G1312=15,1,IF($G1312=20,1,(1-(($E1312-50)*0.005)))))","v":514.83890668473202},558.88255136973487,712.84,1,1,1,580,629,803,249,270,345,0.25410480114282724,0.29811161944738884,0.48360576191045263,1.2,11.5,12.8,19.600000000000001,null,4731,null,0.8,null,null,0,10,11.8,21.85,null,1,1,1,580,629,803,null,0,0,0,1]
["39021",null,null,3,90,40.5,21,21.5,0,26,30,46.4,4825.6000000000004,5689.6682460807178,6074.6702425752001,8659.16,"N/A",1,1,1,{"$error":"#VALUE!"},3131,3343,4765,{"$error":"#VALUE!"},539,575,820,{"$error":"#VALUE!"},1.6550496903918122,1.8796407701660103,3.7818467188893612,1.2760000000000001E-4,1.7219,4,5.1420100000000005E-4,{"$f":"AK921*IF($G1313=10,1,IF($G1313=15,1,IF($G1313=20,1,(1-(($E1313-50)*0.005)))))","v":590.42670812067536},630.37903074804638,898.57600000000002,1,1,1,665,710,1012,286,305,435,0.47634553649531836,0.54044488113667544,1.0856278933674042,2.4,11.5,12.8,19.600000000000001,null,6032,null,0.8,null,null,0,10,11.8,21.85,null,1,1,1,665,710,1012,null,0,0,0,1]
["39010",null,null,3,90,40.5,10,11.5,0,26,30,46,2217.6,2970.6878039917879,3224.8253922941558,4113.18,"N/A",1,1,1,{"$error":"#VALUE!"},1635,1775,2264,{"$error":"#VALUE!"},281,305,389,{"$error":"#VALUE!"},0.38824805987870709,0.45476418549667685,0.72755962755713344,3.969E-4,1.7345999999999999,2,3.6734700000000002E-4,{"$f":"AK922*IF($G1314=10,1,IF($G1314=15,1,IF($G1314=20,1,(1-(($E1314-50)*0.005)))))","v":411.84801378696699},447.08095237792156,570.24,1,1,1,464,503,642,200,216,276,0.2016535132310428,0.23384903898269432,0.37503348959618754,0.6,12.2,13.7,22,null,2464,null,0.9,null,null,0,10.9,12.7,21.85,null,1,1,1,464,503,642,null,0,0,0,1]
["39011",null,null,3,90,40.5,11,11.5,0,26,30,46,2151.52,4030.7284303866513,4375.55079813051,5580.9,"N/A",1,1,1,{"$error":"#VALUE!"},2218,2408,3071,{"$error":"#VALUE!"},382,414,528,{"$error":"#VALUE!"},1.1755349220791671,1.371942419973726,2.1901143729107169,3.969E-4,1.7345999999999999,4,5.7428799999999995E-4,{"$f":"AK923*IF($G1315=10,1,IF($G1315=15,1,IF($G1315=20,1,(1-(($E1315-50)*0.005)))))","v":540.08250898881806},586.2857034592289,747.79200000000003,1,1,1,608,660,842,261,284,362,0.56636228476249972,0.665777182503837,1.0602377997794497,1.2,12.2,13.7,22,null,3164,null,0.68,null,null,0,10.9,12.7,21.85,null,1,1,1,608,660,842,null,0,0,0,1]
["39015",null,null,3,90,40.5,15,16.5,0,26,30,46.4,3052.8,3233.3460619053994,3452.1364439366635,4920.8599999999997,"N/A",1,1,1,{"$error":"#VALUE!"},1779,1900,2708,{"$error":"#VALUE!"},306,327,466,{"$error":"#VALUE!"},0.48333520297072813,0.55071733494903352,1.1057917662116801,2.0829999999999999E-4,1.724,2,4.6182900000000003E-4,420.6820520547858,449.14828645115074,640.24,1,1,1,474,506,721,204,218,310,0.21794935081485226,0.24827687927600758,0.49583534283328567,0.9,11.5,12.8,19.600000000000001,null,3816,null,0.8,null,null,0,10,11.8,21.85,null,1,1,1,474,506,721,null,0,0,0,1]
["39016",null,null,3,90,40.5,16,16.5,0,26,30,46.4,3177.6400000000003,4843.4549704976926,5171.1963699821436,7371.3,"N/A",1,1,1,{"$error":"#VALUE!"},2666,2846,4057,{"$error":"#VALUE!"},459,490,698,{"$error":"#VALUE!"},3.1152558322453383,3.5453818591343982,7.1435616717159389,2.0829999999999999E-4,1.724,4,1.392796E-3,{"$f":"AK925*IF($G1317=10,1,IF($G1317=15,1,IF($G1317=20,1,(1-(($E1317-50)*0.005)))))","v":549.04711154719951},586.1994067202636,835.6,1,1,1,618,660,941,266,284,405,1.0593160786787383,1.2056232539197878,2.4319284357124413,1.8,11.5,12.8,19.600000000000001,null,4673,null,0.68,null,null,0,10,11.8,21.85,null,1,1,1,618,660,941,null,0,0,0,1]
["39020",null,null,3,90,40.5,20,21.5,0,26,30,46.4,4258.4000000000005,4497.8275192555193,4882.6094666576164,6227.64,"N/A",1,1,1,{"$error":"#VALUE!"},2475,2687,3427,{"$error":"#VALUE!"},426,462,589,{"$error":"#VALUE!"},0.73349960114638391,0.8610379694367869,1.391710488124442,1.2760000000000001E-4,1.7219,2,3.76611E-4,{"$f":"AK926*IF($G1318=10,1,IF($G1318=15,1,IF($G1318=20,1,(1-(($E1318-50)*0.005)))))","v":526.1057925837863},571.11330132956857,728.44,1,1,1,592,643,820,255,276,353,0.26632342933475445,0.31132324327225247,0.50599910197077902,1.2,11.5,12.8,19.600000000000001,null,5323,null,0.8,null,null,0,10,11.8,21.85,null,1,1,1,592,643,820,null,0,0,0,1]
["39021",null,null,3,90,40.5,21,21.5,0,26,30,46.4,5428.8,6016.7573462820046,6423.892435808023,9156.9599999999991,"N/A",1,1,1,{"$error":"#VALUE!"},3311,3535,5039,{"$error":"#VALUE!"},569,608,867,{"$error":"#VALUE!"},1.8412291092798616,2.097904797389448,4.2210338223137898,1.2760000000000001E-4,1.7219,4,5.1420100000000005E-4,{"$f":"AK927*IF($G1319=10,1,IF($G1319=15,1,IF($G1319=20,1,(1-(($E1319-50)*0.005)))))","v":600.09876829536995},640.7055688846217,913.29600000000016,1,1,1,676,722,1029,291,310,442,0.49282717605819021,0.55797554610281119,1.1202446586252526,{"$f":"ROUND(IF(G1319=10,$CO$92*E1319,IF(G1319=11,$CO$93*E1319,IF(G1319=15,$CO$94*E1319,IF(G1319=16,$CO$95*E1319,IF(G1319=20,$CO$96*E1319,IF(G1319=21,$CO$97*E1319,)))))),1)","v":2.4},11.5,12.8,19.600000000000001,null,6786,null,0.8,null,null,0,10,11.8,21.85,null,1,1,1,676,722,1029,null,0,0,0,1]
["39010",null,null,3,90,40.5,10,11.5,0,26,30,46.5,2464.2000000000003,3259.5785648750903,3552.8677924068675,4620.9799999999996,"N/A",1,1,1,{"$error":"#VALUE!"},1794,1955,2543,{"$error":"#VALUE!"},309,336,437,{"$error":"#VALUE!"},0.46634590676995058,0.5482161489143117,0.91117413493097188,3.969E-4,1.7345999999999999,2,3.6734700000000002E-4,{"$f":"AK928*IF($G1320=10,1,IF($G1320=15,1,IF($G1320=20,1,(1-(($E1320-50)*0.005)))))","v":451.89903695786995},492.55985148767917,640.64,1,1,1,509,555,721,219,239,310,0.24014246502873812,0.28416425412407953,0.46926343147721994,0.6,13.4,14.8,24,null,2738,null,0.9,null,null,0,10.7,12.5,21.85,null,1,1,1,509,555,721,null,0,0,0,1]
["39011",null,null,3,90,40.5,11,11.5,0,26,30,46.5,2390.88,4422.7050634086982,4820.649682883678,6269.9,"N/A",1,1,1,{"$error":"#VALUE!"},2434,2653,3451,{"$error":"#VALUE!"},419,456,594,{"$error":"#VALUE!"},1.4039540442139022,1.6519160401824231,2.7476705874842731,3.969E-4,1.7345999999999999,4,5.7428799999999995E-4,{"$f":"AK929*IF($G1321=10,1,IF($G1321=15,1,IF($G1321=20,1,(1-(($E1321-50)*0.005)))))","v":592.80000000000007},645.6,840,1,1,1,668,727,946,287,313,407,0.67931468888969326,0.80213282827818522,1.3277261403029033,1.2,13.4,14.8,24,null,3516,null,0.68,null,null,0,10.7,12.5,21.85,null,1,1,1,668,727,946,null,0,0,0,1]
["39015",null,null,3,90,40.5,15,16.5,0,26,30,47.1,3392,3875.4624109054007,4083.4735576056296,5893.16,"N/A",1,1,1,{"$error":"#VALUE!"},2133,2247,3243,{"$error":"#VALUE!"},367,386,558,{"$error":"#VALUE!"},0.69105352240868723,0.76321224271986909,1.576960622355321,2.0829999999999999E-4,1.724,2,4.6182900000000003E-4,{"$f":"AK930*IF($G1322=10,1,IF($G1322=15,1,IF($G1322=20,1,(1-(($E1322-50)*0.005)))))","v":529.01617838795164},557.41053504066974,804.44,1,1,1,596,628,906,256,270,390,0.34039067399216727,0.37792849473589335,0.77885430722994631,0.9,13.2,14.7,23.5,null,4240,null,0.8,null,null,0,10,11.4,21.85,null,1,1,1,596,628,906,null,0,0,0,1]
["39016",null,null,3,90,40.5,16,16.5,0,26,30,47.1,3530.5600000000004,5667.1755761695722,5971.3549398587584,8617.7000000000007,"N/A",1,1,1,{"$error":"#VALUE!"},3119,3286,4743,{"$error":"#VALUE!"},536,565,816,{"$error":"#VALUE!"},4.2344419589539948,4.7000203748804559,9.734562860760537,2.0829999999999999E-4,1.724,4,1.392796E-3,{"$f":"AK931*IF($G1323=10,1,IF($G1323=15,1,IF($G1323=20,1,(1-(($E1323-50)*0.005)))))","v":694.40000000000009},731.2,1056,1,1,1,782,823,1189,336,354,511,1.6808912102077034,1.8635895675898917,3.8524253528510246,1.8,13.2,14.7,23.5,null,5192,null,0.68,null,null,0,10,11.4,21.85,null,1,1,1,782,823,1189,null,0,0,0,1]
["39020",null,null,3,90,40.5,20,21.5,0,26,30,47.1,4731.2,5214.8121821672385,5684.028740747025,7392.84,"N/A",1,1,1,{"$error":"#VALUE!"},2870,3128,4069,{"$error":"#VALUE!"},494,538,700,{"$error":"#VALUE!"},0.98290121102923567,1.1635039187881853,1.9583174284962417,1.2760000000000001E-4,1.7219,2,3.76611E-4,{"$f":"AK932*IF($G1324=10,1,IF($G1324=15,1,IF($G1324=20,1,(1-(($E1324-50)*0.005)))))","v":644.46964929787134},702.45751547390614,913.64,1,1,1,726,791,1029,312,340,442,0.39654209540299512,0.46986485299965386,0.78893321266822614,1.2,13.2,14.7,23.5,null,5914,null,0.8,null,null,0,10,11.4,21.85,null,1,1,1,726,791,1029,null,0,0,0,1]
["39021",null,null,3,90,40.5,21,21.5,0,26,30,47.1,6032,7298.5082710627348,7690.2476078687869,11098.36,"N/A",1,1,1,{"$error":"#VALUE!"},4017,4232,6108,{"$error":"#VALUE!"},691,728,1051,{"$error":"#VALUE!"},2.6991673233792826,2.9912786592884624,6.1696038519560519,1.2760000000000001E-4,1.7219,4,5.1420100000000005E-4,{"$f":"AK933*IF($G1325=10,1,IF($G1325=15,1,IF($G1325=20,1,(1-(($E1325-50)*0.005)))))","v":757.3788182893569},798.03028636591807,1151.6959999999999,1,1,1,853,899,1297,367,387,558,0.77729352755196401,0.86271497597903279,1.7718254113631857,2.4,13.2,14.7,23.5,null,7540,null,0.8,null,null,0,10,11.4,21.85,null,1,1,1,853,899,1297,null,0,0,0,1]
["39010",null,null,3,90,40.5,10,11.5,0,26,30,46.9,2710.8,3560.7045070849035,3890.5075371280445,5128.78,"N/A",1,1,1,{"$error":"#VALUE!"},1960,2141,2823,{"$error":"#VALUE!"},337,368,486,{"$error":"#VALUE!"},0.5513717426487279,0.65355343212264516,1.1192722706975911,3.969E-4,1.7345999999999999,2,3.6734700000000002E-4,{"$f":"AK934*IF($G1326=10,1,IF($G1326=15,1,IF($G1326=20,1,(1-(($E1326-50)*0.005)))))","v":493.64631212835212},539.36930014536108,711.04,1,1,1,556,607,801,239,261,344,0.28416425412407953,0.33672352629864988,0.57370720363480265,0.6,13.4,14.8,24,null,3012,null,0.9,null,null,0,10.5,12.3,21.85,null,1,1,1,556,607,801,null,0,0,0,1]
["39011",null,null,3,90,40.5,11,11.5,0,26,30,46.9,2630.2400000000002,4831.2827990970827,5278.770565343093,6958.9,"N/A",1,1,1,{"$error":"#VALUE!"},2659,2905,3830,{"$error":"#VALUE!"},457,500,659,{"$error":"#VALUE!"},1.6588880621450852,1.9721017272167709,3.356422035720068,3.969E-4,1.7345999999999999,4,5.7428799999999995E-4,{"$f":"AK935*IF($G1327=10,1,IF($G1327=15,1,IF($G1327=20,1,(1-(($E1327-50)*0.005)))))","v":647.34982295013458},707.30928678153032,932.43200000000002,1,1,1,729,797,1050,313,343,452,0.80213282827818522,0.95603835097184275,1.624170045497481,1.2,13.4,14.8,24,null,3868,null,0.68,null,null,0,10.5,12.3,21.85,null,1,1,1,729,797,1050,null,0,0,0,1]
["39015",null,null,3,90,40.5,15,16.5,0,26,30,47.8,3731.2000000000003,4302.5567439745028,4481.7988603493422,6540.76,"N/A",1,1,1,{"$error":"#VALUE!"},2368,2467,3600,{"$error":"#VALUE!"},407,424,619,{"$error":"#VALUE!"},0.84708094552160829,0.91813560663409699,1.9347626711636068,2.0829999999999999E-4,1.724,2,4.6182900000000003E-4,{"$f":"AK936*IF($G1328=10,1,IF($G1328=15,1,IF($G1328=20,1,(1-(($E1328-50)*0.005)))))","v":587.31626956044784},611.78353807115786,892.84,1,1,1,661,689,1006,284,296,433,0.41740153377269396,0.45277414678903555,0.95689687103817922,0.9,15.5,16.8,27.5,null,4664,null,0.8,null,null,0,10,11.1,21.85,null,1,1,1,661,689,1006,null,0,0,0,1]
["39016",null,null,3,90,40.5,16,16.5,0,26,30,47.8,3883.4800000000005,6291.7251954043459,6553.83496101116,9564.7000000000007,"N/A",1,1,1,{"$error":"#VALUE!"},3463,3607,5264,{"$error":"#VALUE!"},596,620,905,{"$error":"#VALUE!"},5.2243417248377559,5.6491578035475252,11.951452919287116,2.0829999999999999E-4,1.724,4,1.392796E-3,770.68650756800855,802.79287801192663,1171.6000000000001,1,1,1,868,904,1319,373,389,567,2.0665692767644881,2.2455644236920529,4.7330172295845143,1.8,15.5,16.8,27.5,null,5711,null,0.68,null,null,0,10,11.1,21.85,null,1,1,1,868,904,1319,null,0,0,0,1]
["39020",null,null,3,90,40.5,20,21.5,0,26,30,47.8,5204,5696.5662496175182,6224.1991397456159,8205.24,"N/A",1,1,1,{"$error":"#VALUE!"},3135,3425,4516,{"$error":"#VALUE!"},539,589,777,{"$error":"#VALUE!"},1.1677838829068059,1.391710488124442,2.4075621364931732,1.2760000000000001E-4,1.7219,2,3.76611E-4,{"$f":"AK938*IF($G1330=10,1,IF($G1330=15,1,IF($G1330=20,1,(1-(($E1330-50)*0.005)))))","v":704.00695650122941},769.21417236639559,1014.04,1,1,1,793,866,1142,341,372,491,0.47259734387922364,0.56119426653270543,0.9711370943539881,1.2,15.5,16.8,27.5,null,6505,null,0.8,null,null,0,10,11.1,21.85,null,1,1,1,793,866,1142,null,0,0,0,{"$f":"IF(SUM(BV1330:BX1330)=0,1,0)","v":1}]
["39021",null,null,3,90,40.5,21,21.5,0,26,30,47.8,6635.2000000000007,8102.8384881891643,8440.3982243391856,12317.96,"N/A",1,1,1,{"$error":"#VALUE!"},4459,4645,6779,{"$error":"#VALUE!"},767,799,1166,{"$error":"#VALUE!"},3.3152300817173868,3.5933280380430572,7.5724844222469683,1.2760000000000001E-4,1.7219,4,5.1420100000000005E-4,{"$f":"AK939*IF($G1331=10,1,IF($G1331=15,1,IF($G1331=20,1,(1-(($E1331-50)*0.005)))))","v":840.84555515350985},875.87471242404683,1278.2560000000001,1,1,1,947,986,1440,407,424,619,0.95252634800052427,1.0323138537843823,2.1732904041050807,2.4,15.5,16.8,27.5,null,8294,null,0.8,null,null,0,10,11.1,21.85,null,1,1,1,947,986,1440,null,0,0,0,1]
["39010",null,null,3,90,40.5,10,11.5,0,26,30,47.2,2957.4,3860.4188735925432,4228.9855673527691,5636.58,"N/A",1,1,1,{"$error":"#VALUE!"},2125,2327,3102,{"$error":"#VALUE!"},366,400,534,{"$error":"#VALUE!"},0.64670659218198601,0.76786353594294265,1.3432646638364949,3.969E-4,1.7345999999999999,2,3.6734700000000002E-4,{"$f":"AK940*IF($G1332=10,1,IF($G1332=15,1,IF($G1332=20,1,(1-(($E1332-50)*0.005)))))","v":535.19789031294818},586.29496640731588,781.44,1,1,1,603,660,880,259,284,378,0.33176689788651526,0.39628335229831857,0.68831318450606471,0.6,14.8,16.600000000000001,28,null,3286,null,0.9,null,null,0,10.4,12.2,21.85,null,1,1,1,603,660,880,null,0,0,0,1]
["39011",null,null,3,90,40.5,11,11.5,0,26,30,47.2,2868.92,5237.9452617275747,5738.028861571599,7647.9,"N/A",1,1,1,{"$error":"#VALUE!"},2883,3158,4209,{"$error":"#VALUE!"},496,543,724,{"$error":"#VALUE!"},1.9418610185136096,2.3114545351934428,4.0240426084697658,3.969E-4,1.7345999999999999,4,5.7428799999999995E-4,{"$f":"AK941*IF($G1333=10,1,IF($G1333=15,1,IF($G1333=20,1,(1-(($E1333-50)*0.005)))))","v":701.6},768.80000000000007,1024.8,1,1,1,790,866,1154,340,372,496,0.94006187762447146,1.1171677843492169,1.9418610185136096,1.2,14.8,16.600000000000001,28,null,4219,null,0.68,null,null,0,10.4,12.2,21.85,null,1,1,1,790,866,1154,null,0,0,0,1]
["39015",null,null,3,90,40.5,15,16.5,0,26,30,48.1,4070.4,4729.715265656896,4901.7743245246338,7188.36,"N/A",1,1,1,{"$error":"#VALUE!"},2603,2698,3956,{"$error":"#VALUE!"},448,464,680,{"$error":"#VALUE!"},1.0232579699858397,1.0964651615496444,2.328678964306818,2.0829999999999999E-4,1.724,2,4.6182900000000003E-4,{"$f":"AK942*IF($G1334=10,1,IF($G1334=15,1,IF($G1334=20,1,(1-(($E1334-50)*0.005)))))","v":645.62512273636446},669.11187505864359,981.24,1,1,1,727,754,1105,313,324,475,0.50531379919239094,0.54082572883260704,1.1482444899904536,0.9,16.399999999999999,17.7,29.7,null,5088,null,0.8,null,null,0,10,10.9,21.85,null,1,1,1,727,754,1105,null,0,0,0,1]
["39016",null,null,3,90,40.5,16,16.5,0,26,30,48.1,4236.4000000000005,6916.3686790875245,7167.9744986485921,10511.7,"N/A",1,1,1,{"$error":"#VALUE!"},3806,3945,5785,{"$error":"#VALUE!"},655,679,995,{"$error":"#VALUE!"},6.2982140078791788,6.7635211502809973,14.422625357567437,2.0829999999999999E-4,1.724,4,1.392796E-3,{"$f":"AK943*IF($G1335=10,1,IF($G1335=15,1,IF($G1335=20,1,(1-(($E1335-50)*0.005)))))","v":847.2},878.40000000000009,1288,1,1,1,954,989,1451,410,425,624,2.4916777112480788,2.6752395241836466,5.7215625939967483,1.8,16.399999999999999,17.7,29.7,null,6230,null,0.68,null,null,0,10,10.9,21.85,null,1,1,1,954,989,1451,null,0,0,0,1]
["39020",null,null,3,90,40.5,20,21.5,0,26,30,48.1,5677.6,6176.0620183272586,6765.7106634844222,9017.64,"N/A",1,1,1,{"$error":"#VALUE!"},3399,3723,4963,{"$error":"#VALUE!"},585,640,854,{"$error":"#VALUE!"},1.3730802453926974,1.6401540196072457,2.9027619610690398,1.2760000000000001E-4,1.7219,2,3.76611E-4,{"$f":"AK944*IF($G1336=10,1,IF($G1336=15,1,IF($G1336=20,1,(1-(($E1336-50)*0.005)))))","v":763.26517311676128},836.13657141043336,1114.44,1,1,1,860,942,1255,370,405,540,0.55525101781859265,0.66378046018368753,1.1720716373519229,1.2,16.399999999999999,17.7,29.7,null,7097,null,0.8,null,null,0,10,10.9,21.85,null,1,1,1,860,942,1255,null,0,0,0,1]
["39021",null,null,3,90,40.5,21,21.5,0,26,30,48.1,7238.4000000000005,8907.2895892451361,9231.3217513746804,13537.56,"N/A",1,1,1,{"$error":"#VALUE!"},4902,5080,7450,{"$error":"#VALUE!"},843,874,1281,{"$error":"#VALUE!"},3.9937872214030388,4.2884854393813248,9.1173770443516933,1.2760000000000001E-4,1.7219,4,5.1420100000000005E-4,{"$f":"AK945*IF($G1337=10,1,IF($G1337=15,1,IF($G1337=20,1,(1-(($E1337-50)*0.005)))))","v":924.3248363519715},957.9502138848635,1404.816,1,1,1,1041,1079,1582,448,464,680,1.1503429254105557,1.2325299220144197,2.6151848185562541,2.4,16.399999999999999,17.7,29.7,null,9048,null,0.8,null,null,0,10,10.9,21.85,null,1,1,1,1041,1079,1582,null,0,0,0,1]
["39010",null,null,3,90,40.5,10,11.5,0,26,30,47.8,3203.1,4178.1784000000007,4608.2849999999999,6144.38,"N/A",1,1,1,{"$error":"#VALUE!"},2299,2536,3381,{"$error":"#VALUE!"},395,436,582,{"$error":"#VALUE!"},0.74941257568963038,0.9071441973559331,1.5871072340560382,3.969E-4,1.7345999999999999,2,3.6734700000000002E-4,{"$f":"AK946*IF($G1338=10,1,IF($G1338=15,1,IF($G1338=20,1,(1-(($E1338-50)*0.005)))))","v":579.25120000000004},638.88,851.84,1,1,1,652,719,959,280,309,412,0.38558738320619262,0.46634590676995058,0.81303585801535982,0.6,16.2,18.600000000000001,31.4,null,3559,null,0.9,null,null,0,10.199999999999999,11.9,21.85,null,1,1,1,652,719,959,null,0,0,0,1]
["39011",null,null,3,90,40.5,11,11.5,0,26,30,47.8,3108.28,5669.0920000000006,6252.6749999999993,8336.9,"N/A",1,1,1,{"$error":"#VALUE!"},3120,3441,4588,{"$error":"#VALUE!"},537,592,789,{"$error":"#VALUE!"},2.26253821128486,2.7298766094517677,4.7502528652936427,3.969E-4,1.7345999999999999,4,5.7428799999999995E-4,759.60896000000002,837.80399999999997,1117.0719999999999,1,1,1,855,944,1258,368,406,541,1.0942232072340903,1.3214667051416937,2.2950927834221297,1.2,16.2,18.600000000000001,31.4,null,4571,null,0.68,null,null,0,10.199999999999999,11.9,21.85,null,1,1,1,855,944,1258,null,0,0,0,1]
["39015",null,null,3,90,40.5,15,16.5,0,26,30,48.1,4409.6000000000004,4942.1733310961072,5121.9619484404784,7511.2599999999993,"N/A",1,1,1,{"$error":"#VALUE!"},2720,2819,4134,{"$error":"#VALUE!"},468,485,711,{"$error":"#VALUE!"},1.1151574052859925,1.1963408846361903,2.5426857295368301,2.0829999999999999E-4,1.724,2,4.6182900000000003E-4,{"$f":"AK948*IF($G1340=10,1,IF($G1340=15,1,IF($G1340=20,1,(1-(($E1340-50)*0.005)))))","v":653.91552727192982},677.70396216321694,993.84,1,1,1,736,763,1119,316,328,481,0.51488082150146242,0.55403420024764038,1.1769852941357619,0.9,16.399999999999999,17.7,29.7,null,5512,null,0.8,null,null,0,10,10.9,21.85,null,1,1,1,736,763,1119,null,0,0,0,1]
["39016",null,null,3,90,40.5,16,16.5,0,26,30,48.1,4590,7342.4691534710291,7609.5768181679023,11159.300000000001,"N/A",1,1,1,{"$error":"#VALUE!"},4041,4188,6141,{"$error":"#VALUE!"},695,720,1056,{"$error":"#VALUE!"},7.0828696690671533,7.5964903638178205,16.228551130253397,2.0829999999999999E-4,1.724,4,1.392796E-3,{"$f":"AK949*IF($G1341=10,1,IF($G1341=15,1,IF($G1341=20,1,(1-(($E1341-50)*0.005)))))","v":855.09601066831692},886.20308020135712,1299.6000000000001,1,1,1,963,998,1464,414,429,630,2.5399948744000391,2.7252819244120405,5.8310278544648186,1.8,16.399999999999999,17.7,29.7,null,6750,null,0.68,null,null,0,10,10.9,21.85,null,1,1,1,963,998,1464,null,0,0,0,1]
["39020",null,null,3,90,40.5,20,21.5,0,26,30,48.1,6150.4000000000005,6444.5232000000005,7107.93,9477.24,"N/A",1,1,1,{"$error":"#VALUE!"},3547,3912,5216,{"$error":"#VALUE!"},610,673,897,{"$error":"#VALUE!"},1.4915613316788214,1.8116840559506329,3.1992780726966927,1.2760000000000001E-4,1.7219,2,3.76611E-4,{"$f":"AK950*IF($G1342=10,1,IF($G1342=15,1,IF($G1342=20,1,(1-(($E1342-50)*0.005)))))","v":768.42720000000008},847.53,1130.04,1,1,1,865,954,1273,372,410,547,0.56119426653270543,0.68006739346439227,1.2023040299777052,1.2,16.399999999999999,17.7,29.7,null,7688,null,0.8,null,null,0,10,10.9,21.85,null,{"$f":"IF((237.3*LN(($AQ$1*EXP(17.27*($AM$3/($AM$3+237.3))))))/(17.27-LN(($AQ$1*EXP(17.27*($AM$3/($AM$3+237.3))))))<(($AM$1+$AM$2)/2),1,IF(1/(1+((2258*((0.622/((101325/(1*611*EXP(17.27*((($AM$1+$AM$2)/2)/((($AM$1+$AM$2)/2)+237.3))))))-1)*1000-(0.622/((101325/($AQ$1*611*EXP(17.27*($AM$3/($AM$3+237.3))))))-1)*1000))/(1005*((($AM$1+$AM$2)/2)-$AM$3))))>1,1,1/(1+((2258*((0.622/((101325/(1*611*EXP(17.27*((($AM$1+$AM$2)/2)/((($AM$1+$AM$2)/2)+237.3))))))-1)*1000-(0.622/((101325/($AQ$1*611*EXP(17.27*($AM$3/($AM$3+237.3))))))-1)*1000))/(1005*((($AM$1+$AM$2)/2)-$AM$3))))))","v":1},1,1,865,954,1273,null,0,0,0,1]
["39021",null,null,3,90,40.5,21,21.5,0,26,30,48.1,7841.6,9234.8263652613623,9570.7750567366256,14035.359999999999,"N/A",1,1,1,{"$error":"#VALUE!"},5082,5267,7724,{"$error":"#VALUE!"},874,906,1329,{"$error":"#VALUE!"},4.2884854393813248,4.6035693624856791,9.8041547283388955,1.2760000000000001E-4,1.7219,4,5.1420100000000005E-4,{"$f":"AK951*IF($G1343=10,1,IF($G1343=15,1,IF($G1343=20,1,(1-(($E1343-50)*0.005)))))","v":934.01013434907657},967.98797757518753,1419.5360000000001,1,1,1,1052,1090,1599,452,469,688,1.1706272234494288,1.2587873158348186,2.6761328913595843,2.4,16.399999999999999,17.7,29.7,null,9802,null,0.8,null,null,0,10,10.9,21.85,null,1,1,1,1052,1090,1599,null,0,0,0,1]
["39010",null,null,3,90,40.5,10,11.5,0,26,30,47.8,3449.7000000000003,4331.3824000000004,4782.2249168521384,6369.68,"N/A",1,1,1,{"$error":"#VALUE!"},2384,2632,3505,{"$error":"#VALUE!"},410,453,603,{"$error":"#VALUE!"},0.80541993107798571,0.97683471215648976,1.7000111812200771,3.969E-4,1.7345999999999999,2,3.6734700000000002E-4,{"$f":"AK952*IF($G1344=10,1,IF($G1344=15,1,IF($G1344=20,1,(1-(($E1344-50)*0.005)))))","v":587.68320000000006},648.85364133524638,864.24,1,1,1,662,731,{"$f":"ROUND(AM1344*POWER(CF_cool,AP1344),0)","v":973},285,314,418,0.39897953199108455,0.4810218657833602,0.83609279313820883,0.6,16.2,18.600000000000001,31.4,null,3833,null,0.9,null,null,0,10.199999999999999,11.9,21.85,null,1,1,1,662,731,973,null,0,0,0,1]
["39011",null,null,3,90,40.5,11,11.5,0,26,30,47.8,3346.96,5976.8600000000006,6598.9760720588583,8789.5,"N/A",1,1,1,{"$error":"#VALUE!"},3289,3632,4837,{"$error":"#VALUE!"},566,625,832,{"$error":"#VALUE!"},2.503658200500936,3.0306361479043571,5.2627463227254978,3.969E-4,1.7345999999999999,4,5.7428799999999995E-4,764.80000000000007,844.80000000000007,1124.8,1,1,1,861,951,1267,370,409,545,1.1056667439283325,1.3402879026475252,2.3278725826905053,1.2,16.2,18.600000000000001,31.4,null,4922,null,0.68,null,null,0,10.199999999999999,11.9,21.85,null,1,1,1,861,951,1267,null,0,0,0,1]
["39015",null,null,3,90,40.5,15,16.5,0,26,30,48.9,4748.8,5583.9635634029,5708.9475468201636,8483.56,"N/A",1,1,1,{"$error":"#VALUE!"},3073,3142,4669,{"$error":"#VALUE!"},529,540,803,{"$error":"#VALUE!"},1.4195438342205524,1.4782904162727499,3.2325498251974301,2.0829999999999999E-4,1.724,2,4.6182900000000003E-4,{"$f":"AK954*IF($G1346=10,1,IF($G1346=15,1,IF($G1346=20,1,(1-(($E1346-50)*0.005)))))","v":762.23344503523219},779.29426056038062,1158.04,1,1,1,858,878,1304,369,378,561,0.69848252874511685,0.73239837119947726,1.5937120256365795,0.9,19.3,20.399999999999999,34.5,null,5936,null,0.8,null,null,0,10,10.6,21.85,null,1,1,1,858,878,1304,null,0,0,0,1]
["39016",null,null,3,90,40.5,16,16.5,0,26,30,48.9,4942.92,8165.5551181941737,8348.321999442087,12405.7,"N/A",1,1,1,{"$error":"#VALUE!"},4494,4594,6827,{"$error":"#VALUE!"},773,790,1174,{"$error":"#VALUE!"},8.7443750226983035,9.1295418393249328,20.022138915934772,{"$f":"IF($G1347=$CO$103,CP$103,IF($G1347=$CO$104,CP$104,IF($G1347=$CO$105,CP$105,IF($G1347=$CO$107,CP$107,IF($G1347=$CO$108,CP$108,IF($G1347=$CO$109,CP$109,IF($G1347=$CO$111,CP$111,IF($G1347=$CO$112,CP$112,IF($G1347=$CO$113,CP$113,IF($G1347=$CO$115,CP$115,IF($G1347=$CO$116,CP$116,IF($G1347=$CO$117,CP$117,IF($G1347=$CO$119,CP$119,IF($G1347=$CO$120,CP$120,))))))))))))))","v":2.0829999999999999E-4},{"$f":"IF($G1347=$CO$103,CQ$103,IF($G1347=$CO$104,CQ$104,IF($G1347=$CO$105,CQ$105,IF($G1347=$CO$107,CQ$107,IF($G1347=$CO$108,CQ$108,IF($G1347=$CO$109,CQ$109,IF($G1347=$CO$111,CQ$111,IF($G1347=$CO$112,CQ$112,IF($G1347=$CO$113,CQ$113,IF($G1347=$CO$115,CQ$115,IF($G1347=$CO$116,CQ$116,IF($G1347=$CO$117,CQ$117,IF($G1347=$CO$119,CQ$119,IF($G1347=$CO$120,CQ$120,))))))))))))))","v":1.724},{"$f":"IF($G1347=$CO$103,CR$103,IF($G1347=$CO$104,CR$104,IF($G1347=$CO$105,CR$105,IF($G1347=$CO$107,CR$107,IF($G1347=$CO$108,CR$108,IF($G1347=$CO$109,CR$109,IF($G1347=$CO$111,CR$111,IF($G1347=$CO$112,CR$112,IF($G1347=$CO$113,CR$113,IF($G1347=$CO$115,CR$115,IF($G1347=$CO$116,CR$116,IF($G1347=$CO$117,CR$117,IF($G1347=$CO$119,CR$119,IF($G1347=$CO$120,CR$120,))))))))))))))","v":4},{"$f":"IF($G1347=$CO$103,CS$103,IF($G1347=$CO$104,CS$104,IF($G1347=$CO$105,CS$105,IF($G1347=$CO$107,CS$107,IF($G1347=$CO$108,CS$108,IF($G1347=$CO$109,CS$109,IF($G1347=$CO$111,CS$111,IF($G1347=$CO$112,CS$112,IF($G1347=$CO$113,CS$113,IF($G1347=$CO$115,CS$115,IF($G1347=$CO$116,CS$116,IF($G1347=$CO$117,CS$117,IF($G1347=$CO$119,CS$119,IF($G1347=$CO$120,CS$120,))))))))))))))","v":1.392796E-3},{"$f":"AK955*IF($G1347=10,1,IF($G1347=15,1,IF($G1347=20,1,(1-(($E1347-50)*0.005)))))","v":1000},1022.4000000000001,1520,1,1,1,1126,1151,1712,484,495,736,3.4599789544917776,3.617340007142344,7.9345732710754158,1.8,19.3,20.399999999999999,34.5,null,7269,null,0.68,null,null,0,10,10.6,21.85,null,1,1,1,1126,1151,1712,null,0,0,0,1]
["39020",null,null,3,90,40.5,20,21.5,0,26,30,48.9,6624,7236.8592000000008,7990.1253664397382,10642.44,"N/A",1,1,1,{"$error":"#VALUE!"},3983,4397,5857,{"$error":"#VALUE!"},685,756,1007,{"$error":"#VALUE!"},1.8761557002940186,2.2804807560424458,4.0228892682451791,1.2760000000000001E-4,1.7219,2,3.76611E-4,{"$f":"AK956*IF($G1348=10,1,IF($G1348=15,1,IF($G1348=20,1,(1-(($E1348-50)*0.005)))))","v":894.36320000000012},987.455178225689,1315.24,1,1,1,1007,1112,1481,433,478,637,0.75750560815372359,0.92097064958610508,1.6249799381155929,1.2,19.3,20.399999999999999,34.5,null,8280,null,0.8,null,null,0,10,10.6,21.85,null,1,1,1,1007,1112,1481,null,0,0,0,1]
["39021",null,null,3,90,40.5,21,21.5,0,26,30,48.1,8444.8000000000011,10516.06232539558,10751.439821034392,15976.76,"N/A",1,1,1,{"$error":"#VALUE!"},5787,5917,8793,{"$error":"#VALUE!"},995,1018,1512,{"$error":"#VALUE!"},5.5379518103843246,5.7932958715007494,12.648838490791739,1.2760000000000001E-4,1.7219,4,5.1420100000000005E-4,{"$f":"AK957*IF($G1349=10,1,IF($G1349=15,1,IF($G1349=20,1,(1-(($E1349-50)*0.005)))))","v":1009.4247165541242},1032.0183313946002,1533.5908000000002,1,1,1,1137,1162,1727,489,500,743,1.3665482923940642,1.427678645414802,3.1139268228808246,2.4,19.3,20.399999999999999,34.5,null,10556,null,0.8,null,null,0,10,10.6,21.85,null,1,1,1,1137,1162,1727,null,0,0,0,1]
["39010",null,null,3,90,40.5,10,11.5,0,26,30,47.8,3696.3,4485,4951,6595,"N/A",1,1,1,{"$error":"#VALUE!"},2468,2725,3629,{"$error":"#VALUE!"},425,469,624,{"$error":"#VALUE!"},0.86338885317210579,1.0447169635595515,1.8166946480570332,3.969E-4,1.7345999999999999,2,3.6734700000000002E-4,{"$f":"AK958*IF($G1350=10,1,IF($G1350=15,1,IF($G1350=20,1,(1-(($E1350-50)*0.005)))))","v":595},658,877,1,1,1,670,741,988,288,319,425,0.4071212958830665,0.49591855977736732,0.86338885317210579,0.6,16.2,18.600000000000001,31.4,null,4107,null,0.9,null,null,0,10.199999999999999,11.9,21.85,null,1,1,1,670,741,988,null,0,0,0,1]
["39011",null,null,3,90,40.5,11,11.5,0,26,30,47.8,3586.32,6285,6939,9242,"N/A",1,1,1,{"$error":"#VALUE!"},3459,3819,5086,{"$error":"#VALUE!"},595,657,875,{"$error":"#VALUE!"},2.7565885884979142,3.3368118897878811,5.8007049374487432,3.969E-4,1.7345999999999999,4,5.7428799999999995E-4,770.40000000000009,850.40000000000009,1132.8,1,1,1,868,958,1276,373,412,549,1.122939862876714,1.3592377466035197,2.3608775209419059,1.2,16.2,18.600000000000001,31.4,null,5274,null,0.68,null,null,0,10.199999999999999,11.9,21.85,null,1,1,1,868,958,1276,null,0,0,0,1]
["39015",null,null,3,90,40.5,15,16.5,0,26,30,48.9,5088,5796,5926,8806,"N/A",1,1,1,{"$error":"#VALUE!"},3190,3261,4846,{"$error":"#VALUE!"},549,561,834,{"$error":"#VALUE!"},1.5272315617624435,1.5937120256365795,3.4834293693342442,2.0829999999999999E-4,1.724,2,4.6182900000000003E-4,{"$f":"AK960*IF($G1352=10,1,IF($G1352=15,1,IF($G1352=20,1,(1-(($E1352-50)*0.005)))))","v":771},788,1171,1,1,1,{"$f":"ROUND(AK1352*POWER(CF_cool,AN1352),0)","v":868},887,1319,{"$f":"ROUND(AQ1352*3600/(4186*ABS($AM$1-$AM$2)),0)","v":373},{"$f":"ROUND(AR1352*3600/(4186*ABS($AM$1-$AM$2)),0)","v":381},{"$f":"ROUND(AS1352*3600/(4186*ABS($AM$1-$AM$2)),0)","v":567},0.71345820445244412,0.74388008321807375,1.6274773530304576,0.9,19.3,20.399999999999999,34.5,null,6360,null,0.8,null,null,0,10,10.6,21.85,null,1,1,1,868,887,1319,null,0,0,0,1]
["39016",null,null,3,90,40.5,16,16.5,0,26,30,48.9,5295.84,8592,8784,13053,"N/A",1,1,1,{"$error":"#VALUE!"},4729,4834,7184,{"$error":"#VALUE!"},813,831,1236,{"$error":"#VALUE!"},9.6637690164938022,10.092380686352437,22.173847439796852,2.0829999999999999E-4,1.724,4,1.392796E-3,{"$f":"AK961*IF($G1353=10,1,IF($G1353=15,1,IF($G1353=20,1,(1-(($E1353-50)*0.005)))))","v":1008},1030.4000000000001,1532,1,1,1,1135,1160,1725,488,499,742,3.5167994444294806,3.6754229314062918,8.0632384212421844,1.8,19.3,20.399999999999999,34.5,null,7788,null,0.68,null,null,0,10,10.6,21.85,null,1,1,1,1135,1160,1725,null,{"$f":"BR1353-AQ1353","v":0},{"$f":"BS1353-AR1353","v":0},{"$f":"BT1353-AS1353","v":0},{"$f":"IF(SUM(BV1353:BX1353)=0,1,0)","v":1}]
["39020",null,null,3,90,40.5,20,21.5,0,26,30,48.9,{"$f":"IF($N1354-($BE1354*$BG1354)>100,$BE1354*$BG1354,$N1354-95)","v":7096.8},7549,8335,11102,"N/A",1,1,1,{"$error":"#VALUE!"},4155,4587,6110,{"$error":"#VALUE!"},715,789,1051,{"$error":"#VALUE!"},2.0422255336655422,2.4817148057821927,4.3785138205209249,1.2760000000000001E-4,1.7219,2,3.76611E-4,{"$f":"AK962*IF($G1354=10,1,IF($G1354=15,1,IF($G1354=20,1,(1-(($E1354-50)*0.005)))))","v":905},999,1331,1,1,1,1019,1125,1499,438,484,645,0.77488724143731103,0.94396053730160101,1.6655995784125888,1.2,19.3,20.399999999999999,34.5,null,8871,null,0.8,null,null,0,10,10.6,21.85,null,1,1,1,1019,1125,1499,null,{"$f":"BR1354-AQ1354","v":0},{"$f":"BS1354-AR1354","v":0},{"$f":"BT1354-AS1354","v":0},{"$f":"IF(SUM(BV1354:BX1354)=0,1,0)","v":1}]
["39021",null,null,3,90,40.5,21,21.5,0,26,30,48.1,9048,10844,11086,16475,"N/A",1,1,1,{"$error":"#VALUE!"},5968,6101,9067,{"$error":"#VALUE!"},1027,1049,1560,{"$error":"#VALUE!"},5.8947631602161117,6.1464637661674288,13.454290775683404,1.2760000000000001E-4,1.7219,4,5.1420100000000005E-4,{"$f":"AK963*IF($G1355=10,1,IF($G1355=15,1,IF($G1355=20,1,(1-(($E1355-50)*0.005)))))","v":1174.4000000000001},1200.8,1784.8000000000002,1,1,1,1323,1352,2010,569,581,864,1.8412291092798616,1.9184441569969002,4.192287901082099,2.4,19.3,20.399999999999999,34.5,null,11310,null,0.8,null,null,0,10,10.6,21.85,null,1,1,1,1323,1352,2010,null,0,0,0,1]
["52811",null,null,5,28,40.5,11,13,0,26,30,41,1553,1648,1770,2136,"N/A",1,1,1,{"$f":"ROUND(M1356*POWER(CF_heat,Q1356),0)","v":{"$error":"#VALUE!"}},{"$f":"ROUND(N1356*POWER(CF_heat,R1356),0)","v":907},{"$f":"ROUND(O1356*POWER(CF_heat,S1356),0)","v":974},{"$f":"ROUND(P1356*POWER(CF_heat,T1356),0)","v":1176},{"$f":"ROUND(U1356*3600/(4186*ABS($O$1-$O$2)),0)","v":{"$error":"#VALUE!"}},{"$f":"ROUND(V1356*3600/(4186*ABS($O$1-$O$2)),0)","v":156},{"$f":"ROUND(W1356*3600/(4186*ABS($O$1-$O$2)),0)","v":168},{"$f":"ROUND(X1356*3600/(4186*ABS($O$1-$O$2)),0)","v":202},{"$error":"#VALUE!"},0.15044386694534201,0.17417478884951093,0.25075000976951772,3.969E-4,1.7345999999999999,4,5.7428799999999995E-4,276,{"$f":"AL964*IF($G1356=10,1,IF($G1356=15,1,IF($G1356=20,1,(1-(($E1356-50)*0.005)))))","v":106.92436785072525},125.03040000000001,1,1,1,311,120,141,134,52,61,0.11141253213767412,1.7223039139020142E-2,2.3586344769728474E-2,0.4,0,0,0,null,99999,null,0.68,null,null,null,null,null,null,null,1,1,1,311,120,141,null,0,0,0,1]
["52816",null,null,5,28,40.5,16,18,0,26,30,null,1945,2040,2188,2936,"N/A",1,1,1,{"$error":"#VALUE!"},1123,1204,1616,{"$error":"#VALUE!"},193,207,278,{"$error":"#VALUE!"},0.51810518621386636,0.59578379049108465,1.073037432735821,2.0829999999999999E-4,1.724,4,1.392796E-3,{"$f":"AK965*IF($G1357=10,1,IF($G1357=15,1,IF($G1357=20,1,(1-(($E1357-50)*0.005)))))","v":163.79314138148936},175.27090980076269,204.9504,1,1,1,184,197,231,79,85,99,8.7260935475185292E-2,0.10097106179165803,0.13683966538262324,0.6,0,0,0,null,99999,null,0.68,null,null,null,null,null,null,null,1,1,1,184,197,231,null,0,0,0,1]
["52811",null,null,5,28,40.5,11,13,0,26,30,41.8,592.28000000000009,1648,1770,2136,"N/A",1,1,1,{"$error":"#VALUE!"},907,974,1176,{"$error":"#VALUE!"},156,168,202,{"$error":"#VALUE!"},0.15044386694534201,0.17417478884951093,0.25075000976951772,3.969E-4,1.7345999999999999,4,5.7428799999999995E-4,276,296,358,1,1,1,311,333,403,134,143,173,0.11141253213767412,0.12667925903055777,0.18457058017847691,0.4,6.3,6.8,9.1,null,871,null,0.68,null,null,null,null,null,null,null,1,1,1,311,333,403,null,0,0,0,1]
["52816",null,null,5,28,40.5,16,18,0,26,30,42.4,779.28000000000009,2040,2188,2936,"N/A",1,1,1,{"$error":"#VALUE!"},1123,1204,1616,{"$error":"#VALUE!"},193,207,278,{"$error":"#VALUE!"},0.51810518621386636,0.59578379049108465,1.073037432735821,2.0829999999999999E-4,1.724,4,1.392796E-3,312,335,450,1,1,1,351,377,507,151,162,218,0.31755971384793341,0.36537166222895567,0.66061436867990964,0.6,6,6.7,9,null,1146,null,0.68,null,null,null,null,null,null,null,1,1,1,351,377,507,null,0,0,0,1]
["52811",null,null,5,28,40.5,11,13,0,26,30,43,740.5200000000001,2136,2301,2825,"N/A",1,1,1,{"$error":"#VALUE!"},1176,1266,1555,{"$error":"#VALUE!"},202,218,267,{"$error":"#VALUE!"},0.25075000976951772,0.29155369091636196,0.43545599050094091,3.969E-4,1.7345999999999999,4,5.7428799999999995E-4,358,385,473,1,1,1,403,434,{"$f":"ROUND(AM1360*POWER(CF_cool,AP1360),0)","v":533},173,187,229,0.18457058017847691,0.21526677557629631,0.32137385890258369,0.4,7.8,8.6999999999999993,12.2,null,1089,null,0.68,null,null,null,null,null,null,null,1,1,1,403,434,533,null,0,0,0,1]
["52816",null,null,5,28,40.5,16,18,0,26,30,44.1,974.44,2630,2817,3883,"N/A",1,1,1,{"$error":"#VALUE!"},1447,1550,2137,{"$error":"#VALUE!"},249,267,368,{"$error":"#VALUE!"},0.8612927638564537,0.9899884773864156,1.8779031032840452,2.0829999999999999E-4,1.724,4,1.392796E-3,403,431,595,1,1,1,454,485,670,195,209,288,0.52887068120637026,0.60732263236711959,1.1514336596581769,0.6,7,7.7,10.7,null,1433,null,{"$f":"IF(G1361=10,0.9,IF(G1361=11,0.68,IF(G1361=15,0.8,IF(G1361=16,0.68,IF(G1361=20,0.8,IF(G1361=21,0.8))))))","v":0.68},null,null,null,null,null,null,null,1,1,1,454,485,670,null,0,0,0,1]
["52811",null,null,5,28,40.5,11,13,0,26,30,44,888.7600000000001,2612,2822,3514,"N/A",1,1,1,{"$error":"#VALUE!"},1437,1553,1934,{"$error":"#VALUE!"},247,267,333,{"$error":"#VALUE!"},0.37327427484161901,0.43545599050094091,0.6743128456177051,3.969E-4,1.7345999999999999,4,5.7428799999999995E-4,437,473,589,1,1,1,492,533,663,212,229,285,0.27589507615076014,0.32137385890258369,0.49547857902419973,0.4,8.9,9.9,14.8,null,1307,null,0.68,null,null,null,null,null,null,null,1,1,1,492,533,663,null,0,0,0,1]
["52816",null,null,5,28,40.5,16,18,0,26,30,44.8,1169.6000000000001,3242,3472,4830,"N/A",1,1,1,{"$error":"#VALUE!"},1784,1911,2658,{"$error":"#VALUE!"},307,329,457,{"$error":"#VALUE!"},1.3079870935380333,1.5016998330660156,2.8934406535571959,2.0829999999999999E-4,1.724,4,1.392796E-3,496,532,740,1,1,1,559,599,833,240,258,358,0.80029832298949255,0.92452289494323914,1.777442546386675,0.6,8.6999999999999993,9.8000000000000007,14.3,null,1720,null,0.68,null,null,null,null,null,null,null,1,1,1,559,599,833,null,0,0,0,1]
["52811",null,null,5,28,40.5,11,13,0,26,30,44.8,1037,3077,3333,4203,"N/A",1,1,1,{"$error":"#VALUE!"},1693,1834,2313,{"$error":"#VALUE!"},291,315,398,{"$error":"#VALUE!"},0.5163400174313707,0.60405214930214957,0.95993389340297375,3.969E-4,1.7345999999999999,4,5.7428799999999995E-4,515,558,704,1,1,1,580,628,793,249,270,341,0.37927867777429847,0.44519281775099789,0.70677063877437918,0.4,10.1,11.2,17.5,null,1525,null,0.68,null,null,null,null,null,null,null,1,1,1,580,628,793,null,0,0,0,1]
["52816",null,null,5,28,40.5,16,18,0,26,30,45.4,1364.0800000000002,3844,4117,5777,"N/A",1,1,1,{"$error":"#VALUE!"},2116,2266,3179,{"$error":"#VALUE!"},364,390,547,{"$error":"#VALUE!"},1.8373880265486573,2.1086207615523613,4.1423418022357268,2.0829999999999999E-4,1.724,4,1.392796E-3,589,630,885,1,1,1,663,709,997,285,305,429,1.1276250921415922,1.291038823404165,2.5504086676618694,0.6,9.6,10.5,14.4,null,2006,null,0.68,null,null,null,null,null,null,null,1,1,1,663,709,997,null,0,0,0,1]
["52811",null,null,5,28,40.5,11,13,0,26,30,46,1332.8000000000002,4031,4376,5581,"N/A",1,1,1,{"$error":"#VALUE!"},2218,2408,3071,{"$error":"#VALUE!"},382,414,528,{"$error":"#VALUE!"},0.88499490031121519,1.0378953651112099,1.6807369903545626,3.969E-4,1.7345999999999999,4,5.7428799999999995E-4,675,733,935,1,1,1,760,825,1053,327,355,453,0.65046648297902532,0.76539339839630083,1.2405800489679177,0.4,12.2,13.7,22,null,1960,null,0.68,null,null,null,null,null,null,null,1,1,1,760,825,1053,null,0,0,0,1]
["52816",null,null,5,28,40.5,16,18,0,26,30,46.4,1753.72,4843,5171,7371,"N/A",1,1,1,{"$error":"#VALUE!"},2665,2846,4057,{"$error":"#VALUE!"},458,490,698,{"$error":"#VALUE!"},2.9060913560768613,3.3254616861532775,6.7388238639134288,2.0829999999999999E-4,1.724,4,1.392796E-3,686,733,1045,1,1,1,773,825,1177,332,355,506,1.5291494659677465,1.7478420292223598,3.5457261897705874,0.6,11.5,12.8,19.600000000000001,null,2579,null,0.68,null,null,null,null,null,null,null,1,1,1,773,825,1177,null,0,0,0,1]
["52811",null,null,5,28,40.5,11,13,0,26,30,47.2,1777.5200000000002,5238,5738,7648,"N/A",1,1,1,{"$f":"ROUND(M1368*POWER(CF_heat,Q1368),0)","v":{"$error":"#VALUE!"}},2883,3158,4209,{"$error":"#VALUE!"},496,543,724,{"$f":"(($AG1368*(Y1368^$AH1368)*((($F1368-14.4)*$AI1368)/100))+($AJ1368*(Y1368^2)))*0.0098","v":{"$error":"#VALUE!"}},1.4848345303545751,1.7767145744566404,3.1432749231060533,3.969E-4,1.7345999999999999,4,5.7428799999999995E-4,877,961,1281,1,1,1,988,1082,1443,425,465,620,1.0932463853979004,1.3065525632247423,2.3110465965712494,0.4,14.8,16.600000000000001,28,null,2614,null,0.68,null,null,null,null,null,null,null,1,1,1,988,1082,1443,null,0,0,0,1]
["52816",null,null,5,28,40.5,16,18,0,26,30,48.1,2338.52,6916,7168,10512,"N/A",1,1,1,{"$error":"#VALUE!"},3806,3945,5785,{"$error":"#VALUE!"},655,679,995,{"$error":"#VALUE!"},5.9354977454602746,6.3775893926753335,13.676839716113191,2.0829999999999999E-4,1.724,4,1.392796E-3,1059,1098,1610,1,1,1,1193,1237,1813,513,532,780,3.6443095065158477,3.9186966328769031,8.4118144773899299,0.6,16.399999999999999,17.7,29.7,null,3439,null,0.68,null,null,null,null,null,null,null,1,1,1,1193,1237,1813,null,0,0,0,1]
[""]
[""]
[""]
[{"$f":"CONCATENATE(D1373,E1373,G1373)","v":""}]
[""]
[""]
[""]
[""]
[""]
[""]
[""]
[""]
[""]
[""]
[""]
[""]
[""]
[""]
[""]
[""]
[""]
[""]
[""]
[""]

{"sheet":"NL","index":2,"n_rows":22,"n_cols":10,"rows_kept":22,"cut":false,"hidden":true,"merged":[[12,9,13,9],[12,8,13,8],[12,6,13,6],[12,7,13,7],[14,0,14,1],[15,0,17,0],[0,1,0,5],[8,4,8,6],[9,4,9,6],[10,4,10,6],[12,2,12,3],[12,4,12,5]]}
[null,"Selectiontool Strada Hybrid"]
[]
[null,"Lengte",null,"mm","Invulformulier","Statisch toestel","rel. vocht.","Unit","Kopieer alle data"]
[null,"Hoogte",null,{"$f":"D3","v":"mm"},"Uitvoering","Hybrid toestel","Eenheidsstelsel","DBH set","SI-eenheden"]
[null,"Type",null,null,"Temperaturen","DBH rail type","Toestel",null,"Imperiale-eenheden"]
[null,"Diepte",null,{"$f":"D3","v":"mm"},"Vermogen zonder ventilatoren is verwaarloosbaar.","Waterzijdig drukverlies"]
[null,null,null,null,"Afgifte zonder ventilatoren is verwaarloosbaar"]
[null,"Verwarmen:",null,null,null,null,"Koelen:"]
[null,"Water aanvoer",null,null,{"$f":"B9","v":"Water aanvoer"},null,null,null,{"$f":"D9","v":0}]
[null,"Water retour",null,{"$f":"D9","v":0},{"$f":"B10","v":"Water retour"},null,null,null,{"$f":"D9","v":0}]
[null,"Ruimte (droge bol)",null,{"$f":"D9","v":0},{"$f":"B11","v":"Ruimte (droge bol)"},null,null,null,{"$f":"D9","v":0}]
[]
[null,null,{"$f":"CONCATENATE(B8,\" \",C9,\"/\",C10,\"/\",C11)","v":"Verwarmen: //"},null,{"$f":"CONCATENATE(G8,\" \",H9,\"/\",H10,\"/\",H11)","v":"Koelen: //"},null,"Watervolume","Elektrisch verbruik [W]","Geluidsdrukniveau [dB(A)]****","Geluidsvermogen [dB(A)]****"]
[null,null,"Verwarmvermogen","Waterdebiet","Koelvermogen",{"$f":"D14","v":"Waterdebiet"}]
["Statisch (indicatieve waarde)"]
["EN16430","Ventilatorsnelheid "]
[null,"Ventilatorsnelheid 2"]
[null,"Ventilatorsnelheid 3"]
[null,"Stuurspanning [v]"]
["*","Koelvermogen is berekend volgens EN16430 met de ventilatoren naar boven blazend voor alle types."]
["**","Wanneer het watervolume in gallons wordt gegeven, zijn dit imperial gallons."]
["***","Geluidsvermogen volgens ISO 3741:2010, Voor het geluidsdrukniveau is er een aangenomen kamerdemping van 8 dB(A)."]

{"sheet":"EN","index":3,"n_rows":22,"n_cols":10,"rows_kept":22,"cut":false,"hidden":true,"merged":[[12,9,13,9],[12,8,13,8],[12,7,13,7],[12,6,13,6],[14,0,14,1],[15,0,17,0],[0,1,0,5],[8,4,8,6],[9,4,9,6],[10,4,10,6],[12,2,12,3],[12,4,12,5]]}
[null,"Selectiontool Strada Hybrid"]
[]
[null,"Length",null,"mm","Formulary","Static device","rel. humid.","Unit","Copy all data"]
[null,"Heigth",null,{"$f":"D3","v":"mm"},"Version","Hybrid device","Unit conversion","DBH set","SI-units"]
[null,"Type",null,null,"Temperatures","DBH rail type","Device",null,"Imperial-units"]
[null,"Depth",null,{"$f":"D3","v":"mm"},"Output without fans is negligible","Water side pressure loss "]
[]
[null,"Heating:",null,null,null,null,"Cooling:"]
[null,"Supply water",null,null,{"$f":"B9","v":"Supply water"},null,null,null,{"$f":"D9","v":0}]
[null,"Return water",null,{"$f":"D9","v":0},{"$f":"B10","v":"Return water"},null,null,null,{"$f":"D9","v":0}]
[null,"Entering air (dry bulb)",null,{"$f":"D9","v":0},{"$f":"B11","v":"Entering air (dry bulb)"},null,null,null,{"$f":"D9","v":0}]
[]
[null,null,{"$f":"CONCATENATE(B8,\" \",C9,\"/\",C10,\"/\",C11)","v":"Heating: //"},null,{"$f":"CONCATENATE(G8,\" \",H9,\"/\",H10,\"/\",H11)","v":"Cooling: //"},null,"Water volume","Electrical consumption [W]","Sound pressure level [dB(A)]****","Sound power [dB(A)]****"]
[null,null,"Heating capacity","Water flow","Cooling capacity",{"$f":"D14","v":"Water flow"}]
["Fans off (indicative value)"]
["EN16430","Fan speed"]
[null,"Fan speed selection 2"]
[null,"Fan speed selection 3"]
[null,"Fan voltage [V]"]
["*","Cooling power is calcullated according EN16430 with fans blowing up for all heights."]
["**","When the water volume is given in gallons, the units are specifically imperial gallons."]
["***","Soundpower according to ISO 3741:2010, sound pressure level with assumed room damping of 8 dB(A)."]

{"sheet":"FR","index":4,"n_rows":22,"n_cols":10,"rows_kept":22,"cut":false,"hidden":true,"merged":[[12,9,13,9],[12,8,13,8],[12,7,13,7],[12,6,13,6],[14,0,14,1],[15,0,17,0],[0,1,0,5],[8,4,8,6],[9,4,9,6],[10,4,10,6],[12,2,12,3],[12,4,12,5]]}
[null,"Selectiontool Strada Hybrid"]
[]
[null,"Longeur",null,"mm","Formulaire","Appareil statique","hum. rel.","Unité","Copier toutes des données"]
[null,"Hauteur",null,{"$f":"D3","v":"mm"},"Version","Appareil Hybrid","Système unitaire","DBH set","Unités-SI"]
[null,"Type",null,null,"Températures","DBH rail type","Appareil",null,"Unités-Impériales"]
[null,"Profondeur",null,{"$f":"D3","v":"mm"},"L’émission sans ventilateurs est négligeable","Perte de charge"]
[]
[null,"Chauffer:",null,null,null,null,"Refroidir:"]
[null,"Entrée de l'eau",null,null,{"$f":"B9","v":"Entrée de l'eau"},null,null,null,{"$f":"D9","v":0}]
[null,"Retour de l'eau",null,{"$f":"D9","v":0},{"$f":"B10","v":"Retour de l'eau"},null,null,null,{"$f":"D9","v":0}]
[null,"Ambiante (bulbe sec)",null,{"$f":"D9","v":0},{"$f":"B11","v":"Ambiante (bulbe sec)"},null,null,null,{"$f":"D9","v":0}]
[]
[null,null,{"$f":"CONCATENATE(B8,\" \",C9,\"/\",C10,\"/\",C11)","v":"Chauffer: //"},null,{"$f":"CONCATENATE(G8,\" \",H9,\"/\",H10,\"/\",H11)","v":"Refroidir: //"},null,"Volume d'eau","Puissance absorbée elec. [W]","Pression sonore [dB(A)]****","Puissance sonore [dB(A)]****"]
[null,null,"Puissance de chauffer","Débit d'eau","Puissance de refroidir",{"$f":"D14","v":"Débit d'eau"}]
["Ventilateur éteint (indicative)"]
["EN16430","Vitesse ventilateur "]
[null,"Vitesse du ventilateur 2"]
[null,"Vitesse du ventilateur 3"]
[null,"Tension ventilateur [V]"]
["*","La puissance de refroidissement est calculée selon EN 16430 avec des ventilateurs qui soufflent pour toutes les hauteurs."]
["**","Lorsque le volume d'eau est donné en gallons, ce sont des gallons impérial."]
["***","Puissance acoustique selon ISO 3741: 2010, niveau de pression acoustique avec un amortissement de la pièce supposé de 8 dB(A)."]

{"sheet":"DE","index":5,"n_rows":22,"n_cols":10,"rows_kept":22,"cut":false,"hidden":true,"merged":[[12,9,13,9],[12,8,13,8],[12,7,13,7],[12,6,13,6],[14,0,14,1],[15,0,17,0],[0,1,0,5],[8,4,8,6],[9,4,9,6],[10,4,10,6],[12,2,12,3],[12,4,12,5]]}
[null,"Selectiontool Strada Hybrid"]
[]
[null,"Länge",null,"mm","Eingabefelder","Statisches Gerät","rel. Luftf.","Unit","Kopieren Sie alle daten"]
[null,"Höhe",null,{"$f":"D3","v":"mm"},"Ausführung","Hybrid Gerät","Einheiten","DBH set","SI-einheiten"]
[null,"Typ",null,null,"Temperaturen","DBH rail typ","Gerät",null,"Imperiale-einheiten"]
[null,"Tiefe",null,{"$f":"D3","v":"mm"},"Die Ausgabe ohne Lüfter ist vernachlässigbar.","zug. wassers. Druckverlust"]
[]
[null,"Heizen:",null,null,null,null,"Kühlen:"]
[null,"Vorlauf wasser",null,null,{"$f":"B9","v":"Vorlauf wasser"},null,null,null,{"$f":"D9","v":0}]
[null,"Rücklauf wasser",null,{"$f":"D9","v":0},{"$f":"B10","v":"Rücklauf wasser"},null,null,null,{"$f":"D9","v":0}]
[null,"Raum (trocken)",null,{"$f":"D9","v":0},{"$f":"B11","v":"Raum (trocken)"},null,null,null,{"$f":"D9","v":0}]
[]
[null,null,{"$f":"CONCATENATE(B8,\" \",C9,\"/\",C10,\"/\",C11)","v":"Heizen: //"},null,{"$f":"CONCATENATE(G8,\" \",H9,\"/\",H10,\"/\",H11)","v":"Kühlen: //"},null,"Wasservolumen","Elektr. Leistung [W]","Schalldruckpegel [dB(A)]****","Schallleistungspegel [dB(A)]****"]
[null,null,"Heizleistung","Heizmittelstrom","Kühlleistung","Kühlmittelstrom"]
["Lüfter aus (richtwert)"]
["EN16430","Auslegungsstufe "]
[null,"Auslegungsstufe 2"]
[null,"Auslegungsstufe 3"]
[null,"Lufterspannung [V]"]
["*","Die Kühlleistung wird nach EN 16430 berechnet, wobei die Lüfter für alle Höhen hochgehen."]
["**","Wenn das Wasservolumen in Gallonen angegeben ist, sind dies imperiale Gallonen."]
["***","Schallleistung nach ISO 3741: 2010, Schalldruckpegel bei angenommener Raumdämpfung von 8 dB(A)."]

{"sheet":"NR","index":6,"n_rows":22,"n_cols":10,"rows_kept":22,"cut":false,"hidden":true,"merged":[[0,1,0,5],[8,4,8,6],[9,4,9,6],[10,4,10,6],[12,2,12,3],[12,4,12,5],[12,6,13,6],[12,7,13,7],[12,8,13,8],[12,9,13,9],[14,0,14,1],[15,0,17,0]]}
[null,"Selectiontool Strada Hybrid"]
[]
[null,"Lengde",null,"mm","Inngangsskjema","Statisk modell","rel. fuktighet","Unit","Kopier alle data"]
[null,"Høyde",null,{"$f":"D3","v":"mm"},"Versjon","Hybrid modell","Enhetssystem","DBH set","SI-enheter"]
[null,"Type",null,null,"Temperaturer","DBH rail type","Modell",null,"Imperiale-enheter"]
[null,"Bredde",null,{"$f":"D3","v":"mm"},"Utgang uten vifter er neglisjerbar.","Trykktap"]
[]
[null,"Varme:",null,null,null,null,"Kjøling:"]
[null,"Tur vann",null,null,{"$f":"B9","v":"Tur vann"},null,null,null,{"$f":"D9","v":0}]
[null,"Retur vann",null,0,{"$f":"B10","v":"Retur vann"},null,null,null,{"$f":"D9","v":0}]
[null,"Rom (tørr pære)",null,0,{"$f":"B11","v":"Rom (tørr pære)"},null,null,null,{"$f":"D9","v":0}]
[]
[null,null,{"$f":"CONCATENATE(B8,\" \",C9,\"/\",C10,\"/\",C11)","v":"Varme: //"},null,{"$f":"CONCATENATE(G8,\" \",H9,\"/\",H10,\"/\",H11)","v":"Kjøling: //"},null,"Vannvolum","Elektrisk effekt [W]","Lydtrykk [dB(A)]****","Lydeffekt [dB(A)]****"]
[null,null,"Varme effekt","Vannmengde","Kjøle effekt",{"$f":"D14","v":"Vannmengde"}]
["Lüfter aus (richtwert)"]
["EN16430","Styresignal"]
[null,"Auslegungsstufe 2"]
[null,"Auslegungsstufe 3"]
[null,"Viftespenning [V]"]
["*","Kjølekapasitet beregnes i henhold til EN16430 med viftene som blåser oppover for alle typer."]
["**","Når vannvolumet er gitt i gallon, er dette imperial gallons."]
["***","Lydeffekt i henhold til ISO 3741: 2010. For lydtrykknivået er det en antatt romdemping på 8 dB (A)."]

{"sheet":"SP","index":7,"n_rows":22,"n_cols":10,"rows_kept":22,"cut":false,"hidden":true,"merged":[[0,1,0,5],[8,4,8,6],[9,4,9,6],[10,4,10,6],[12,2,12,3],[12,4,12,5],[12,6,13,6],[12,7,13,7],[12,8,13,8],[12,9,13,9],[14,0,14,1],[15,0,17,0]]}
[null,"Selectiontool Strada Hybrid"]
[]
[null,"Longitud",null,"mm","Formulary","Dispositivo estático","Hum. Relativa","Unit","Copiar todos los datos"]
[null,"Altura",null,{"$f":"D3","v":"mm"},"Versión","Dispositivo Hybrid","Convers. de unidades","DBH set","Unidades-SI"]
[null,"Tipo",null,null,"Temperaturas","tipo de riel DBH","Despositivo",null,"Unidades-Imperial"]
[null,"Profund.",null,{"$f":"D3","v":"mm"},"La salida sin ventiladores es insignificante.","Pérdida de carga del agua"]
[]
[null,"Calefacción:",null,null,null,null,"Enfriamiento:"]
[null,"Agua impulsión",null,null,{"$f":"B9","v":"Agua impulsión"},null,null,null,{"$f":"D9","v":0}]
[null,"Agua retorno",null,{"$f":"D9","v":0},{"$f":"B10","v":"Agua retorno"},null,null,null,{"$f":"D9","v":0}]
[null,"Ambiente (bulbo seco)",null,{"$f":"D9","v":0},{"$f":"B11","v":"Ambiente (bulbo seco)"},null,null,null,{"$f":"D9","v":0}]
[]
[null,null,{"$f":"CONCATENATE(B8,\" \",C9,\"/\",C10,\"/\",C11)","v":"Calefacción: //"},null,{"$f":"CONCATENATE(G8,\" \",H9,\"/\",H10,\"/\",H11)","v":"Enfriamiento: //"},null,"Volumen de agua","Potencia eléctrica absorbida [W]","Presión sonora [dB(A)]****","Potencia sonora [dB(A)]****"]
[null,null,"Emisión calefacción","Caudal de agua, calefacción","Emisión sensible Frío",{"$f":"D14","v":"Caudal de agua, calefacción"}]
["Fans off (indicative value)"]
["EN16430","Velocidad del ventilador"]
[null,"Fan speed selection 2"]
[null,"Fan speed selection 3"]
[null," Voltaje control [V]"]
["*","La potencia de enfriamiento se calcula según la norma EN 16430 con ventiladores de todas las alturas."]
["**","Cuando el volumen de agua se da en galones, las unidades son específicamente galones imperiales."]
["***","Potencia sonora según ISO 3741: 2010, nivel de presión acústica con una amortiguación ambiental supuesta de 8 dB (A)."]

{"sheet":"SW","index":8,"n_rows":22,"n_cols":10,"rows_kept":22,"cut":false,"hidden":true,"merged":[[0,1,0,5],[8,4,8,6],[9,4,9,6],[10,4,10,6],[12,2,12,3],[12,4,12,5],[12,6,13,6],[12,7,13,7],[12,8,13,8],[12,9,13,9],[14,0,14,1],[15,0,17,0]]}
[null,"Selectiontool Strada Hybrid"]
[]
[null,"Längd",null,"mm","Inngangsskjema","Statisk modell","rel. Fuktighet","Unit","Kopiera all data"]
[null,"Höjd",null,{"$f":"D3","v":"mm"},"Storlek","Hybrid modell","Enhetssystem","DBH set","SI-enheter"]
[null,"Typ",null,null,"Temperaturer","DBH rail typ","Modell",null,"Imperiella-enheter"]
[null,"Djup",null,{"$f":"D3","v":"mm"},"Utgång utan fläktar är försumbar.","Tryckfall, vatten"]
[]
[null,"Värme:",null,null,null,null,"Kyla:"]
[null,"Tillopp",null,null,{"$f":"B9","v":"Tillopp"},null,null,null,{"$f":"D9","v":0}]
[null,"Retur",null,0,{"$f":"B10","v":"Retur"},null,null,null,{"$f":"D9","v":0}]
[null,"Rum (torr)",null,0,{"$f":"B11","v":"Rum (torr)"},null,null,null,{"$f":"D9","v":0}]
[]
[null,null,{"$f":"CONCATENATE(B8,\" \",C9,\"/\",C10,\"/\",C11)","v":"Värme: //"},null,{"$f":"CONCATENATE(G8,\" \",H9,\"/\",H10,\"/\",H11)","v":"Kyla: //"},null,"Vattenvolym","Effektförbrukning [W]","Ljudtryck [dB(A)]****","Ljudeffekt [dB(A)]****"]
[null,null,"Effekt","Vattenflöde","Kyleffekt",{"$f":"D14","v":"Vattenflöde"}]
["Fans off (indicative value)"]
["EN16430","Fläkthastighet"]
[null,"Fan speed selection 2"]
[null,"Fan speed selection 3"]
[null,"Spänning, Fläkt [V]"]
["*","Kyleffekt är beräknad enligt EN16430 med fläktar blåsandes i riktning uppåt för alla höjder"]
["**","När vattenvolymen är given i gallon avser det Imperiella gallon."]
["***","Ljudeffekt enligt ISO 3741:2010 ljudtryck med antagen ljudreduktion från rummet på 8 dB(A)"]

{"sheet":"TS","index":9,"n_rows":22,"n_cols":10,"rows_kept":22,"cut":false,"hidden":true,"merged":[[0,1,0,5],[8,4,8,6],[9,4,9,6],[10,4,10,6],[12,2,12,3],[12,4,12,5],[12,6,13,6],[12,7,13,7],[12,8,13,8],[12,9,13,9],[14,0,14,1],[15,0,17,0]]}
[null,"Selectiontool Strada Hybrid"]
[]
[null,"Délka",null,"mm","Formulary","Statická jednotka","Relativní vlhkost","Jednotka","Kopírovat všechna data"]
[null,"Výška",null,{"$f":"D3","v":"mm"},"Verze","Hybridní jednotka","Převod jednotek","DBH sada","Mezinárodní (Sl)"]
[null,"Typ",null,null,"Teploty","DBH rail type","Device",null,"Imperiální"]
[null,"Hloubka",null,{"$f":"D3","v":"mm"},"Výstup bez ventilátorů je zanedbatelný.","Tlaková ztráta"]
[]
[null,"Topení:",null,null,null,null,"Chlazení:"]
[null,"Voda na přívodu",null,null,{"$f":"B9","v":"Voda na přívodu"},null,null,null,{"$f":"D9","v":0}]
[null,"Voda na zpátečce",null,{"$f":"D9","v":0},{"$f":"B10","v":"Voda na zpátečce"},null,null,null,{"$f":"D9","v":0}]
[null,"\"Suchá\" teplota vzduchu",null,{"$f":"D9","v":0},{"$f":"B11","v":"\"Suchá\" teplota vzduchu"},null,null,null,{"$f":"D9","v":0}]
[]
[null,null,{"$f":"CONCATENATE(B8,\" \",C9,\"/\",C10,\"/\",C11)","v":"Topení: //"},null,{"$f":"CONCATENATE(G8,\" \",H9,\"/\",H10,\"/\",H11)","v":"Chlazení: //"},null,"Objem vody","Elektrický výkon [W]","Akustický tlak [dB(A)]****","Akustický výkon [dB(A)]****"]
[null,null,"Výkon Topení","Průtok vody","Výkon Chlazení","Průtok vody"]
["Fans off (indicative value)"]
["EN16430","Rychlost otáček ventilátoru"]
[null,"Fan speed selection 2"]
[null,"Fan speed selection 3"]
[null,"Napětí ventilárotu [V]"]
["*","Chladicí výkon vypočítán podle EN 16430  s ventilátory, které u všech typů - výšek foukají nahoru."]
["**","Když je objem vody uveden v galonech, jednotky jsou konkrétně imperiální galony. "]
["***","Akustický výkon podle ISO 3741: 2010, hladina akustického tlaku s předpokládaným útlumem místnosti o 8 dB (A)."]

{"sheet":"ExtraTaal1","index":10,"n_rows":22,"n_cols":10,"rows_kept":22,"cut":false,"hidden":true,"merged":[[0,1,0,5],[8,4,8,6],[9,4,9,6],[10,4,10,6],[12,2,12,3],[12,4,12,5],[12,6,13,6],[12,7,13,7],[12,8,13,8],[12,9,13,9],[14,0,14,1],[15,0,17,0]]}
[null,"Selectiontool Strada Hybrid"]
[]
[null,"Length",null,"mm","Formulary","Static device","rel. humid.","Unit","Copy all data"]
[null,"Heigth",null,{"$f":"D3","v":"mm"},"Version","Hybrid device","Unit conversion","DBH set","SI-units"]
[null,"Type",null,null,"Temperatures","DBH rail type","Device",null,"Imperial-units"]
[null,"Depth",null,{"$f":"D3","v":"mm"},"If the fans are switched off, the output is an indicative value.","Water side pressure loss "]
[]
[null,"Heating:",null,null,null,null,"Cooling:"]
[null,"Supply water",null,null,{"$f":"B9","v":"Supply water"},null,null,null,{"$f":"D9","v":0}]
[null,"Return water",null,{"$f":"D9","v":0},{"$f":"B10","v":"Return water"},null,null,null,{"$f":"D9","v":0}]
[null,"Entering air (dry bulb)",null,{"$f":"D9","v":0},{"$f":"B11","v":"Entering air (dry bulb)"},null,null,null,{"$f":"D9","v":0}]
[]
[null,null,{"$f":"CONCATENATE(B8,\" \",C9,\"/\",C10,\"/\",C11)","v":"Heating: //"},null,{"$f":"CONCATENATE(G8,\" \",H9,\"/\",H10,\"/\",H11)","v":"Cooling: //"},null,"Water volume","Electrical consumption [W]","Sound pressure level [dB(A)]****","Sound power [dB(A)]****"]
[null,null,"Heating capacity","Water flow","Cooling capacity",{"$f":"D14","v":"Water flow"}]
["Fans off (indicative value)"]
["EN16430","Fan speed"]
[null,"Fan speed selection 2"]
[null,"Fan speed selection 3"]
[null,"Fan voltage [V]"]
["*","Cooling power is calcullated according EN16430 with fans blowing up for all heights."]
["**","When the water volume is given in gallons, the units are specifically imperial gallons."]
["***","Soundpower according to ISO 3741:2010, sound pressure level with assumed room damping of 8 dB(A)."]

{"sheet":"ExtraTaal2","index":11,"n_rows":22,"n_cols":10,"rows_kept":22,"cut":false,"hidden":true,"merged":[[0,1,0,5],[8,4,8,6],[9,4,9,6],[10,4,10,6],[12,2,12,3],[12,4,12,5],[12,6,13,6],[12,7,13,7],[12,8,13,8],[12,9,13,9],[14,0,14,1],[15,0,17,0]]}
[null,"Selectiontool Strada Hybrid"]
[]
[null,"Length",null,"mm","Formulary","Static device","rel. humid.","Unit","Copy all data"]
[null,"Heigth",null,{"$f":"D3","v":"mm"},"Version","Hybrid device","Unit conversion","DBH set","SI-units"]
[null,"Type",null,null,"Temperatures","DBH rail type","Device",null,"Imperial-units"]
[null,"Depth",null,{"$f":"D3","v":"mm"},"If the fans are switched off, the output is an indicative value.","Water side pressure loss "]
[]
[null,"Heating:",null,null,null,null,"Cooling:"]
[null,"Supply water",null,null,{"$f":"B9","v":"Supply water"},null,null,null,{"$f":"D9","v":0}]
[null,"Return water",null,{"$f":"D9","v":0},{"$f":"B10","v":"Return water"},null,null,null,{"$f":"D9","v":0}]
[null,"Entering air (dry bulb)",null,{"$f":"D9","v":0},{"$f":"B11","v":"Entering air (dry bulb)"},null,null,null,{"$f":"D9","v":0}]
[]
[null,null,{"$f":"CONCATENATE(B8,\" \",C9,\"/\",C10,\"/\",C11)","v":"Heating: //"},null,{"$f":"CONCATENATE(G8,\" \",H9,\"/\",H10,\"/\",H11)","v":"Cooling: //"},null,"Water volume","Electrical consumption [W]","Sound pressure level [dB(A)]****","Sound power [dB(A)]****"]
[null,null,"Heating capacity","Water flow","Cooling capacity",{"$f":"D14","v":"Water flow"}]
["Fans off (indicative value)"]
["EN16430","Fan speed"]
[null,"Fan speed selection 2"]
[null,"Fan speed selection 3"]
[null,"Fan voltage [V]"]
["*","Cooling power is calcullated according EN16430 with fans blowing up for all heights."]
["**","When the water volume is given in gallons, the units are specifically imperial gallons."]
["***","Soundpower according to ISO 3741:2010, sound pressure level with assumed room damping of 8 dB(A)."]

{"sheet":"ExtraTaal3","index":12,"n_rows":22,"n_cols":10,"rows_kept":22,"cut":false,"hidden":true,"merged":[[0,1,0,5],[8,4,8,6],[9,4,9,6],[10,4,10,6],[12,2,12,3],[12,4,12,5],[12,6,13,6],[12,7,13,7],[12,8,13,8],[12,9,13,9],[14,0,14,1],[15,0,17,0]]}
[null,"Selectiontool Strada Hybrid"]
[]
[null,"Length",null,"mm","Formulary","Static device","rel. humid.","Unit","Copy all data"]
[null,"Heigth",null,{"$f":"D3","v":"mm"},"Version","Hybrid device","Unit conversion","DBH set","SI-units"]
[null,"Type",null,null,"Temperatures","DBH rail type","Device",null,"Imperial-units"]
[null,"Depth",null,{"$f":"D3","v":"mm"},"If the fans are switched off, the output is an indicative value.","Water side pressure loss "]
[]
[null,"Heating:",null,null,null,null,"Cooling:"]
[null,"Supply water",null,null,{"$f":"B9","v":"Supply water"},null,null,null,{"$f":"D9","v":0}]
[null,"Return water",null,{"$f":"D9","v":0},{"$f":"B10","v":"Return water"},null,null,null,{"$f":"D9","v":0}]
[null,"Entering air (dry bulb)",null,{"$f":"D9","v":0},{"$f":"B11","v":"Entering air (dry bulb)"},null,null,null,{"$f":"D9","v":0}]
[]
[null,null,{"$f":"CONCATENATE(B8,\" \",C9,\"/\",C10,\"/\",C11)","v":"Heating: //"},null,{"$f":"CONCATENATE(G8,\" \",H9,\"/\",H10,\"/\",H11)","v":"Cooling: //"},null,"Water volume","Electrical consumption [W]","Sound pressure level [dB(A)]****","Sound power [dB(A)]****"]
[null,null,"Heating capacity","Water flow","Cooling capacity",{"$f":"D14","v":"Water flow"}]
["Fans off (indicative value)"]
["EN16430","Fan speed"]
[null,"Fan speed selection 2"]
[null,"Fan speed selection 3"]
[null,"Fan voltage [V]"]
["*","Cooling power is calcullated according EN16430 with fans blowing up for all heights."]
["**","When the water volume is given in gallons, the units are specifically imperial gallons."]
["***","Soundpower according to ISO 3741:2010, sound pressure level with assumed room damping of 8 dB(A)."]